{"text_format":"1","workbook":"xlsx","n_sheets":23,"sheets":["Cover Sheet","fredImportSheets","ANST01","NST01A","ANST02","NST02A","ANST03","NST03A","ANST04","NST04A","ANST05","NST05A","ANST05EUR","NST05AEUR","ANST06","NST06A","ANST06EUR","NST06AEUR","ANST07","Matrix_Schema","NST07A","ANST07EUR","NST07AEUR"],"not_rendered":{"charts":0,"images":0,"macros":1,"external_links":0,"defined_names":6,"comments":1,"pivot_tables":0},"unopened":[],"bounds":{"document_bytes":16777216,"sheet_cells":100000,"rows_first":2000,"rows_last":500,"rows_between":2000,"halvings":0,"cell_chars":16384,"cell_head_chars":4096},"cells_cut":0,"cells_raw":0,"read":"whole","date_system":"1900"}

{"sheet":"Cover Sheet","index":0,"n_rows":1048569,"n_cols":16380,"rows_kept":4500,"cut":true,"hidden":false,"merged":[[4,1,4,2],[6,1,6,2],[7,0,7,3],[10,1,11,2]],"bounds":{"rows_first":2000,"rows_last":500,"rows_between":2000,"halvings":0}}
[]
[]
[]
[]
[]
[]
[null,"MFSA"]
["MALTA FINANCIAL SERVICES AUTHORITY"]
[]
[]
[null,"Annual National Specific Templates"]
[]
[]
[]
["1(a)","Name of Licence Holder"]
[]
[null,"Code"]
[]
["1(b)","Code"]
[null,"Exchange rate to Euro"]
[]
[2,"Type of business carried out",null,""]
[]
[]
[3,"For the period  from:"]
[null,"to:"]
[]
[4,"Currency in which accounts are reported"]
[null,"Exchange Rate to Euro at period end ",null,{"$f":"IF(C29=\"\",0,1)","v":0}]
[]
[]
[null,"Version 01/2017"]
[]
[]
[]
[null,null,"Long Term Business"]
[null,null,"General Business"]
[null,null,"Composite"]
[null,"EUR"]
[null,"GBP"]
[null,"USD"]
[null,"SEK"]
[]
[]
[]
[]
[]
[]
[]
[]
[]
[]
[]
[]
[]
[]
[]
[]
[]
[]
[]
[]
[]
[]
[]
[]
[]
[]
[]
[]
[]
[]
[]
[]
[]
[]
[]
[]
[]
[]
[]
[]
[]
[]
[]
[]
[]
[]
[]
[]
[]
[]
[]
[]
[]
[]
[]
[]
[]
[]
[]
[]
[]
[]
[]
[]
[]
[]
[]
[]
[]
[]
[]
[]
[]
[]
[]
[]
[]
[]
[]
[]
[]
[]
[]
[]
[]
[]
[]
[]
[]
[]
[]
[]
[]
[]
[]
[]
[]
[]
[]
[]
[]
[]
[]
[]
[]
[]
[]
[]
[]
[]
[]
[]
[]
[]
[]
[]
[]
[]
[]
[]
[]
[]
[]
[]
[]
[]
[]
[]
[]
[]
[]
[]
[]
[]
[]
[]
[]
[]
[]
[]
[]
[]
[]
[]
[]
[]
[]
[]
[]
[]
[]
[]
[]
[]
[]
[]
[]
[]
[]
[]
[]
[]
[]
[]
[]
[]
[]
[]
[]
[]
[]
[]
[]
[]
[]
[]
[]
[]
[]
[]
[]
[]
[]
[]
[]
[]
[]
[]
[]
[]
[]
[]
[]
[]
[]
[]
[]
[]
[]
[]
[]
[]
[]
[]
[]
[]
[]
[]
[]
[]
[]
[]
[]
[]
[]
[]
[]
[]
[]
[]
[]
[]
[]
[]
[]
[]
[]
[]
[]
[]
[]
[]
[]
[]
[]
[]
[]
[]
[]
[]
[]
[]
[]
[]
[]
[]
[]
[]
[]
[]
[]
[]
[]
[]
[]
[]
[]
[]
[]
[]
[]
[]
[]
[]
[]
[]
[]
[]
[]
[]
[]
[]
[]
[]
[]
[]
[]
[]
[]
[]
[]
[]
[]
[]
[]
[]
[]
[]
[]
[]
[]
[]
[]
[]
[]
[]
[]
[]
[]
[]
[]
[]
[]
[]
[]
[]
[]
[]
[]
[]
[]
[]
[]
[]
[]
[]
[]
[]
[]
[]
[]
[]
[]
[]
[]
[]
[]
[]
[]
[]
[]
[]
[]
[]
[]
[]
[]
[]
[]
[]
[]
[]
[]
[]
[]
[]
[]
[]
[]
[]
[]
[]
[]
[]
[]
[]
[]
[]
[]
[]
[]
[]
[]
[]
[]
[]
[]
[]
[]
[]
[]
[]
[]
[]
[]
[]
[]
[]
[]
[]
[]
[]
[]
[]
[]
[]
[]
[]
[]
[]
[]
[]
[]
[]
[]
[]
[]
[]
[]
[]
[]
[]
[]
[]
[]
[]
[]
[]
[]
[]
[]
[]
[]
[]
[]
[]
[]
[]
[]
[]
[]
[]
[]
[]
[]
[]
[]
[]
[]
[]
[]
[]
[]
[]
[]
[]
[]
[]
[]
[]
[]
[]
[]
[]
[]
[]
[]
[]
[]
[]
[]
[]
[]
[]
[]
[]
[]
[]
[]
[]
[]
[]
[]
[]
[]
[]
[]
[]
[]
[]
[]
[]
[]
[]
[]
[]
[]
[]
[]
[]
[]
[]
[]
[]
[]
[]
[]
[]
[]
[]
[]
[]
[]
[]
[]
[]
[]
[]
[]
[]
[]
[]
[]
[]
[]
[]
[]
[]
[]
[]
[]
[]
[]
[]
[]
[]
[]
[]
[]
[]
[]
[]
[]
[]
[]
[]
[]
[]
[]
[]
[]
[]
[]
[]
[]
[]
[]
[]
[]
[]
[]
[]
[]
[]
[]
[]
[]
[]
[]
[]
[]
[]
[]
[]
[]
[]
[]
[]
[]
[]
[]
[]
[]
[]
[]
[]
[]
[]
[]
[]
[]
[]
[]
[]
[]
[]
[]
[]
[]
[]
[]
[]
[]
[]
[]
[]
[]
[]
[]
[]
[]
[]
[]
[]
[]
[]
[]
[]
[]
[]
[]
[]
[]
[]
[]
[]
[]
[]
[]
[]
[]
[]
[]
[]
[]
[]
[]
[]
[]
[]
[]
[]
[]
[]
[]
[]
[]
[]
[]
[]
[]
[]
[]
[]
[]
[]
[]
[]
[]
[]
[]
[]
[]
[]
[]
[]
[]
[]
[]
[]
[]
[]
[]
[]
[]
[]
[]
[]
[]
[]
[]
[]
[]
[]
[]
[]
[]
[]
[]
[]
[]
[]
[]
[]
[]
[]
[]
[]
[]
[]
[]
[]
[]
[]
[]
[]
[]
[]
[]
[]
[]
[]
[]
[]
[]
[]
[]
[]
[]
[]
[]
[]
[]
[]
[]
[]
[]
[]
[]
[]
[]
[]
[]
[]
[]
[]
[]
[]
[]
[]
[]
[]
[]
[]
[]
[]
[]
[]
[]
[]
[]
[]
[]
[]
[]
[]
[]
[]
[]
[]
[]
[]
[]
[]
[]
[]
[]
[]
[]
[]
[]
[]
[]
[]
[]
[]
[]
[]
[]
[]
[]
[]
[]
[]
[]
[]
[]
[]
[]
[]
[]
[]
[]
[]
[]
[]
[]
[]
[]
[]
[]
[]
[]
[]
[]
[]
[]
[]
[]
[]
[]
[]
[]
[]
[]
[]
[]
[]
[]
[]
[]
[]
[]
[]
[]
[]
[]
[]
[]
[]
[]
[]
[]
[]
[]
[]
[]
[]
[]
[]
[]
[]
[]
[]
[]
[]
[]
[]
[]
[]
[]
[]
[]
[]
[]
[]
[]
[]
[]
[]
[]
[]
[]
[]
[]
[]
[]
[]
[]
[]
[]
[]
[]
[]
[]
[]
[]
[]
[]
[]
[]
[]
[]
[]
[]
[]
[]
[]
[]
[]
[]
[]
[]
[]
[]
[]
[]
[]
[]
[]
[]
[]
[]
[]
[]
[]
[]
[]
[]
[]
[]
[]
[]
[]
[]
[]
[]
[]
[]
[]
[]
[]
[]
[]
[]
[]
[]
[]
[]
[]
[]
[]
[]
[]
[]
[]
[]
[]
[]
[]
[]
[]
[]
[]
[]
[]
[]
[]
[]
[]
[]
[]
[]
[]
[]
[]
[]
[]
[]
[]
[]
[]
[]
[]
[]
[]
[]
[]
[]
[]
[]
[]
[]
[]
[]
[]
[]
[]
[]
[]
[]
[]
[]
[]
[]
[]
[]
[]
[]
[]
[]
[]
[]
[]
[]
[]
[]
[]
[]
[]
[]
[]
[]
[]
[]
[]
[]
[]
[]
[]
[]
[]
[]
[]
[]
[]
[]
[]
[]
[]
[]
[]
[]
[]
[]
[]
[]
[]
[]
[]
[]
[]
[]
[]
[]
[]
[]
[]
[]
[]
[]
[]
[]
[]
[]
[]
[]
[]
[]
[]
[]
[]
[]
[]
[]
[]
[]
[]
[]
[]
[]
[]
[]
[]
[]
[]
[]
[]
[]
[]
[]
[]
[]
[]
[]
[]
[]
[]
[]
[]
[]
[]
[]
[]
[]
[]
[]
[]
[]
[]
[]
[]
[]
[]
[]
[]
[]
[]
[]
[]
[]
[]
[]
[]
[]
[]
[]
[]
[]
[]
[]
[]
[]
[]
[]
[]
[]
[]
[]
[]
[]
[]
[]
[]
[]
[]
[]
[]
[]
[]
[]
[]
[]
[]
[]
[]
[]
[]
[]
[]
[]
[]
[]
[]
[]
[]
[]
[]
[]
[]
[]
[]
[]
[]
[]
[]
[]
[]
[]
[]
[]
[]
[]
[]
[]
[]
[]
[]
[]
[]
[]
[]
[]
[]
[]
[]
[]
[]
[]
[]
[]
[]
[]
[]
[]
[]
[]
[]
[]
[]
[]
[]
[]
[]
[]
[]
[]
[]
[]
[]
[]
[]
[]
[]
[]
[]
[]
[]
[]
[]
[]
[]
[]
[]
[]
[]
[]
[]
[]
[]
[]
[]
[]
[]
[]
[]
[]
[]
[]
[]
[]
[]
[]
[]
[]
[]
[]
[]
[]
[]
[]
[]
[]
[]
[]
[]
[]
[]
[]
[]
[]
[]
[]
[]
[]
[]
[]
[]
[]
[]
[]
[]
[]
[]
[]
[]
[]
[]
[]
[]
[]
[]
[]
[]
[]
[]
[]
[]
[]
[]
[]
[]
[]
[]
[]
[]
[]
[]
[]
[]
[]
[]
[]
[]
[]
[]
[]
[]
[]
[]
[]
[]
[]
[]
[]
[]
[]
[]
[]
[]
[]
[]
[]
[]
[]
[]
[]
[]
[]
[]
[]
[]
[]
[]
[]
[]
[]
[]
[]
[]
[]
[]
[]
[]
[]
[]
[]
[]
[]
[]
[]
[]
[]
[]
[]
[]
[]
[]
[]
[]
[]
[]
[]
[]
[]
[]
[]
[]
[]
[]
[]
[]
[]
[]
[]
[]
[]
[]
[]
[]
[]
[]
[]
[]
[]
[]
[]
[]
[]
[]
[]
[]
[]
[]
[]
[]
[]
[]
[]
[]
[]
[]
[]
[]
[]
[]
[]
[]
[]
[]
[]
[]
[]
[]
[]
[]
[]
[]
[]
[]
[]
[]
[]
[]
[]
[]
[]
[]
[]
[]
[]
[]
[]
[]
[]
[]
[]
[]
[]
[]
[]
[]
[]
[]
[]
[]
[]
[]
[]
[]
[]
[]
[]
[]
[]
[]
[]
[]
[]
[]
[]
[]
[]
[]
[]
[]
[]
[]
[]
[]
[]
[]
[]
[]
[]
[]
[]
[]
[]
[]
[]
[]
[]
[]
[]
[]
[]
[]
[]
[]
[]
[]
[]
[]
[]
[]
[]
[]
[]
[]
[]
[]
[]
[]
[]
[]
[]
[]
[]
[]
[]
[]
[]
[]
[]
[]
[]
[]
[]
[]
[]
[]
[]
[]
[]
[]
[]
[]
[]
[]
[]
[]
[]
[]
[]
[]
[]
[]
[]
[]
[]
[]
[]
[]
[]
[]
[]
[]
[]
[]
[]
[]
[]
[]
[]
[]
[]
[]
[]
[]
[]
[]
[]
[]
[]
[]
[]
[]
[]
[]
[]
[]
[]
[]
[]
[]
[]
[]
[]
[]
[]
[]
[]
[]
[]
[]
[]
[]
[]
[]
[]
[]
[]
[]
[]
[]
[]
[]
[]
[]
[]
[]
[]
[]
[]
[]
[]
[]
[]
[]
[]
[]
[]
[]
[]
[]
[]
[]
[]
[]
[]
[]
[]
[]
[]
[]
[]
[]
[]
[]
[]
[]
[]
[]
[]
[]
[]
[]
[]
[]
[]
[]
[]
[]
[]
[]
[]
[]
[]
[]
[]
[]
[]
[]
[]
[]
[]
[]
[]
[]
[]
[]
[]
[]
[]
[]
[]
[]
[]
[]
[]
[]
[]
[]
[]
[]
[]
[]
[]
[]
[]
[]
[]
[]
[]
[]
[]
[]
[]
[]
[]
[]
[]
[]
[]
[]
[]
[]
[]
[]
[]
[]
[]
[]
[]
[]
[]
[]
[]
[]
[]
[]
[]
[]
[]
[]
[]
[]
[]
[]
[]
[]
[]
[]
[]
[]
[]
[]
[]
[]
[]
[]
[]
[]
[]
[]
[]
[]
[]
[]
[]
[]
[]
[]
[]
[]
[]
[]
[]
[]
[]
[]
[]
[]
[]
[]
[]
[]
[]
[]
[]
[]
[]
[]
[]
[]
[]
[]
[]
[]
[]
[]
[]
[]
[]
[]
[]
[]
[]
[]
[]
[]
[]
[]
[]
[]
[]
[]
[]
[]
[]
[]
[]
[]
[]
[]
[]
[]
[]
[]
[]
[]
[]
[]
[]
[]
[]
[]
[]
[]
[]
[]
[]
[]
[]
[]
[]
[]
[]
[]
[]
[]
[]
[]
[]
[]
[]
[]
[]
[]
[]
[]
[]
[]
[]
[]
[]
[]
[]
[]
[]
[]
[]
[]
[]
[]
[]
[]
[]
[]
[]
[]
[]
[]
[]
[]
[]
[]
[]
[]
[]
[]
[]
[]
[]
[]
[]
[]
[]
[]
[]
[]
[]
[]
[]
[]
[]
[]
[]
[]
[]
[]
[]
[]
[]
[]
[]
[]
[]
[]
[]
[]
[]
[]
[]
[]
[]
[]
[]
[]
[]
[]
[]
[]
[]
[]
[]
[]
[]
[]
[]
[]
[]
[]
[]
[]
[]
[]
[]
[]
[]
[]
[]
[]
[]
[]
[]
[]
[]
[]
[]
[]
[]
[]
[]
[]
[]
[]
[]
[]
[]
[]
[]
[]
[]
[]
[]
[]
[]
[]
[]
[]
[]
[]
[]
[]
[]
[]
[]
[]
[]
[]
[]
[]
[]
[]
[]
[]
[]
[]
[]
[]
[]
[]
[]
[]
[]
[]
[]
[]
[]
[]
[]
[]
[]
[]
[]
[]
[]
[]
[]
[]
[]
[]
[]
[]
[]
[]
[]
[]
[]
[]
[]
[]
[]
[]
[]
[]
[]
[]
[]
[]
[]
[]
[]
[]
[]
[]
[]
[]
[]
[]
[]
[]
[]
[]
[]
[]
[]
[]
[]
[]
[]
[]
[]
[]
[]
[]
[]
[]
[]
[]
[]
[]
[]
[]
[]
[]
[]
[]
[]
[]
[]
[]
[]
[]
[]
[]
[]
[]
[]
[]
[]
[]
[]
[]
[]
[]
[]
[]
[]
[]
[]
[]
[]
[]
[]
[]
[]
[]
[]
[]
[]
[]
[]
[]
[]
[]
[]
[]
[]
[]
[]
[]
[]
[]
[]
[]
[]
[]
[]
[]
[]
[]
[]
[]
[]
[]
[]
[]
[]
[]
[]
[]
[]
[]
[]
[]
[]
[]
[]
[]
[]
[]
[]
[]
[]
[]
[]
[]
[]
[]
[]
[]
[]
[]
[]
[]
[]
[]
[]
[]
[]
[]
[]
[]
[]
[]
[]
[]
[]
[]
[]
[]
[]
[]
[]
[]
[]
[]
[]
[]
[]
[]
[]
[]
[]
[]
[]
[]
[]
[]
[]
[]
[]
[]
[]
[]
[]
[]
[]
[]
[]
[]
[]
[]
[]
[]
[]
[]
[]
[]
[]
[]
[]
[]
[]
[]
[]
[]
[]
[]
[]
[]
[]
[]
[]
[]
[]
[]
[]
[]
[]
[]
[]
[]
[]
[]
[]
[]
[]
[]
[]
[]
[]
[]
[]
[]
[]
[]
[]
[]
[]
[]
[]
[]
[]
[]
[]
[]
[]
[]
[]
[]
[]
[]
[]
[]
[]
[]
[]
[]
[]
[]
[]
[]
[]
[]
[]
[]
[]
[]
[]
[]
[]
[]
[]
[]
[]
[]
[]
[]
[]
[]
[]
[]
[]
[]
[]
[]
[]
[]
[]
[]
[]
[]
[]
[]
[]
[]
[]
[]
[]
[]
[]
[]
[]
[]
[]
[]
[]
[]
[]
[]
[]
[]
[]
[]
[]
[]
[]
[]
[]
[]
[]
[]
[]
[]
[]
[]
[]
[]
[]
[]
[]
[]
[]
[]
[]
[]
[]
[]
[]
[]
[]
[]
[]
[]
[]
[]
[]
[]
[]
[]
[]
[]
[]
[]
[]
[]
[]
[]
[]
[]
[]
[]
[]
[]
[]
[]
[]
[]
[]
[]
[]
[]
[]
[]
[]
[]
[]
[]
[]
[]
[]
[]
[]
[]
[]
[]
[]
[]
[]
[]
[]
[]
[]
[]
[]
[]
[]
[]
[]
[]
[]
[]
[]
[]
[]
[]
[]
[]
[]
[]
[]
[]
[]
[]
[]
[]
[]
[]
[]
[]
[]
[]
[]
[]
[]
[]
[]
[]
[]
[]
[]
[]
[]
[]
[]
[]
[]
[]
[]
[]
[]
[]
[]
[]
[]
[]
[]
[]
[]
[]
[]
[]
[]
[]
[]
[]
[]
[]
[]
[]
[]
[]
[]
[]
[]
[]
[]
[]
[]
[]
[]
[]
[]
[]
[]
[]
[]
[]
[]
[]
[]
[]
[]
[]
[]
[]
[]
[]
[]
[]
[]
[]
[]
[]
[]
[]
[]
[]
[]
[]
[]
[]
[]
[]
[]
[]
[]
[]
[]
[]
[]
[]
[]
[]
[]
[]
[]
[]
[]
[]
[]
[]
[]
[]
[]
[]
[]
[]
[]
[]
[]
[]
[]
[]
[]
[]
[]
[]
[]
[]
[]
[]
[]
[]
[]
[]
[]
[]
[]
[]
[]
[]
[]
[]
[]
[]
[]
[]
[]
[]
[]
[]
[]
[]
[]
[]
[]
[]
[]
[]
[]
[]
[]
[]
[]
[]
[]
[]
[]
[]
[]
[]
[]
[]
[]
[]
[]
[]
[]
[]
[]
[]
[]
[]
[]
[]
[]
[]
[]
[]
[]
[]
[]
[]
[]
[]
[]
[]
[]
[]
[]
[]
[]
[]
[]
[]
[]
[]
[]
[]
[]
[]
[]
[]
[]
[]
[]
[]
[]
[]
[]
[]
[]
[]
[]
[]
[]
[]
[]
[]
[]
[]
[]
[]
[]
[]
[]
[]
[]
[]
[]
[]
[]
[]
[]
[]
[]
[]
[]
[]
[]
[]
[]
[]
[]
[]
[]
[]
[]
[]
[]
[]
[]
[]
[]
[]
[]
[]
[]
[]
[]
[]
[]
[]
[]
[]
[]
[]
[]
[]
[]
[]
[]
[]
[]
[]
[]
[]
[]
[]
[]
[]
[]
[]
[]
[]
[]
[]
[]
[]
[]
[]
[]
[]
[]
[]
[]
[]
[]
[]
[]
[]
[]
[]
[]
[]
[]
[]
[]
[]
[]
[]
[]
[]
[]
[]
[]
[]
[]
[]
[]
[]
[]
[]
[]
[]
[]
[]
[]
[]
[]
[]
[]
[]
[]
[]
[]
[]
[]
[]
[]
[]
[]
[]
[]
[]
[]
[]
[]
[]
[]
[]
[]
[]
[]
[]
[]
[]
[]
[]
[]
[]
[]
[]
[]
[]
[]
[]
[]
[]
[]
[]
[]
[]
[]
[]
[]
[]
[]
[]
[]
[]
[]
[]
[]
[]
[]
[]
[]
[]
[]
[]
[]
[]
[]
[]
[]
[]
[]
[]
[]
[]
[]
[]
[]
[]
[]
[]
[]
[]
[]
[]
[]
[]
[]
[]
[]
[]
[]
[]
[]
[]
[]
[]
[]
[]
[]
[]
[]
[]
[]
[]
[]
[]
[]
[]
[]
[]
[]
[]
[]
[]
[]
[]
[]
[]
[]
[]
[]
[]
[]
[]
[]
[]
[]
[]
[]
[]
[]
[]
[]
[]
[]
[]
[]
[]
[]
[]
[]
[]
[]
[]
[]
[]
[]
[]
[]
[]
[]
[]
[]
[]
[]
[]
[]
[]
[]
[]
[]
[]
[]
[]
[]
[]
[]
[]
[]
[]
[]
[]
[]
[]
[]
[]
[]
[]
[]
[]
[]
[]
[]
[]
[]
[]
[]
[]
[]
[]
[]
[]
[]
[]
[]
[]
[]
[]
[]
[]
[]
[]
[]
[]
[]
[]
[]
[]
[]
[]
[]
[]
[]
[]
[]
[]
[]
[]
[]
[]
[]
[]
[]
[]
[]
[]
[]
[]
[]
[]
[]
[]
[]
[]
[]
[]
[]
[]
[]
[]
[]
[]
[]
[]
[]
[]
[]
[]
[]
[]
[]
[]
[]
[]
[]
[]
[]
[]
[]
[]
[]
[]
[]
[]
[]
[]
[]
[]
[]
[]
[]
[]
[]
[]
[]
[]
[]
[]
[]
[]
[]
[]
[]
[]
[]
[]
[]
[]
[]
[]
[]
[]
[]
[]
[]
[]
[]
[]
[]
[]
[]
[]
[]
[]
[]
[]
[]
[]
[]
[]
[]
[]
[]
[]
[]
[]
[]
[]
[]
[]
[]
[]
[]
[]
[]
[]
[]
[]
[]
[]
[]
[]
[]
[]
[]
[]
[]
[]
[]
[]
[]
[]
[]
[]
[]
[]
[]
[]
[]
[]
[]
[]
[]
[]
[]
[]
[]
[]
[]
[]
[]
[]
[]
[]
[]
[]
[]
[]
[]
[]
[]
[]
[]
[]
[]
[]
[]
[]
[]
[]
[]
[]
[]
[]
[]
[]
[]
[]
[]
[]
[]
[]
[]
[]
[]
[]
[]
[]
[]
[]
[]
[]
[]
[]
[]
[]
[]
[]
[]
[]
[]
[]
[]
[]
[]
[]
[]
[]
[]
[]
[]
[]
[]
[]
[]
[]
[]
[]
[]
[]
[]
[]
[]
[]
[]
[]
[]
[]
[]
[]
[]
[]
[]
[]
[]
[]
[]
[]
[]
[]
[]
[]
[]
[]
[]
[]
[]
[]
[]
[]
[]
[]
[]
[]
[]
[]
[]
[]
[]
[]
[]
[]
[]
[]
[]
[]
[]
[]
[]
[]
[]
[]
[]
[]
[]
[]
[]
[]
[]
[]
[]
[]
[]
[]
[]
[]
[]
[]
[]
[]
[]
[]
[]
[]
[]
[]
[]
[]
[]
[]
[]
[]
[]
[]
[]
[]
[]
[]
[]
[]
[]
[]
[]
[]
[]
[]
[]
[]
[]
[]
[]
[]
[]
[]
[]
[]
[]
[]
[]
[]
[]
[]
[]
[]
[]
[]
[]
[]
[]
[]
[]
[]
[]
[]
[]
[]
[]
[]
[]
[]
[]
[]
[]
[]
[]
[]
[]
[]
[]
[]
[]
[]
[]
[]
[]
[]
[]
[]
[]
[]
[]
[]
[]
[]
[]
[]
[]
[]
[]
[]
[]
[]
[]
[]
[]
[]
[]
[]
[]
[]
[]
[]
[]
[]
[]
[]
[]
[]
[]
[]
[]
[]
[]
[]
[]
[]
[]
[]
[]
[]
[]
[]
[]
[]
[]
[]
[]
[]
[]
[]
[]
[]
[]
[]
[]
[]
[]
[]
[]
[]
[]
[]
[]
[]
[]
[]
[]
[]
[]
[]
[]
[]
[]
[]
[]
[]
[]
[]
[]
[]
[]
[]
[]
[]
[]
[]
[]
[]
[]
[]
[]
[]
[]
[]
[]
[]
[]
[]
[]
[]
[]
[]
[]
[]
[]
[]
[]
[]
[]
[]
[]
[]
[]
[]
[]
[]
[]
[]
[]
[]
[]
[]
[]
[]
[]
[]
[]
[]
[]
[]
[]
[]
[]
[]
[]
[]
[]
[]
[]
[]
[]
[]
[]
[]
[]
[]
[]
[]
[]
[]
[]
[]
[]
[]
[]
[]
[]
[]
[]
[]
[]
[]
[]
[]
[]
[]
[]
[]
[]
[]
[]
[]
[]
[]
[]
[]
[]
[]
[]
[]
[]
[]
[]
[]
[]
[]
[]
[]
[]
[]
[]
[]
[]
[]
[]
[]
[]
[]
[]
[]
[]
[]
[]
[]
[]
[]
[]
[]
[]
[]
[]
[]
[]
[]
[]
[]
[]
[]
[]
[]
[]
[]
[]
[]
[]
[]
[]
[]
[]
[]
[]
[]
[]
[]
[]
[]
[]
[]
[]
[]
[]
[]
[]
[]
[]
[]
[]
[]
[]
[]
[]
[]
[]
[]
[]
[]
[]
[]
[]
[]
[]
[]
[]
[]
[]
[]
[]
[]
[]
[]
[]
[]
[]
[]
[]
[]
[]
[]
[]
[]
[]
[]
[]
[]
[]
[]
[]
[]
[]
[]
[]
[]
[]
[]
[]
[]
[]
[]
[]
[]
[]
[]
[]
[]
[]
[]
[]
[]
[]
[]
[]
[]
[]
[]
[]
[]
[]
[]
[]
[]
[]
[]
[]
[]
[]
[]
[]
[]
[]
[]
[]
[]
[]
[]
[]
[]
[]
[]
[]
[]
[]
[]
[]
[]
[]
[]
[]
[]
[]
[]
[]
[]
[]
[]
[]
[]
[]
[]
[]
[]
[]
[]
[]
[]
[]
[]
[]
[]
[]
[]
[]
[]
[]
[]
[]
[]
[]
[]
[]
[]
[]
[]
[]
[]
[]
[]
[]
[]
[]
[]
[]
[]
[]
[]
[]
[]
[]
[]
[]
[]
[]
[]
[]
[]
[]
[]
[]
[]
[]
[]
[]
[]
[]
[]
[]
[]
[]
[]
[]
[]
[]
[]
[]
[]
[]
[]
[]
[]
[]
[]
[]
[]
[]
[]
[]
[]
[]
[]
[]
[]
[]
[]
[]
[]
[]
[]
[]
[]
[]
[]
[]
[]
[]
[]
[]
[]
[]
[]
[]
[]
[]
[]
[]
[]
[]
[]
[]
[]
[]
[]
[]
[]
[]
[]
[]
[]
[]
[]
[]
[]
[]
[]
[]
[]
[]
[]
[]
[]
[]
[]
[]
[]
[]
[]
[]
[]
[]
[]
[]
[]
[]
[]
[]
[]
[]
[]
[]
[]
[]
[]
[]
[]
[]
[]
[]
[]
[]
[]
[]
[]
[]
[]
[]
[]
[]
[]
[]
[]
[]
[]
[]
[]
[]
[]
[]
[]
[]
[]
[]
[]
[]
[]
[]
[]
[]
[]
[]
[]
[]
[]
[]
[]
[]
[]
[]
[]
[]
[]
[]
[]
[]
[]
[]
[]
[]
[]
[]
[]
[]
[]
[]
[]
[]
[]
[]
[]
[]
[]
[]
[]
[]
[]
[]
[]
[]
[]
[]
[]
[]
[]
[]
[]
[]
[]
[]
[]
[]
[]
[]
[]
[]
[]
[]
[]
[]
[]
[]
[]
[]
[]
[]
[]
[]
[]
[]
[]
[]
[]
[]
[]
[]
[]
[]
[]
[]
[]
[]
[]
[]
[]
[]
[]
[]
[]
[]
[]
[]
[]
[]
[]
[]
[]
[]
[]
[]
[]
[]
[]
[]
[]
[]
[]
[]
[]
[]
[]
[]
[]
[]
[]
[]
[]
[]
[]
[]
[]
[]
[]
[]
[]
[]
[]
[]
[]
[]
[]
[]
[]
[]
[]
[]
[]
[]
[]
[]
[]
[]
[]
[]
[]
[]
[]
[]
[]
[]
[]
[]
[]
[]
[]
[]
[]
[]
[]
[]
[]
[]
[]
[]
[]
[]
[]
[]
[]
[]
[]
[]
[]
[]
[]
[]
[]
[]
[]
[]
[]
[]
[]
[]
[]
[]
[]
[]
[]
[]
[]
[]
[]
[]
[]
[]
[]
[]
[]
[]
[]
[]
[]
[]
[]
[]
[]
[]
[]
[]
[]
[]
[]
[]
[]
[]
[]
[]
[]
[]
[]
[]
[]
[]
[]
[]
[]
[]
[]
[]
[]
[]
[]
[]
[]
[]
[]
[]
[]
[]
[]
[]
[]
[]
[]
[]
[]
[]
[]
[]
[]
[]
[]
[]
[]
[]
[]
[]
[]
[]
[]
[]
[]
[]
[]
[]
[]
[]
[]
[]
[]
[]
[]
[]
[]
[]
[]
[]
[]
[]
[]
[]
[]
[]
[]
[]
[]
[]
[]
[]
[]
[]
[]
[]
[]
[]
[]
[]
[]
[]
[]
[]
[]
[]
[]
[]
[]
[]
[]
[]
[]
[]
[]
[]
[]
[]
[]
[]
[]
[]
[]
[]
[]
[]
[]
[]
[]
[]
[]
[]
[]
[]
[]
[]
[]
[]
[]
[]
[]
[]
[]
[]
[]
[]
[]
[]
[]
[]
[]
[]
[]
[]
[]
[]
[]
[]
[]
[]
[]
[]
[]
[]
[]
[]
[]
[]
[]
[]
[]
[]
[]
[]
[]
[]
[]
[]
[]
[]
[]
[]
[]
[]
[]
[]
[]
[]
[]
[]
[]
[]
[]
[]
[]
[]
[]
[]
[]
[]
[]
[]
[]
[]
[]
[]
[]
[]
[]
[]
[]
[]
[]
[]
[]
[]
[]
[]
[]
[]
[]
[]
[]
[]
[]
[]
[]
[]
[]
[]
[]
[]
[]
[]
[]
[]
[]
[]
[]
[]
[]
[]
[]
[]
[]
[]
[]
[]
[]
[]
[]
[]
[]
[]
[]
[]
[]
[]
[]
[]
[]
[]
[]
[]
[]
[]
[]
[]
[]
[]
[]
[]
[]
[]
[]
[]
[]
[]
[]
[]
[]
[]
[]
[]
[]
[]
[]
[]
[]
[]
[]
[]
[]
[]
[]
[]
[]
[]
[]
[]
[]
[]
[]
[]
[]
[]
[]
[]
[]
[]
[]
[]
[]
[]
[]
[]
[]
[]
[]
[]
[]
[]
[]
[]
[]
[]
[]
[]
[]
[]
[]
[]
[]
[]
[]
[]
[]
[]
[]
[]
[]
[]
[]
[]
[]
[]
[]
[]
[]
[]
[]
[]
[]
[]
[]
[]
[]
[]
[]
[]
[]
[]
[]
[]
[]
[]
[]
[]
[]
[]
[]
[]
[]
[]
[]
[]
[]
[]
[]
[]
[]
[]
[]
[]
[]
[]
[]
[]
[]
[]
[]
[]
[]
[]
[]
[]
[]
[]
[]
[]
[]
[]
[]
[]
[]
[]
[]
[]
[]
[]
[]
[]
[]
[]
[]
[]
[]
[]
[]
[]
[]
[]
[null,null,null,null,null,null,null,null,null,null,null,null,null,null,null,null,null,null,null,null,null,null,null,null,null,null,null,null,null,null,null,null,null,null,null,null,null,null,null,null,null,null,null,null,null,null,null,null,null,null,null,null,null,null,null,null,null,null,null,null,null,null,null,null,null,null,null,null,null,null,null,null,null,null,null,null,null,null,null,null,null,null,null,null,null,null,null,null,null,null,null,null,null,null,null,null,null,null,null,null,null,null,null,null,null,null,null,null,null,null,null,null,null,null,null,null,null,null,null,null,null,null,null,null,null,null,null,null,null,null,null,null,null,null,null,null,null,null,null,null,null,null,null,null,null,null,null,null,null,null,null,null,null,null,null,null,null,null,null,null,null,null,null,null,null,null,null,null,null,null,null,null,null,null,null,null,null,null,null,null,null,null,null,null,null,null,null,null,null,null,null,null,null,null,null,null,null,null,null,null,null,null,null,null,null,null,null,null,null,null,null,null,null,null,null,null,null,null,null,null,null,null,null,null,null,null,null,null,null,null,null,null,null,null,null,null,null,null,null,null,null,null,null,null,null,null,null,null,null,null,null,null,null,null,null,null,null,null,null,null,null,null,null,null,null,null,null,null,null,null,null,null,null,null,null,null,null,null,null,null,null,null,null,null,null,null,null,null,null,null,null,null,null,null,null,null,null,null,null,null,null,null,null,null,null,null,null,null,null,null,null,null,null,null,null,null,null,null,null,null,null,null,null,null,null,null,null,null,null,null,null,null,null,null,null,null,null,null,null,null,null,null,null,null,null,null,null,null,null,null,null,null,null,null,null,null,null,null,null,null,null,null,null,null,null,null,null,null,null,null,null,null,null,null,null,null,null,null,null,null,null,null,null,null,null,null,null,null,null,null,null,null,null,null,null,null,null,null,null,null,null,null,null,null,null,null,null,null,null,null,null,null,null,null,null,null,null,null,null,null,null,null,null,null,null,null,null,null,null,null,null,null,null,null,null,null,null,null,null,null,null,null,null,null,null,null,null,null,null,null,null,null,null,null,null,null,null,null,null,null,null,null,null,null,null,null,null,null,null,null,null,null,null,null,null,null,null,null,null,null,null,null,null,null,null,null,null,null,null,null,null,null,null,null,null,null,null,null,null,null,null,null,null,null,null,null,null,null,null,null,null,null,null,null,null,null,null,null,null,null,null,null,null,null,null,null,null,null,null,null,null,null,null,null,null,null,null,null,null,null,null,null,null,null,null,null,null,null,null,null,null,null,null,null,null,null,null,null,null,null,null,null,null,null,null,null,null,null,null,null,null,null,null,null,null,null,null,null,null,null,null,null,null,null,null,null,null,null,null,null,null,null,null,null,null,null,null,null,null,null,null,null,null,null,null,null,null,null,null,null,null,null,null,null,null,null,null,null,null,null,null,null,null,null,null,null,null,null,null,null,null,null,null,null,null,null,null,null,null,null,null,null,null,null,null,null,null,null,null,null,null,null,null,null,null,null,null,null,null,null,null,null,null,null,null,null,null,null,null,null,null,null,null,null,null,null,null,null,null,null,null,null,null,null,null,null,null,null,null,null,null,null,null,null,null,null,null,null,null,null,null,null,null,null,null,null,null,null,null,null,null,null,null,null,null,null,null,null,null,null,null,null,null,null,null,null,null,null,null,null,null,null,null,null,null,null,null,null,null,null,null,null,null,null,null,null,null,null,null,null,null,null,null,null,null,null,null,null,null,null,null,null,null,null,null,null,null,null,null,null,null,null,null,null,null,null,null,null,null,null,null,null,null,null,null,null,null,null,null,null,null,null,null,null,null,null,null,null,null,null,null,null,null,null,null,null,null,null,null,null,null,null,null,null,null,null,null,null,null,null,null,null,null,null,null,null,null,null,null,null,null,null,null,null,null,null,null,null,null,null,null,null,null,null,null,null,null,null,null,null,null,null,null,null,null,null,null,null,null,null,null,null,null,null,null,null,null,null,null,null,null,null,null,null,null,null,null,null,null,null,null,null,null,null,null,null,null,null,null,null,null,null,null,null,null,null,null,null,null,null,null,null,null,null,null,null,null,null,null,null,null,null,null,null,null,null,null,null,null,null,null,null,null,null,null,null,null,null,null,null,null,null,null,null,null,null,null,null,null,null,null,null,null,null,null,null,null,null,null,null,null,null,null,null,null,null,null,null,null,null,null,null,null,null,null,null,null,null,null,null,null,null,null,null,null,null,null,null,null,null,null,null,null,null,null,null,null,null,null,null,null,null,null,null,null,null,null,null,null,null,null,null,null,null,null,null,null,null,null,null,null,null,null,null,null,null,null,null,null,null,null,null,null,null,null,null,null,null,null,null,null,null,null,null,null,null,null,null,null,null,null,null,null,null,null,null,null,null,null,null,null,null,null,null,null,null,null,null,null,null,null,null,null,null,null,null,null,null,null,null,null,null,null,null,null,null,null,null,null,null,null,null,null,null,null,null,null,null,null,null,null,null,null,null,null,null,null,null,null,null,null,null,null,null,null,null,null,null,null,null,null,null,null,null,null,null,null,null,null,null,null,null,null,null,null,null,null,null,null,null,null,null,null,null,null,null,null,null,null,null,null,null,null,null,null,null,null,null,null,null,null,null,null,null,null,null,null,null,null,null,null,null,null,null,null,null,null,null,null,null,null,null,null,null,null,null,null,null,null,null,null,null,null,null,null,null,null,null,null,null,null,null,null,null,null,null,null,null,null,null,null,null,null,null,null,null,null,null,null,null,null,null,null,null,null,null,null,null,null,null,null,null,null,null,null,null,null,null,null,null,null,null,null,null,null,null,null,null,null,null,null,null,null,null,null,null,null,null,null,null,null,null,null,null,null,null,null,null,null,null,null,null,null,null,null,null,null,null,null,null,null,null,null,null,null,null,null,null,null,null,null,null,null,null,null,null,null,null,null,null,null,null,null,null,null,null,null,null,null,null,null,null,null,null,null,null,null,null,null,null,null,null,null,null,null,null,null,null,null,null,null,null,null,null,null,null,null,null,null,null,null,null,null,null,null,null,null,null,null,null,null,null,null,null,null,null,null,null,null,null,null,null,null,null,null,null,null,null,null,null,null,null,null,null,null,null,null,null,null,null,null,null,null,null,null,null,null,null,null,null,null,null,null,null,null,null,null,null,null,null,null,null,null,null,null,null,null,null,null,null,null,null,null,null,null,null,null,null,null,null,null,null,null,null,null,null,null,null,null,null,null,null,null,null,null,null,null,null,null,null,null,null,null,null,null,null,null,null,null,null,null,null,null,null,null,null,null,null,null,null,null,null,null,null,null,null,null,null,null,null,null,null,null,null,null,null,null,null,null,null,null,null,null,null,null,null,null,null,null,null,null,null,null,null,null,null,null,null,null,null,null,null,null,null,null,null,null,null,null,null,null,null,null,null,null,null,null,null,null,null,null,null,null,null,null,null,null,null,null,null,null,null,null,null,null,null,null,null,null,null,null,null,null,null,null,null,null,null,null,null,null,null,null,null,null,null,null,null,null,null,null,null,null,null,null,null,null,null,null,null,null,null,null,null,null,null,null,null,null,null,null,null,null,null,null,null,null,null,null,null,null,null,null,null,null,null,null,null,null,null,null,null,null,null,null,null,null,null,null,null,null,null,null,null,null,null,null,null,null,null,null,null,null,null,null,null,null,null,null,null,null,null,null,null,null,null,null,null,null,null,null,null,null,null,null,null,null,null,null,null,null,null,null,null,null,null,null,null,null,null,null,null,null,null,null,null,null,null,null,null,null,null,null,null,null,null,null,null,null,null,null,null,null,null,null,null,null,null,null,null,null,null,null,null,null,null,null,null,null,null,null,null,null,null,null,null,null,null,null,null,null,null,null,null,null,null,null,null,null,null,null,null,null,null,null,null,null,null,null,null,null,null,null,null,null,null,null,null,null,null,null,null,null,null,null,null,null,null,null,null,null,null,null,null,null,null,null,null,null,null,null,null,null,null,null,null,null,null,null,null,null,null,null,null,null,null,null,null,null,null,null,null,null,null,null,null,null,null,null,null,null,null,null,null,null,null,null,null,null,null,null,null,null,null,null,null,null,null,null,null,null,null,null,null,null,null,null,null,null,null,null,null,null,null,null,null,null,null,null,null,null,null,null,null,null,null,null,null,null,null,null,null,null,null,null,null,null,null,null,null,null,null,null,null,null,null,null,null,null,null,null,null,null,null,null,null,null,null,null,null,null,null,null,null,null,null,null,null,null,null,null,null,null,null,null,null,null,null,null,null,null,null,null,null,null,null,null,null,null,null,null,null,null,null,null,null,null,null,null,null,null,null,null,null,null,null,null,null,null,null,null,null,null,null,null,null,null,null,null,null,null,null,null,null,null,null,null,null,null,null,null,null,null,null,null,null,null,null,null,null,null,null,null,null,null,null,null,null,null,null,null,null,null,null,null,null,null,null,null,null,null,null,null,null,null,null,null,null,null,null,null,null,null,null,null,null,null,null,null,null,null,null,null,null,null,null,null,null,null,null,null,null,null,null,null,null,null,null,null,null,null,null,null,null,null,null,null,null,null,null,null,null,null,null,null,null,null,null,null,null,null,null,null,null,null,null,null,null,null,null,null,null,null,null,null,null,null,null,null,null,null,null,null,null,null,null,null,null,null,null,null,null,null,null,null,null,null,null,null,null,null,null,null,null,null,null,null,null,null,null,null,null,null,null,null,null,null,null,null,null,null,null,null,null,null,null,null,null,null,null,null,null,null,null,null,null,null,null,null,null,null,null,null,null,null,null,null,null,null,null,null,null,null,null,null,null,null,null,null,null,null,null,null,null,null,null,null,null,null,null,null,null,null,null,null,null,null,null,null,null,null,null,null,null,null,null,null,null,null,null,null,null,null,null,null,null,null,null,null,null,null,null,null,null,null,null,null,null,null,null,null,null,null,null,null,null,null,null,null,null,null,null,null,null,null,null,null,null,null,null,null,null,null,null,null,null,null,null,null,null,null,null,null,null,null,null,null,null,null,null,null,null,null,null,null,null,null,null,null,null,null,null,null,null,null,null,null,null,null,null,null,null,null,null,null,null,null,null,null,null,null,null,null,null,null,null,null,null,null,null,null,null,null,null,null,null,null,null,null,null,null,null,null,null,null,null,null,null,null,null,null,null,null,null,null,null,null,null,null,null,null,null,null,null,null,null,null,null,null,null,null,null,null,null,null,null,null,null,null,null,null,null,null,null,null,null,null,null,null,null,null,null,null,null,null,null,null,null,null,null,null,null,null,null,null,null,null,null,null,null,null,null,null,null,null,null,null,null,null,null,null,null,null,null,null,null,null,null,null,null,null,null,null,null,null,null,null,null,null,null,null,null,null,null,null,null,null,null,null,null,null,null,null,null,null,null,null,null,null,null,null,null,null,null,null,null,null,null,null,null,null,null,null,null,null,null,null,null,null,null,null,null,null,null,null,null,null,null,null,null,null,null,null,null,null,null,null,null,null,null,null,null,null,null,null,null,null,null,null,null,null,null,null,null,null,null,null,null,null,null,null,null,null,null,null,null,null,null,null,null,null,null,null,null,null,null,null,null,null,null,null,null,null,null,null,null,null,null,null,null,null,null,null,null,null,null,null,null,null,null,null,null,null,null,null,null,null,null,null,null,null,null,null,null,null,null,null,null,null,null,null,null,null,null,null,null,null,null,null,null,null,null,null,null,null,null,null,null,null,null,null,null,null,null,null,null,null,null,null,null,null,null,null,null,null,null,null,null,null,null,null,null,null,null,null,null,null,null,null,null,null,null,null,null,null,null,null,null,null,null,null,null,null,null,null,null,null,null,null,null,null,null,null,null,null,null,null,null,null,null,null,null,null,null,null,null,null,null,null,null,null,null,null,null,null,null,null,null,null,null,null,null,null,null,null,null,null,null,null,null,null,null,null,null,null,null,null,null,null,null,null,null,null,null,null,null,null,null,null,null,null,null,null,null,null,null,null,null,null,null,null,null,null,null,null,null,null,null,null,null,null,null,null,null,null,null,null,null,null,null,null,null,null,null,null,null,null,null,null,null,null,null,null,null,null,null,null,null,null,null,null,null,null,null,null,null,null,null,null,null,null,null,null,null,null,null,null,null,null,null,null,null,null,null,null,null,null,null,null,null,null,null,null,null,null,null,null,null,null,null,null,null,null,null,null,null,null,null,null,null,null,null,null,null,null,null,null,null,null,null,null,null,null,null,null,null,null,null,null,null,null,null,null,null,null,null,null,null,null,null,null,null,null,null,null,null,null,null,null,null,null,null,null,null,null,null,null,null,null,null,null,null,null,null,null,null,null,null,null,null,null,null,null,null,null,null,null,null,null,null,null,null,null,null,null,null,null,null,null,null,null,null,null,null,null,null,null,null,null,null,null,null,null,null,null,null,null,null,null,null,null,null,null,null,null,null,null,null,null,null,null,null,null,null,null,null,null,null,null,null,null,null,null,null,null,null,null,null,null,null,null,null,null,null,null,null,null,null,null,null,null,null,null,null,null,null,null,null,null,null,null,null,null,null,null,null,null,null,null,null,null,null,null,null,null,null,null,null,null,null,null,null,null,null,null,null,null,null,null,null,null,null,null,null,null,null,null,null,null,null,null,null,null,null,null,null,null,null,null,null,null,null,null,null,null,null,null,null,null,null,null,null,null,null,null,null,null,null,null,null,null,null,null,null,null,null,null,null,null,null,null,null,null,null,null,null,null,null,null,null,null,null,null,null,null,null,null,null,null,null,null,null,null,null,null,null,null,null,null,null,null,null,null,null,null,null,null,null,null,null,null,null,null,null,null,null,null,null,null,null,null,null,null,null,null,null,null,null,null,null,null,null,null,null,null,null,null,null,null,null,null,null,null,null,null,null,null,null,null,null,null,null,null,null,null,null,null,null,null,null,null,null,null,null,null,null,null,null,null,null,null,null,null,null,null,null,null,null,null,null,null,null,null,null,null,null,null,null,null,null,null,null,null,null,null,null,null,null,null,null,null,null,null,null,null,null,null,null,null,null,null,null,null,null,null,null,null,null,null,null,null,null,null,null,null,null,null,null,null,null,null,null,null,null,null,null,null,null,null,null,null,null,null,null,null,null,null,null,null,null,null,null,null,null,null,null,null,null,null,null,null,null,null,null,null,null,null,null,null,null,null,null,null,null,null,null,null,null,null,null,null,null,null,null,null,null,null,null,null,null,null,null,null,null,null,null,null,null,null,null,null,null,null,null,null,null,null,null,null,null,null,null,null,null,null,null,null,null,null,null,null,null,null,null,null,null,null,null,null,null,null,null,null,null,null,null,null,null,null,null,null,null,null,null,null,null,null,null,null,null,null,null,null,null,null,null,null,null,null,null,null,null,null,null,null,null,null,null,null,null,null,null,null,null,null,null,null,null,null,null,null,null,null,null,null,null,null,null,null,null,null,null,null,null,null,null,null,null,null,null,null,null,null,null,null,null,null,null,null,null,null,null,null,null,null,null,null,null,null,null,null,null,null,null,null,null,null,null,null,null,null,null,null,null,null,null,null,null,null,null,null,null,null,null,null,null,null,null,null,null,null,null,null,null,null,null,null,null,null,null,null,null,null,null,null,null,null,null,null,null,null,null,null,null,null,null,null,null,null,null,null,null,null,null,null,null,null,null,null,null,null,null,null,null,null,null,null,null,null,null,null,null,null,null,null,null,null,null,null,null,null,null,null,null,null,null,null,null,null,null,null,null,null,null,null,null,null,null,null,null,null,null,null,null,null,null,null,null,null,null,null,null,null,null,null,null,null,null,null,null,null,null,null,null,null,null,null,null,null,null,null,null,null,null,null,null,null,null,null,null,null,null,null,null,null,null,null,null,null,null,null,null,null,null,null,null,null,null,null,null,null,null,null,null,null,null,null,null,null,null,null,null,null,null,null,null,null,null,null,null,null,null,null,null,null,null,null,null,null,null,null,null,null,null,null,null,null,null,null,null,null,null,null,null,null,null,null,null,null,null,null,null,null,null,null,null,null,null,null,null,null,null,null,null,null,null,null,null,null,null,null,null,null,null,null,null,null,null,null,null,null,null,null,null,null,null,null,null,null,null,null,null,null,null,null,null,null,null,null,null,null,null,null,null,null,null,null,null,null,null,null,null,null,null,null,null,null,null,null,null,null,null,null,null,null,null,null,null,null,null,null,null,null,null,null,null,null,null,null,null,null,null,null,null,null,null,null,null,null,null,null,null,null,null,null,null,null,null,null,null,null,null,null,null,null,null,null,null,null,null,null,null,null,null,null,null,null,null,null,null,null,null,null,null,null,null,null,null,null,null,null,null,null,null,null,null,null,null,null,null,null,null,null,null,null,null,null,null,null,null,null,null,null,null,null,null,null,null,null,null,null,null,null,null,null,null,null,null,null,null,null,null,null,null,null,null,null,null,null,null,null,null,null,null,null,null,null,null,null,null,null,null,null,null,null,null,null,null,null,null,null,null,null,null,null,null,null,null,null,null,null,null,null,null,null,null,null,null,null,null,null,null,null,null,null,null,null,null,null,null,null,null,null,null,null,null,null,null,null,null,null,null,null,null,null,null,null,null,null,null,null,null,null,null,null,null,null,null,null,null,null,null,null,null,null,null,null,null,null,null,null,null,null,null,null,null,null,null,null,null,null,null,null,null,null,null,null,null,null,null,null,null,null,null,null,null,null,null,null,null,null,null,null,null,null,null,null,null,null,null,null,null,null,null,null,null,null,null,null,null,null,null,null,null,null,null,null,null,null,null,null,null,null,null,null,null,null,null,null,null,null,null,null,null,null,null,null,null,null,null,null,null,null,null,null,null,null,null,null,null,null,null,null,null,null,null,null,null,null,null,null,null,null,null,null,null,null,null,null,null,null,null,null,null,null,null,null,null,null,null,null,null,null,null,null,null,null,null,null,null,null,null,null,null,null,null,null,null,null,null,null,null,null,null,null,null,null,null,null,null,null,null,null,null,null,null,null,null,null,null,null,null,null,null,null,null,null,null,null,null,null,null,null,null,null,null,null,null,null,null,null,null,null,null,null,null,null,null,null,null,null,null,null,null,null,null,null,null,null,null,null,null,null,null,null,null,null,null,null,null,null,null,null,null,null,null,null,null,null,null,null,null,null,null,null,null,null,null,null,null,null,null,null,null,null,null,null,null,null,null,null,null,null,null,null,null,null,null,null,null,null,null,null,null,null,null,null,null,null,null,null,null,null,null,null,null,null,null,null,null,null,null,null,null,null,null,null,null,null,null,null,null,null,null,null,null,null,null,null,null,null,null,null,null,null,null,null,null,null,null,null,null,null,null,null,null,null,null,null,null,null,null,null,null,null,null,null,null,null,null,null,null,null,null,null,null,null,null,null,null,null,null,null,null,null,null,null,null,null,null,null,null,null,null,null,null,null,null,null,null,null,null,null,null,null,null,null,null,null,null,null,null,null,null,null,null,null,null,null,null,null,null,null,null,null,null,null,null,null,null,null,null,null,null,null,null,null,null,null,null,null,null,null,null,null,null,null,null,null,null,null,null,null,null,null,null,null,null,null,null,null,null,null,null,null,null,null,null,null,null,null,null,null,null,null,null,null,null,null,null,null,null,null,null,null,null,null,null,null,null,null,null,null,null,null,null,null,null,null,null,null,null,null,null,null,null,null,null,null,null,null,null,null,null,null,null,null,null,null,null,null,null,null,null,null,null,null,null,null,null,null,null,null,null,null,null,null,null,null,null,null,null,null,null,null,null,null,null,null,null,null,null,null,null,null,null,null,null,null,null,null,null,null,null,null,null,null,null,null,null,null,null,null,null,null,null,null,null,null,null,null,null,null,null,null,null,null,null,null,null,null,null,null,null,null,null,null,null,null,null,null,null,null,null,null,null,null,null,null,null,null,null,null,null,null,null,null,null,null,null,null,null,null,null,null,null,null,null,null,null,null,null,null,null,null,null,null,null,null,null,null,null,null,null,null,null,null,null,null,null,null,null,null,null,null,null,null,null,null,null,null,null,null,null,null,null,null,null,null,null,null,null,null,null,null,null,null,null,null,null,null,null,null,null,null,null,null,null,null,null,null,null,null,null,null,null,null,null,null,null,null,null,null,null,null,null,null,null,null,null,null,null,null,null,null,null,null,null,null,null,null,null,null,null,null,null,null,null,null,null,null,null,null,null,null,null,null,null,null,null,null,null,null,null,null,null,null,null,null,null,null,null,null,null,null,null,null,null,null,null,null,null,null,null,null,null,null,null,null,null,null,null,null,null,null,null,null,null,null,null,null,null,null,null,null,null,null,null,null,null,null,null,null,null,null,null,null,null,null,null,null,null,null,null,null,null,null,null,null,null,null,null,null,null,null,null,null,null,null,null,null,null,null,null,null,null,null,null,null,null,null,null,null,null,null,null,null,null,null,null,null,null,null,null,null,null,null,null,null,null,null,null,null,null,null,null,null,null,null,null,null,null,null,null,null,null,null,null,null,null,null,null,null,null,null,null,null,null,null,null,null,null,null,null,null,null,null,null,null,null,null,null,null,null,null,null,null,null,null,null,null,null,null,null,null,null,null,null,null,null,null,null,null,null,null,null,null,null,null,null,null,null,null,null,null,null,null,null,null,null,null,null,null,null,null,null,null,null,null,null,null,null,null,null,null,null,null,null,null,null,null,null,null,null,null,null,null,null,null,null,null,null,null,null,null,null,null,null,null,null,null,null,null,null,null,null,null,null,null,null,null,null,null,null,null,null,null,null,null,null,null,null,null,null,null,null,null,null,null,null,null,null,null,null,null,null,null,null,null,null,null,null,null,null,null,null,null,null,null,null,null,null,null,null,null,null,null,null,null,null,null,null,null,null,null,null,null,null,null,null,null,null,null,null,null,null,null,null,null,null,null,null,null,null,null,null,null,null,null,null,null,null,null,null,null,null,null,null,null,null,null,null,null,null,null,null,null,null,null,null,null,null,null,null,null,null,null,null,null,null,null,null,null,null,null,null,null,null,null,null,null,null,null,null,null,null,null,null,null,null,null,null,null,null,null,null,null,null,null,null,null,null,null,null,null,null,null,null,null,null,null,null,null,null,null,null,null,null,null,null,null,null,null,null,null,null,null,null,null,null,null,null,null,null,null,null,null,null,null,null,null,null,null,null,null,null,null,null,null,null,null,null,null,null,null,null,null,null,null,null,null,null,null,null,null,null,null,null,null,null,null,null,null,null,null,null,null,null,null,null,null,null,null,null,null,null,null,null,null,null,null,null,null,null,null,null,null,null,null,null,null,null,null,null,null,null,null,null,null,null,null,null,null,null,null,null,null,null,null,null,null,null,null,null,null,null,null,null,null,null,null,null,null,null,null,null,null,null,null,null,null,null,null,null,null,null,null,null,null,null,null,null,null,null,null,null,null,null,null,null,null,null,null,null,null,null,null,null,null,null,null,null,null,null,null,null,null,null,null,null,null,null,null,null,null,null,null,null,null,null,null,null,null,null,null,null,null,null,null,null,null,null,null,null,null,null,null,null,null,null,null,null,null,null,null,null,null,null,null,null,null,null,null,null,null,null,null,null,null,null,null,null,null,null,null,null,null,null,null,null,null,null,null,null,null,null,null,null,null,null,null,null,null,null,null,null,null,null,null,null,null,null,null,null,null,null,null,null,null,null,null,null,null,null,null,null,null,null,null,null,null,null,null,null,null,null,null,null,null,null,null,null,null,null,null,null,null,null,null,null,null,null,null,null,null,null,null,null,null,null,null,null,null,null,null,null,null,null,null,null,null,null,null,null,null,null,null,null,null,null,null,null,null,null,null,null,null,null,null,null,null,null,null,null,null,null,null,null,null,null,null,null,null,null,null,null,null,null,null,null,null,null,null,null,null,null,null,null,null,null,null,null,null,null,null,null,null,null,null,null,null,null,null,null,null,null,null,null,null,null,null,null,null,null,null,null,null,null,null,null,null,null,null,null,null,null,null,null,null,null,null,null,null,null,null,null,null,null,null,null,null,null,null,null,null,null,null,null,null,null,null,null,null,null,null,null,null,null,null,null,null,null,null,null,null,null,null,null,null,null,null,null,null,null,null,null,null,null,null,null,null,null,null,null,null,null,null,null,null,null,null,null,null,null,null,null,null,null,null,null,null,null,null,null,null,null,null,null,null,null,null,null,null,null,null,null,null,null,null,null,null,null,null,null,null,null,null,null,null,null,null,null,null,null,null,null,null,null,null,null,null,null,null,null,null,null,null,null,null,null,null,null,null,null,null,null,null,null,null,null,null,null,null,null,null,null,null,null,null,null,null,null,null,null,null,null,null,null,null,null,null,null,null,null,null,null,null,null,null,null,null,null,null,null,null,null,null,null,null,null,null,null,null,null,null,null,null,null,null,null,null,null,null,null,null,null,null,null,null,null,null,null,null,null,null,null,null,null,null,null,null,null,null,null,null,null,null,null,null,null,null,null,null,null,null,null,null,null,null,null,null,null,null,null,null,null,null,null,null,null,null,null,null,null,null,null,null,null,null,null,null,null,null,null,null,null,null,null,null,null,null,null,null,null,null,null,null,null,null,null,null,null,null,null,null,null,null,null,null,null,null,null,null,null,null,null,null,null,null,null,null,null,null,null,null,null,null,null,null,null,null,null,null,null,null,null,null,null,null,null,null,null,null,null,null,null,null,null,null,null,null,null,null,null,null,null,null,null,null,null,null,null,null,null,null,null,null,null,null,null,null,null,null,null,null,null,null,null,null,null,null,null,null,null,null,null,null,null,null,null,null,null,null,null,null,null,null,null,null,null,null,null,null,null,null,null,null,null,null,null,null,null,null,null,null,null,null,null,null,null,null,null,null,null,null,null,null,null,null,null,null,null,null,null,null,null,null,null,null,null,null,null,null,null,null,null,null,null,null,null,null,null,null,null,null,null,null,null,null,null,null,null,null,null,null,null,null,null,null,null,null,null,null,null,null,null,null,null,null,null,null,null,null,null,null,null,null,null,null,null,null,null,null,null,null,null,null,null,null,null,null,null,null,null,null,null,null,null,null,null,null,null,null,null,null,null,null,null,null,null,null,null,null,null,null,null,null,null,null,null,null,null,null,null,null,null,null,null,null,null,null,null,null,null,null,null,null,null,null,null,null,null,null,null,null,null,null,null,null,null,null,null,null,null,null,null,null,null,null,null,null,null,null,null,null,null,null,null,null,null,null,null,null,null,null,null,null,null,null,null,null,null,null,null,null,null,null,null,null,null,null,null,null,null,null,null,null,null,null,null,null,null,null,null,null,null,null,null,null,null,null,null,null,null,null,null,null,null,null,null,null,null,null,null,null,null,null,null,null,null,null,null,null,null,null,null,null,null,null,null,null,null,null,null,null,null,null,null,null,null,null,null,null,null,null,null,null,null,null,null,null,null,null,null,null,null,null,null,null,null,null,null,null,null,null,null,null,null,null,null,null,null,null,null,null,null,null,null,null,null,null,null,null,null,null,null,null,null,null,null,null,null,null,null,null,null,null,null,null,null,null,null,null,null,null,null,null,null,null,null,null,null,null,null,null,null,null,null,null,null,null,null,null,null,null,null,null,null,null,null,null,null,null,null,null,null,null,null,null,null,null,null,null,null,null,null,null,null,null,null,null,null,null,null,null,null,null,null,null,null,null,null,null,null,null,null,null,null,null,null,null,null,null,null,null,null,null,null,null,null,null,null,null,null,null,null,null,null,null,null,null,null,null,null,null,null,null,null,null,null,null,null,null,null,null,null,null,null,null,null,null,null,null,null,null,null,null,null,null,null,null,null,null,null,null,null,null,null,null,null,null,null,null,null,null,null,null,null,null,null,null,null,null,null,null,null,null,null,null,null,null,null,null,null,null,null,null,null,null,null,null,null,null,null,null,null,null,null,null,null,null,null,null,null,null,null,null,null,null,null,null,null,null,null,null,null,null,null,null,null,null,null,null,null,null,null,null,null,null,null,null,null,null,null,null,null,null,null,null,null,null,null,null,null,null,null,null,null,null,null,null,null,null,null,null,null,null,null,null,null,null,null,null,null,null,null,null,null,null,null,null,null,null,null,null,null,null,null,null,null,null,null,null,null,null,null,null,null,null,null,null,null,null,null,null,null,null,null,null,null,null,null,null,null,null,null,null,null,null,null,null,null,null,null,null,null,null,null,null,null,null,null,null,null,null,null,null,null,null,null,null,null,null,null,null,null,null,null,null,null,null,null,null,null,null,null,null,null,null,null,null,null,null,null,null,null,null,null,null,null,null,null,null,null,null,null,null,null,null,null,null,null,null,null,null,null,null,null,null,null,null,null,null,null,null,null,null,null,null,null,null,null,null,null,null,null,null,null,null,null,null,null,null,null,null,null,null,null,null,null,null,null,null,null,null,null,null,null,null,null,null,null,null,null,null,null,null,null,null,null,null,null,null,null,null,null,null,null,null,null,null,null,null,null,null,null,null,null,null,null,null,null,null,null,null,null,null,null,null,null,null,null,null,null,null,null,null,null,null,null,null,null,null,null,null,null,null,null,null,null,null,null,null,null,null,null,null,null,null,null,null,null,null,null,null,null,null,null,null,null,null,null,null,null,null,null,null,null,null,null,null,null,null,null,null,null,null,null,null,null,null,null,null,null,null,null,null,null,null,null,null,null,null,null,null,null,null,null,null,null,null,null,null,null,null,null,null,null,null,null,null,null,null,null,null,null,null,null,null,null,null,null,null,null,null,null,null,null,null,null,null,null,null,null,null,null,null,null,null,null,null,null,null,null,null,null,null,null,null,null,null,null,null,null,null,null,null,null,null,null,null,null,null,null,null,null,null,null,null,null,null,null,null,null,null,null,null,null,null,null,null,null,null,null,null,null,null,null,null,null,null,null,null,null,null,null,null,null,null,null,null,null,null,null,null,null,null,null,null,null,null,null,null,null,null,null,null,null,null,null,null,null,null,null,null,null,null,null,null,null,null,null,null,null,null,null,null,null,null,null,null,null,null,null,null,null,null,null,null,null,null,null,null,null,null,null,null,null,null,null,null,null,null,null,null,null,null,null,null,null,null,null,null,null,null,null,null,null,null,null,null,null,null,null,null,null,null,null,null,null,null,null,null,null,null,null,null,null,null,null,null,null,null,null,null,null,null,null,null,null,null,null,null,null,null,null,null,null,null,null,null,null,null,null,null,null,null,null,null,null,null,null,null,null,null,null,null,null,null,null,null,null,null,null,null,null,null,null,null,null,null,null,null,null,null,null,null,null,null,null,null,null,null,null,null,null,null,null,null,null,null,null,null,null,null,null,null,null,null,null,null,null,null,null,null,null,null,null,null,null,null,null,null,null,null,null,null,null,null,null,null,null,null,null,null,null,null,null,null,null,null,null,null,null,null,null,null,null,null,null,null,null,null,null,null,null,null,null,null,null,null,null,null,null,null,null,null,null,null,null,null,null,null,null,null,null,null,null,null,null,null,null,null,null,null,null,null,null,null,null,null,null,null,null,null,null,null,null,null,null,null,null,null,null,null,null,null,null,null,null,null,null,null,null,null,null,null,null,null,null,null,null,null,null,null,null,null,null,null,null,null,null,null,null,null,null,null,null,null,null,null,null,null,null,null,null,null,null,null,null,null,null,null,null,null,null,null,null,null,null,null,null,null,null,null,null,null,null,null,null,null,null,null,null,null,null,null,null,null,null,null,null,null,null,null,null,null,null,null,null,null,null,null,null,null,null,null,null,null,null,null,null,null,null,null,null,null,null,null,null,null,null,null,null,null,null,null,null,null,null,null,null,null,null,null,null,null,null,null,null,null,null,null,null,null,null,null,null,null,null,null,null,null,null,null,null,null,null,null,null,null,null,null,null,null,null,null,null,null,null,null,null,null,null,null,null,null,null,null,null,null,null,null,null,null,null,null,null,null,null,null,null,null,null,null,null,null,null,null,null,null,null,null,null,null,null,null,null,null,null,null,null,null,null,null,null,null,null,null,null,null,null,null,null,null,null,null,null,null,null,null,null,null,null,null,null,null,null,null,null,null,null,null,null,null,null,null,null,null,null,null,null,null,null,null,null,null,null,null,null,null,null,null,null,null,null,null,null,null,null,null,null,null,null,null,null,null,null,null,null,null,null,null,null,null,null,null,null,null,null,null,null,null,null,null,null,null,null,null,null,null,null,null,null,null,null,null,null,null,null,null,null,null,null,null,null,null,null,null,null,null,null,null,null,null,null,null,null,null,null,null,null,null,null,null,null,null,null,null,null,null,null,null,null,null,null,null,null,null,null,null,null,null,null,null,null,null,null,null,null,null,null,null,null,null,null,null,null,null,null,null,null,null,null,null,null,null,null,null,null,null,null,null,null,null,null,null,null,null,null,null,null,null,null,null,null,null,null,null,null,null,null,null,null,null,null,null,null,null,null,null,null,null,null,null,null,null,null,null,null,null,null,null,null,null,null,null,null,null,null,null,null,null,null,null,null,null,null,null,null,null,null,null,null,null,null,null,null,null,null,null,null,null,null,null,null,null,null,null,null,null,null,null,null,null,null,null,null,null,null,null,null,null,null,null,null,null,null,null,null,null,null,null,null,null,null,null,null,null,null,null,null,null,null,null,null,null,null,null,null,null,null,null,null,null,null,null,null,null,null,null,null,null,null,null,null,null,null,null,null,null,null,null,null,null,null,null,null,null,null,null,null,null,null,null,null,null,null,null,null,null,null,null,null,null,null,null,null,null,null,null,null,null,null,null,null,null,null,null,null,null,null,null,null,null,null,null,null,null,null,null,null,null,null,null,null,null,null,null,null,null,null,null,null,null,null,null,null,null,null,null,null,null,null,null,null,null,null,null,null,null,null,null,null,null,null,null,null,null,null,null,null,null,null,null,null,null,null,null,null,null,null,null,null,null,null,null,null,null,null,null,null,null,null,null,null,null,null,null,null,null,null,null,null,null,null,null,null,null,null,null,null,null,null,null,null,null,null,null,null,null,null,null,null,null,null,null,null,null,null,null,null,null,null,null,null,null,null,null,null,null,null,null,null,null,null,null,null,null,null,null,null,null,null,null,null,null,null,null,null,null,null,null,null,null,null,null,null,null,null,null,null,null,null,null,null,null,null,null,null,null,null,null,null,null,null,null,null,null,null,null,null,null,null,null,null,null,null,null,null,null,null,null,null,null,null,null,null,null,null,null,null,null,null,null,null,null,null,null,null,null,null,null,null,null,null,null,null,null,null,null,null,null,null,null,null,null,null,null,null,null,null,null,null,null,null,null,null,null,null,null,null,null,null,null,null,null,null,null,null,null,null,null,null,null,null,null,null,null,null,null,null,null,null,null,null,null,null,null,null,null,null,null,null,null,null,null,null,null,null,null,null,null,null,null,null,null,null,null,null,null,null,null,null,null,null,null,null,null,null,null,null,null,null,null,null,null,null,null,null,null,null,null,null,null,null,null,null,null,null,null,null,null,null,null,null,null,null,null,null,null,null,null,null,null,null,null,null,null,null,null,null,null,null,null,null,null,null,null,null,null,null,null,null,null,null,null,null,null,null,null,null,null,null,null,null,null,null,null,null,null,null,null,null,null,null,null,null,null,null,null,null,null,null,null,null,null,null,null,null,null,null,null,null,null,null,null,null,null,null,null,null,null,null,null,null,null,null,null,null,null,null,null,null,null,null,null,null,null,null,null,null,null,null,null,null,null,null,null,null,null,null,null,null,null,null,null,null,null,null,null,null,null,null,null,null,null,null,null,null,null,null,null,null,null,null,null,null,null,null,null,null,null,null,null,null,null,null,null,null,null,null,null,null,null,null,null,null,null,null,null,null,null,null,null,null,null,null,null,null,null,null,null,null,null,null,null,null,null,null,null,null,null,null,null,null,null,null,null,null,null,null,null,null,null,null,null,null,null,null,null,null,null,null,null,null,null,null,null,null,null,null,null,null,null,null,null,null,null,null,null,null,null,null,null,null,null,null,null,null,null,null,null,null,null,null,null,null,null,null,null,null,null,null,null,null,null,null,null,null,null,null,null,null,null,null,null,null,null,null,null,null,null,null,null,null,null,null,null,null,null,null,null,null,null,null,null,null,null,null,null,null,null,null,null,null,null,null,null,null,null,null,null,null,null,null,null,null,null,null,null,null,null,null,null,null,null,null,null,null,null,null,null,null,null,null,null,null,null,null,null,null,null,null,null,null,null,null,null,null,null,null,null,null,null,null,null,null,null,null,null,null,null,null,null,null,null,null,null,null,null,null,null,null,null,null,null,null,null,null,null,null,null,null,null,null,null,null,null,null,null,null,null,null,null,null,null,null,null,null,null,null,null,null,null,null,null,null,null,null,null,null,null,null,null,null,null,null,null,null,null,null,null,null,null,null,null,null,null,null,null,null,null,null,null,null,null,null,null,null,null,null,null,null,null,null,null,null,null,null,null,null,null,null,null,null,null,null,null,null,null,null,null,null,null,null,null,null,null,null,null,null,null,null,null,null,null,null,null,null,null,null,null,null,null,null,null,null,null,null,null,null,null,null,null,null,null,null,null,null,null,null,null,null,null,null,null,null,null,null,null,null,null,null,null,null,null,null,null,null,null,null,null,null,null,null,null,null,null,null,null,null,null,null,null,null,null,null,null,null,null,null,null,null,null,null,null,null,null,null,null,null,null,null,null,null,null,null,null,null,null,null,null,null,null,null,null,null,null,null,null,null,null,null,null,null,null,null,null,null,null,null,null,null,null,null,null,null,null,null,null,null,null,null,null,null,null,null,null,null,null,null,null,null,null,null,null,null,null,null,null,null,null,null,null,null,null,null,null,null,null,null,null,null,null,null,null,null,null,null,null,null,null,null,null,null,null,null,null,null,null,null,null,null,null,null,null,null,null,null,null,null,null,null,null,null,null,null,null,null,null,null,null,null,null,null,null,null,null,null,null,null,null,null,null,null,null,null,null,null,null,null,null,null,null,null,null,null,null,null,null,null,null,null,null,null,null,null,null,null,null,null,null,null,null,null,null,null,null,null,null,null,null,null,null,null,null,null,null,null,null,null,null,null,null,null,null,null,null,null,null,null,null,null,null,null,null,null,null,null,null,null,null,null,null,null,null,null,null,null,null,null,null,null,null,null,null,null,null,null,null,null,null,null,null,null,null,null,null,null,null,null,null,null,null,null,null,null,null,null,null,null,null,null,null,null,null,null,null,null,null,null,null,null,null,null,null,null,null,null,null,null,null,null,null,null,null,null,null,null,null,null,null,null,null,null,null,null,null,null,null,null,null,null,null,null,null,null,null,null,null,null,null,null,null,null,null,null,null,null,null,null,null,null,null,null,null,null,null,null,null,null,null,null,null,null,null,null,null,null,null,null,null,null,null,null,null,null,null,null,null,null,null,null,null,null,null,null,null,null,null,null,null,null,null,null,null,null,null,null,null,null,null,null,null,null,null,null,null,null,null,null,null,null,null,null,null,null,null,null,null,null,null,null,null,null,null,null,null,null,null,null,null,null,null,null,null,null,null,null,null,null,null,null,null,null,null,null,null,null,null,null,null,null,null,null,null,null,null,null,null,null,null,null,null,null,null,null,null,null,null,null,null,null,null,null,null,null,null,null,null,null,null,null,null,null,null,null,null,null,null,null,null,null,null,null,null,null,null,null,null,null,null,null,null,null,null,null,null,null,null,null,null,null,null,null,null,null,null,null,null,null,null,null,null,null,null,null,null,null,null,null,null,null,null,null,null,null,null,null,null,null,null,null,null,null,null,null,null,null,null,null,null,null,null,null,null,null,null,null,null,null,null,null,null,null,null,null,null,null,null,null,null,null,null,null,null,null,null,null,null,null,null,null,null,null,null,null,null,null,null,null,null,null,null,null,null,null,null,null,null,null,null,null,null,null,null,null,null,null,null,null,null,null,null,null,null,null,null,null,null,null,null,null,null,null,null,null,null,null,null,null,null,null,null,null,null,null,null,null,null,null,null,null,null,null,null,null,null,null,null,null,null,null,null,null,null,null,null,null,null,null,null,null,null,null,null,null,null,null,null,null,null,null,null,null,null,null,null,null,null,null,null,null,null,null,null,null,null,null,null,null,null,null,null,null,null,null,null,null,null,null,null,null,null,null,null,null,null,null,null,null,null,null,null,null,null,null,null,null,null,null,null,null,null,null,null,null,null,null,null,null,null,null,null,null,null,null,null,null,null,null,null,null,null,null,null,null,null,null,null,null,null,null,null,null,null,null,null,null,null,null,null,null,null,null,null,null,null,null,null,null,null,null,null,null,null,null,null,null,null,null,null,null,null,null,null,null,null,null,null,null,null,null,null,null,null,null,null,null,null,null,null,null,null,null,null,null,null,null,null,null,null,null,null,null,null,null,null,null,null,null,null,null,null,null,null,null,null,null,null,null,null,null,null,null,null,null,null,null,null,null,null,null,null,null,null,null,null,null,null,null,null,null,null,null,null,null,null,null,null,null,null,null,null,null,null,null,null,null,null,null,null,null,null,null,null,null,null,null,null,null,null,null,null,null,null,null,null,null,null,null,null,null,null,null,null,null,null,null,null,null,null,null,null,null,null,null,null,null,null,null,null,null,null,null,null,null,null,null,null,null,null,null,null,null,null,null,null,null,null,null,null,null,null,null,null,null,null,null,null,null,null,null,null,null,null,null,null,null,null,null,null,null,null,null,null,null,null,null,null,null,null,null,null,null,null,null,null,null,null,null,null,null,null,null,null,null,null,null,null,null,null,null,null,null,null,null,null,null,null,null,null,null,null,null,null,null,null,null,null,null,null,null,null,null,null,null,null,null,null,null,null,null,null,null,null,null,null,null,null,null,null,null,null,null,null,null,null,null,null,null,null,null,null,null,null,null,null,null,null,null,null,null,null,null,null,null,null,null,null,null,null,null,null,null,null,null,null,null,null,null,null,null,null,null,null,null,null,null,null,null,null,null,null,null,null,null,null,null,null,null,null,null,null,null,null,null,null,null,null,null,null,null,null,null,null,null,null,null,null,null,null,null,null,null,null,null,null,null,null,null,null,null,null,null,null,null,null,null,null,null,null,null,null,null,null,null,null,null,null,null,null,null,null,null,null,null,null,null,null,null,null,null,null,null,null,null,null,null,null,null,null,null,null,null,null,null,null,null,null,null,null,null,null,null,null,null,null,null,null,null,null,null,null,null,null,null,null,null,null,null,null,null,null,null,null,null,null,null,null,null,null,null,null,null,null,null,null,null,null,null,null,null,null,null,null,null,null,null,null,null,null,null,null,null,null,null,null,null,null,null,null,null,null,null,null,null,null,null,null,null,null,null,null,null,null,null,null,null,null,null,null,null,null,null,null,null,null,null,null,null,null,null,null,null,null,null,null,null,null,null,null,null,null,null,null,null,null,null,null,null,null,null,null,null,null,null,null,null,null,null,null,null,null,null,null,null,null,null,null,null,null,null,null,null,null,null,null,null,null,null,null,null,null,null,null,null,null,null,null,null,null,null,null,null,null,null,null,null,null,null,null,null,null,null,null,null,null,null,null,null,null,null,null,null,null,null,null,null,null,null,null,null,null,null,null,null,null,null,null,null,null,null,null,null,null,null,null,null,null,null,null,null,null,null,null,null,null,null,null,null,null,null,null,null,null,null,null,null,null,null,null,null,null,null,null,null,null,null,null,null,null,null,null,null,null,null,null,null,null,null,null,null,null,null,null,null,null,null,null,null,null,null,null,null,null,null,null,null,null,null,null,null,null,null,null,null,null,null,null,null,null,null,null,null,null,null,null,null,null,null,null,null,null,null,null,null,null,null,null,null,null,null,null,null,null,null,null,null,null,null,null,null,null,null,null,null,null,null,null,null,null,null,null,null,null,null,null,null,null,null,null,null,null,null,null,null,null,null,null,null,null,null,null,null,null,null,null,null,null,null,null,null,null,null,null,null,null,null,null,null,null,null,null,null,null,null,null,null,null,null,null,null,null,null,null,null,null,null,null,null,null,null,null,null,null,null,null,null,null,null,null,null,null,null,null,null,null,null,null,null,null,null,null,null,null,null,null,null,null,null,null,null,null,null,null,null,null,null,null,null,null,null,null,null,null,null,null,null,null,null,null,null,null,null,null,null,null,null,null,null,null,null,null,null,null,null,null,null,null,null,null,null,null,null,null,null,null,null,null,null,null,null,null,null,null,null,null,null,null,null,null,null,null,null,null,null,null,null,null,null,null,null,null,null,null,null,null,null,null,null,null,null,null,null,null,null,null,null,null,null,null,null,null,null,null,null,null,null,null,null,null,null,null,null,null,null,null,null,null,null,null,null,null,null,null,null,null,null,null,null,null,null,null,null,null,null,null,null,null,null,null,null,null,null,null,null,null,null,null,null,null,null,null,null,null,null,null,null,null,null,null,null,null,null,null,null,null,null,null,null,null,null,null,null,null,null,null,null,null,null,null,null,null,null,null,null,null,null,null,null,null,null,null,null,null,null,null,null,null,null,null,null,null,null,null,null,null,null,null,null,null,null,null,null,null,null,null,null,null,null,null,null,null,null,null,null,null,null,null,null,null,null,null,null,null,null,null,null,null,null,null,null,null,null,null,null,null,null,null,null,null,null,null,null,null,null,null,null,null,null,null,null,null,null,null,null,null,null,null,null,null,null,null,null,null,null,null,null,null,null,null,null,null,null,null,null,null,null,null,null,null,null,null,null,null,null,null,null,null,null,null,null,null,null,null,null,null,null,null,null,null,null,null,null,null,null,null,null,null,null,null,null,null,null,null,null,null,null,null,null,null,null,null,null,null,null,null,null,null,null,null,null,null,null,null,null,null,null,null,null,null,null,null,null,null,null,null,null,null,null,null,null,null,null,null,null,null,null,null,null,null,null,null,null,null,null,null,null,null,null,null,null,null,null,null,null,null,null,null,null,null,null,null,null,null,null,null,null,null,null,null,null,null,null,null,null,null,null,null,null,null,null,null,null,null,null,null,null,null,null,null,null,null,null,null,null,null,null,null,null,null,null,null,null,null,null,null,null,null,null,null,null,null,null,null,null,null,null,null,null,null,null,null,null,null,null,null,null,null,null,null,null,null,null,null,null,null,null,null,null,null,null,null,null,null,null,null,null,null,null,null,null,null,null,null,null,null,null,null,null,null,null,null,null,null,null,null,null,null,null,null,null,null,null,null,null,null,null,null,null,null,null,null,null,null,null,null,null,null,null,null,null,null,null,null,null,null,null,null,null,null,null,null,null,null,null,null,null,null,null,null,null,null,null,null,null,null,null,null,null,null,null,null,null,null,null,null,null,null,null,null,null,null,null,null,null,null,null,null,null,null,null,null,null,null,null,null,null,null,null,null,null,null,null,null,null,null,null,null,null,null,null,null,null,null,null,null,null,null,null,null,null,null,null,null,null,null,null,null,null,null,null,null,null,null,null,null,null,null,null,null,null,null,null,null,null,null,null,null,null,null,null,null,null,null,null,null,null,null,null,null,null,null,null,null,null,null,null,null,null,null,null,null,null,null,null,null,null,null,null,null,null,null,null,null,null,null,null,null,null,null,null,null,null,null,null,null,null,null,null,null,null,null,null,null,null,null,null,null,null,null,null,null,null,null,null,null,null,null,null,null,null,null,null,null,null,null,null,null,null,null,null,null,null,null,null,null,null,null,null,null,null,null,null,null,null,null,null,null,null,null,null,null,null,null,null,null,null,null,null,null,null,null,null,null,null,null,null,null,null,null,null,null,null,null,null,null,null,null,null,null,null,null,null,null,null,null,null,null,null,null,null,null,null,null,null,null,null,null,null,null,null,null,null,null,null,null,null,null,null,null,null,null,null,null,null,null,null,null,null,null,null,null,null,null,null,null,null,null,null,null,null,null,null,null,null,null,null,null,null,null,null,null,null,null,null,null,null,null,null,null,null,null,null,null,null,null,null,null,null,null,null,null,null,null,null,null,null,null,null,null,null,null,null,null,null,null,null,null,null,null,null,null,null,null,null,null,null,null,null,null,null,null,null,null,null,null,null,null,null,null,null,null,null,null,null,null,null,null,null,null,null,null,null,null,null,null,null,null,null,null,null,null,null,null,null,null,null,null,null,null,null,null,null,null,null,null,null,null,null,null,null,null,null,null,null,null,null,null,null,null,null,null,null,null,null,null,null,null,null,null,null,null,null,null,null,null,null,null,null,null,null,null,null,null,null,null,null,null,null,null,null,null,null,null,null,null,null,null,null,null,null,null,null,null,null,null,null,null,null,null,null,null,null,null,null,null,null,null,null,null,null,null,null,null,null,null,null,null,null,null,null,null,null,null,null,null,null,null,null,null,null,null,null,null,null,null,null,null,null,null,null,null,null,null,null,null,null,null,null,null,null,null,null,null,null,null,null,null,null,null,null,null,null,null,null,null,null,null,null,null,null,null,null,null,null,null,null,null,null,null,null,null,null,null,null,null,null,null,null,null,null,null,null,null,null,null,null,null,null,null,null,null,null,null,null,null,null,null,null,null,null,null,null,null,null,null,null,null,null,null,null,null,null,null,null,null,null,null,null,null,null,null,null,null,null,null,null,null,null,null,null,null,null,null,null,null,null,null,null,null,null,null,null,null,null,null,null,null,null,null,null,null,null,null,null,null,null,null,null,null,null,null,null,null,null,null,null,null,null,null,null,null,null,null,null,null,null,null,null,null,null,null,null,null,null,null,null,null,null,null,null,null,null,null,null,null,null,null,null,null,null,null,null,null,null,null,null,null,null,null,null,null,null,null,null,null,null,null,null,null,null,null,null,null,null,null,null,null,null,null,null,null,null,null,null,null,null,null,null,null,null,null,null,null,null,null,null,null,null,null,null,null,null,null,null,null,null,null,null,null,null,null,null,null,null,null,null,null,null,null,null,null,null,null,null,null,null,null,null,null,null,null,null,null,null,null,null,null,null,null,null,null,null,null,null,null,null,null,null,null,null,null,null,null,null,null,null,null,null,null,null,null,null,null,null,null,null,null,null,null,null,null,null,null,null,null,null,null,null,null,null,null,null,null,null,null,null,null,null,null,null,null,null,null,null,null,null,null,null,null,null,null,null,null,null,null,null,null,null,null,null,null,null,null,null,null,null,null,null,null,null,null,null,null,null,null,null,null,null,null,null,null,null,null,null,null,null,null,null,null,null,null,null,null,null,null,null,null,null,null,null,null,null,null,null,null,null,null,null,null,null,null,null,null,null,null,null,null,null,null,null,null,null,null,null,null,null,null,null,null,null,null,null,null,null,null,null,null,null,null,null,null,null,null,null,null,null,null,null,null,null,null,null,null,null,null,null,null,null,null,null,null,null,null,null,null,null,null,null,null,null,null,null,null,null,null,null,null,null,null,null,null,null,null,null,null,null,null,null,null,null,null,null,null,null,null,null,null,null,null,null,null,null,null,null,null,null,null,null,null,null,null,null,null,null,null,null,null,null,null,null,null,null,null,null,null,null,null,null,null,null,null,null,null,null,null,null,null,null,null,null,null,null,null,null,null,null,null,null,null,null,null,null,null,null,null,null,null,null,null,null,null,null,null,null,null,null,null,null,null,null,null,null,null,null,null,null,null,null,null,null,null,null,null,null,null,null,null,null,null,null,null,null,null,null,null,null,null,null,null,null,null,null,null,null,null,null,null,null,null,null,null,null,null,null,null,null,null,null,null,null,null,null,null,null,null,null,null,null,null,null,null,null,null,null,null,null,null,null,null,null,null,null,null,null,null,null,null,null,null,null,null,null,null,null,null,null,null,null,null,null,null,null,null,null,null,null,null,null,null,null,null,null,null,null,null,null,null,null,null,null,null,null,null,null,null,null,null,null,null,null,null,null,null,null,null,null,null,null,null,null,null,null,null,null,null,null,null,null,null,null,null,null,null,null,null,null,null,null,null,null,null,null,null,null,null,null,null,null,null,null,null,null,null,null,null,null,null,null,null,null,null,null,null,null,null,null,null,null,null,null,null,null,null,null,null,null,null,null,null,null,null,null,null,null,null,null,null,null,null,null,null,null,null,null,null,null,null,null,null,null,null,null,null,null,null,null,null,null,null,null,null,null,null,null,null,null,null,null,null,null,null,null,null,null,null,null,null,null,null,null,null,null,null,null,null,null,null,null,null,null,null,null,null,null,null,null,null,null,null,null,null,null,null,null,null,null,null,null,null,null,null,null,null,null,null,null,null,null,null,null,null,null,null,null,null,null,null,null,null,null,null,null,null,null,null,null,null,null,null,null,null,null,null,null,null,null,null,null,null,null,null,null,null,null,null,null,null,null,null,null,null,null,null,null,null,null,null,null,null,null,null,null,null,null,null,null,null,null,null,null,null,null,null,null,null,null,null,null,null,null,null,null,null,null,null,null,null,null,null,null,null,null,null,null,null,null,null,null,null,null,null,null,null,null,null,null,null,null,null,null,null,null,null,null,null,null,null,null,null,null,null,null,null,null,null,null,null,null,null,null,null,null,null,null,null,null,null,null,null,null,null,null,null,null,null,null,null,null,null,null,null,null,null,null,null,null,null,null,null,null,null,null,null,null,null,null,null,null,null,null,null,null,null,null,null,null,null,null,null,null,null,null,null,null,null,null,null,null,null,null,null,null,null,null,null,null,null,null,null,null,null,null,null,null,null,null,null,null,null,null,null,null,null,null,null,null,null,null,null,null,null,null,null,null,null,null,null,null,null,null,null,null,null,null,null,null,null,null,null,null,null,null,null,null,null,null,null,null,null,null,null,null,null,null,null,null,null,null,null,null,null,null,null,null,null,null,null,null,null,null,null,null,null,null,null,null,null,null,null,null,null,null,null,null,null,null,null,null,null,null,null,null,null,null,null,null,null,null,null,null,null,null,null,null,null,null,null,null,null,null,null,null,null,null,null,null,null,null,null,null,null,null,null,null,null,null,null,null,null,null,null,null,null,null,null,null,null,null,null,null,null,null,null,null,null,null,null,null,null,null,null,null,null,null,null,null,null,null,null,null,null,null,null,null,null,null,null,null,null,null,null,null,null,null,null,null,null,null,null,null,null,null,null,null,null,null,null,null,null,null,null,null,null,null,null,null,null,null,null,null,null,null,null,null,null,null,null,null,null,null,null,null,null,null,null,null,null,null,null,null,null,null,null,null,null,null,null,null,null,null,null,null,null,null,null,null,null,null,null,null,null,null,null,null,null,null,null,null,null,null,null,null,null,null,null,null,null,null,null,null,null,null,null,null,null,null,null,null,null,null,null,null,null,null,null,null,null,null,null,null,null,null,null,null,null,null,null,null,null,null,null,null,null,null,null,null,null,null,null,null,null,null,null,null,null,null,null,null,null,null,null,null,null,null,null,null,null,null,null,null,null,null,null,null,null,null,null,null,null,null,null,null,null,null,null,null,null,null,null,null,null,null,null,null,null,null,null,null,null,null,null,null,null,null,null,null,null,null,null,null,null,null,null,null,null,null,null,null,null,null,null,null,null,null,null,null,null,null,null,null,null,null,null,null,null,null,null,null,null,null,null,null,null,null,null,null,null,null,null,null,null,null,null,null,null,null,null,null,null,null,null,null,null,null,null,null,null,null,null,null,null,null,null,null,null,null,null,null,null,null,null,null,null,null,null,null,null,null,null,null,null,null,null,null,null,null,null,null,null,null,null,null,null,null,null,null,null,null,null,null,null,null,null,null,null,null,null,null,null,null,null,null,null,null,null,null,null,null,null,null,null,null,null,null,null,null,null,null,null,null,null,null,null,null,null,null,null,null,null,null,null,null,null,null,null,null,null,null,null,null,null,null,null,null,null,null,null,null,null,null,null,null,null,null,null,null,null,null,null,null,null,null,null,null,null,null,null,null,null,null,null,null,null,null,null,null,null,null,null,null,null,null,null,null,null,null,null,null,null,null,null,null,null,null,null,null,null,null,null,null,null,null,null,null,null,null,null,null,null,null,null,null,null,null,null,null,null,null,null,null,null,null,null,null,null,null,null,null,null,null,null,null,null,null,null,null,null,null,null,null,null,null,null,null,null,null,null,null,null,null,null,null,null,null,null,null,null,null,null,null,null,null,null,null,null,null,null,null,null,null,null,null,null,null,null,null,null,null,null,null,null,null,null,null,null,null,null,null,null,null,null,null,null,null,null,null,null,null,null,null,null,null,null,null,null,null,null,null,null,null,null,null,null,null,null,null,null,null,null,null,null,null,null,null,null,null,null,null,null,null,null,null,null,null,null,null,null,null,null,null,null,null,null,null,null,null,null,null,null,null,null,null,null,null,null,null,null,null,null,null,null,null,null,null,null,null,null,null,null,null,null,null,null,null,null,null,null,null,null,null,null,null,null,null,null,null,null,null,null,null,null,null,null,null,null,null,null,null,null,null,null,null,null,null,null,null,null,null,null,null,null,null,null,null,null,null,null,null,null,null,null,null,null,null,null,null,null,null,null,null,null,null,null,null,null,null,null,null,null,null,null,null,null,null,null,null,null,null,null,null,null,null,null,null,null,null,null,null,null,null,null,null,null,null,null,null,null,null,null,null,null,null,null,null,null,null,null,null,null,null,null,null,null,null,null,null,null,null,null,null,null,null,null,null,null,null,null,null,null,null,null,null,null,null,null,null,null,null,null,null,null,null,null,null,null,null,null,null,null,null,null,null,null,null,null,null,null,null,null,null,null,null,null,null,null,null,null,null,null,null,null,null,null,null,null,null,null,null,null,null,null,null,null,null,null,null,null,null,null,null,null,null,null,null,null,null,null,null,null,null,null,null,null,null,null,null,null,null,null,null,null,null,null,null,null,null,null,null,null,null,null,null,null,null,null,null,null,null,null,null,null,null,null,null,null,null,null,null,null,null,null,null,null,null,null,null,null,null,null,null,null,null,null,null,null,null,null,null,null,null,null,null,null,null,null,null,null,null,null,null,null,null,null,null,null,null,null,null,null,null,null,null,null,null,null,null,null,null,null,null,null,null,null,null,null,null,null,null,null,null,null,null,null,null,null,null,null,null,null,null,null,null,null,null,null,null,null,null,null,null,null,null,null,null,null,null,null,null,null,null,null,null,null,null,null,null,null,null,null,null,null,null,null,null,null,null,null,null,null,null,null,null,null,null,null,null,null,null,null,null,null,null,null,null,null,null,null,null,null,null,null,null,null,null,null,null,null,null,null,null,null,null,null,null,null,null,null,null,null,null,null,null,null,null,null,null,null,null,null,null,null,null,null,null,null,null,null,null,null,null,null,null,null,null,null,null,null,null,null,null,null,null,null,null,null,null,null,null,null,null,null,null,null,null,null,null,null,null,null,null,null,null,null,null,null,null,null,null,null,null,null,null,null,null,null,null,null,null,null,null,null,null,null,null,null,null,null,null,null,null,null,null,null,null,null,null,null,null,null,null,null,null,null,null,null,null,null,null,null,null,null,null,null,null,null,null,null,null,null,null,null,null,null,null,null,null,null,null,null,null,null,null,null,null,null,null,null,null,null,null,null,null,null,null,null,null,null,null,null,null,null,null,null,null,null,null,null,null,null,null,null,null,null,null,null,null,null,null,null,null,null,null,null,null,null,null,null,null,null,null,null,null,null,null,null,null,null,null,null,null,null,null,null,null,null,null,null,null,null,null,null,null,null,null,null,null,null,null,null,null,null,null,null,null,null,null,null,null,null,null,null,null,null,null,null,null,null,null,null,null,null,null,null,null,null,null,null,null,null,null,null,null,null,null,null,null,null,null,null,null,null,null,null,null,null,null,null,null,null,null,null,null,null,null,null,null,null,null,null,null,null,null,null,null,null,null,null,null,null,null,null,null,null,null,null,null,null,null,null,null,null,null,null,null,null,null,null,null,null,null,null,null,null,null,null,null,null,null,null,null,null,null,null,null,null,null,null,null,null,null,null,null,null,null,null,null,null,null,null,null,null,null,null,null,null,null,null,null,null,null,null,null,null,null,null,null,null,null,null,null,null,null,null,null,null,null,null,null,null,null,null,null,null,null,null,null,null,null,null,null,null,null,null,null,null,null,null,null,null,null,null,null,null,null,null,null,null,null,null,null,null,null,null,null,null,null,null,null,null,null,null,null,null,null,null,null,null,null,null,null,null,null,null,null,null,null,null,null,null,null,null,null,null,null,null,null,null,null,null,null,null,null,null,null,null,null,null,null,null,null,null,null,null,null,null,null,null,null,null,null,null,null,null,null,null,null,null,null,null,null,null,null,null,null,null,null,null,null,null,null,null,null,null,null,null,null,null,null,null,null,null,null,null,null,null,null,null,null,null,null,null,null,null,null,null,null,null,null,null,null,null,null,null,null,null,null,null,null,null,null,null,null,null,null,null,null,null,null,null,null,null,null,null,null,null,null,null,null,null,null,null,null,null,null,null,null,null,null,null,null,null,null,null,null,null,null,null,null,null,null,null,null,null,null,null,null,null,null,null,null,null,null,null,null,null,null,null,null,null,null,null,null,null,null,null,null,null,null,null,null,null,null,null,null,null,null,null,null,null,null,null,null,null,null,null,null,null,null,null,null,null,null,null,null,null,null,null,null,null,null,null,null,null,null,null,null,null,null,null,null,null,null,null,null,null,null,null,null,null,null,null,null,null,null,null,null,null,null,null,null,null,null,null,null,null,null,null,null,null,null,null,null,null,null,null,null,null,null,null,null,null,null,null,null,null,null,null,null,null,null,null,null,null,null,null,null,null,null,null,null,null,null,null,null,null,null,null,null,null,null,null,null,null,null,null,null,null,null,null,null,null,null,null,null,null,null,null,null,null,null,null,null,null,null,null,null,null,null,null,null,null,null,null,null,null,null,null,null,null,null,null,null,null,null,null,null,null,null,null,null,null,null,null,null,null,null,null,null,null,null,null,null,null,null,null,null,null,null,null,null,null,null,null,null,null,null,null,null,null,null,null,null,null,null,null,null,null,null,null,null,null,null,null,null,null,null,null,null,null,null,null,null,null,null,null,null,null,null,null,null,null,null,null,null,null,null,null,null,null,null,null,null,null,null,null,null,null,null,null,null,null,null,null,null,null,null,null,null,null,null,null,null,null,null,null,null,null,null,null,null,null,null,null,null,null,null,null,null,null,null,null,null,null,null,null,null,null,null,null,null,null,null,null,null,null,null,null,null,null,null,null,null,null,null,null,null,null,null,null,null,null,null,null,null,null,null,null,null,null,null,null,null,null,null,null,null,null,null,null,null,null,null,null,null,null,null,null,null,null,null,null,null,null,null,null,null,null,null,null,null,null,null,null,null,null,null,null,null,null,null,null,null,null,null,null,null,null,null,null,null,null,null,null,null,null,null,null,null,null,null,null,null,null,null,null,null,null,null,null,null,null,null,null,null,null,null,null,null,null,null,null,null,null,null,null,null,null,null,null,null,null,null,null,null,null,null,null,null,null,null,null,null,null,null,null,null,null,null,null,null,null,null,null,null,null,null,null,null,null,null,null,null,null,null,null,null,null,null,null,null,null,null,null,null,null,null,null,null,null,null,null,null,null,null,null,null,null,null,null,null,null,null,null,null,null,null,null,null,null,null,null,null,null,null,null,null,null,null,null,null,null,null,null,null,null,null,null,null,null,null,null,null,null,null,null,null,null,null,null,null,null,null,null,null,null,null,null,null,null,null,null,null,null,null,null,null,null,null,null,null,null,null,null,null,null,null,null,null,null,null,null,null,null,null,null,null,null,null,null,null,null,null,null,null,null,null,null,null,null,null,null,null,null,null,null,null,null,null,null,null,null,null,null,null,null,null,null,null,null,null,null,null,null,null,null,null,null,null,null,null,null,null,null,null,null,null,null,null,null,null,null,null,null,null,null,null,null,null,null,null,null,null,null,null,null,null,null,null,null,null,null,null,null,null,null,null,null,null,null,null,null,null,null,null,null,null,null,null,null,null,null,null,null,null,null,null,null,null,null,null,null,null,null,null,null,null,null,null,null,null,null,null,null,null,null,null,null,null,null,null,null,null,null,null,null,null,null,null,null,null,null,null,null,null,null,null,null,null,null,null,null,null,null,null,null,null,null,null,null,null,null,null,null,null,null,null,null,null,null,null,null,null,null,null,null,null,null,null,null,null,null,null,null,null,null,null,null,null,null,null,null,null,null,null,null,null,null,null,null,null,null,null,null,null,null,null,null,null,null,null,null,null,null,null,null,null,null,null,null,null,null,null,null,null,null,null,null,null,null,null,null,null,null,null,null,null,null,null,null,null,null,null,null,null,null,null,null,null,null,null,null,null,null,null,null,null,null,null,null,null,null,null,null,null,null,null,null,null,null,null,null,null,null,null,null,null,null,null,null,null,null,null,null,null,null,null,null,null,null,null,null,null,null,null,null,null,null,null,null,null,null,null,null,null,null,null,null,null,null,null,null,null,null,null,null,null,null,null,null,null,null,null,null,null,null,null,null,null,null,null,null,null,null,null,null,null,null,null,null,null,null,null,null,null,null,null,null,null,null,null,null,null,null,null,null,null,null,null,null,null,null,null,null,null,null,null,null,null,null,null,null,null,null,null,null,null,null,null,null,null,null,null,null,null,null,null,null,null,null,null,null,null,null,null,null,null,null,null,null,null,null,null,null,null,null,null,null,null,null,null,null,null,null,null,null,null,null,null,null,null,null,null,null,null,null,null,null,null,null,null,null,null,null,null,null,null,null,null,null,null,null,null,null,null,null,null,null,null,null,null,null,null,null,null,null,null,null,null,null,null,null,null,null,null,null,null,null,null,null,null,null,null,null,null,null,null,null,null,null,null,null,null,null,null,null,null,null,null,null,null,null,null,null,null,null,null,null,null,null,null,null,null,null,null,null,null,null,null,null,null,null,null,null,null,null,null,null,null,null,null,null,null,null,null,null,null,null,null,null,null,null,null,null,null,null,null,null,null,null,null,null,null,null,null,null,null,null,null,null,null,null,null,null,null,null,null,null,null,null,null,null,null,null,null,null,null,null,null,null,null,null,null,null,null,null,null,null,null,null,null,null,null,null,null,null,null,null,null,null,null,null,null,null,null,null,null,null,null,null,null,null,null,null,null,null,null,null,null,null,null,null,null,null,null,null,null,null,null,null,null,null,null,null,null,null,null,null,null,null,null,null,null,null,null,null,null,null,null,null,null,null,null,null,null,null,null,null,null,null,null,null,null,null,null,null,null,null,null,null,null,null,null,null,null,null,null,null,null,null,null,null,null,null,null,null,null,null,null,null,null,null,null,null,null,null,null,null,null,null,null,null,null,null,null,null,null,null,null,null,null,null,null,null,null,null,null,null,null,null,null,null,null,null,null,null,null,null,null,null,null,null,null,null,null,null,null,null,null,null,null,null,null,null,null,null,null,null,null,null,null,null,null,null,null,null,null,null,null,null,null,null,null,null,null,null,null,null,null,null,null,null,null,null,null,null,null,null,null,null,null,null,null,null,null,null,null,null,null,null,null,null,null,null,null,null,null,null,null,null,null,null,null,null,null,null,null,null,null,null,null,null,null,null,null,null,null,null,null,null,null,null,null,null,null,null,null,null,null,null,null,null,null,null,null,null,null,null,null,null,null,null,null,null,null,null,null,null,null,null,null,null,null,null,null,null,null,null,null,null,null,null,null,null,null,null,null,null,null,null,null,null,null,null,null,null,null,null,null,null,null,null,null,null,null,null,null,null,null,null,null,null,null,null,null,null,null,null,null,null,null,null,null,null,null,null,null,null,null,null,null,null,null,null,null,null,null,null,null,null,null,null,null,null,null,null,null,null,null,null,null,null,null,null,null,null,null,null,null,null,null,null,null,null,null,null,null,null,null,null,null,null,null,null,null,null,null,null,null,null,null,null,null,null,null,null,null,null,null,null,null,null,null,null,null,null,null,null,null,null,null,null,null,null,null,null,null,null,null,null,null,null,null,null,null,null,null,null,null,null,null,null,null,null,null,null,null,null,null,null,null,null,null,null,null,null,null,null,null,null,null,null,null,null,null,null,null,null,null,null,null,null,null,null,null,null,null,null,null,null,null,null,null,null,null,null,null,null,null,null,null,null,null,null,null,null,null,null,null,null,null,null,null,null,null,null,null,null,null,null,null,null,null,null,null,null,null,null,null,null,null,null,null,null,null,null,null,null,null,null,null,null,null,null,null,null,null,null,null,null,null,null,null,null,null,null,null,null,null,null,null,null,null,null,null,null,null,null,null,null,null,null,null,null,null,null,null,null,null,null,null,null,null,null,null,null,null,null,null,null,null,null,null,null,null,null,null,null,null,null,null,null,null,null,null,null,null,null,null,null,null,null,null,null,null,null,null,null,null,null,null,null,null,null,null,null,null,null,null,null,null,null,null,null,null,null,null,null,null,null,null,null,null,null,null,null,null,null,null,null,null,null,null,null,null,null,null,null,null,null,null,null,null,null,null,null,null,null,null,null,null,null,null,null,null,null,null,null,null,null,null,null,null,null,null,null,null,null,null,null,null,null,null,null,null,null,null,null,null,null,null,null,null,null,null,null,null,null,null,null,null,null,null,null,null,null,null,null,null,null,null,null,null,null,null,null,null,null,null,null,null,null,null,null,null,null,null,null,null,null,null,null,null,null,null,null,null,null,null,null,null,null,null,null,null,null,null,null,null,null,null,null,null,null,null,null,null,null,null,null,null,null,null,null,null,null,null,null,null,null,null,null,null,null,null,null,null,null,null,null,null,null,null,null,null,null,null,null,null,null,null,null,null,null,null,null,null,null,null,null,null,null,null,null,null,null,null,null,null,null,null,null,null,null,null,null,null,null,null,null,null,null,null,null,null,null,null,null,null,null,null,null,null,null,null,null,null,null,null,null,null,null,null,null,null,null,null,null,null,null,null,null,null,null,null,null,null,null,null,null,null,null,null,null,null,null,null,null,null,null,null,null,null,null,null,null,null,null,null,null,null,null,null,null,null,null,null,null,null,null,null,null,null,null,null,null,null,null,null,null,null,null,null,null,null,null,null,null,null,null,null,null,null,null,null,null,null,null,null,null,null,null,null,null,null,null,null,null,null,null,null,null,null,null,null,null,null,null,null,null,null,null,null,null,null,null,null,null,null,null,null,null,null,null,null,null,null,null,null,null,null,null,null,null,null,null,null,null,null,null,null,null,null,null,null,null,null,null,null,null,null,null,null,null,null,null,null,null,null,null,null,null,null,null,null,null,null,null,null,null,null,null,null,null,null,null,null,null,null,null,null,null,null,null,null,null,null,null,null,null,null,null,null,null,null,null,null,null,null,null,null,null,null,null,null,null,null,null,null,null,null,null,null,null,null,null,null,null,null,null,null,null,null,null,null,null,null,null,null,null,null,null,null,null,null,null,null,null,null,null,null,null,null,null,null,null,null,null,null,null,null,null,null,null,null,null,null,null,null,null,null,null,null,null,null,null,null,null,null,null,null,null,null,null,null,null,null,null,null,null,null,null,null,null,null,null,null,null,null,null,null,null,null,null,null,null,null,null,null,null,null,null,null,null,null,null,null,null,null,null,null,null,null,null,null,null,null,null,null,null,null,null,null,null,null,null,null,null,null,null,null,null,null,null,null,null,null,null,null,null,null,null,null,null,null,null,null,null,null,null,null,null,null,null,null,null,null,null,null,null,null,null,null,null,null,null,null,null,null,null,null,null,null,null,null,null,null,null,null,null,null,null,null,null,null,null,null,null,null,null,null,null,null,null,null,null,null,null,null,null,null,null,null,null,null,null,null,null,null,null,null,null,null,null,null,null,null,null,null,null,null,null,null,null,null,null,null,null,null,null,null,null,null,null,null,null,null,null,null,null,null,null,null,null,null,null,null,null,null,null,null,null,null,null,null,null,null,null,null,null,null,null,null,null,null,null,null,null,null,null,null,null,null,null,null,null,null,null,null,null,null,null,null,null,null,null,null,null,null,null,null,null,null,null,null,null,null,null,null,null,null,null,null,null,null,null,null,null,null,null,null,null,null,null,null,null,null,null,null,null,null,null,null,null,null,null,null,null,null,null,null,null,null,null,null,null,null,null,null,null,null,null,null,null,null,null,null,null,null,null,null,null,null,null,null,null,null,null,null,null,null,null,null,null,null,null,null,null,null,null,null,null,null,null,null,null,null,null,null,null,null,null,null,null,null,null,null,null,null,null,null,null,null,null,null,null,null,null,null,null,null,null,null,null,null,null,null,null,null,null,null,null,null,null,null,null,null,null,null,null,null,null,null,null,null,null,null,null,null,null,null,null,null,null,null,null,null,null,null,null,null,null,null,null,null,null,null,null,null,null,null,null,null,null,null,null,null,null,null,null,null,null,null,null,null,null,null,null,null,null,null,null,null,null,null,null,null,null,null,null,null,null,null,null,null,null,null,null,null,null,null,null,null,null,null,null,null,null,null,null,null,null,null,null,null,null,null,null,null,null,null,null,null,null,null,null,null,null,null,null,null,null,null,null,null,null,null,null,null,null,null,null,null,null,null,null,null,null,null,null,null,null,null,null,null,null,null,null,null,null,null,null,null,null,null,null,null,null,null,null,null,null,null,null,null,null,null,null,null,null,null,null,null,null,null,null,null,null,null,null,null,null,null,null,null,null,null,null,null,null,null,null,null,null,null,null,null,null,null,null,null,null,null,null,null,null,null,null,null,null,null,null,null,null,null,null,null,null,null,null,null,null,null,null,null,null,null,null,null,null,null,null,null,null,null,null,null,null,null,null,null,null,null,null,null,null,null,null,null,null,null,null,null,null,null,null,null,null,null,null,null,null,null,null,null,null,null,null,null,null,null,null,null,null,null,null,null,null,null,null,null,null,null,null,null,null,null,null,null,null,null,null,null,null,null,null,null,null,null,null,null,null,null,null,null,null,null,null,null,null,null,null,null,null,null,null,null,null,null,null,null,null,null,null,null,null,null,null,null,null,null,null,null,null,null,null,null,null,null,null,null,null,null,null,null,null,null,null,null,null,null,null,null,null,null,null,null,null,null,null,null,null,null,null,null,null,null,null,null,null,null,null,null,null,null,null,null,null,null,null,null,null,null,null,null,null,null,null,null,null,null,null,null,null,null,null,null,null,null,null,null,null,null,null,null,null,9999]

{"sheet":"fredImportSheets","index":1,"n_rows":11,"n_cols":1,"rows_kept":11,"cut":false,"hidden":true,"merged":[]}
["fredImportSheets"]
["NST01A"]
["NST02A"]
["NST03A"]
["NST04A"]
["NST05A"]
["NST05AEUR"]
["NST06A"]
["NST06AEUR"]
["NST07A"]
["NST07AEUR"]

{"sheet":"ANST01","index":2,"n_rows":142,"n_cols":7,"rows_kept":142,"cut":false,"hidden":false,"merged":[[112,0,112,1],[120,0,120,1],[128,0,128,1],[136,0,136,1],[72,0,72,1],[80,0,80,1],[88,0,88,1],[96,0,96,1],[104,0,104,1],[2,5,2,6],[2,2,2,3],[3,2,3,6],[4,2,4,6],[0,2,0,6],[1,2,1,6],[48,0,48,1],[56,0,56,1],[64,0,64,1],[8,0,8,1],[16,0,16,1],[24,0,24,1],[32,0,32,1],[40,0,40,1]]}
["Name of licenceholder:",null,{"$f":"IF('Cover Sheet'!C15=\"\",\"\",'Cover Sheet'!C15)","v":""}]
["Type of business carried out:",null,{"$f":"IF('Cover Sheet'!C22=\"\",\"\",'Cover Sheet'!$C$22)","v":""}]
["Period from:",null,{"$f":"IF('Cover Sheet'!C25=\"\",\"\",'Cover Sheet'!C25)","v":""},null,"to",{"$f":"IF('Cover Sheet'!C26=\"\",\"\",'Cover Sheet'!C26)","v":""}]
["Document type:",null,"MFSA National Specific Templates"]
["Sheet Code:",null,"ANST01"]
[]
["Analysis of Gross premiums written by source of business - General business (GB)"]
[]
["Total",null,"GPW i.r.o. risks situated in Malta (insurance)","GPW i.r.o. risks situated in Malta (proportional reinsurance inwards)","GPW i.r.o. risks situated outside Malta (insurance)","GPW i.r.o. risks situated outside Malta (proportional reinsurance inwards)","Total "]
["Direct business",1,{"$f":"SUM(C18,C26,C34,C42,C50,C58,C66,C74,C82,C90,C98,C106,C114,C122,C130,C138)","v":0},{"$f":"SUM(D18,D26,D34,D42,D50,D58,D66,D74,D82,D90,D98,D106,D114,D122,D130,D138)","v":0},0,0,0]
["Business generated by agents",2,{"$f":"SUM(C19,C27,C35,C43,C51,C59,C67,C75,C83,C91,C99,C107,C115,C123,C131,C139)","v":0},0,0,0,0]
["Business generated by brokers",3,{"$f":"SUM(C20,C28,C36,C44,C52,C60,C68,C76,C84,C92,C100,C108,C116,C124,C132,C140)","v":0},0,0,0,0]
["Business generated by tied insurance intermediaries",4,{"$f":"SUM(C21,C29,C37,C45,C53,C61,C69,C77,C85,C93,C101,C109,C117,C125,C133,C141)","v":0},0,0,0,0]
["Total GPW",5,{"$f":"SUM(C22,C30,C38,C46,C54,C62,C70,C78,C86,C94,C102,C110,C118,C126,C134,C142)","v":0},0,0,0,0]
[]
[]
["Medical expense insurance",null,"GPW i.r.o. risks situated in Malta (insurance)","GPW i.r.o. risks situated in Malta (proportional reinsurance inwards)","GPW i.r.o. risks situated outside Malta (insurance)","GPW i.r.o. risks situated outside Malta (proportional reinsurance inwards)","Total "]
["Direct business",1,null,null,null,null,{"$f":"SUM(C18:F18)","v":0}]
["Business generated by agents",2,null,null,null,null,{"$f":"SUM(C19:F19)","v":0}]
["Business generated by brokers",3,null,null,null,null,0]
["Business generated by tied insurance intermediaries",4,null,null,null,null,0]
["Total GPW",5,{"$f":"SUM(C18:C21)","v":0},{"$f":"SUM(D18:D21)","v":0},0,0,0]
[]
[]
["Income protection insurance",null,"GPW i.r.o. risks situated in Malta (insurance)","GPW i.r.o. risks situated in Malta (proportional reinsurance inwards)","GPW i.r.o. risks situated outside Malta (insurance)","GPW i.r.o. risks situated outside Malta (proportional reinsurance inwards)","Total "]
["Direct business",1,null,null,null,null,{"$f":"SUM(C26:F26)","v":0}]
["Business generated by agents",2,null,null,null,null,{"$f":"SUM(C27:F27)","v":0}]
["Business generated by brokers",3,null,null,null,null,0]
["Business generated by tied insurance intermediaries",4,null,null,null,null,0]
["Total GPW",5,{"$f":"SUM(C26:C29)","v":0},{"$f":"SUM(D26:D29)","v":0},{"$f":"SUM(E26:E29)","v":0},{"$f":"SUM(F26:F29)","v":0},{"$f":"SUM(G26:G29)","v":0}]
[]
[]
["Workers' compensation insurance",null,"GPW i.r.o. risks situated in Malta (insurance)","GPW i.r.o. risks situated in Malta (proportional reinsurance inwards)","GPW i.r.o. risks situated outside Malta (insurance)","GPW i.r.o. risks situated outside Malta (proportional reinsurance inwards)","Total "]
["Direct business",1,null,null,null,null,{"$f":"SUM(C34:F34)","v":0}]
["Business generated by agents",2,null,null,null,null,{"$f":"SUM(C35:F35)","v":0}]
["Business generated by brokers",3,null,null,null,null,0]
["Business generated by tied insurance intermediaries",4,null,null,null,null,0]
["Total GPW",5,{"$f":"SUM(C34:C37)","v":0},{"$f":"SUM(D34:D37)","v":0},{"$f":"SUM(E34:E37)","v":0},{"$f":"SUM(F34:F37)","v":0},{"$f":"SUM(G34:G37)","v":0}]
[]
[]
["Motor vehicle liability insurance",null,"GPW i.r.o. risks situated in Malta (insurance)","GPW i.r.o. risks situated in Malta (proportional reinsurance inwards)","GPW i.r.o. risks situated outside Malta (insurance)","GPW i.r.o. risks situated outside Malta (proportional reinsurance inwards)","Total "]
["Direct business",1,null,null,null,null,{"$f":"SUM(C42:F42)","v":0}]
["Business generated by agents",2,null,null,null,null,{"$f":"SUM(C43:F43)","v":0}]
["Business generated by brokers",3,null,null,null,null,0]
["Business generated by tied insurance intermediaries",4,null,null,null,null,0]
["Total GPW",5,{"$f":"SUM(C42:C45)","v":0},{"$f":"SUM(D42:D45)","v":0},{"$f":"SUM(E42:E45)","v":0},{"$f":"SUM(F42:F45)","v":0},{"$f":"SUM(G42:G45)","v":0}]
[]
[]
["Other motor insurance",null,"GPW i.r.o. risks situated in Malta (insurance)","GPW i.r.o. risks situated in Malta (proportional reinsurance inwards)","GPW i.r.o. risks situated outside Malta (insurance)","GPW i.r.o. risks situated outside Malta (proportional reinsurance inwards)","Total "]
["Direct business",1,null,null,null,null,{"$f":"SUM(C50:F50)","v":0}]
["Business generated by agents",2,null,null,null,null,{"$f":"SUM(C51:F51)","v":0}]
["Business generated by brokers",3,null,null,null,null,0]
["Business generated by tied insurance intermediaries",4,null,null,null,null,0]
["Total GPW",5,{"$f":"SUM(C50:C53)","v":0},{"$f":"SUM(D50:D53)","v":0},{"$f":"SUM(E50:E53)","v":0},{"$f":"SUM(F50:F53)","v":0},{"$f":"SUM(G50:G53)","v":0}]
[]
[]
["Marine, aviation and transport insurance",null,"GPW i.r.o. risks situated in Malta (insurance)","GPW i.r.o. risks situated in Malta (proportional reinsurance inwards)","GPW i.r.o. risks situated outside Malta (insurance)","GPW i.r.o. risks situated outside Malta (proportional reinsurance inwards)","Total "]
["Direct business",1,null,null,null,null,{"$f":"SUM(C58:F58)","v":0}]
["Business generated by agents",2,null,null,null,null,{"$f":"SUM(C59:F59)","v":0}]
["Business generated by brokers",3,null,null,null,null,0]
["Business generated by tied insurance intermediaries",4,null,null,null,null,0]
["Total GPW",5,{"$f":"SUM(C58:C61)","v":0},{"$f":"SUM(D58:D61)","v":0},{"$f":"SUM(E58:E61)","v":0},{"$f":"SUM(F58:F61)","v":0},{"$f":"SUM(G58:G61)","v":0}]
[]
[]
["Fire and other damage to property insurance",null,"GPW i.r.o. risks situated in Malta (insurance)","GPW i.r.o. risks situated in Malta (proportional reinsurance inwards)","GPW i.r.o. risks situated outside Malta (insurance)","GPW i.r.o. risks situated outside Malta (proportional reinsurance inwards)","Total "]
["Direct business",1,null,null,null,null,{"$f":"SUM(C66:F66)","v":0}]
["Business generated by agents",2,null,null,null,null,{"$f":"SUM(C67:F67)","v":0}]
["Business generated by brokers",3,null,null,null,null,0]
["Business generated by tied insurance intermediaries",4,null,null,null,null,0]
["Total GPW",5,{"$f":"SUM(C66:C69)","v":0},{"$f":"SUM(D66:D69)","v":0},{"$f":"SUM(E66:E69)","v":0},{"$f":"SUM(F66:F69)","v":0},{"$f":"SUM(G66:G69)","v":0}]
[]
[]
["General liability insurance",null,"GPW i.r.o. risks situated in Malta (insurance)","GPW i.r.o. risks situated in Malta (proportional reinsurance inwards)","GPW i.r.o. risks situated outside Malta (insurance)","GPW i.r.o. risks situated outside Malta (proportional reinsurance inwards)","Total "]
["Direct business",1,null,null,null,null,{"$f":"SUM(C74:F74)","v":0}]
["Business generated by agents",2,null,null,null,null,{"$f":"SUM(C75:F75)","v":0}]
["Business generated by brokers",3,null,null,null,null,0]
["Business generated by tied insurance intermediaries",4,null,null,null,null,0]
["Total GPW",5,{"$f":"SUM(C74:C77)","v":0},{"$f":"SUM(D74:D77)","v":0},0,0,0]
[]
[]
["Credit and suretyship insurance",null,"GPW i.r.o. risks situated in Malta (insurance)","GPW i.r.o. risks situated in Malta (proportional reinsurance inwards)","GPW i.r.o. risks situated outside Malta (insurance)","GPW i.r.o. risks situated outside Malta (proportional reinsurance inwards)","Total "]
["Direct business",1,null,null,null,null,{"$f":"SUM(C82:F82)","v":0}]
["Business generated by agents",2,null,null,null,null,{"$f":"SUM(C83:F83)","v":0}]
["Business generated by brokers",3,null,null,null,null,0]
["Business generated by tied insurance intermediaries",4,null,null,null,null,0]
["Total GPW",5,{"$f":"SUM(C82:C85)","v":0},{"$f":"SUM(D82:D85)","v":0},0,0,0]
[]
[]
["Legal expenses insurance",null,"GPW i.r.o. risks situated in Malta (insurance)","GPW i.r.o. risks situated in Malta (proportional reinsurance inwards)","GPW i.r.o. risks situated outside Malta (insurance)","GPW i.r.o. risks situated outside Malta (proportional reinsurance inwards)","Total "]
["Direct business",1,null,null,null,null,{"$f":"SUM(C90:F90)","v":0}]
["Business generated by agents",2,null,null,null,null,{"$f":"SUM(C91:F91)","v":0}]
["Business generated by brokers",3,null,null,null,null,0]
["Business generated by tied insurance intermediaries",4,null,null,null,null,0]
["Total GPW",5,{"$f":"SUM(C90:C93)","v":0},{"$f":"SUM(D90:D93)","v":0},0,0,0]
[]
[]
["Assistance",null,"GPW i.r.o. risks situated in Malta (insurance)","GPW i.r.o. risks situated in Malta (proportional reinsurance inwards)","GPW i.r.o. risks situated outside Malta (insurance)","GPW i.r.o. risks situated outside Malta (proportional reinsurance inwards)","Total "]
["Direct business",1,null,null,null,null,{"$f":"SUM(C98:F98)","v":0}]
["Business generated by agents",2,null,null,null,null,{"$f":"SUM(C99:F99)","v":0}]
["Business generated by brokers",3,null,null,null,null,0]
["Business generated by tied insurance intermediaries",4,null,null,null,null,0]
["Total GPW",5,{"$f":"SUM(C98:C101)","v":0},{"$f":"SUM(D98:D101)","v":0},0,0,0]
[]
[]
["Miscellaneous financial loss",null,"GPW i.r.o. risks situated in Malta (insurance)","GPW i.r.o. risks situated in Malta (proportional reinsurance inwards)","GPW i.r.o. risks situated outside Malta (insurance)","GPW i.r.o. risks situated outside Malta (proportional reinsurance inwards)","Total "]
["Direct business",1,null,null,null,null,{"$f":"SUM(C106:F106)","v":0}]
["Business generated by agents",2,null,null,null,null,{"$f":"SUM(C107:F107)","v":0}]
["Business generated by brokers",3,null,null,null,null,0]
["Business generated by tied insurance intermediaries",4,null,null,null,null,0]
["Total GPW",5,{"$f":"SUM(C106:C109)","v":0},{"$f":"SUM(D106:D109)","v":0},0,0,0]
[]
[]
["Non-proportional health reinsurance",null,"GPW i.r.o. risks situated in Malta (insurance)","GPW i.r.o. risks situated in Malta (non-proportional reinsurance inwards)","GPW i.r.o. risks situated outside Malta (insurance)","GPW i.r.o. risks situated outside Malta (non-proportional reinsurance inwards)","Total "]
["Direct business",1,null,null,null,null,{"$f":"D114+F114","v":0}]
["Business generated by agents",2,null,null,null,null,{"$f":"D115+F115","v":0}]
["Business generated by brokers",3,null,null,null,null,{"$f":"D116+F116","v":0}]
["Business generated by tied insurance intermediaries",4,null,null,null,null,{"$f":"D117+F117","v":0}]
["Total GPW",5,null,{"$f":"SUM(D114:D117)","v":0},null,0,0]
[]
[]
["Non-proportional casualty reinsurance",null,"GPW i.r.o. risks situated in Malta (insurance)","GPW i.r.o. risks situated in Malta (non-proportional reinsurance inwards)","GPW i.r.o. risks situated outside Malta (insurance)","GPW i.r.o. risks situated outside Malta (non-proportional reinsurance inwards)","Total "]
["Direct business",1,null,null,null,null,{"$f":"D122+F122","v":0}]
["Business generated by agents",2,null,null,null,null,{"$f":"D123+F123","v":0}]
["Business generated by brokers",3,null,null,null,null,{"$f":"D124+F124","v":0}]
["Business generated by tied insurance intermediaries",4,null,null,null,null,{"$f":"D125+F125","v":0}]
["Total GPW",5,null,{"$f":"SUM(D122:D125)","v":0},null,{"$f":"SUM(F122:F125)","v":0},0]
[]
[]
["Non-proportional marine, aviation and transport reinsurance",null,"GPW i.r.o. risks situated in Malta (insurance)","GPW i.r.o. risks situated in Malta (non-proportional reinsurance inwards)","GPW i.r.o. risks situated outside Malta (insurance)","GPW i.r.o. risks situated outside Malta (non-proportional reinsurance inwards)","Total "]
["Direct business",1,null,null,null,null,{"$f":"D130+F130","v":0}]
["Business generated by agents",2,null,null,null,null,{"$f":"D131+F131","v":0}]
["Business generated by brokers",3,null,null,null,null,{"$f":"D132+F132","v":0}]
["Business generated by tied insurance intermediaries",4,null,null,null,null,{"$f":"D133+F133","v":0}]
["Total GPW",5,null,{"$f":"SUM(D130:D133)","v":0},null,{"$f":"SUM(F130:F133)","v":0},0]
[]
[]
["Non-proportional property reinsurance",null,"GPW i.r.o. risks situated in Malta (insurance)","GPW i.r.o. risks situated in Malta (non-proportional reinsurance inwards)","GPW i.r.o. risks situated outside Malta (insurance)","GPW i.r.o. risks situated outside Malta (non-proportional reinsurance inwards)","Total "]
["Direct business",1,null,null,null,null,{"$f":"D138+F138","v":0}]
["Business generated by agents",2,null,null,null,null,{"$f":"D139+F139","v":0}]
["Business generated by brokers",3,null,null,null,null,{"$f":"D140+F140","v":0}]
["Business generated by tied insurance intermediaries",4,null,null,null,null,{"$f":"D141+F141","v":0}]
["Total GPW",5,null,{"$f":"SUM(D138:D141)","v":0},null,{"$f":"SUM(F138:F141)","v":0},0]

{"sheet":"NST01A","index":3,"n_rows":511,"n_cols":14,"rows_kept":511,"cut":false,"hidden":true,"merged":[]}
["SheetCode","FieldCode","FICode","Date","ColNum","Value",null,null,"ANST01","C","D","E","F","G"]
["NST01A","01",{"$f":"'Cover Sheet'!$C$17","v":0},{"$f":"'Cover Sheet'!$C$26","v":"00:00:00"},1]
["NST01A","01a",{"$f":"'Cover Sheet'!$C$17","v":0},{"$f":"'Cover Sheet'!$C$26","v":"00:00:00"},1,{"$f":"INDIRECT($I$1&\"!\"&$J$1&G3)/'Cover Sheet'!$C$29","v":{"$error":"#DIV/0!"}},10]
["NST01A","01b",{"$f":"'Cover Sheet'!$C$17","v":0},{"$f":"'Cover Sheet'!$C$26","v":"00:00:00"},1,{"$f":"INDIRECT($I$1&\"!\"&$J$1&G4)/'Cover Sheet'!$C$29","v":{"$error":"#DIV/0!"}},11]
["NST01A","01c",{"$f":"'Cover Sheet'!$C$17","v":0},{"$f":"'Cover Sheet'!$C$26","v":"00:00:00"},1,{"$f":"INDIRECT($I$1&\"!\"&$J$1&G5)/'Cover Sheet'!$C$29","v":{"$error":"#DIV/0!"}},12]
["NST01A","01d",{"$f":"'Cover Sheet'!$C$17","v":0},{"$f":"'Cover Sheet'!$C$26","v":"00:00:00"},1,{"$f":"INDIRECT($I$1&\"!\"&$J$1&G6)/'Cover Sheet'!$C$29","v":{"$error":"#DIV/0!"}},13]
["NST01A","01e",{"$f":"'Cover Sheet'!$C$17","v":0},{"$f":"'Cover Sheet'!$C$26","v":"00:00:00"},1,{"$f":"INDIRECT($I$1&\"!\"&$J$1&G7)/'Cover Sheet'!$C$29","v":{"$error":"#DIV/0!"}},14]
["NST01A","02",{"$f":"'Cover Sheet'!$C$17","v":0},{"$f":"'Cover Sheet'!$C$26","v":"00:00:00"},1]
["NST01A","02a",{"$f":"'Cover Sheet'!$C$17","v":0},{"$f":"'Cover Sheet'!$C$26","v":"00:00:00"},1,{"$f":"INDIRECT($I$1&\"!\"&$J$1&G9)/'Cover Sheet'!$C$29","v":{"$error":"#DIV/0!"}},18]
["NST01A","02b",{"$f":"'Cover Sheet'!$C$17","v":0},{"$f":"'Cover Sheet'!$C$26","v":"00:00:00"},1,{"$f":"INDIRECT($I$1&\"!\"&$J$1&G10)/'Cover Sheet'!$C$29","v":{"$error":"#DIV/0!"}},19]
["NST01A","02c",{"$f":"'Cover Sheet'!$C$17","v":0},{"$f":"'Cover Sheet'!$C$26","v":"00:00:00"},1,{"$f":"INDIRECT($I$1&\"!\"&$J$1&G11)/'Cover Sheet'!$C$29","v":{"$error":"#DIV/0!"}},20]
["NST01A","02d",{"$f":"'Cover Sheet'!$C$17","v":0},{"$f":"'Cover Sheet'!$C$26","v":"00:00:00"},1,{"$f":"INDIRECT($I$1&\"!\"&$J$1&G12)/'Cover Sheet'!$C$29","v":{"$error":"#DIV/0!"}},21]
["NST01A","02e",{"$f":"'Cover Sheet'!$C$17","v":0},{"$f":"'Cover Sheet'!$C$26","v":"00:00:00"},1,{"$f":"INDIRECT($I$1&\"!\"&$J$1&G13)/'Cover Sheet'!$C$29","v":{"$error":"#DIV/0!"}},22]
["NST01A","03",{"$f":"'Cover Sheet'!$C$17","v":0},{"$f":"'Cover Sheet'!$C$26","v":"00:00:00"},1]
["NST01A","03a",{"$f":"'Cover Sheet'!$C$17","v":0},{"$f":"'Cover Sheet'!$C$26","v":"00:00:00"},1,{"$f":"INDIRECT($I$1&\"!\"&$J$1&G15)/'Cover Sheet'!$C$29","v":{"$error":"#DIV/0!"}},26]
["NST01A","03b",{"$f":"'Cover Sheet'!$C$17","v":0},{"$f":"'Cover Sheet'!$C$26","v":"00:00:00"},1,{"$f":"INDIRECT($I$1&\"!\"&$J$1&G16)/'Cover Sheet'!$C$29","v":{"$error":"#DIV/0!"}},27]
["NST01A","03c",{"$f":"'Cover Sheet'!$C$17","v":0},{"$f":"'Cover Sheet'!$C$26","v":"00:00:00"},1,{"$f":"INDIRECT($I$1&\"!\"&$J$1&G17)/'Cover Sheet'!$C$29","v":{"$error":"#DIV/0!"}},28]
["NST01A","03d",{"$f":"'Cover Sheet'!$C$17","v":0},{"$f":"'Cover Sheet'!$C$26","v":"00:00:00"},1,{"$f":"INDIRECT($I$1&\"!\"&$J$1&G18)/'Cover Sheet'!$C$29","v":{"$error":"#DIV/0!"}},29]
["NST01A","03e",{"$f":"'Cover Sheet'!$C$17","v":0},{"$f":"'Cover Sheet'!$C$26","v":"00:00:00"},1,{"$f":"INDIRECT($I$1&\"!\"&$J$1&G19)/'Cover Sheet'!$C$29","v":{"$error":"#DIV/0!"}},30]
["NST01A","04",{"$f":"'Cover Sheet'!$C$17","v":0},{"$f":"'Cover Sheet'!$C$26","v":"00:00:00"},1]
["NST01A","04a",{"$f":"'Cover Sheet'!$C$17","v":0},{"$f":"'Cover Sheet'!$C$26","v":"00:00:00"},1,{"$f":"INDIRECT($I$1&\"!\"&$J$1&G21)/'Cover Sheet'!$C$29","v":{"$error":"#DIV/0!"}},34]
["NST01A","04b",{"$f":"'Cover Sheet'!$C$17","v":0},{"$f":"'Cover Sheet'!$C$26","v":"00:00:00"},1,{"$f":"INDIRECT($I$1&\"!\"&$J$1&G22)/'Cover Sheet'!$C$29","v":{"$error":"#DIV/0!"}},35]
["NST01A","04c",{"$f":"'Cover Sheet'!$C$17","v":0},{"$f":"'Cover Sheet'!$C$26","v":"00:00:00"},1,{"$f":"INDIRECT($I$1&\"!\"&$J$1&G23)/'Cover Sheet'!$C$29","v":{"$error":"#DIV/0!"}},36]
["NST01A","04d",{"$f":"'Cover Sheet'!$C$17","v":0},{"$f":"'Cover Sheet'!$C$26","v":"00:00:00"},1,{"$f":"INDIRECT($I$1&\"!\"&$J$1&G24)/'Cover Sheet'!$C$29","v":{"$error":"#DIV/0!"}},37]
["NST01A","04e",{"$f":"'Cover Sheet'!$C$17","v":0},{"$f":"'Cover Sheet'!$C$26","v":"00:00:00"},1,{"$f":"INDIRECT($I$1&\"!\"&$J$1&G25)/'Cover Sheet'!$C$29","v":{"$error":"#DIV/0!"}},38]
["NST01A","05",{"$f":"'Cover Sheet'!$C$17","v":0},{"$f":"'Cover Sheet'!$C$26","v":"00:00:00"},1]
["NST01A","05a",{"$f":"'Cover Sheet'!$C$17","v":0},{"$f":"'Cover Sheet'!$C$26","v":"00:00:00"},1,{"$f":"INDIRECT($I$1&\"!\"&$J$1&G27)/'Cover Sheet'!$C$29","v":{"$error":"#DIV/0!"}},42]
["NST01A","05b",{"$f":"'Cover Sheet'!$C$17","v":0},{"$f":"'Cover Sheet'!$C$26","v":"00:00:00"},1,{"$f":"INDIRECT($I$1&\"!\"&$J$1&G28)/'Cover Sheet'!$C$29","v":{"$error":"#DIV/0!"}},43]
["NST01A","05c",{"$f":"'Cover Sheet'!$C$17","v":0},{"$f":"'Cover Sheet'!$C$26","v":"00:00:00"},1,{"$f":"INDIRECT($I$1&\"!\"&$J$1&G29)/'Cover Sheet'!$C$29","v":{"$error":"#DIV/0!"}},44]
["NST01A","05d",{"$f":"'Cover Sheet'!$C$17","v":0},{"$f":"'Cover Sheet'!$C$26","v":"00:00:00"},1,{"$f":"INDIRECT($I$1&\"!\"&$J$1&G30)/'Cover Sheet'!$C$29","v":{"$error":"#DIV/0!"}},45]
["NST01A","05e",{"$f":"'Cover Sheet'!$C$17","v":0},{"$f":"'Cover Sheet'!$C$26","v":"00:00:00"},1,{"$f":"INDIRECT($I$1&\"!\"&$J$1&G31)/'Cover Sheet'!$C$29","v":{"$error":"#DIV/0!"}},46]
["NST01A","06",{"$f":"'Cover Sheet'!$C$17","v":0},{"$f":"'Cover Sheet'!$C$26","v":"00:00:00"},1]
["NST01A","06a",{"$f":"'Cover Sheet'!$C$17","v":0},{"$f":"'Cover Sheet'!$C$26","v":"00:00:00"},1,{"$f":"INDIRECT($I$1&\"!\"&$J$1&G33)/'Cover Sheet'!$C$29","v":{"$error":"#DIV/0!"}},50]
["NST01A","06b",{"$f":"'Cover Sheet'!$C$17","v":0},{"$f":"'Cover Sheet'!$C$26","v":"00:00:00"},1,{"$f":"INDIRECT($I$1&\"!\"&$J$1&G34)/'Cover Sheet'!$C$29","v":{"$error":"#DIV/0!"}},51]
["NST01A","06c",{"$f":"'Cover Sheet'!$C$17","v":0},{"$f":"'Cover Sheet'!$C$26","v":"00:00:00"},1,{"$f":"INDIRECT($I$1&\"!\"&$J$1&G35)/'Cover Sheet'!$C$29","v":{"$error":"#DIV/0!"}},52]
["NST01A","06d",{"$f":"'Cover Sheet'!$C$17","v":0},{"$f":"'Cover Sheet'!$C$26","v":"00:00:00"},1,{"$f":"INDIRECT($I$1&\"!\"&$J$1&G36)/'Cover Sheet'!$C$29","v":{"$error":"#DIV/0!"}},53]
["NST01A","06e",{"$f":"'Cover Sheet'!$C$17","v":0},{"$f":"'Cover Sheet'!$C$26","v":"00:00:00"},1,{"$f":"INDIRECT($I$1&\"!\"&$J$1&G37)/'Cover Sheet'!$C$29","v":{"$error":"#DIV/0!"}},54]
["NST01A","07",{"$f":"'Cover Sheet'!$C$17","v":0},{"$f":"'Cover Sheet'!$C$26","v":"00:00:00"},1]
["NST01A","07a",{"$f":"'Cover Sheet'!$C$17","v":0},{"$f":"'Cover Sheet'!$C$26","v":"00:00:00"},1,{"$f":"INDIRECT($I$1&\"!\"&$J$1&G39)/'Cover Sheet'!$C$29","v":{"$error":"#DIV/0!"}},58]
["NST01A","07b",{"$f":"'Cover Sheet'!$C$17","v":0},{"$f":"'Cover Sheet'!$C$26","v":"00:00:00"},1,{"$f":"INDIRECT($I$1&\"!\"&$J$1&G40)/'Cover Sheet'!$C$29","v":{"$error":"#DIV/0!"}},59]
["NST01A","07c",{"$f":"'Cover Sheet'!$C$17","v":0},{"$f":"'Cover Sheet'!$C$26","v":"00:00:00"},1,{"$f":"INDIRECT($I$1&\"!\"&$J$1&G41)/'Cover Sheet'!$C$29","v":{"$error":"#DIV/0!"}},60]
["NST01A","07d",{"$f":"'Cover Sheet'!$C$17","v":0},{"$f":"'Cover Sheet'!$C$26","v":"00:00:00"},1,{"$f":"INDIRECT($I$1&\"!\"&$J$1&G42)/'Cover Sheet'!$C$29","v":{"$error":"#DIV/0!"}},61]
["NST01A","07e",{"$f":"'Cover Sheet'!$C$17","v":0},{"$f":"'Cover Sheet'!$C$26","v":"00:00:00"},1,{"$f":"INDIRECT($I$1&\"!\"&$J$1&G43)/'Cover Sheet'!$C$29","v":{"$error":"#DIV/0!"}},62]
["NST01A","08",{"$f":"'Cover Sheet'!$C$17","v":0},{"$f":"'Cover Sheet'!$C$26","v":"00:00:00"},1]
["NST01A","08a",{"$f":"'Cover Sheet'!$C$17","v":0},{"$f":"'Cover Sheet'!$C$26","v":"00:00:00"},1,{"$f":"INDIRECT($I$1&\"!\"&$J$1&G45)/'Cover Sheet'!$C$29","v":{"$error":"#DIV/0!"}},66]
["NST01A","08b",{"$f":"'Cover Sheet'!$C$17","v":0},{"$f":"'Cover Sheet'!$C$26","v":"00:00:00"},1,{"$f":"INDIRECT($I$1&\"!\"&$J$1&G46)/'Cover Sheet'!$C$29","v":{"$error":"#DIV/0!"}},67]
["NST01A","08c",{"$f":"'Cover Sheet'!$C$17","v":0},{"$f":"'Cover Sheet'!$C$26","v":"00:00:00"},1,{"$f":"INDIRECT($I$1&\"!\"&$J$1&G47)/'Cover Sheet'!$C$29","v":{"$error":"#DIV/0!"}},68]
["NST01A","08d",{"$f":"'Cover Sheet'!$C$17","v":0},{"$f":"'Cover Sheet'!$C$26","v":"00:00:00"},1,{"$f":"INDIRECT($I$1&\"!\"&$J$1&G48)/'Cover Sheet'!$C$29","v":{"$error":"#DIV/0!"}},69]
["NST01A","08e",{"$f":"'Cover Sheet'!$C$17","v":0},{"$f":"'Cover Sheet'!$C$26","v":"00:00:00"},1,{"$f":"INDIRECT($I$1&\"!\"&$J$1&G49)/'Cover Sheet'!$C$29","v":{"$error":"#DIV/0!"}},70]
["NST01A","09",{"$f":"'Cover Sheet'!$C$17","v":0},{"$f":"'Cover Sheet'!$C$26","v":"00:00:00"},1]
["NST01A","09a",{"$f":"'Cover Sheet'!$C$17","v":0},{"$f":"'Cover Sheet'!$C$26","v":"00:00:00"},1,{"$f":"INDIRECT($I$1&\"!\"&$J$1&G51)/'Cover Sheet'!$C$29","v":{"$error":"#DIV/0!"}},74]
["NST01A","09b",{"$f":"'Cover Sheet'!$C$17","v":0},{"$f":"'Cover Sheet'!$C$26","v":"00:00:00"},1,{"$f":"INDIRECT($I$1&\"!\"&$J$1&G52)/'Cover Sheet'!$C$29","v":{"$error":"#DIV/0!"}},75]
["NST01A","09c",{"$f":"'Cover Sheet'!$C$17","v":0},{"$f":"'Cover Sheet'!$C$26","v":"00:00:00"},1,{"$f":"INDIRECT($I$1&\"!\"&$J$1&G53)/'Cover Sheet'!$C$29","v":{"$error":"#DIV/0!"}},76]
["NST01A","09d",{"$f":"'Cover Sheet'!$C$17","v":0},{"$f":"'Cover Sheet'!$C$26","v":"00:00:00"},1,{"$f":"INDIRECT($I$1&\"!\"&$J$1&G54)/'Cover Sheet'!$C$29","v":{"$error":"#DIV/0!"}},77]
["NST01A","09e",{"$f":"'Cover Sheet'!$C$17","v":0},{"$f":"'Cover Sheet'!$C$26","v":"00:00:00"},1,{"$f":"INDIRECT($I$1&\"!\"&$J$1&G55)/'Cover Sheet'!$C$29","v":{"$error":"#DIV/0!"}},78]
["NST01A","10",{"$f":"'Cover Sheet'!$C$17","v":0},{"$f":"'Cover Sheet'!$C$26","v":"00:00:00"},1]
["NST01A","10a",{"$f":"'Cover Sheet'!$C$17","v":0},{"$f":"'Cover Sheet'!$C$26","v":"00:00:00"},1,{"$f":"INDIRECT($I$1&\"!\"&$J$1&G57)/'Cover Sheet'!$C$29","v":{"$error":"#DIV/0!"}},82]
["NST01A","10b",{"$f":"'Cover Sheet'!$C$17","v":0},{"$f":"'Cover Sheet'!$C$26","v":"00:00:00"},1,{"$f":"INDIRECT($I$1&\"!\"&$J$1&G58)/'Cover Sheet'!$C$29","v":{"$error":"#DIV/0!"}},83]
["NST01A","10c",{"$f":"'Cover Sheet'!$C$17","v":0},{"$f":"'Cover Sheet'!$C$26","v":"00:00:00"},1,{"$f":"INDIRECT($I$1&\"!\"&$J$1&G59)/'Cover Sheet'!$C$29","v":{"$error":"#DIV/0!"}},84]
["NST01A","10d",{"$f":"'Cover Sheet'!$C$17","v":0},{"$f":"'Cover Sheet'!$C$26","v":"00:00:00"},1,{"$f":"INDIRECT($I$1&\"!\"&$J$1&G60)/'Cover Sheet'!$C$29","v":{"$error":"#DIV/0!"}},85]
["NST01A","10e",{"$f":"'Cover Sheet'!$C$17","v":0},{"$f":"'Cover Sheet'!$C$26","v":"00:00:00"},1,{"$f":"INDIRECT($I$1&\"!\"&$J$1&G61)/'Cover Sheet'!$C$29","v":{"$error":"#DIV/0!"}},86]
["NST01A","11",{"$f":"'Cover Sheet'!$C$17","v":0},{"$f":"'Cover Sheet'!$C$26","v":"00:00:00"},1]
["NST01A","11a",{"$f":"'Cover Sheet'!$C$17","v":0},{"$f":"'Cover Sheet'!$C$26","v":"00:00:00"},1,{"$f":"INDIRECT($I$1&\"!\"&$J$1&G63)/'Cover Sheet'!$C$29","v":{"$error":"#DIV/0!"}},90]
["NST01A","11b",{"$f":"'Cover Sheet'!$C$17","v":0},{"$f":"'Cover Sheet'!$C$26","v":"00:00:00"},1,{"$f":"INDIRECT($I$1&\"!\"&$J$1&G64)/'Cover Sheet'!$C$29","v":{"$error":"#DIV/0!"}},91]
["NST01A","11c",{"$f":"'Cover Sheet'!$C$17","v":0},{"$f":"'Cover Sheet'!$C$26","v":"00:00:00"},1,{"$f":"INDIRECT($I$1&\"!\"&$J$1&G65)/'Cover Sheet'!$C$29","v":{"$error":"#DIV/0!"}},92]
["NST01A","11d",{"$f":"'Cover Sheet'!$C$17","v":0},{"$f":"'Cover Sheet'!$C$26","v":"00:00:00"},1,{"$f":"INDIRECT($I$1&\"!\"&$J$1&G66)/'Cover Sheet'!$C$29","v":{"$error":"#DIV/0!"}},93]
["NST01A","11e",{"$f":"'Cover Sheet'!$C$17","v":0},{"$f":"'Cover Sheet'!$C$26","v":"00:00:00"},1,{"$f":"INDIRECT($I$1&\"!\"&$J$1&G67)/'Cover Sheet'!$C$29","v":{"$error":"#DIV/0!"}},94]
["NST01A","12",{"$f":"'Cover Sheet'!$C$17","v":0},{"$f":"'Cover Sheet'!$C$26","v":"00:00:00"},1]
["NST01A","12a",{"$f":"'Cover Sheet'!$C$17","v":0},{"$f":"'Cover Sheet'!$C$26","v":"00:00:00"},1,{"$f":"INDIRECT($I$1&\"!\"&$J$1&G69)/'Cover Sheet'!$C$29","v":{"$error":"#DIV/0!"}},98]
["NST01A","12b",{"$f":"'Cover Sheet'!$C$17","v":0},{"$f":"'Cover Sheet'!$C$26","v":"00:00:00"},1,{"$f":"INDIRECT($I$1&\"!\"&$J$1&G70)/'Cover Sheet'!$C$29","v":{"$error":"#DIV/0!"}},99]
["NST01A","12c",{"$f":"'Cover Sheet'!$C$17","v":0},{"$f":"'Cover Sheet'!$C$26","v":"00:00:00"},1,{"$f":"INDIRECT($I$1&\"!\"&$J$1&G71)/'Cover Sheet'!$C$29","v":{"$error":"#DIV/0!"}},100]
["NST01A","12d",{"$f":"'Cover Sheet'!$C$17","v":0},{"$f":"'Cover Sheet'!$C$26","v":"00:00:00"},1,{"$f":"INDIRECT($I$1&\"!\"&$J$1&G72)/'Cover Sheet'!$C$29","v":{"$error":"#DIV/0!"}},101]
["NST01A","12e",{"$f":"'Cover Sheet'!$C$17","v":0},{"$f":"'Cover Sheet'!$C$26","v":"00:00:00"},1,{"$f":"INDIRECT($I$1&\"!\"&$J$1&G73)/'Cover Sheet'!$C$29","v":{"$error":"#DIV/0!"}},102]
["NST01A","13",{"$f":"'Cover Sheet'!$C$17","v":0},{"$f":"'Cover Sheet'!$C$26","v":"00:00:00"},1]
["NST01A","13a",{"$f":"'Cover Sheet'!$C$17","v":0},{"$f":"'Cover Sheet'!$C$26","v":"00:00:00"},1,{"$f":"INDIRECT($I$1&\"!\"&$J$1&G75)/'Cover Sheet'!$C$29","v":{"$error":"#DIV/0!"}},106]
["NST01A","13b",{"$f":"'Cover Sheet'!$C$17","v":0},{"$f":"'Cover Sheet'!$C$26","v":"00:00:00"},1,{"$f":"INDIRECT($I$1&\"!\"&$J$1&G76)/'Cover Sheet'!$C$29","v":{"$error":"#DIV/0!"}},107]
["NST01A","13c",{"$f":"'Cover Sheet'!$C$17","v":0},{"$f":"'Cover Sheet'!$C$26","v":"00:00:00"},1,{"$f":"INDIRECT($I$1&\"!\"&$J$1&G77)/'Cover Sheet'!$C$29","v":{"$error":"#DIV/0!"}},108]
["NST01A","13d",{"$f":"'Cover Sheet'!$C$17","v":0},{"$f":"'Cover Sheet'!$C$26","v":"00:00:00"},1,{"$f":"INDIRECT($I$1&\"!\"&$J$1&G78)/'Cover Sheet'!$C$29","v":{"$error":"#DIV/0!"}},109]
["NST01A","13e",{"$f":"'Cover Sheet'!$C$17","v":0},{"$f":"'Cover Sheet'!$C$26","v":"00:00:00"},1,{"$f":"INDIRECT($I$1&\"!\"&$J$1&G79)/'Cover Sheet'!$C$29","v":{"$error":"#DIV/0!"}},110]
["NST01A",14,{"$f":"'Cover Sheet'!$C$17","v":0},{"$f":"'Cover Sheet'!$C$26","v":"00:00:00"},1]
["NST01A","14a",{"$f":"'Cover Sheet'!$C$17","v":0},{"$f":"'Cover Sheet'!$C$26","v":"00:00:00"},1,{"$f":"INDIRECT($I$1&\"!\"&$J$1&G81)/'Cover Sheet'!$C$29","v":{"$error":"#DIV/0!"}},114]
["NST01A","14b",{"$f":"'Cover Sheet'!$C$17","v":0},{"$f":"'Cover Sheet'!$C$26","v":"00:00:00"},1,{"$f":"INDIRECT($I$1&\"!\"&$J$1&G82)/'Cover Sheet'!$C$29","v":{"$error":"#DIV/0!"}},115]
["NST01A","14c",{"$f":"'Cover Sheet'!$C$17","v":0},{"$f":"'Cover Sheet'!$C$26","v":"00:00:00"},1,{"$f":"INDIRECT($I$1&\"!\"&$J$1&G83)/'Cover Sheet'!$C$29","v":{"$error":"#DIV/0!"}},116]
["NST01A","14d",{"$f":"'Cover Sheet'!$C$17","v":0},{"$f":"'Cover Sheet'!$C$26","v":"00:00:00"},1,{"$f":"INDIRECT($I$1&\"!\"&$J$1&G84)/'Cover Sheet'!$C$29","v":{"$error":"#DIV/0!"}},117]
["NST01A","14e",{"$f":"'Cover Sheet'!$C$17","v":0},{"$f":"'Cover Sheet'!$C$26","v":"00:00:00"},1,{"$f":"INDIRECT($I$1&\"!\"&$J$1&G85)/'Cover Sheet'!$C$29","v":{"$error":"#DIV/0!"}},118]
["NST01A",15,{"$f":"'Cover Sheet'!$C$17","v":0},{"$f":"'Cover Sheet'!$C$26","v":"00:00:00"},1]
["NST01A","15a",{"$f":"'Cover Sheet'!$C$17","v":0},{"$f":"'Cover Sheet'!$C$26","v":"00:00:00"},1,{"$f":"INDIRECT($I$1&\"!\"&$J$1&G87)/'Cover Sheet'!$C$29","v":{"$error":"#DIV/0!"}},122]
["NST01A","15b",{"$f":"'Cover Sheet'!$C$17","v":0},{"$f":"'Cover Sheet'!$C$26","v":"00:00:00"},1,{"$f":"INDIRECT($I$1&\"!\"&$J$1&G88)/'Cover Sheet'!$C$29","v":{"$error":"#DIV/0!"}},123]
["NST01A","15c",{"$f":"'Cover Sheet'!$C$17","v":0},{"$f":"'Cover Sheet'!$C$26","v":"00:00:00"},1,{"$f":"INDIRECT($I$1&\"!\"&$J$1&G89)/'Cover Sheet'!$C$29","v":{"$error":"#DIV/0!"}},124]
["NST01A","15d",{"$f":"'Cover Sheet'!$C$17","v":0},{"$f":"'Cover Sheet'!$C$26","v":"00:00:00"},1,{"$f":"INDIRECT($I$1&\"!\"&$J$1&G90)/'Cover Sheet'!$C$29","v":{"$error":"#DIV/0!"}},125]
["NST01A","15e",{"$f":"'Cover Sheet'!$C$17","v":0},{"$f":"'Cover Sheet'!$C$26","v":"00:00:00"},1,{"$f":"INDIRECT($I$1&\"!\"&$J$1&G91)/'Cover Sheet'!$C$29","v":{"$error":"#DIV/0!"}},126]
["NST01A",16,{"$f":"'Cover Sheet'!$C$17","v":0},{"$f":"'Cover Sheet'!$C$26","v":"00:00:00"},1]
["NST01A","16a",{"$f":"'Cover Sheet'!$C$17","v":0},{"$f":"'Cover Sheet'!$C$26","v":"00:00:00"},1,{"$f":"INDIRECT($I$1&\"!\"&$J$1&G93)/'Cover Sheet'!$C$29","v":{"$error":"#DIV/0!"}},130]
["NST01A","16b",{"$f":"'Cover Sheet'!$C$17","v":0},{"$f":"'Cover Sheet'!$C$26","v":"00:00:00"},1,{"$f":"INDIRECT($I$1&\"!\"&$J$1&G94)/'Cover Sheet'!$C$29","v":{"$error":"#DIV/0!"}},131]
["NST01A","16c",{"$f":"'Cover Sheet'!$C$17","v":0},{"$f":"'Cover Sheet'!$C$26","v":"00:00:00"},1,{"$f":"INDIRECT($I$1&\"!\"&$J$1&G95)/'Cover Sheet'!$C$29","v":{"$error":"#DIV/0!"}},132]
["NST01A","16d",{"$f":"'Cover Sheet'!$C$17","v":0},{"$f":"'Cover Sheet'!$C$26","v":"00:00:00"},1,{"$f":"INDIRECT($I$1&\"!\"&$J$1&G96)/'Cover Sheet'!$C$29","v":{"$error":"#DIV/0!"}},133]
["NST01A","16e",{"$f":"'Cover Sheet'!$C$17","v":0},{"$f":"'Cover Sheet'!$C$26","v":"00:00:00"},1,{"$f":"INDIRECT($I$1&\"!\"&$J$1&G97)/'Cover Sheet'!$C$29","v":{"$error":"#DIV/0!"}},134]
["NST01A",17,{"$f":"'Cover Sheet'!$C$17","v":0},{"$f":"'Cover Sheet'!$C$26","v":"00:00:00"},1]
["NST01A","17a",{"$f":"'Cover Sheet'!$C$17","v":0},{"$f":"'Cover Sheet'!$C$26","v":"00:00:00"},1,{"$f":"INDIRECT($I$1&\"!\"&$J$1&G99)/'Cover Sheet'!$C$29","v":{"$error":"#DIV/0!"}},138]
["NST01A","17b",{"$f":"'Cover Sheet'!$C$17","v":0},{"$f":"'Cover Sheet'!$C$26","v":"00:00:00"},1,{"$f":"INDIRECT($I$1&\"!\"&$J$1&G100)/'Cover Sheet'!$C$29","v":{"$error":"#DIV/0!"}},139]
["NST01A","17c",{"$f":"'Cover Sheet'!$C$17","v":0},{"$f":"'Cover Sheet'!$C$26","v":"00:00:00"},1,{"$f":"INDIRECT($I$1&\"!\"&$J$1&G101)/'Cover Sheet'!$C$29","v":{"$error":"#DIV/0!"}},140]
["NST01A","17d",{"$f":"'Cover Sheet'!$C$17","v":0},{"$f":"'Cover Sheet'!$C$26","v":"00:00:00"},1,{"$f":"INDIRECT($I$1&\"!\"&$J$1&G102)/'Cover Sheet'!$C$29","v":{"$error":"#DIV/0!"}},141]
["NST01A","17e",{"$f":"'Cover Sheet'!$C$17","v":0},{"$f":"'Cover Sheet'!$C$26","v":"00:00:00"},1,{"$f":"INDIRECT($I$1&\"!\"&$J$1&G103)/'Cover Sheet'!$C$29","v":{"$error":"#DIV/0!"}},142]
["NST01A","01",{"$f":"'Cover Sheet'!$C$17","v":0},{"$f":"'Cover Sheet'!$C$26","v":"00:00:00"},2]
["NST01A","01a",{"$f":"'Cover Sheet'!$C$17","v":0},{"$f":"'Cover Sheet'!$C$26","v":"00:00:00"},2,{"$f":"INDIRECT($I$1&\"!\"&$K$1&G105)/'Cover Sheet'!$C$29","v":{"$error":"#DIV/0!"}},10]
["NST01A","01b",{"$f":"'Cover Sheet'!$C$17","v":0},{"$f":"'Cover Sheet'!$C$26","v":"00:00:00"},2,{"$f":"INDIRECT($I$1&\"!\"&$K$1&G106)/'Cover Sheet'!$C$29","v":{"$error":"#DIV/0!"}},11]
["NST01A","01c",{"$f":"'Cover Sheet'!$C$17","v":0},{"$f":"'Cover Sheet'!$C$26","v":"00:00:00"},2,{"$f":"INDIRECT($I$1&\"!\"&$K$1&G107)/'Cover Sheet'!$C$29","v":{"$error":"#DIV/0!"}},12]
["NST01A","01d",{"$f":"'Cover Sheet'!$C$17","v":0},{"$f":"'Cover Sheet'!$C$26","v":"00:00:00"},2,{"$f":"INDIRECT($I$1&\"!\"&$K$1&G108)/'Cover Sheet'!$C$29","v":{"$error":"#DIV/0!"}},13]
["NST01A","01e",{"$f":"'Cover Sheet'!$C$17","v":0},{"$f":"'Cover Sheet'!$C$26","v":"00:00:00"},2,{"$f":"INDIRECT($I$1&\"!\"&$K$1&G109)/'Cover Sheet'!$C$29","v":{"$error":"#DIV/0!"}},14]
["NST01A","02",{"$f":"'Cover Sheet'!$C$17","v":0},{"$f":"'Cover Sheet'!$C$26","v":"00:00:00"},2]
["NST01A","02a",{"$f":"'Cover Sheet'!$C$17","v":0},{"$f":"'Cover Sheet'!$C$26","v":"00:00:00"},2,{"$f":"INDIRECT($I$1&\"!\"&$K$1&G111)/'Cover Sheet'!$C$29","v":{"$error":"#DIV/0!"}},18]
["NST01A","02b",{"$f":"'Cover Sheet'!$C$17","v":0},{"$f":"'Cover Sheet'!$C$26","v":"00:00:00"},2,{"$f":"INDIRECT($I$1&\"!\"&$K$1&G112)/'Cover Sheet'!$C$29","v":{"$error":"#DIV/0!"}},19]
["NST01A","02c",{"$f":"'Cover Sheet'!$C$17","v":0},{"$f":"'Cover Sheet'!$C$26","v":"00:00:00"},2,{"$f":"INDIRECT($I$1&\"!\"&$K$1&G113)/'Cover Sheet'!$C$29","v":{"$error":"#DIV/0!"}},20]
["NST01A","02d",{"$f":"'Cover Sheet'!$C$17","v":0},{"$f":"'Cover Sheet'!$C$26","v":"00:00:00"},2,{"$f":"INDIRECT($I$1&\"!\"&$K$1&G114)/'Cover Sheet'!$C$29","v":{"$error":"#DIV/0!"}},21]
["NST01A","02e",{"$f":"'Cover Sheet'!$C$17","v":0},{"$f":"'Cover Sheet'!$C$26","v":"00:00:00"},2,{"$f":"INDIRECT($I$1&\"!\"&$K$1&G115)/'Cover Sheet'!$C$29","v":{"$error":"#DIV/0!"}},22]
["NST01A","03",{"$f":"'Cover Sheet'!$C$17","v":0},{"$f":"'Cover Sheet'!$C$26","v":"00:00:00"},2]
["NST01A","03a",{"$f":"'Cover Sheet'!$C$17","v":0},{"$f":"'Cover Sheet'!$C$26","v":"00:00:00"},2,{"$f":"INDIRECT($I$1&\"!\"&$K$1&G117)/'Cover Sheet'!$C$29","v":{"$error":"#DIV/0!"}},26]
["NST01A","03b",{"$f":"'Cover Sheet'!$C$17","v":0},{"$f":"'Cover Sheet'!$C$26","v":"00:00:00"},2,{"$f":"INDIRECT($I$1&\"!\"&$K$1&G118)/'Cover Sheet'!$C$29","v":{"$error":"#DIV/0!"}},27]
["NST01A","03c",{"$f":"'Cover Sheet'!$C$17","v":0},{"$f":"'Cover Sheet'!$C$26","v":"00:00:00"},2,{"$f":"INDIRECT($I$1&\"!\"&$K$1&G119)/'Cover Sheet'!$C$29","v":{"$error":"#DIV/0!"}},28]
["NST01A","03d",{"$f":"'Cover Sheet'!$C$17","v":0},{"$f":"'Cover Sheet'!$C$26","v":"00:00:00"},2,{"$f":"INDIRECT($I$1&\"!\"&$K$1&G120)/'Cover Sheet'!$C$29","v":{"$error":"#DIV/0!"}},29]
["NST01A","03e",{"$f":"'Cover Sheet'!$C$17","v":0},{"$f":"'Cover Sheet'!$C$26","v":"00:00:00"},2,{"$f":"INDIRECT($I$1&\"!\"&$K$1&G121)/'Cover Sheet'!$C$29","v":{"$error":"#DIV/0!"}},30]
["NST01A","04",{"$f":"'Cover Sheet'!$C$17","v":0},{"$f":"'Cover Sheet'!$C$26","v":"00:00:00"},2]
["NST01A","04a",{"$f":"'Cover Sheet'!$C$17","v":0},{"$f":"'Cover Sheet'!$C$26","v":"00:00:00"},2,{"$f":"INDIRECT($I$1&\"!\"&$K$1&G123)/'Cover Sheet'!$C$29","v":{"$error":"#DIV/0!"}},34]
["NST01A","04b",{"$f":"'Cover Sheet'!$C$17","v":0},{"$f":"'Cover Sheet'!$C$26","v":"00:00:00"},2,{"$f":"INDIRECT($I$1&\"!\"&$K$1&G124)/'Cover Sheet'!$C$29","v":{"$error":"#DIV/0!"}},35]
["NST01A","04c",{"$f":"'Cover Sheet'!$C$17","v":0},{"$f":"'Cover Sheet'!$C$26","v":"00:00:00"},2,{"$f":"INDIRECT($I$1&\"!\"&$K$1&G125)/'Cover Sheet'!$C$29","v":{"$error":"#DIV/0!"}},36]
["NST01A","04d",{"$f":"'Cover Sheet'!$C$17","v":0},{"$f":"'Cover Sheet'!$C$26","v":"00:00:00"},2,{"$f":"INDIRECT($I$1&\"!\"&$K$1&G126)/'Cover Sheet'!$C$29","v":{"$error":"#DIV/0!"}},37]
["NST01A","04e",{"$f":"'Cover Sheet'!$C$17","v":0},{"$f":"'Cover Sheet'!$C$26","v":"00:00:00"},2,{"$f":"INDIRECT($I$1&\"!\"&$K$1&G127)/'Cover Sheet'!$C$29","v":{"$error":"#DIV/0!"}},38]
["NST01A","05",{"$f":"'Cover Sheet'!$C$17","v":0},{"$f":"'Cover Sheet'!$C$26","v":"00:00:00"},2]
["NST01A","05a",{"$f":"'Cover Sheet'!$C$17","v":0},{"$f":"'Cover Sheet'!$C$26","v":"00:00:00"},2,{"$f":"INDIRECT($I$1&\"!\"&$K$1&G129)/'Cover Sheet'!$C$29","v":{"$error":"#DIV/0!"}},42]
["NST01A","05b",{"$f":"'Cover Sheet'!$C$17","v":0},{"$f":"'Cover Sheet'!$C$26","v":"00:00:00"},2,{"$f":"INDIRECT($I$1&\"!\"&$K$1&G130)/'Cover Sheet'!$C$29","v":{"$error":"#DIV/0!"}},43]
["NST01A","05c",{"$f":"'Cover Sheet'!$C$17","v":0},{"$f":"'Cover Sheet'!$C$26","v":"00:00:00"},2,{"$f":"INDIRECT($I$1&\"!\"&$K$1&G131)/'Cover Sheet'!$C$29","v":{"$error":"#DIV/0!"}},44]
["NST01A","05d",{"$f":"'Cover Sheet'!$C$17","v":0},{"$f":"'Cover Sheet'!$C$26","v":"00:00:00"},2,{"$f":"INDIRECT($I$1&\"!\"&$K$1&G132)/'Cover Sheet'!$C$29","v":{"$error":"#DIV/0!"}},45]
["NST01A","05e",{"$f":"'Cover Sheet'!$C$17","v":0},{"$f":"'Cover Sheet'!$C$26","v":"00:00:00"},2,{"$f":"INDIRECT($I$1&\"!\"&$K$1&G133)/'Cover Sheet'!$C$29","v":{"$error":"#DIV/0!"}},46]
["NST01A","06",{"$f":"'Cover Sheet'!$C$17","v":0},{"$f":"'Cover Sheet'!$C$26","v":"00:00:00"},2]
["NST01A","06a",{"$f":"'Cover Sheet'!$C$17","v":0},{"$f":"'Cover Sheet'!$C$26","v":"00:00:00"},2,{"$f":"INDIRECT($I$1&\"!\"&$K$1&G135)/'Cover Sheet'!$C$29","v":{"$error":"#DIV/0!"}},50]
["NST01A","06b",{"$f":"'Cover Sheet'!$C$17","v":0},{"$f":"'Cover Sheet'!$C$26","v":"00:00:00"},2,{"$f":"INDIRECT($I$1&\"!\"&$K$1&G136)/'Cover Sheet'!$C$29","v":{"$error":"#DIV/0!"}},51]
["NST01A","06c",{"$f":"'Cover Sheet'!$C$17","v":0},{"$f":"'Cover Sheet'!$C$26","v":"00:00:00"},2,{"$f":"INDIRECT($I$1&\"!\"&$K$1&G137)/'Cover Sheet'!$C$29","v":{"$error":"#DIV/0!"}},52]
["NST01A","06d",{"$f":"'Cover Sheet'!$C$17","v":0},{"$f":"'Cover Sheet'!$C$26","v":"00:00:00"},2,{"$f":"INDIRECT($I$1&\"!\"&$K$1&G138)/'Cover Sheet'!$C$29","v":{"$error":"#DIV/0!"}},53]
["NST01A","06e",{"$f":"'Cover Sheet'!$C$17","v":0},{"$f":"'Cover Sheet'!$C$26","v":"00:00:00"},2,{"$f":"INDIRECT($I$1&\"!\"&$K$1&G139)/'Cover Sheet'!$C$29","v":{"$error":"#DIV/0!"}},54]
["NST01A","07",{"$f":"'Cover Sheet'!$C$17","v":0},{"$f":"'Cover Sheet'!$C$26","v":"00:00:00"},2]
["NST01A","07a",{"$f":"'Cover Sheet'!$C$17","v":0},{"$f":"'Cover Sheet'!$C$26","v":"00:00:00"},2,{"$f":"INDIRECT($I$1&\"!\"&$K$1&G141)/'Cover Sheet'!$C$29","v":{"$error":"#DIV/0!"}},58]
["NST01A","07b",{"$f":"'Cover Sheet'!$C$17","v":0},{"$f":"'Cover Sheet'!$C$26","v":"00:00:00"},2,{"$f":"INDIRECT($I$1&\"!\"&$K$1&G142)/'Cover Sheet'!$C$29","v":{"$error":"#DIV/0!"}},59]
["NST01A","07c",{"$f":"'Cover Sheet'!$C$17","v":0},{"$f":"'Cover Sheet'!$C$26","v":"00:00:00"},2,{"$f":"INDIRECT($I$1&\"!\"&$K$1&G143)/'Cover Sheet'!$C$29","v":{"$error":"#DIV/0!"}},60]
["NST01A","07d",{"$f":"'Cover Sheet'!$C$17","v":0},{"$f":"'Cover Sheet'!$C$26","v":"00:00:00"},2,{"$f":"INDIRECT($I$1&\"!\"&$K$1&G144)/'Cover Sheet'!$C$29","v":{"$error":"#DIV/0!"}},61]
["NST01A","07e",{"$f":"'Cover Sheet'!$C$17","v":0},{"$f":"'Cover Sheet'!$C$26","v":"00:00:00"},2,{"$f":"INDIRECT($I$1&\"!\"&$K$1&G145)/'Cover Sheet'!$C$29","v":{"$error":"#DIV/0!"}},62]
["NST01A","08",{"$f":"'Cover Sheet'!$C$17","v":0},{"$f":"'Cover Sheet'!$C$26","v":"00:00:00"},2]
["NST01A","08a",{"$f":"'Cover Sheet'!$C$17","v":0},{"$f":"'Cover Sheet'!$C$26","v":"00:00:00"},2,{"$f":"INDIRECT($I$1&\"!\"&$K$1&G147)/'Cover Sheet'!$C$29","v":{"$error":"#DIV/0!"}},66]
["NST01A","08b",{"$f":"'Cover Sheet'!$C$17","v":0},{"$f":"'Cover Sheet'!$C$26","v":"00:00:00"},2,{"$f":"INDIRECT($I$1&\"!\"&$K$1&G148)/'Cover Sheet'!$C$29","v":{"$error":"#DIV/0!"}},67]
["NST01A","08c",{"$f":"'Cover Sheet'!$C$17","v":0},{"$f":"'Cover Sheet'!$C$26","v":"00:00:00"},2,{"$f":"INDIRECT($I$1&\"!\"&$K$1&G149)/'Cover Sheet'!$C$29","v":{"$error":"#DIV/0!"}},68]
["NST01A","08d",{"$f":"'Cover Sheet'!$C$17","v":0},{"$f":"'Cover Sheet'!$C$26","v":"00:00:00"},2,{"$f":"INDIRECT($I$1&\"!\"&$K$1&G150)/'Cover Sheet'!$C$29","v":{"$error":"#DIV/0!"}},69]
["NST01A","08e",{"$f":"'Cover Sheet'!$C$17","v":0},{"$f":"'Cover Sheet'!$C$26","v":"00:00:00"},2,{"$f":"INDIRECT($I$1&\"!\"&$K$1&G151)/'Cover Sheet'!$C$29","v":{"$error":"#DIV/0!"}},70]
["NST01A","09",{"$f":"'Cover Sheet'!$C$17","v":0},{"$f":"'Cover Sheet'!$C$26","v":"00:00:00"},2]
["NST01A","09a",{"$f":"'Cover Sheet'!$C$17","v":0},{"$f":"'Cover Sheet'!$C$26","v":"00:00:00"},2,{"$f":"INDIRECT($I$1&\"!\"&$K$1&G153)/'Cover Sheet'!$C$29","v":{"$error":"#DIV/0!"}},74]
["NST01A","09b",{"$f":"'Cover Sheet'!$C$17","v":0},{"$f":"'Cover Sheet'!$C$26","v":"00:00:00"},2,{"$f":"INDIRECT($I$1&\"!\"&$K$1&G154)/'Cover Sheet'!$C$29","v":{"$error":"#DIV/0!"}},75]
["NST01A","09c",{"$f":"'Cover Sheet'!$C$17","v":0},{"$f":"'Cover Sheet'!$C$26","v":"00:00:00"},2,{"$f":"INDIRECT($I$1&\"!\"&$K$1&G155)/'Cover Sheet'!$C$29","v":{"$error":"#DIV/0!"}},76]
["NST01A","09d",{"$f":"'Cover Sheet'!$C$17","v":0},{"$f":"'Cover Sheet'!$C$26","v":"00:00:00"},2,{"$f":"INDIRECT($I$1&\"!\"&$K$1&G156)/'Cover Sheet'!$C$29","v":{"$error":"#DIV/0!"}},77]
["NST01A","09e",{"$f":"'Cover Sheet'!$C$17","v":0},{"$f":"'Cover Sheet'!$C$26","v":"00:00:00"},2,{"$f":"INDIRECT($I$1&\"!\"&$K$1&G157)/'Cover Sheet'!$C$29","v":{"$error":"#DIV/0!"}},78]
["NST01A","10",{"$f":"'Cover Sheet'!$C$17","v":0},{"$f":"'Cover Sheet'!$C$26","v":"00:00:00"},2]
["NST01A","10a",{"$f":"'Cover Sheet'!$C$17","v":0},{"$f":"'Cover Sheet'!$C$26","v":"00:00:00"},2,{"$f":"INDIRECT($I$1&\"!\"&$K$1&G159)/'Cover Sheet'!$C$29","v":{"$error":"#DIV/0!"}},82]
["NST01A","10b",{"$f":"'Cover Sheet'!$C$17","v":0},{"$f":"'Cover Sheet'!$C$26","v":"00:00:00"},2,{"$f":"INDIRECT($I$1&\"!\"&$K$1&G160)/'Cover Sheet'!$C$29","v":{"$error":"#DIV/0!"}},83]
["NST01A","10c",{"$f":"'Cover Sheet'!$C$17","v":0},{"$f":"'Cover Sheet'!$C$26","v":"00:00:00"},2,{"$f":"INDIRECT($I$1&\"!\"&$K$1&G161)/'Cover Sheet'!$C$29","v":{"$error":"#DIV/0!"}},84]
["NST01A","10d",{"$f":"'Cover Sheet'!$C$17","v":0},{"$f":"'Cover Sheet'!$C$26","v":"00:00:00"},2,{"$f":"INDIRECT($I$1&\"!\"&$K$1&G162)/'Cover Sheet'!$C$29","v":{"$error":"#DIV/0!"}},85]
["NST01A","10e",{"$f":"'Cover Sheet'!$C$17","v":0},{"$f":"'Cover Sheet'!$C$26","v":"00:00:00"},2,{"$f":"INDIRECT($I$1&\"!\"&$K$1&G163)/'Cover Sheet'!$C$29","v":{"$error":"#DIV/0!"}},86]
["NST01A","11",{"$f":"'Cover Sheet'!$C$17","v":0},{"$f":"'Cover Sheet'!$C$26","v":"00:00:00"},2]
["NST01A","11a",{"$f":"'Cover Sheet'!$C$17","v":0},{"$f":"'Cover Sheet'!$C$26","v":"00:00:00"},2,{"$f":"INDIRECT($I$1&\"!\"&$K$1&G165)/'Cover Sheet'!$C$29","v":{"$error":"#DIV/0!"}},90]
["NST01A","11b",{"$f":"'Cover Sheet'!$C$17","v":0},{"$f":"'Cover Sheet'!$C$26","v":"00:00:00"},2,{"$f":"INDIRECT($I$1&\"!\"&$K$1&G166)/'Cover Sheet'!$C$29","v":{"$error":"#DIV/0!"}},91]
["NST01A","11c",{"$f":"'Cover Sheet'!$C$17","v":0},{"$f":"'Cover Sheet'!$C$26","v":"00:00:00"},2,{"$f":"INDIRECT($I$1&\"!\"&$K$1&G167)/'Cover Sheet'!$C$29","v":{"$error":"#DIV/0!"}},92]
["NST01A","11d",{"$f":"'Cover Sheet'!$C$17","v":0},{"$f":"'Cover Sheet'!$C$26","v":"00:00:00"},2,{"$f":"INDIRECT($I$1&\"!\"&$K$1&G168)/'Cover Sheet'!$C$29","v":{"$error":"#DIV/0!"}},93]
["NST01A","11e",{"$f":"'Cover Sheet'!$C$17","v":0},{"$f":"'Cover Sheet'!$C$26","v":"00:00:00"},2,{"$f":"INDIRECT($I$1&\"!\"&$K$1&G169)/'Cover Sheet'!$C$29","v":{"$error":"#DIV/0!"}},94]
["NST01A","12",{"$f":"'Cover Sheet'!$C$17","v":0},{"$f":"'Cover Sheet'!$C$26","v":"00:00:00"},2]
["NST01A","12a",{"$f":"'Cover Sheet'!$C$17","v":0},{"$f":"'Cover Sheet'!$C$26","v":"00:00:00"},2,{"$f":"INDIRECT($I$1&\"!\"&$K$1&G171)/'Cover Sheet'!$C$29","v":{"$error":"#DIV/0!"}},98]
["NST01A","12b",{"$f":"'Cover Sheet'!$C$17","v":0},{"$f":"'Cover Sheet'!$C$26","v":"00:00:00"},2,{"$f":"INDIRECT($I$1&\"!\"&$K$1&G172)/'Cover Sheet'!$C$29","v":{"$error":"#DIV/0!"}},99]
["NST01A","12c",{"$f":"'Cover Sheet'!$C$17","v":0},{"$f":"'Cover Sheet'!$C$26","v":"00:00:00"},2,{"$f":"INDIRECT($I$1&\"!\"&$K$1&G173)/'Cover Sheet'!$C$29","v":{"$error":"#DIV/0!"}},100]
["NST01A","12d",{"$f":"'Cover Sheet'!$C$17","v":0},{"$f":"'Cover Sheet'!$C$26","v":"00:00:00"},2,{"$f":"INDIRECT($I$1&\"!\"&$K$1&G174)/'Cover Sheet'!$C$29","v":{"$error":"#DIV/0!"}},101]
["NST01A","12e",{"$f":"'Cover Sheet'!$C$17","v":0},{"$f":"'Cover Sheet'!$C$26","v":"00:00:00"},2,{"$f":"INDIRECT($I$1&\"!\"&$K$1&G175)/'Cover Sheet'!$C$29","v":{"$error":"#DIV/0!"}},102]
["NST01A","13",{"$f":"'Cover Sheet'!$C$17","v":0},{"$f":"'Cover Sheet'!$C$26","v":"00:00:00"},2]
["NST01A","13a",{"$f":"'Cover Sheet'!$C$17","v":0},{"$f":"'Cover Sheet'!$C$26","v":"00:00:00"},2,{"$f":"INDIRECT($I$1&\"!\"&$K$1&G177)/'Cover Sheet'!$C$29","v":{"$error":"#DIV/0!"}},106]
["NST01A","13b",{"$f":"'Cover Sheet'!$C$17","v":0},{"$f":"'Cover Sheet'!$C$26","v":"00:00:00"},2,{"$f":"INDIRECT($I$1&\"!\"&$K$1&G178)/'Cover Sheet'!$C$29","v":{"$error":"#DIV/0!"}},107]
["NST01A","13c",{"$f":"'Cover Sheet'!$C$17","v":0},{"$f":"'Cover Sheet'!$C$26","v":"00:00:00"},2,{"$f":"INDIRECT($I$1&\"!\"&$K$1&G179)/'Cover Sheet'!$C$29","v":{"$error":"#DIV/0!"}},108]
["NST01A","13d",{"$f":"'Cover Sheet'!$C$17","v":0},{"$f":"'Cover Sheet'!$C$26","v":"00:00:00"},2,{"$f":"INDIRECT($I$1&\"!\"&$K$1&G180)/'Cover Sheet'!$C$29","v":{"$error":"#DIV/0!"}},109]
["NST01A","13e",{"$f":"'Cover Sheet'!$C$17","v":0},{"$f":"'Cover Sheet'!$C$26","v":"00:00:00"},2,{"$f":"INDIRECT($I$1&\"!\"&$K$1&G181)/'Cover Sheet'!$C$29","v":{"$error":"#DIV/0!"}},110]
["NST01A",14,{"$f":"'Cover Sheet'!$C$17","v":0},{"$f":"'Cover Sheet'!$C$26","v":"00:00:00"},2]
["NST01A","14a",{"$f":"'Cover Sheet'!$C$17","v":0},{"$f":"'Cover Sheet'!$C$26","v":"00:00:00"},2,{"$f":"INDIRECT($I$1&\"!\"&$K$1&G183)/'Cover Sheet'!$C$29","v":{"$error":"#DIV/0!"}},114]
["NST01A","14b",{"$f":"'Cover Sheet'!$C$17","v":0},{"$f":"'Cover Sheet'!$C$26","v":"00:00:00"},2,{"$f":"INDIRECT($I$1&\"!\"&$K$1&G184)/'Cover Sheet'!$C$29","v":{"$error":"#DIV/0!"}},115]
["NST01A","14c",{"$f":"'Cover Sheet'!$C$17","v":0},{"$f":"'Cover Sheet'!$C$26","v":"00:00:00"},2,{"$f":"INDIRECT($I$1&\"!\"&$K$1&G185)/'Cover Sheet'!$C$29","v":{"$error":"#DIV/0!"}},116]
["NST01A","14d",{"$f":"'Cover Sheet'!$C$17","v":0},{"$f":"'Cover Sheet'!$C$26","v":"00:00:00"},2,{"$f":"INDIRECT($I$1&\"!\"&$K$1&G186)/'Cover Sheet'!$C$29","v":{"$error":"#DIV/0!"}},117]
["NST01A","14e",{"$f":"'Cover Sheet'!$C$17","v":0},{"$f":"'Cover Sheet'!$C$26","v":"00:00:00"},2,{"$f":"INDIRECT($I$1&\"!\"&$K$1&G187)/'Cover Sheet'!$C$29","v":{"$error":"#DIV/0!"}},118]
["NST01A",15,{"$f":"'Cover Sheet'!$C$17","v":0},{"$f":"'Cover Sheet'!$C$26","v":"00:00:00"},2]
["NST01A","15a",{"$f":"'Cover Sheet'!$C$17","v":0},{"$f":"'Cover Sheet'!$C$26","v":"00:00:00"},2,{"$f":"INDIRECT($I$1&\"!\"&$K$1&G189)/'Cover Sheet'!$C$29","v":{"$error":"#DIV/0!"}},122]
["NST01A","15b",{"$f":"'Cover Sheet'!$C$17","v":0},{"$f":"'Cover Sheet'!$C$26","v":"00:00:00"},2,{"$f":"INDIRECT($I$1&\"!\"&$K$1&G190)/'Cover Sheet'!$C$29","v":{"$error":"#DIV/0!"}},123]
["NST01A","15c",{"$f":"'Cover Sheet'!$C$17","v":0},{"$f":"'Cover Sheet'!$C$26","v":"00:00:00"},2,{"$f":"INDIRECT($I$1&\"!\"&$K$1&G191)/'Cover Sheet'!$C$29","v":{"$error":"#DIV/0!"}},124]
["NST01A","15d",{"$f":"'Cover Sheet'!$C$17","v":0},{"$f":"'Cover Sheet'!$C$26","v":"00:00:00"},2,{"$f":"INDIRECT($I$1&\"!\"&$K$1&G192)/'Cover Sheet'!$C$29","v":{"$error":"#DIV/0!"}},125]
["NST01A","15e",{"$f":"'Cover Sheet'!$C$17","v":0},{"$f":"'Cover Sheet'!$C$26","v":"00:00:00"},2,{"$f":"INDIRECT($I$1&\"!\"&$K$1&G193)/'Cover Sheet'!$C$29","v":{"$error":"#DIV/0!"}},126]
["NST01A",16,{"$f":"'Cover Sheet'!$C$17","v":0},{"$f":"'Cover Sheet'!$C$26","v":"00:00:00"},2]
["NST01A","16a",{"$f":"'Cover Sheet'!$C$17","v":0},{"$f":"'Cover Sheet'!$C$26","v":"00:00:00"},2,{"$f":"INDIRECT($I$1&\"!\"&$K$1&G195)/'Cover Sheet'!$C$29","v":{"$error":"#DIV/0!"}},130]
["NST01A","16b",{"$f":"'Cover Sheet'!$C$17","v":0},{"$f":"'Cover Sheet'!$C$26","v":"00:00:00"},2,{"$f":"INDIRECT($I$1&\"!\"&$K$1&G196)/'Cover Sheet'!$C$29","v":{"$error":"#DIV/0!"}},131]
["NST01A","16c",{"$f":"'Cover Sheet'!$C$17","v":0},{"$f":"'Cover Sheet'!$C$26","v":"00:00:00"},2,{"$f":"INDIRECT($I$1&\"!\"&$K$1&G197)/'Cover Sheet'!$C$29","v":{"$error":"#DIV/0!"}},132]
["NST01A","16d",{"$f":"'Cover Sheet'!$C$17","v":0},{"$f":"'Cover Sheet'!$C$26","v":"00:00:00"},2,{"$f":"INDIRECT($I$1&\"!\"&$K$1&G198)/'Cover Sheet'!$C$29","v":{"$error":"#DIV/0!"}},133]
["NST01A","16e",{"$f":"'Cover Sheet'!$C$17","v":0},{"$f":"'Cover Sheet'!$C$26","v":"00:00:00"},2,{"$f":"INDIRECT($I$1&\"!\"&$K$1&G199)/'Cover Sheet'!$C$29","v":{"$error":"#DIV/0!"}},134]
["NST01A",17,{"$f":"'Cover Sheet'!$C$17","v":0},{"$f":"'Cover Sheet'!$C$26","v":"00:00:00"},2]
["NST01A","17a",{"$f":"'Cover Sheet'!$C$17","v":0},{"$f":"'Cover Sheet'!$C$26","v":"00:00:00"},2,{"$f":"INDIRECT($I$1&\"!\"&$K$1&G201)/'Cover Sheet'!$C$29","v":{"$error":"#DIV/0!"}},138]
["NST01A","17b",{"$f":"'Cover Sheet'!$C$17","v":0},{"$f":"'Cover Sheet'!$C$26","v":"00:00:00"},2,{"$f":"INDIRECT($I$1&\"!\"&$K$1&G202)/'Cover Sheet'!$C$29","v":{"$error":"#DIV/0!"}},139]
["NST01A","17c",{"$f":"'Cover Sheet'!$C$17","v":0},{"$f":"'Cover Sheet'!$C$26","v":"00:00:00"},2,{"$f":"INDIRECT($I$1&\"!\"&$K$1&G203)/'Cover Sheet'!$C$29","v":{"$error":"#DIV/0!"}},140]
["NST01A","17d",{"$f":"'Cover Sheet'!$C$17","v":0},{"$f":"'Cover Sheet'!$C$26","v":"00:00:00"},2,{"$f":"INDIRECT($I$1&\"!\"&$K$1&G204)/'Cover Sheet'!$C$29","v":{"$error":"#DIV/0!"}},141]
["NST01A","17e",{"$f":"'Cover Sheet'!$C$17","v":0},{"$f":"'Cover Sheet'!$C$26","v":"00:00:00"},2,{"$f":"INDIRECT($I$1&\"!\"&$K$1&G205)/'Cover Sheet'!$C$29","v":{"$error":"#DIV/0!"}},142]
["NST01A","01",{"$f":"'Cover Sheet'!$C$17","v":0},{"$f":"'Cover Sheet'!$C$26","v":"00:00:00"},3]
["NST01A","01a",{"$f":"'Cover Sheet'!$C$17","v":0},{"$f":"'Cover Sheet'!$C$26","v":"00:00:00"},3,{"$f":"INDIRECT($I$1&\"!\"&$L$1&G207)/'Cover Sheet'!$C$29","v":{"$error":"#DIV/0!"}},10]
["NST01A","01b",{"$f":"'Cover Sheet'!$C$17","v":0},{"$f":"'Cover Sheet'!$C$26","v":"00:00:00"},3,{"$f":"INDIRECT($I$1&\"!\"&$L$1&G208)/'Cover Sheet'!$C$29","v":{"$error":"#DIV/0!"}},11]
["NST01A","01c",{"$f":"'Cover Sheet'!$C$17","v":0},{"$f":"'Cover Sheet'!$C$26","v":"00:00:00"},3,{"$f":"INDIRECT($I$1&\"!\"&$L$1&G209)/'Cover Sheet'!$C$29","v":{"$error":"#DIV/0!"}},12]
["NST01A","01d",{"$f":"'Cover Sheet'!$C$17","v":0},{"$f":"'Cover Sheet'!$C$26","v":"00:00:00"},3,{"$f":"INDIRECT($I$1&\"!\"&$L$1&G210)/'Cover Sheet'!$C$29","v":{"$error":"#DIV/0!"}},13]
["NST01A","01e",{"$f":"'Cover Sheet'!$C$17","v":0},{"$f":"'Cover Sheet'!$C$26","v":"00:00:00"},3,{"$f":"INDIRECT($I$1&\"!\"&$L$1&G211)/'Cover Sheet'!$C$29","v":{"$error":"#DIV/0!"}},14]
["NST01A","02",{"$f":"'Cover Sheet'!$C$17","v":0},{"$f":"'Cover Sheet'!$C$26","v":"00:00:00"},3]
["NST01A","02a",{"$f":"'Cover Sheet'!$C$17","v":0},{"$f":"'Cover Sheet'!$C$26","v":"00:00:00"},3,{"$f":"INDIRECT($I$1&\"!\"&$L$1&G213)/'Cover Sheet'!$C$29","v":{"$error":"#DIV/0!"}},18]
["NST01A","02b",{"$f":"'Cover Sheet'!$C$17","v":0},{"$f":"'Cover Sheet'!$C$26","v":"00:00:00"},3,{"$f":"INDIRECT($I$1&\"!\"&$L$1&G214)/'Cover Sheet'!$C$29","v":{"$error":"#DIV/0!"}},19]
["NST01A","02c",{"$f":"'Cover Sheet'!$C$17","v":0},{"$f":"'Cover Sheet'!$C$26","v":"00:00:00"},3,{"$f":"INDIRECT($I$1&\"!\"&$L$1&G215)/'Cover Sheet'!$C$29","v":{"$error":"#DIV/0!"}},20]
["NST01A","02d",{"$f":"'Cover Sheet'!$C$17","v":0},{"$f":"'Cover Sheet'!$C$26","v":"00:00:00"},3,{"$f":"INDIRECT($I$1&\"!\"&$L$1&G216)/'Cover Sheet'!$C$29","v":{"$error":"#DIV/0!"}},21]
["NST01A","02e",{"$f":"'Cover Sheet'!$C$17","v":0},{"$f":"'Cover Sheet'!$C$26","v":"00:00:00"},3,{"$f":"INDIRECT($I$1&\"!\"&$L$1&G217)/'Cover Sheet'!$C$29","v":{"$error":"#DIV/0!"}},22]
["NST01A","03",{"$f":"'Cover Sheet'!$C$17","v":0},{"$f":"'Cover Sheet'!$C$26","v":"00:00:00"},3]
["NST01A","03a",{"$f":"'Cover Sheet'!$C$17","v":0},{"$f":"'Cover Sheet'!$C$26","v":"00:00:00"},3,{"$f":"INDIRECT($I$1&\"!\"&$L$1&G219)/'Cover Sheet'!$C$29","v":{"$error":"#DIV/0!"}},26]
["NST01A","03b",{"$f":"'Cover Sheet'!$C$17","v":0},{"$f":"'Cover Sheet'!$C$26","v":"00:00:00"},3,{"$f":"INDIRECT($I$1&\"!\"&$L$1&G220)/'Cover Sheet'!$C$29","v":{"$error":"#DIV/0!"}},27]
["NST01A","03c",{"$f":"'Cover Sheet'!$C$17","v":0},{"$f":"'Cover Sheet'!$C$26","v":"00:00:00"},3,{"$f":"INDIRECT($I$1&\"!\"&$L$1&G221)/'Cover Sheet'!$C$29","v":{"$error":"#DIV/0!"}},28]
["NST01A","03d",{"$f":"'Cover Sheet'!$C$17","v":0},{"$f":"'Cover Sheet'!$C$26","v":"00:00:00"},3,{"$f":"INDIRECT($I$1&\"!\"&$L$1&G222)/'Cover Sheet'!$C$29","v":{"$error":"#DIV/0!"}},29]
["NST01A","03e",{"$f":"'Cover Sheet'!$C$17","v":0},{"$f":"'Cover Sheet'!$C$26","v":"00:00:00"},3,{"$f":"INDIRECT($I$1&\"!\"&$L$1&G223)/'Cover Sheet'!$C$29","v":{"$error":"#DIV/0!"}},30]
["NST01A","04",{"$f":"'Cover Sheet'!$C$17","v":0},{"$f":"'Cover Sheet'!$C$26","v":"00:00:00"},3]
["NST01A","04a",{"$f":"'Cover Sheet'!$C$17","v":0},{"$f":"'Cover Sheet'!$C$26","v":"00:00:00"},3,{"$f":"INDIRECT($I$1&\"!\"&$L$1&G225)/'Cover Sheet'!$C$29","v":{"$error":"#DIV/0!"}},34]
["NST01A","04b",{"$f":"'Cover Sheet'!$C$17","v":0},{"$f":"'Cover Sheet'!$C$26","v":"00:00:00"},3,{"$f":"INDIRECT($I$1&\"!\"&$L$1&G226)/'Cover Sheet'!$C$29","v":{"$error":"#DIV/0!"}},35]
["NST01A","04c",{"$f":"'Cover Sheet'!$C$17","v":0},{"$f":"'Cover Sheet'!$C$26","v":"00:00:00"},3,{"$f":"INDIRECT($I$1&\"!\"&$L$1&G227)/'Cover Sheet'!$C$29","v":{"$error":"#DIV/0!"}},36]
["NST01A","04d",{"$f":"'Cover Sheet'!$C$17","v":0},{"$f":"'Cover Sheet'!$C$26","v":"00:00:00"},3,{"$f":"INDIRECT($I$1&\"!\"&$L$1&G228)/'Cover Sheet'!$C$29","v":{"$error":"#DIV/0!"}},37]
["NST01A","04e",{"$f":"'Cover Sheet'!$C$17","v":0},{"$f":"'Cover Sheet'!$C$26","v":"00:00:00"},3,{"$f":"INDIRECT($I$1&\"!\"&$L$1&G229)/'Cover Sheet'!$C$29","v":{"$error":"#DIV/0!"}},38]
["NST01A","05",{"$f":"'Cover Sheet'!$C$17","v":0},{"$f":"'Cover Sheet'!$C$26","v":"00:00:00"},3]
["NST01A","05a",{"$f":"'Cover Sheet'!$C$17","v":0},{"$f":"'Cover Sheet'!$C$26","v":"00:00:00"},3,{"$f":"INDIRECT($I$1&\"!\"&$L$1&G231)/'Cover Sheet'!$C$29","v":{"$error":"#DIV/0!"}},42]
["NST01A","05b",{"$f":"'Cover Sheet'!$C$17","v":0},{"$f":"'Cover Sheet'!$C$26","v":"00:00:00"},3,{"$f":"INDIRECT($I$1&\"!\"&$L$1&G232)/'Cover Sheet'!$C$29","v":{"$error":"#DIV/0!"}},43]
["NST01A","05c",{"$f":"'Cover Sheet'!$C$17","v":0},{"$f":"'Cover Sheet'!$C$26","v":"00:00:00"},3,{"$f":"INDIRECT($I$1&\"!\"&$L$1&G233)/'Cover Sheet'!$C$29","v":{"$error":"#DIV/0!"}},44]
["NST01A","05d",{"$f":"'Cover Sheet'!$C$17","v":0},{"$f":"'Cover Sheet'!$C$26","v":"00:00:00"},3,{"$f":"INDIRECT($I$1&\"!\"&$L$1&G234)/'Cover Sheet'!$C$29","v":{"$error":"#DIV/0!"}},45]
["NST01A","05e",{"$f":"'Cover Sheet'!$C$17","v":0},{"$f":"'Cover Sheet'!$C$26","v":"00:00:00"},3,{"$f":"INDIRECT($I$1&\"!\"&$L$1&G235)/'Cover Sheet'!$C$29","v":{"$error":"#DIV/0!"}},46]
["NST01A","06",{"$f":"'Cover Sheet'!$C$17","v":0},{"$f":"'Cover Sheet'!$C$26","v":"00:00:00"},3]
["NST01A","06a",{"$f":"'Cover Sheet'!$C$17","v":0},{"$f":"'Cover Sheet'!$C$26","v":"00:00:00"},3,{"$f":"INDIRECT($I$1&\"!\"&$L$1&G237)/'Cover Sheet'!$C$29","v":{"$error":"#DIV/0!"}},50]
["NST01A","06b",{"$f":"'Cover Sheet'!$C$17","v":0},{"$f":"'Cover Sheet'!$C$26","v":"00:00:00"},3,{"$f":"INDIRECT($I$1&\"!\"&$L$1&G238)/'Cover Sheet'!$C$29","v":{"$error":"#DIV/0!"}},51]
["NST01A","06c",{"$f":"'Cover Sheet'!$C$17","v":0},{"$f":"'Cover Sheet'!$C$26","v":"00:00:00"},3,{"$f":"INDIRECT($I$1&\"!\"&$L$1&G239)/'Cover Sheet'!$C$29","v":{"$error":"#DIV/0!"}},52]
["NST01A","06d",{"$f":"'Cover Sheet'!$C$17","v":0},{"$f":"'Cover Sheet'!$C$26","v":"00:00:00"},3,{"$f":"INDIRECT($I$1&\"!\"&$L$1&G240)/'Cover Sheet'!$C$29","v":{"$error":"#DIV/0!"}},53]
["NST01A","06e",{"$f":"'Cover Sheet'!$C$17","v":0},{"$f":"'Cover Sheet'!$C$26","v":"00:00:00"},3,{"$f":"INDIRECT($I$1&\"!\"&$L$1&G241)/'Cover Sheet'!$C$29","v":{"$error":"#DIV/0!"}},54]
["NST01A","07",{"$f":"'Cover Sheet'!$C$17","v":0},{"$f":"'Cover Sheet'!$C$26","v":"00:00:00"},3]
["NST01A","07a",{"$f":"'Cover Sheet'!$C$17","v":0},{"$f":"'Cover Sheet'!$C$26","v":"00:00:00"},3,{"$f":"INDIRECT($I$1&\"!\"&$L$1&G243)/'Cover Sheet'!$C$29","v":{"$error":"#DIV/0!"}},58]
["NST01A","07b",{"$f":"'Cover Sheet'!$C$17","v":0},{"$f":"'Cover Sheet'!$C$26","v":"00:00:00"},3,{"$f":"INDIRECT($I$1&\"!\"&$L$1&G244)/'Cover Sheet'!$C$29","v":{"$error":"#DIV/0!"}},59]
["NST01A","07c",{"$f":"'Cover Sheet'!$C$17","v":0},{"$f":"'Cover Sheet'!$C$26","v":"00:00:00"},3,{"$f":"INDIRECT($I$1&\"!\"&$L$1&G245)/'Cover Sheet'!$C$29","v":{"$error":"#DIV/0!"}},60]
["NST01A","07d",{"$f":"'Cover Sheet'!$C$17","v":0},{"$f":"'Cover Sheet'!$C$26","v":"00:00:00"},3,{"$f":"INDIRECT($I$1&\"!\"&$L$1&G246)/'Cover Sheet'!$C$29","v":{"$error":"#DIV/0!"}},61]
["NST01A","07e",{"$f":"'Cover Sheet'!$C$17","v":0},{"$f":"'Cover Sheet'!$C$26","v":"00:00:00"},3,{"$f":"INDIRECT($I$1&\"!\"&$L$1&G247)/'Cover Sheet'!$C$29","v":{"$error":"#DIV/0!"}},62]
["NST01A","08",{"$f":"'Cover Sheet'!$C$17","v":0},{"$f":"'Cover Sheet'!$C$26","v":"00:00:00"},3]
["NST01A","08a",{"$f":"'Cover Sheet'!$C$17","v":0},{"$f":"'Cover Sheet'!$C$26","v":"00:00:00"},3,{"$f":"INDIRECT($I$1&\"!\"&$L$1&G249)/'Cover Sheet'!$C$29","v":{"$error":"#DIV/0!"}},66]
["NST01A","08b",{"$f":"'Cover Sheet'!$C$17","v":0},{"$f":"'Cover Sheet'!$C$26","v":"00:00:00"},3,{"$f":"INDIRECT($I$1&\"!\"&$L$1&G250)/'Cover Sheet'!$C$29","v":{"$error":"#DIV/0!"}},67]
["NST01A","08c",{"$f":"'Cover Sheet'!$C$17","v":0},{"$f":"'Cover Sheet'!$C$26","v":"00:00:00"},3,{"$f":"INDIRECT($I$1&\"!\"&$L$1&G251)/'Cover Sheet'!$C$29","v":{"$error":"#DIV/0!"}},68]
["NST01A","08d",{"$f":"'Cover Sheet'!$C$17","v":0},{"$f":"'Cover Sheet'!$C$26","v":"00:00:00"},3,{"$f":"INDIRECT($I$1&\"!\"&$L$1&G252)/'Cover Sheet'!$C$29","v":{"$error":"#DIV/0!"}},69]
["NST01A","08e",{"$f":"'Cover Sheet'!$C$17","v":0},{"$f":"'Cover Sheet'!$C$26","v":"00:00:00"},3,{"$f":"INDIRECT($I$1&\"!\"&$L$1&G253)/'Cover Sheet'!$C$29","v":{"$error":"#DIV/0!"}},70]
["NST01A","09",{"$f":"'Cover Sheet'!$C$17","v":0},{"$f":"'Cover Sheet'!$C$26","v":"00:00:00"},3]
["NST01A","09a",{"$f":"'Cover Sheet'!$C$17","v":0},{"$f":"'Cover Sheet'!$C$26","v":"00:00:00"},3,{"$f":"INDIRECT($I$1&\"!\"&$L$1&G255)/'Cover Sheet'!$C$29","v":{"$error":"#DIV/0!"}},74]
["NST01A","09b",{"$f":"'Cover Sheet'!$C$17","v":0},{"$f":"'Cover Sheet'!$C$26","v":"00:00:00"},3,{"$f":"INDIRECT($I$1&\"!\"&$L$1&G256)/'Cover Sheet'!$C$29","v":{"$error":"#DIV/0!"}},75]
["NST01A","09c",{"$f":"'Cover Sheet'!$C$17","v":0},{"$f":"'Cover Sheet'!$C$26","v":"00:00:00"},3,{"$f":"INDIRECT($I$1&\"!\"&$L$1&G257)/'Cover Sheet'!$C$29","v":{"$error":"#DIV/0!"}},76]
["NST01A","09d",{"$f":"'Cover Sheet'!$C$17","v":0},{"$f":"'Cover Sheet'!$C$26","v":"00:00:00"},3,{"$f":"INDIRECT($I$1&\"!\"&$L$1&G258)/'Cover Sheet'!$C$29","v":{"$error":"#DIV/0!"}},77]
["NST01A","09e",{"$f":"'Cover Sheet'!$C$17","v":0},{"$f":"'Cover Sheet'!$C$26","v":"00:00:00"},3,{"$f":"INDIRECT($I$1&\"!\"&$L$1&G259)/'Cover Sheet'!$C$29","v":{"$error":"#DIV/0!"}},78]
["NST01A","10",{"$f":"'Cover Sheet'!$C$17","v":0},{"$f":"'Cover Sheet'!$C$26","v":"00:00:00"},3]
["NST01A","10a",{"$f":"'Cover Sheet'!$C$17","v":0},{"$f":"'Cover Sheet'!$C$26","v":"00:00:00"},3,{"$f":"INDIRECT($I$1&\"!\"&$L$1&G261)/'Cover Sheet'!$C$29","v":{"$error":"#DIV/0!"}},82]
["NST01A","10b",{"$f":"'Cover Sheet'!$C$17","v":0},{"$f":"'Cover Sheet'!$C$26","v":"00:00:00"},3,{"$f":"INDIRECT($I$1&\"!\"&$L$1&G262)/'Cover Sheet'!$C$29","v":{"$error":"#DIV/0!"}},83]
["NST01A","10c",{"$f":"'Cover Sheet'!$C$17","v":0},{"$f":"'Cover Sheet'!$C$26","v":"00:00:00"},3,{"$f":"INDIRECT($I$1&\"!\"&$L$1&G263)/'Cover Sheet'!$C$29","v":{"$error":"#DIV/0!"}},84]
["NST01A","10d",{"$f":"'Cover Sheet'!$C$17","v":0},{"$f":"'Cover Sheet'!$C$26","v":"00:00:00"},3,{"$f":"INDIRECT($I$1&\"!\"&$L$1&G264)/'Cover Sheet'!$C$29","v":{"$error":"#DIV/0!"}},85]
["NST01A","10e",{"$f":"'Cover Sheet'!$C$17","v":0},{"$f":"'Cover Sheet'!$C$26","v":"00:00:00"},3,{"$f":"INDIRECT($I$1&\"!\"&$L$1&G265)/'Cover Sheet'!$C$29","v":{"$error":"#DIV/0!"}},86]
["NST01A","11",{"$f":"'Cover Sheet'!$C$17","v":0},{"$f":"'Cover Sheet'!$C$26","v":"00:00:00"},3]
["NST01A","11a",{"$f":"'Cover Sheet'!$C$17","v":0},{"$f":"'Cover Sheet'!$C$26","v":"00:00:00"},3,{"$f":"INDIRECT($I$1&\"!\"&$L$1&G267)/'Cover Sheet'!$C$29","v":{"$error":"#DIV/0!"}},90]
["NST01A","11b",{"$f":"'Cover Sheet'!$C$17","v":0},{"$f":"'Cover Sheet'!$C$26","v":"00:00:00"},3,{"$f":"INDIRECT($I$1&\"!\"&$L$1&G268)/'Cover Sheet'!$C$29","v":{"$error":"#DIV/0!"}},91]
["NST01A","11c",{"$f":"'Cover Sheet'!$C$17","v":0},{"$f":"'Cover Sheet'!$C$26","v":"00:00:00"},3,{"$f":"INDIRECT($I$1&\"!\"&$L$1&G269)/'Cover Sheet'!$C$29","v":{"$error":"#DIV/0!"}},92]
["NST01A","11d",{"$f":"'Cover Sheet'!$C$17","v":0},{"$f":"'Cover Sheet'!$C$26","v":"00:00:00"},3,{"$f":"INDIRECT($I$1&\"!\"&$L$1&G270)/'Cover Sheet'!$C$29","v":{"$error":"#DIV/0!"}},93]
["NST01A","11e",{"$f":"'Cover Sheet'!$C$17","v":0},{"$f":"'Cover Sheet'!$C$26","v":"00:00:00"},3,{"$f":"INDIRECT($I$1&\"!\"&$L$1&G271)/'Cover Sheet'!$C$29","v":{"$error":"#DIV/0!"}},94]
["NST01A","12",{"$f":"'Cover Sheet'!$C$17","v":0},{"$f":"'Cover Sheet'!$C$26","v":"00:00:00"},3]
["NST01A","12a",{"$f":"'Cover Sheet'!$C$17","v":0},{"$f":"'Cover Sheet'!$C$26","v":"00:00:00"},3,{"$f":"INDIRECT($I$1&\"!\"&$L$1&G273)/'Cover Sheet'!$C$29","v":{"$error":"#DIV/0!"}},98]
["NST01A","12b",{"$f":"'Cover Sheet'!$C$17","v":0},{"$f":"'Cover Sheet'!$C$26","v":"00:00:00"},3,{"$f":"INDIRECT($I$1&\"!\"&$L$1&G274)/'Cover Sheet'!$C$29","v":{"$error":"#DIV/0!"}},99]
["NST01A","12c",{"$f":"'Cover Sheet'!$C$17","v":0},{"$f":"'Cover Sheet'!$C$26","v":"00:00:00"},3,{"$f":"INDIRECT($I$1&\"!\"&$L$1&G275)/'Cover Sheet'!$C$29","v":{"$error":"#DIV/0!"}},100]
["NST01A","12d",{"$f":"'Cover Sheet'!$C$17","v":0},{"$f":"'Cover Sheet'!$C$26","v":"00:00:00"},3,{"$f":"INDIRECT($I$1&\"!\"&$L$1&G276)/'Cover Sheet'!$C$29","v":{"$error":"#DIV/0!"}},101]
["NST01A","12e",{"$f":"'Cover Sheet'!$C$17","v":0},{"$f":"'Cover Sheet'!$C$26","v":"00:00:00"},3,{"$f":"INDIRECT($I$1&\"!\"&$L$1&G277)/'Cover Sheet'!$C$29","v":{"$error":"#DIV/0!"}},102]
["NST01A","13",{"$f":"'Cover Sheet'!$C$17","v":0},{"$f":"'Cover Sheet'!$C$26","v":"00:00:00"},3]
["NST01A","13a",{"$f":"'Cover Sheet'!$C$17","v":0},{"$f":"'Cover Sheet'!$C$26","v":"00:00:00"},3,{"$f":"INDIRECT($I$1&\"!\"&$L$1&G279)/'Cover Sheet'!$C$29","v":{"$error":"#DIV/0!"}},106]
["NST01A","13b",{"$f":"'Cover Sheet'!$C$17","v":0},{"$f":"'Cover Sheet'!$C$26","v":"00:00:00"},3,{"$f":"INDIRECT($I$1&\"!\"&$L$1&G280)/'Cover Sheet'!$C$29","v":{"$error":"#DIV/0!"}},107]
["NST01A","13c",{"$f":"'Cover Sheet'!$C$17","v":0},{"$f":"'Cover Sheet'!$C$26","v":"00:00:00"},3,{"$f":"INDIRECT($I$1&\"!\"&$L$1&G281)/'Cover Sheet'!$C$29","v":{"$error":"#DIV/0!"}},108]
["NST01A","13d",{"$f":"'Cover Sheet'!$C$17","v":0},{"$f":"'Cover Sheet'!$C$26","v":"00:00:00"},3,{"$f":"INDIRECT($I$1&\"!\"&$L$1&G282)/'Cover Sheet'!$C$29","v":{"$error":"#DIV/0!"}},109]
["NST01A","13e",{"$f":"'Cover Sheet'!$C$17","v":0},{"$f":"'Cover Sheet'!$C$26","v":"00:00:00"},3,{"$f":"INDIRECT($I$1&\"!\"&$L$1&G283)/'Cover Sheet'!$C$29","v":{"$error":"#DIV/0!"}},110]
["NST01A",14,{"$f":"'Cover Sheet'!$C$17","v":0},{"$f":"'Cover Sheet'!$C$26","v":"00:00:00"},3]
["NST01A","14a",{"$f":"'Cover Sheet'!$C$17","v":0},{"$f":"'Cover Sheet'!$C$26","v":"00:00:00"},3,{"$f":"INDIRECT($I$1&\"!\"&$L$1&G285)/'Cover Sheet'!$C$29","v":{"$error":"#DIV/0!"}},114]
["NST01A","14b",{"$f":"'Cover Sheet'!$C$17","v":0},{"$f":"'Cover Sheet'!$C$26","v":"00:00:00"},3,{"$f":"INDIRECT($I$1&\"!\"&$L$1&G286)/'Cover Sheet'!$C$29","v":{"$error":"#DIV/0!"}},115]
["NST01A","14c",{"$f":"'Cover Sheet'!$C$17","v":0},{"$f":"'Cover Sheet'!$C$26","v":"00:00:00"},3,{"$f":"INDIRECT($I$1&\"!\"&$L$1&G287)/'Cover Sheet'!$C$29","v":{"$error":"#DIV/0!"}},116]
["NST01A","14d",{"$f":"'Cover Sheet'!$C$17","v":0},{"$f":"'Cover Sheet'!$C$26","v":"00:00:00"},3,{"$f":"INDIRECT($I$1&\"!\"&$L$1&G288)/'Cover Sheet'!$C$29","v":{"$error":"#DIV/0!"}},117]
["NST01A","14e",{"$f":"'Cover Sheet'!$C$17","v":0},{"$f":"'Cover Sheet'!$C$26","v":"00:00:00"},3,{"$f":"INDIRECT($I$1&\"!\"&$L$1&G289)/'Cover Sheet'!$C$29","v":{"$error":"#DIV/0!"}},118]
["NST01A",15,{"$f":"'Cover Sheet'!$C$17","v":0},{"$f":"'Cover Sheet'!$C$26","v":"00:00:00"},3]
["NST01A","15a",{"$f":"'Cover Sheet'!$C$17","v":0},{"$f":"'Cover Sheet'!$C$26","v":"00:00:00"},3,{"$f":"INDIRECT($I$1&\"!\"&$L$1&G291)/'Cover Sheet'!$C$29","v":{"$error":"#DIV/0!"}},122]
["NST01A","15b",{"$f":"'Cover Sheet'!$C$17","v":0},{"$f":"'Cover Sheet'!$C$26","v":"00:00:00"},3,{"$f":"INDIRECT($I$1&\"!\"&$L$1&G292)/'Cover Sheet'!$C$29","v":{"$error":"#DIV/0!"}},123]
["NST01A","15c",{"$f":"'Cover Sheet'!$C$17","v":0},{"$f":"'Cover Sheet'!$C$26","v":"00:00:00"},3,{"$f":"INDIRECT($I$1&\"!\"&$L$1&G293)/'Cover Sheet'!$C$29","v":{"$error":"#DIV/0!"}},124]
["NST01A","15d",{"$f":"'Cover Sheet'!$C$17","v":0},{"$f":"'Cover Sheet'!$C$26","v":"00:00:00"},3,{"$f":"INDIRECT($I$1&\"!\"&$L$1&G294)/'Cover Sheet'!$C$29","v":{"$error":"#DIV/0!"}},125]
["NST01A","15e",{"$f":"'Cover Sheet'!$C$17","v":0},{"$f":"'Cover Sheet'!$C$26","v":"00:00:00"},3,{"$f":"INDIRECT($I$1&\"!\"&$L$1&G295)/'Cover Sheet'!$C$29","v":{"$error":"#DIV/0!"}},126]
["NST01A",16,{"$f":"'Cover Sheet'!$C$17","v":0},{"$f":"'Cover Sheet'!$C$26","v":"00:00:00"},3]
["NST01A","16a",{"$f":"'Cover Sheet'!$C$17","v":0},{"$f":"'Cover Sheet'!$C$26","v":"00:00:00"},3,{"$f":"INDIRECT($I$1&\"!\"&$L$1&G297)/'Cover Sheet'!$C$29","v":{"$error":"#DIV/0!"}},130]
["NST01A","16b",{"$f":"'Cover Sheet'!$C$17","v":0},{"$f":"'Cover Sheet'!$C$26","v":"00:00:00"},3,{"$f":"INDIRECT($I$1&\"!\"&$L$1&G298)/'Cover Sheet'!$C$29","v":{"$error":"#DIV/0!"}},131]
["NST01A","16c",{"$f":"'Cover Sheet'!$C$17","v":0},{"$f":"'Cover Sheet'!$C$26","v":"00:00:00"},3,{"$f":"INDIRECT($I$1&\"!\"&$L$1&G299)/'Cover Sheet'!$C$29","v":{"$error":"#DIV/0!"}},132]
["NST01A","16d",{"$f":"'Cover Sheet'!$C$17","v":0},{"$f":"'Cover Sheet'!$C$26","v":"00:00:00"},3,{"$f":"INDIRECT($I$1&\"!\"&$L$1&G300)/'Cover Sheet'!$C$29","v":{"$error":"#DIV/0!"}},133]
["NST01A","16e",{"$f":"'Cover Sheet'!$C$17","v":0},{"$f":"'Cover Sheet'!$C$26","v":"00:00:00"},3,{"$f":"INDIRECT($I$1&\"!\"&$L$1&G301)/'Cover Sheet'!$C$29","v":{"$error":"#DIV/0!"}},134]
["NST01A",17,{"$f":"'Cover Sheet'!$C$17","v":0},{"$f":"'Cover Sheet'!$C$26","v":"00:00:00"},3]
["NST01A","17a",{"$f":"'Cover Sheet'!$C$17","v":0},{"$f":"'Cover Sheet'!$C$26","v":"00:00:00"},3,{"$f":"INDIRECT($I$1&\"!\"&$L$1&G303)/'Cover Sheet'!$C$29","v":{"$error":"#DIV/0!"}},138]
["NST01A","17b",{"$f":"'Cover Sheet'!$C$17","v":0},{"$f":"'Cover Sheet'!$C$26","v":"00:00:00"},3,{"$f":"INDIRECT($I$1&\"!\"&$L$1&G304)/'Cover Sheet'!$C$29","v":{"$error":"#DIV/0!"}},139]
["NST01A","17c",{"$f":"'Cover Sheet'!$C$17","v":0},{"$f":"'Cover Sheet'!$C$26","v":"00:00:00"},3,{"$f":"INDIRECT($I$1&\"!\"&$L$1&G305)/'Cover Sheet'!$C$29","v":{"$error":"#DIV/0!"}},140]
["NST01A","17d",{"$f":"'Cover Sheet'!$C$17","v":0},{"$f":"'Cover Sheet'!$C$26","v":"00:00:00"},3,{"$f":"INDIRECT($I$1&\"!\"&$L$1&G306)/'Cover Sheet'!$C$29","v":{"$error":"#DIV/0!"}},141]
["NST01A","17e",{"$f":"'Cover Sheet'!$C$17","v":0},{"$f":"'Cover Sheet'!$C$26","v":"00:00:00"},3,{"$f":"INDIRECT($I$1&\"!\"&$L$1&G307)/'Cover Sheet'!$C$29","v":{"$error":"#DIV/0!"}},142]
["NST01A","01",{"$f":"'Cover Sheet'!$C$17","v":0},{"$f":"'Cover Sheet'!$C$26","v":"00:00:00"},4]
["NST01A","01a",{"$f":"'Cover Sheet'!$C$17","v":0},{"$f":"'Cover Sheet'!$C$26","v":"00:00:00"},4,{"$f":"INDIRECT($I$1&\"!\"&$M$1&G309)/'Cover Sheet'!$C$29","v":{"$error":"#DIV/0!"}},10]
["NST01A","01b",{"$f":"'Cover Sheet'!$C$17","v":0},{"$f":"'Cover Sheet'!$C$26","v":"00:00:00"},4,{"$f":"INDIRECT($I$1&\"!\"&$M$1&G310)/'Cover Sheet'!$C$29","v":{"$error":"#DIV/0!"}},11]
["NST01A","01c",{"$f":"'Cover Sheet'!$C$17","v":0},{"$f":"'Cover Sheet'!$C$26","v":"00:00:00"},4,{"$f":"INDIRECT($I$1&\"!\"&$M$1&G311)/'Cover Sheet'!$C$29","v":{"$error":"#DIV/0!"}},12]
["NST01A","01d",{"$f":"'Cover Sheet'!$C$17","v":0},{"$f":"'Cover Sheet'!$C$26","v":"00:00:00"},4,{"$f":"INDIRECT($I$1&\"!\"&$M$1&G312)/'Cover Sheet'!$C$29","v":{"$error":"#DIV/0!"}},13]
["NST01A","01e",{"$f":"'Cover Sheet'!$C$17","v":0},{"$f":"'Cover Sheet'!$C$26","v":"00:00:00"},4,{"$f":"INDIRECT($I$1&\"!\"&$M$1&G313)/'Cover Sheet'!$C$29","v":{"$error":"#DIV/0!"}},14]
["NST01A","02",{"$f":"'Cover Sheet'!$C$17","v":0},{"$f":"'Cover Sheet'!$C$26","v":"00:00:00"},4]
["NST01A","02a",{"$f":"'Cover Sheet'!$C$17","v":0},{"$f":"'Cover Sheet'!$C$26","v":"00:00:00"},4,{"$f":"INDIRECT($I$1&\"!\"&$M$1&G315)/'Cover Sheet'!$C$29","v":{"$error":"#DIV/0!"}},18]
["NST01A","02b",{"$f":"'Cover Sheet'!$C$17","v":0},{"$f":"'Cover Sheet'!$C$26","v":"00:00:00"},4,{"$f":"INDIRECT($I$1&\"!\"&$M$1&G316)/'Cover Sheet'!$C$29","v":{"$error":"#DIV/0!"}},19]
["NST01A","02c",{"$f":"'Cover Sheet'!$C$17","v":0},{"$f":"'Cover Sheet'!$C$26","v":"00:00:00"},4,{"$f":"INDIRECT($I$1&\"!\"&$M$1&G317)/'Cover Sheet'!$C$29","v":{"$error":"#DIV/0!"}},20]
["NST01A","02d",{"$f":"'Cover Sheet'!$C$17","v":0},{"$f":"'Cover Sheet'!$C$26","v":"00:00:00"},4,{"$f":"INDIRECT($I$1&\"!\"&$M$1&G318)/'Cover Sheet'!$C$29","v":{"$error":"#DIV/0!"}},21]
["NST01A","02e",{"$f":"'Cover Sheet'!$C$17","v":0},{"$f":"'Cover Sheet'!$C$26","v":"00:00:00"},4,{"$f":"INDIRECT($I$1&\"!\"&$M$1&G319)/'Cover Sheet'!$C$29","v":{"$error":"#DIV/0!"}},22]
["NST01A","03",{"$f":"'Cover Sheet'!$C$17","v":0},{"$f":"'Cover Sheet'!$C$26","v":"00:00:00"},4]
["NST01A","03a",{"$f":"'Cover Sheet'!$C$17","v":0},{"$f":"'Cover Sheet'!$C$26","v":"00:00:00"},4,{"$f":"INDIRECT($I$1&\"!\"&$M$1&G321)/'Cover Sheet'!$C$29","v":{"$error":"#DIV/0!"}},26]
["NST01A","03b",{"$f":"'Cover Sheet'!$C$17","v":0},{"$f":"'Cover Sheet'!$C$26","v":"00:00:00"},4,{"$f":"INDIRECT($I$1&\"!\"&$M$1&G322)/'Cover Sheet'!$C$29","v":{"$error":"#DIV/0!"}},27]
["NST01A","03c",{"$f":"'Cover Sheet'!$C$17","v":0},{"$f":"'Cover Sheet'!$C$26","v":"00:00:00"},4,{"$f":"INDIRECT($I$1&\"!\"&$M$1&G323)/'Cover Sheet'!$C$29","v":{"$error":"#DIV/0!"}},28]
["NST01A","03d",{"$f":"'Cover Sheet'!$C$17","v":0},{"$f":"'Cover Sheet'!$C$26","v":"00:00:00"},4,{"$f":"INDIRECT($I$1&\"!\"&$M$1&G324)/'Cover Sheet'!$C$29","v":{"$error":"#DIV/0!"}},29]
["NST01A","03e",{"$f":"'Cover Sheet'!$C$17","v":0},{"$f":"'Cover Sheet'!$C$26","v":"00:00:00"},4,{"$f":"INDIRECT($I$1&\"!\"&$M$1&G325)/'Cover Sheet'!$C$29","v":{"$error":"#DIV/0!"}},30]
["NST01A","04",{"$f":"'Cover Sheet'!$C$17","v":0},{"$f":"'Cover Sheet'!$C$26","v":"00:00:00"},4]
["NST01A","04a",{"$f":"'Cover Sheet'!$C$17","v":0},{"$f":"'Cover Sheet'!$C$26","v":"00:00:00"},4,{"$f":"INDIRECT($I$1&\"!\"&$M$1&G327)/'Cover Sheet'!$C$29","v":{"$error":"#DIV/0!"}},34]
["NST01A","04b",{"$f":"'Cover Sheet'!$C$17","v":0},{"$f":"'Cover Sheet'!$C$26","v":"00:00:00"},4,{"$f":"INDIRECT($I$1&\"!\"&$M$1&G328)/'Cover Sheet'!$C$29","v":{"$error":"#DIV/0!"}},35]
["NST01A","04c",{"$f":"'Cover Sheet'!$C$17","v":0},{"$f":"'Cover Sheet'!$C$26","v":"00:00:00"},4,{"$f":"INDIRECT($I$1&\"!\"&$M$1&G329)/'Cover Sheet'!$C$29","v":{"$error":"#DIV/0!"}},36]
["NST01A","04d",{"$f":"'Cover Sheet'!$C$17","v":0},{"$f":"'Cover Sheet'!$C$26","v":"00:00:00"},4,{"$f":"INDIRECT($I$1&\"!\"&$M$1&G330)/'Cover Sheet'!$C$29","v":{"$error":"#DIV/0!"}},37]
["NST01A","04e",{"$f":"'Cover Sheet'!$C$17","v":0},{"$f":"'Cover Sheet'!$C$26","v":"00:00:00"},4,{"$f":"INDIRECT($I$1&\"!\"&$M$1&G331)/'Cover Sheet'!$C$29","v":{"$error":"#DIV/0!"}},38]
["NST01A","05",{"$f":"'Cover Sheet'!$C$17","v":0},{"$f":"'Cover Sheet'!$C$26","v":"00:00:00"},4]
["NST01A","05a",{"$f":"'Cover Sheet'!$C$17","v":0},{"$f":"'Cover Sheet'!$C$26","v":"00:00:00"},4,{"$f":"INDIRECT($I$1&\"!\"&$M$1&G333)/'Cover Sheet'!$C$29","v":{"$error":"#DIV/0!"}},42]
["NST01A","05b",{"$f":"'Cover Sheet'!$C$17","v":0},{"$f":"'Cover Sheet'!$C$26","v":"00:00:00"},4,{"$f":"INDIRECT($I$1&\"!\"&$M$1&G334)/'Cover Sheet'!$C$29","v":{"$error":"#DIV/0!"}},43]
["NST01A","05c",{"$f":"'Cover Sheet'!$C$17","v":0},{"$f":"'Cover Sheet'!$C$26","v":"00:00:00"},4,{"$f":"INDIRECT($I$1&\"!\"&$M$1&G335)/'Cover Sheet'!$C$29","v":{"$error":"#DIV/0!"}},44]
["NST01A","05d",{"$f":"'Cover Sheet'!$C$17","v":0},{"$f":"'Cover Sheet'!$C$26","v":"00:00:00"},4,{"$f":"INDIRECT($I$1&\"!\"&$M$1&G336)/'Cover Sheet'!$C$29","v":{"$error":"#DIV/0!"}},45]
["NST01A","05e",{"$f":"'Cover Sheet'!$C$17","v":0},{"$f":"'Cover Sheet'!$C$26","v":"00:00:00"},4,{"$f":"INDIRECT($I$1&\"!\"&$M$1&G337)/'Cover Sheet'!$C$29","v":{"$error":"#DIV/0!"}},46]
["NST01A","06",{"$f":"'Cover Sheet'!$C$17","v":0},{"$f":"'Cover Sheet'!$C$26","v":"00:00:00"},4]
["NST01A","06a",{"$f":"'Cover Sheet'!$C$17","v":0},{"$f":"'Cover Sheet'!$C$26","v":"00:00:00"},4,{"$f":"INDIRECT($I$1&\"!\"&$M$1&G339)/'Cover Sheet'!$C$29","v":{"$error":"#DIV/0!"}},50]
["NST01A","06b",{"$f":"'Cover Sheet'!$C$17","v":0},{"$f":"'Cover Sheet'!$C$26","v":"00:00:00"},4,{"$f":"INDIRECT($I$1&\"!\"&$M$1&G340)/'Cover Sheet'!$C$29","v":{"$error":"#DIV/0!"}},51]
["NST01A","06c",{"$f":"'Cover Sheet'!$C$17","v":0},{"$f":"'Cover Sheet'!$C$26","v":"00:00:00"},4,{"$f":"INDIRECT($I$1&\"!\"&$M$1&G341)/'Cover Sheet'!$C$29","v":{"$error":"#DIV/0!"}},52]
["NST01A","06d",{"$f":"'Cover Sheet'!$C$17","v":0},{"$f":"'Cover Sheet'!$C$26","v":"00:00:00"},4,{"$f":"INDIRECT($I$1&\"!\"&$M$1&G342)/'Cover Sheet'!$C$29","v":{"$error":"#DIV/0!"}},53]
["NST01A","06e",{"$f":"'Cover Sheet'!$C$17","v":0},{"$f":"'Cover Sheet'!$C$26","v":"00:00:00"},4,{"$f":"INDIRECT($I$1&\"!\"&$M$1&G343)/'Cover Sheet'!$C$29","v":{"$error":"#DIV/0!"}},54]
["NST01A","07",{"$f":"'Cover Sheet'!$C$17","v":0},{"$f":"'Cover Sheet'!$C$26","v":"00:00:00"},4]
["NST01A","07a",{"$f":"'Cover Sheet'!$C$17","v":0},{"$f":"'Cover Sheet'!$C$26","v":"00:00:00"},4,{"$f":"INDIRECT($I$1&\"!\"&$M$1&G345)/'Cover Sheet'!$C$29","v":{"$error":"#DIV/0!"}},58]
["NST01A","07b",{"$f":"'Cover Sheet'!$C$17","v":0},{"$f":"'Cover Sheet'!$C$26","v":"00:00:00"},4,{"$f":"INDIRECT($I$1&\"!\"&$M$1&G346)/'Cover Sheet'!$C$29","v":{"$error":"#DIV/0!"}},59]
["NST01A","07c",{"$f":"'Cover Sheet'!$C$17","v":0},{"$f":"'Cover Sheet'!$C$26","v":"00:00:00"},4,{"$f":"INDIRECT($I$1&\"!\"&$M$1&G347)/'Cover Sheet'!$C$29","v":{"$error":"#DIV/0!"}},60]
["NST01A","07d",{"$f":"'Cover Sheet'!$C$17","v":0},{"$f":"'Cover Sheet'!$C$26","v":"00:00:00"},4,{"$f":"INDIRECT($I$1&\"!\"&$M$1&G348)/'Cover Sheet'!$C$29","v":{"$error":"#DIV/0!"}},61]
["NST01A","07e",{"$f":"'Cover Sheet'!$C$17","v":0},{"$f":"'Cover Sheet'!$C$26","v":"00:00:00"},4,{"$f":"INDIRECT($I$1&\"!\"&$M$1&G349)/'Cover Sheet'!$C$29","v":{"$error":"#DIV/0!"}},62]
["NST01A","08",{"$f":"'Cover Sheet'!$C$17","v":0},{"$f":"'Cover Sheet'!$C$26","v":"00:00:00"},4]
["NST01A","08a",{"$f":"'Cover Sheet'!$C$17","v":0},{"$f":"'Cover Sheet'!$C$26","v":"00:00:00"},4,{"$f":"INDIRECT($I$1&\"!\"&$M$1&G351)/'Cover Sheet'!$C$29","v":{"$error":"#DIV/0!"}},66]
["NST01A","08b",{"$f":"'Cover Sheet'!$C$17","v":0},{"$f":"'Cover Sheet'!$C$26","v":"00:00:00"},4,{"$f":"INDIRECT($I$1&\"!\"&$M$1&G352)/'Cover Sheet'!$C$29","v":{"$error":"#DIV/0!"}},67]
["NST01A","08c",{"$f":"'Cover Sheet'!$C$17","v":0},{"$f":"'Cover Sheet'!$C$26","v":"00:00:00"},4,{"$f":"INDIRECT($I$1&\"!\"&$M$1&G353)/'Cover Sheet'!$C$29","v":{"$error":"#DIV/0!"}},68]
["NST01A","08d",{"$f":"'Cover Sheet'!$C$17","v":0},{"$f":"'Cover Sheet'!$C$26","v":"00:00:00"},4,{"$f":"INDIRECT($I$1&\"!\"&$M$1&G354)/'Cover Sheet'!$C$29","v":{"$error":"#DIV/0!"}},69]
["NST01A","08e",{"$f":"'Cover Sheet'!$C$17","v":0},{"$f":"'Cover Sheet'!$C$26","v":"00:00:00"},4,{"$f":"INDIRECT($I$1&\"!\"&$M$1&G355)/'Cover Sheet'!$C$29","v":{"$error":"#DIV/0!"}},70]
["NST01A","09",{"$f":"'Cover Sheet'!$C$17","v":0},{"$f":"'Cover Sheet'!$C$26","v":"00:00:00"},4]
["NST01A","09a",{"$f":"'Cover Sheet'!$C$17","v":0},{"$f":"'Cover Sheet'!$C$26","v":"00:00:00"},4,{"$f":"INDIRECT($I$1&\"!\"&$M$1&G357)/'Cover Sheet'!$C$29","v":{"$error":"#DIV/0!"}},74]
["NST01A","09b",{"$f":"'Cover Sheet'!$C$17","v":0},{"$f":"'Cover Sheet'!$C$26","v":"00:00:00"},4,{"$f":"INDIRECT($I$1&\"!\"&$M$1&G358)/'Cover Sheet'!$C$29","v":{"$error":"#DIV/0!"}},75]
["NST01A","09c",{"$f":"'Cover Sheet'!$C$17","v":0},{"$f":"'Cover Sheet'!$C$26","v":"00:00:00"},4,{"$f":"INDIRECT($I$1&\"!\"&$M$1&G359)/'Cover Sheet'!$C$29","v":{"$error":"#DIV/0!"}},76]
["NST01A","09d",{"$f":"'Cover Sheet'!$C$17","v":0},{"$f":"'Cover Sheet'!$C$26","v":"00:00:00"},4,{"$f":"INDIRECT($I$1&\"!\"&$M$1&G360)/'Cover Sheet'!$C$29","v":{"$error":"#DIV/0!"}},77]
["NST01A","09e",{"$f":"'Cover Sheet'!$C$17","v":0},{"$f":"'Cover Sheet'!$C$26","v":"00:00:00"},4,{"$f":"INDIRECT($I$1&\"!\"&$M$1&G361)/'Cover Sheet'!$C$29","v":{"$error":"#DIV/0!"}},78]
["NST01A","10",{"$f":"'Cover Sheet'!$C$17","v":0},{"$f":"'Cover Sheet'!$C$26","v":"00:00:00"},4]
["NST01A","10a",{"$f":"'Cover Sheet'!$C$17","v":0},{"$f":"'Cover Sheet'!$C$26","v":"00:00:00"},4,{"$f":"INDIRECT($I$1&\"!\"&$M$1&G363)/'Cover Sheet'!$C$29","v":{"$error":"#DIV/0!"}},82]
["NST01A","10b",{"$f":"'Cover Sheet'!$C$17","v":0},{"$f":"'Cover Sheet'!$C$26","v":"00:00:00"},4,{"$f":"INDIRECT($I$1&\"!\"&$M$1&G364)/'Cover Sheet'!$C$29","v":{"$error":"#DIV/0!"}},83]
["NST01A","10c",{"$f":"'Cover Sheet'!$C$17","v":0},{"$f":"'Cover Sheet'!$C$26","v":"00:00:00"},4,{"$f":"INDIRECT($I$1&\"!\"&$M$1&G365)/'Cover Sheet'!$C$29","v":{"$error":"#DIV/0!"}},84]
["NST01A","10d",{"$f":"'Cover Sheet'!$C$17","v":0},{"$f":"'Cover Sheet'!$C$26","v":"00:00:00"},4,{"$f":"INDIRECT($I$1&\"!\"&$M$1&G366)/'Cover Sheet'!$C$29","v":{"$error":"#DIV/0!"}},85]
["NST01A","10e",{"$f":"'Cover Sheet'!$C$17","v":0},{"$f":"'Cover Sheet'!$C$26","v":"00:00:00"},4,{"$f":"INDIRECT($I$1&\"!\"&$M$1&G367)/'Cover Sheet'!$C$29","v":{"$error":"#DIV/0!"}},86]
["NST01A","11",{"$f":"'Cover Sheet'!$C$17","v":0},{"$f":"'Cover Sheet'!$C$26","v":"00:00:00"},4]
["NST01A","11a",{"$f":"'Cover Sheet'!$C$17","v":0},{"$f":"'Cover Sheet'!$C$26","v":"00:00:00"},4,{"$f":"INDIRECT($I$1&\"!\"&$M$1&G369)/'Cover Sheet'!$C$29","v":{"$error":"#DIV/0!"}},90]
["NST01A","11b",{"$f":"'Cover Sheet'!$C$17","v":0},{"$f":"'Cover Sheet'!$C$26","v":"00:00:00"},4,{"$f":"INDIRECT($I$1&\"!\"&$M$1&G370)/'Cover Sheet'!$C$29","v":{"$error":"#DIV/0!"}},91]
["NST01A","11c",{"$f":"'Cover Sheet'!$C$17","v":0},{"$f":"'Cover Sheet'!$C$26","v":"00:00:00"},4,{"$f":"INDIRECT($I$1&\"!\"&$M$1&G371)/'Cover Sheet'!$C$29","v":{"$error":"#DIV/0!"}},92]
["NST01A","11d",{"$f":"'Cover Sheet'!$C$17","v":0},{"$f":"'Cover Sheet'!$C$26","v":"00:00:00"},4,{"$f":"INDIRECT($I$1&\"!\"&$M$1&G372)/'Cover Sheet'!$C$29","v":{"$error":"#DIV/0!"}},93]
["NST01A","11e",{"$f":"'Cover Sheet'!$C$17","v":0},{"$f":"'Cover Sheet'!$C$26","v":"00:00:00"},4,{"$f":"INDIRECT($I$1&\"!\"&$M$1&G373)/'Cover Sheet'!$C$29","v":{"$error":"#DIV/0!"}},94]
["NST01A","12",{"$f":"'Cover Sheet'!$C$17","v":0},{"$f":"'Cover Sheet'!$C$26","v":"00:00:00"},4]
["NST01A","12a",{"$f":"'Cover Sheet'!$C$17","v":0},{"$f":"'Cover Sheet'!$C$26","v":"00:00:00"},4,{"$f":"INDIRECT($I$1&\"!\"&$M$1&G375)/'Cover Sheet'!$C$29","v":{"$error":"#DIV/0!"}},98]
["NST01A","12b",{"$f":"'Cover Sheet'!$C$17","v":0},{"$f":"'Cover Sheet'!$C$26","v":"00:00:00"},4,{"$f":"INDIRECT($I$1&\"!\"&$M$1&G376)/'Cover Sheet'!$C$29","v":{"$error":"#DIV/0!"}},99]
["NST01A","12c",{"$f":"'Cover Sheet'!$C$17","v":0},{"$f":"'Cover Sheet'!$C$26","v":"00:00:00"},4,{"$f":"INDIRECT($I$1&\"!\"&$M$1&G377)/'Cover Sheet'!$C$29","v":{"$error":"#DIV/0!"}},100]
["NST01A","12d",{"$f":"'Cover Sheet'!$C$17","v":0},{"$f":"'Cover Sheet'!$C$26","v":"00:00:00"},4,{"$f":"INDIRECT($I$1&\"!\"&$M$1&G378)/'Cover Sheet'!$C$29","v":{"$error":"#DIV/0!"}},101]
["NST01A","12e",{"$f":"'Cover Sheet'!$C$17","v":0},{"$f":"'Cover Sheet'!$C$26","v":"00:00:00"},4,{"$f":"INDIRECT($I$1&\"!\"&$M$1&G379)/'Cover Sheet'!$C$29","v":{"$error":"#DIV/0!"}},102]
["NST01A","13",{"$f":"'Cover Sheet'!$C$17","v":0},{"$f":"'Cover Sheet'!$C$26","v":"00:00:00"},4]
["NST01A","13a",{"$f":"'Cover Sheet'!$C$17","v":0},{"$f":"'Cover Sheet'!$C$26","v":"00:00:00"},4,{"$f":"INDIRECT($I$1&\"!\"&$M$1&G381)/'Cover Sheet'!$C$29","v":{"$error":"#DIV/0!"}},106]
["NST01A","13b",{"$f":"'Cover Sheet'!$C$17","v":0},{"$f":"'Cover Sheet'!$C$26","v":"00:00:00"},4,{"$f":"INDIRECT($I$1&\"!\"&$M$1&G382)/'Cover Sheet'!$C$29","v":{"$error":"#DIV/0!"}},107]
["NST01A","13c",{"$f":"'Cover Sheet'!$C$17","v":0},{"$f":"'Cover Sheet'!$C$26","v":"00:00:00"},4,{"$f":"INDIRECT($I$1&\"!\"&$M$1&G383)/'Cover Sheet'!$C$29","v":{"$error":"#DIV/0!"}},108]
["NST01A","13d",{"$f":"'Cover Sheet'!$C$17","v":0},{"$f":"'Cover Sheet'!$C$26","v":"00:00:00"},4,{"$f":"INDIRECT($I$1&\"!\"&$M$1&G384)/'Cover Sheet'!$C$29","v":{"$error":"#DIV/0!"}},109]
["NST01A","13e",{"$f":"'Cover Sheet'!$C$17","v":0},{"$f":"'Cover Sheet'!$C$26","v":"00:00:00"},4,{"$f":"INDIRECT($I$1&\"!\"&$M$1&G385)/'Cover Sheet'!$C$29","v":{"$error":"#DIV/0!"}},110]
["NST01A",14,{"$f":"'Cover Sheet'!$C$17","v":0},{"$f":"'Cover Sheet'!$C$26","v":"00:00:00"},4]
["NST01A","14a",{"$f":"'Cover Sheet'!$C$17","v":0},{"$f":"'Cover Sheet'!$C$26","v":"00:00:00"},4,{"$f":"INDIRECT($I$1&\"!\"&$M$1&G387)/'Cover Sheet'!$C$29","v":{"$error":"#DIV/0!"}},114]
["NST01A","14b",{"$f":"'Cover Sheet'!$C$17","v":0},{"$f":"'Cover Sheet'!$C$26","v":"00:00:00"},4,{"$f":"INDIRECT($I$1&\"!\"&$M$1&G388)/'Cover Sheet'!$C$29","v":{"$error":"#DIV/0!"}},115]
["NST01A","14c",{"$f":"'Cover Sheet'!$C$17","v":0},{"$f":"'Cover Sheet'!$C$26","v":"00:00:00"},4,{"$f":"INDIRECT($I$1&\"!\"&$M$1&G389)/'Cover Sheet'!$C$29","v":{"$error":"#DIV/0!"}},116]
["NST01A","14d",{"$f":"'Cover Sheet'!$C$17","v":0},{"$f":"'Cover Sheet'!$C$26","v":"00:00:00"},4,{"$f":"INDIRECT($I$1&\"!\"&$M$1&G390)/'Cover Sheet'!$C$29","v":{"$error":"#DIV/0!"}},117]
["NST01A","14e",{"$f":"'Cover Sheet'!$C$17","v":0},{"$f":"'Cover Sheet'!$C$26","v":"00:00:00"},4,{"$f":"INDIRECT($I$1&\"!\"&$M$1&G391)/'Cover Sheet'!$C$29","v":{"$error":"#DIV/0!"}},118]
["NST01A",15,{"$f":"'Cover Sheet'!$C$17","v":0},{"$f":"'Cover Sheet'!$C$26","v":"00:00:00"},4]
["NST01A","15a",{"$f":"'Cover Sheet'!$C$17","v":0},{"$f":"'Cover Sheet'!$C$26","v":"00:00:00"},4,{"$f":"INDIRECT($I$1&\"!\"&$M$1&G393)/'Cover Sheet'!$C$29","v":{"$error":"#DIV/0!"}},122]
["NST01A","15b",{"$f":"'Cover Sheet'!$C$17","v":0},{"$f":"'Cover Sheet'!$C$26","v":"00:00:00"},4,{"$f":"INDIRECT($I$1&\"!\"&$M$1&G394)/'Cover Sheet'!$C$29","v":{"$error":"#DIV/0!"}},123]
["NST01A","15c",{"$f":"'Cover Sheet'!$C$17","v":0},{"$f":"'Cover Sheet'!$C$26","v":"00:00:00"},4,{"$f":"INDIRECT($I$1&\"!\"&$M$1&G395)/'Cover Sheet'!$C$29","v":{"$error":"#DIV/0!"}},124]
["NST01A","15d",{"$f":"'Cover Sheet'!$C$17","v":0},{"$f":"'Cover Sheet'!$C$26","v":"00:00:00"},4,{"$f":"INDIRECT($I$1&\"!\"&$M$1&G396)/'Cover Sheet'!$C$29","v":{"$error":"#DIV/0!"}},125]
["NST01A","15e",{"$f":"'Cover Sheet'!$C$17","v":0},{"$f":"'Cover Sheet'!$C$26","v":"00:00:00"},4,{"$f":"INDIRECT($I$1&\"!\"&$M$1&G397)/'Cover Sheet'!$C$29","v":{"$error":"#DIV/0!"}},126]
["NST01A",16,{"$f":"'Cover Sheet'!$C$17","v":0},{"$f":"'Cover Sheet'!$C$26","v":"00:00:00"},4]
["NST01A","16a",{"$f":"'Cover Sheet'!$C$17","v":0},{"$f":"'Cover Sheet'!$C$26","v":"00:00:00"},4,{"$f":"INDIRECT($I$1&\"!\"&$M$1&G399)/'Cover Sheet'!$C$29","v":{"$error":"#DIV/0!"}},130]
["NST01A","16b",{"$f":"'Cover Sheet'!$C$17","v":0},{"$f":"'Cover Sheet'!$C$26","v":"00:00:00"},4,{"$f":"INDIRECT($I$1&\"!\"&$M$1&G400)/'Cover Sheet'!$C$29","v":{"$error":"#DIV/0!"}},131]
["NST01A","16c",{"$f":"'Cover Sheet'!$C$17","v":0},{"$f":"'Cover Sheet'!$C$26","v":"00:00:00"},4,{"$f":"INDIRECT($I$1&\"!\"&$M$1&G401)/'Cover Sheet'!$C$29","v":{"$error":"#DIV/0!"}},132]
["NST01A","16d",{"$f":"'Cover Sheet'!$C$17","v":0},{"$f":"'Cover Sheet'!$C$26","v":"00:00:00"},4,{"$f":"INDIRECT($I$1&\"!\"&$M$1&G402)/'Cover Sheet'!$C$29","v":{"$error":"#DIV/0!"}},133]
["NST01A","16e",{"$f":"'Cover Sheet'!$C$17","v":0},{"$f":"'Cover Sheet'!$C$26","v":"00:00:00"},4,{"$f":"INDIRECT($I$1&\"!\"&$M$1&G403)/'Cover Sheet'!$C$29","v":{"$error":"#DIV/0!"}},134]
["NST01A",17,{"$f":"'Cover Sheet'!$C$17","v":0},{"$f":"'Cover Sheet'!$C$26","v":"00:00:00"},4]
["NST01A","17a",{"$f":"'Cover Sheet'!$C$17","v":0},{"$f":"'Cover Sheet'!$C$26","v":"00:00:00"},4,{"$f":"INDIRECT($I$1&\"!\"&$M$1&G405)/'Cover Sheet'!$C$29","v":{"$error":"#DIV/0!"}},138]
["NST01A","17b",{"$f":"'Cover Sheet'!$C$17","v":0},{"$f":"'Cover Sheet'!$C$26","v":"00:00:00"},4,{"$f":"INDIRECT($I$1&\"!\"&$M$1&G406)/'Cover Sheet'!$C$29","v":{"$error":"#DIV/0!"}},139]
["NST01A","17c",{"$f":"'Cover Sheet'!$C$17","v":0},{"$f":"'Cover Sheet'!$C$26","v":"00:00:00"},4,{"$f":"INDIRECT($I$1&\"!\"&$M$1&G407)/'Cover Sheet'!$C$29","v":{"$error":"#DIV/0!"}},140]
["NST01A","17d",{"$f":"'Cover Sheet'!$C$17","v":0},{"$f":"'Cover Sheet'!$C$26","v":"00:00:00"},4,{"$f":"INDIRECT($I$1&\"!\"&$M$1&G408)/'Cover Sheet'!$C$29","v":{"$error":"#DIV/0!"}},141]
["NST01A","17e",{"$f":"'Cover Sheet'!$C$17","v":0},{"$f":"'Cover Sheet'!$C$26","v":"00:00:00"},4,{"$f":"INDIRECT($I$1&\"!\"&$M$1&G409)/'Cover Sheet'!$C$29","v":{"$error":"#DIV/0!"}},142]
["NST01A","01",{"$f":"'Cover Sheet'!$C$17","v":0},{"$f":"'Cover Sheet'!$C$26","v":"00:00:00"},5]
["NST01A","01a",{"$f":"'Cover Sheet'!$C$17","v":0},{"$f":"'Cover Sheet'!$C$26","v":"00:00:00"},5,{"$f":"INDIRECT($I$1&\"!\"&$N$1&G411)/'Cover Sheet'!$C$29","v":{"$error":"#DIV/0!"}},10]
["NST01A","01b",{"$f":"'Cover Sheet'!$C$17","v":0},{"$f":"'Cover Sheet'!$C$26","v":"00:00:00"},5,{"$f":"INDIRECT($I$1&\"!\"&$N$1&G412)/'Cover Sheet'!$C$29","v":{"$error":"#DIV/0!"}},11]
["NST01A","01c",{"$f":"'Cover Sheet'!$C$17","v":0},{"$f":"'Cover Sheet'!$C$26","v":"00:00:00"},5,{"$f":"INDIRECT($I$1&\"!\"&$N$1&G413)/'Cover Sheet'!$C$29","v":{"$error":"#DIV/0!"}},12]
["NST01A","01d",{"$f":"'Cover Sheet'!$C$17","v":0},{"$f":"'Cover Sheet'!$C$26","v":"00:00:00"},5,{"$f":"INDIRECT($I$1&\"!\"&$N$1&G414)/'Cover Sheet'!$C$29","v":{"$error":"#DIV/0!"}},13]
["NST01A","01e",{"$f":"'Cover Sheet'!$C$17","v":0},{"$f":"'Cover Sheet'!$C$26","v":"00:00:00"},5,{"$f":"INDIRECT($I$1&\"!\"&$N$1&G415)/'Cover Sheet'!$C$29","v":{"$error":"#DIV/0!"}},14]
["NST01A","02",{"$f":"'Cover Sheet'!$C$17","v":0},{"$f":"'Cover Sheet'!$C$26","v":"00:00:00"},5]
["NST01A","02a",{"$f":"'Cover Sheet'!$C$17","v":0},{"$f":"'Cover Sheet'!$C$26","v":"00:00:00"},5,{"$f":"INDIRECT($I$1&\"!\"&$N$1&G417)/'Cover Sheet'!$C$29","v":{"$error":"#DIV/0!"}},18]
["NST01A","02b",{"$f":"'Cover Sheet'!$C$17","v":0},{"$f":"'Cover Sheet'!$C$26","v":"00:00:00"},5,{"$f":"INDIRECT($I$1&\"!\"&$N$1&G418)/'Cover Sheet'!$C$29","v":{"$error":"#DIV/0!"}},19]
["NST01A","02c",{"$f":"'Cover Sheet'!$C$17","v":0},{"$f":"'Cover Sheet'!$C$26","v":"00:00:00"},5,{"$f":"INDIRECT($I$1&\"!\"&$N$1&G419)/'Cover Sheet'!$C$29","v":{"$error":"#DIV/0!"}},20]
["NST01A","02d",{"$f":"'Cover Sheet'!$C$17","v":0},{"$f":"'Cover Sheet'!$C$26","v":"00:00:00"},5,{"$f":"INDIRECT($I$1&\"!\"&$N$1&G420)/'Cover Sheet'!$C$29","v":{"$error":"#DIV/0!"}},21]
["NST01A","02e",{"$f":"'Cover Sheet'!$C$17","v":0},{"$f":"'Cover Sheet'!$C$26","v":"00:00:00"},5,{"$f":"INDIRECT($I$1&\"!\"&$N$1&G421)/'Cover Sheet'!$C$29","v":{"$error":"#DIV/0!"}},22]
["NST01A","03",{"$f":"'Cover Sheet'!$C$17","v":0},{"$f":"'Cover Sheet'!$C$26","v":"00:00:00"},5]
["NST01A","03a",{"$f":"'Cover Sheet'!$C$17","v":0},{"$f":"'Cover Sheet'!$C$26","v":"00:00:00"},5,{"$f":"INDIRECT($I$1&\"!\"&$N$1&G423)/'Cover Sheet'!$C$29","v":{"$error":"#DIV/0!"}},26]
["NST01A","03b",{"$f":"'Cover Sheet'!$C$17","v":0},{"$f":"'Cover Sheet'!$C$26","v":"00:00:00"},5,{"$f":"INDIRECT($I$1&\"!\"&$N$1&G424)/'Cover Sheet'!$C$29","v":{"$error":"#DIV/0!"}},27]
["NST01A","03c",{"$f":"'Cover Sheet'!$C$17","v":0},{"$f":"'Cover Sheet'!$C$26","v":"00:00:00"},5,{"$f":"INDIRECT($I$1&\"!\"&$N$1&G425)/'Cover Sheet'!$C$29","v":{"$error":"#DIV/0!"}},28]
["NST01A","03d",{"$f":"'Cover Sheet'!$C$17","v":0},{"$f":"'Cover Sheet'!$C$26","v":"00:00:00"},5,{"$f":"INDIRECT($I$1&\"!\"&$N$1&G426)/'Cover Sheet'!$C$29","v":{"$error":"#DIV/0!"}},29]
["NST01A","03e",{"$f":"'Cover Sheet'!$C$17","v":0},{"$f":"'Cover Sheet'!$C$26","v":"00:00:00"},5,{"$f":"INDIRECT($I$1&\"!\"&$N$1&G427)/'Cover Sheet'!$C$29","v":{"$error":"#DIV/0!"}},30]
["NST01A","04",{"$f":"'Cover Sheet'!$C$17","v":0},{"$f":"'Cover Sheet'!$C$26","v":"00:00:00"},5]
["NST01A","04a",{"$f":"'Cover Sheet'!$C$17","v":0},{"$f":"'Cover Sheet'!$C$26","v":"00:00:00"},5,{"$f":"INDIRECT($I$1&\"!\"&$N$1&G429)/'Cover Sheet'!$C$29","v":{"$error":"#DIV/0!"}},34]
["NST01A","04b",{"$f":"'Cover Sheet'!$C$17","v":0},{"$f":"'Cover Sheet'!$C$26","v":"00:00:00"},5,{"$f":"INDIRECT($I$1&\"!\"&$N$1&G430)/'Cover Sheet'!$C$29","v":{"$error":"#DIV/0!"}},35]
["NST01A","04c",{"$f":"'Cover Sheet'!$C$17","v":0},{"$f":"'Cover Sheet'!$C$26","v":"00:00:00"},5,{"$f":"INDIRECT($I$1&\"!\"&$N$1&G431)/'Cover Sheet'!$C$29","v":{"$error":"#DIV/0!"}},36]
["NST01A","04d",{"$f":"'Cover Sheet'!$C$17","v":0},{"$f":"'Cover Sheet'!$C$26","v":"00:00:00"},5,{"$f":"INDIRECT($I$1&\"!\"&$N$1&G432)/'Cover Sheet'!$C$29","v":{"$error":"#DIV/0!"}},37]
["NST01A","04e",{"$f":"'Cover Sheet'!$C$17","v":0},{"$f":"'Cover Sheet'!$C$26","v":"00:00:00"},5,{"$f":"INDIRECT($I$1&\"!\"&$N$1&G433)/'Cover Sheet'!$C$29","v":{"$error":"#DIV/0!"}},38]
["NST01A","05",{"$f":"'Cover Sheet'!$C$17","v":0},{"$f":"'Cover Sheet'!$C$26","v":"00:00:00"},5]
["NST01A","05a",{"$f":"'Cover Sheet'!$C$17","v":0},{"$f":"'Cover Sheet'!$C$26","v":"00:00:00"},5,{"$f":"INDIRECT($I$1&\"!\"&$N$1&G435)/'Cover Sheet'!$C$29","v":{"$error":"#DIV/0!"}},42]
["NST01A","05b",{"$f":"'Cover Sheet'!$C$17","v":0},{"$f":"'Cover Sheet'!$C$26","v":"00:00:00"},5,{"$f":"INDIRECT($I$1&\"!\"&$N$1&G436)/'Cover Sheet'!$C$29","v":{"$error":"#DIV/0!"}},43]
["NST01A","05c",{"$f":"'Cover Sheet'!$C$17","v":0},{"$f":"'Cover Sheet'!$C$26","v":"00:00:00"},5,{"$f":"INDIRECT($I$1&\"!\"&$N$1&G437)/'Cover Sheet'!$C$29","v":{"$error":"#DIV/0!"}},44]
["NST01A","05d",{"$f":"'Cover Sheet'!$C$17","v":0},{"$f":"'Cover Sheet'!$C$26","v":"00:00:00"},5,{"$f":"INDIRECT($I$1&\"!\"&$N$1&G438)/'Cover Sheet'!$C$29","v":{"$error":"#DIV/0!"}},45]
["NST01A","05e",{"$f":"'Cover Sheet'!$C$17","v":0},{"$f":"'Cover Sheet'!$C$26","v":"00:00:00"},5,{"$f":"INDIRECT($I$1&\"!\"&$N$1&G439)/'Cover Sheet'!$C$29","v":{"$error":"#DIV/0!"}},46]
["NST01A","06",{"$f":"'Cover Sheet'!$C$17","v":0},{"$f":"'Cover Sheet'!$C$26","v":"00:00:00"},5]
["NST01A","06a",{"$f":"'Cover Sheet'!$C$17","v":0},{"$f":"'Cover Sheet'!$C$26","v":"00:00:00"},5,{"$f":"INDIRECT($I$1&\"!\"&$N$1&G441)/'Cover Sheet'!$C$29","v":{"$error":"#DIV/0!"}},50]
["NST01A","06b",{"$f":"'Cover Sheet'!$C$17","v":0},{"$f":"'Cover Sheet'!$C$26","v":"00:00:00"},5,{"$f":"INDIRECT($I$1&\"!\"&$N$1&G442)/'Cover Sheet'!$C$29","v":{"$error":"#DIV/0!"}},51]
["NST01A","06c",{"$f":"'Cover Sheet'!$C$17","v":0},{"$f":"'Cover Sheet'!$C$26","v":"00:00:00"},5,{"$f":"INDIRECT($I$1&\"!\"&$N$1&G443)/'Cover Sheet'!$C$29","v":{"$error":"#DIV/0!"}},52]
["NST01A","06d",{"$f":"'Cover Sheet'!$C$17","v":0},{"$f":"'Cover Sheet'!$C$26","v":"00:00:00"},5,{"$f":"INDIRECT($I$1&\"!\"&$N$1&G444)/'Cover Sheet'!$C$29","v":{"$error":"#DIV/0!"}},53]
["NST01A","06e",{"$f":"'Cover Sheet'!$C$17","v":0},{"$f":"'Cover Sheet'!$C$26","v":"00:00:00"},5,{"$f":"INDIRECT($I$1&\"!\"&$N$1&G445)/'Cover Sheet'!$C$29","v":{"$error":"#DIV/0!"}},54]
["NST01A","07",{"$f":"'Cover Sheet'!$C$17","v":0},{"$f":"'Cover Sheet'!$C$26","v":"00:00:00"},5]
["NST01A","07a",{"$f":"'Cover Sheet'!$C$17","v":0},{"$f":"'Cover Sheet'!$C$26","v":"00:00:00"},5,{"$f":"INDIRECT($I$1&\"!\"&$N$1&G447)/'Cover Sheet'!$C$29","v":{"$error":"#DIV/0!"}},58]
["NST01A","07b",{"$f":"'Cover Sheet'!$C$17","v":0},{"$f":"'Cover Sheet'!$C$26","v":"00:00:00"},5,{"$f":"INDIRECT($I$1&\"!\"&$N$1&G448)/'Cover Sheet'!$C$29","v":{"$error":"#DIV/0!"}},59]
["NST01A","07c",{"$f":"'Cover Sheet'!$C$17","v":0},{"$f":"'Cover Sheet'!$C$26","v":"00:00:00"},5,{"$f":"INDIRECT($I$1&\"!\"&$N$1&G449)/'Cover Sheet'!$C$29","v":{"$error":"#DIV/0!"}},60]
["NST01A","07d",{"$f":"'Cover Sheet'!$C$17","v":0},{"$f":"'Cover Sheet'!$C$26","v":"00:00:00"},5,{"$f":"INDIRECT($I$1&\"!\"&$N$1&G450)/'Cover Sheet'!$C$29","v":{"$error":"#DIV/0!"}},61]
["NST01A","07e",{"$f":"'Cover Sheet'!$C$17","v":0},{"$f":"'Cover Sheet'!$C$26","v":"00:00:00"},5,{"$f":"INDIRECT($I$1&\"!\"&$N$1&G451)/'Cover Sheet'!$C$29","v":{"$error":"#DIV/0!"}},62]
["NST01A","08",{"$f":"'Cover Sheet'!$C$17","v":0},{"$f":"'Cover Sheet'!$C$26","v":"00:00:00"},5]
["NST01A","08a",{"$f":"'Cover Sheet'!$C$17","v":0},{"$f":"'Cover Sheet'!$C$26","v":"00:00:00"},5,{"$f":"INDIRECT($I$1&\"!\"&$N$1&G453)/'Cover Sheet'!$C$29","v":{"$error":"#DIV/0!"}},66]
["NST01A","08b",{"$f":"'Cover Sheet'!$C$17","v":0},{"$f":"'Cover Sheet'!$C$26","v":"00:00:00"},5,{"$f":"INDIRECT($I$1&\"!\"&$N$1&G454)/'Cover Sheet'!$C$29","v":{"$error":"#DIV/0!"}},67]
["NST01A","08c",{"$f":"'Cover Sheet'!$C$17","v":0},{"$f":"'Cover Sheet'!$C$26","v":"00:00:00"},5,{"$f":"INDIRECT($I$1&\"!\"&$N$1&G455)/'Cover Sheet'!$C$29","v":{"$error":"#DIV/0!"}},68]
["NST01A","08d",{"$f":"'Cover Sheet'!$C$17","v":0},{"$f":"'Cover Sheet'!$C$26","v":"00:00:00"},5,{"$f":"INDIRECT($I$1&\"!\"&$N$1&G456)/'Cover Sheet'!$C$29","v":{"$error":"#DIV/0!"}},69]
["NST01A","08e",{"$f":"'Cover Sheet'!$C$17","v":0},{"$f":"'Cover Sheet'!$C$26","v":"00:00:00"},5,{"$f":"INDIRECT($I$1&\"!\"&$N$1&G457)/'Cover Sheet'!$C$29","v":{"$error":"#DIV/0!"}},70]
["NST01A","09",{"$f":"'Cover Sheet'!$C$17","v":0},{"$f":"'Cover Sheet'!$C$26","v":"00:00:00"},5]
["NST01A","09a",{"$f":"'Cover Sheet'!$C$17","v":0},{"$f":"'Cover Sheet'!$C$26","v":"00:00:00"},5,{"$f":"INDIRECT($I$1&\"!\"&$N$1&G459)/'Cover Sheet'!$C$29","v":{"$error":"#DIV/0!"}},74]
["NST01A","09b",{"$f":"'Cover Sheet'!$C$17","v":0},{"$f":"'Cover Sheet'!$C$26","v":"00:00:00"},5,{"$f":"INDIRECT($I$1&\"!\"&$N$1&G460)/'Cover Sheet'!$C$29","v":{"$error":"#DIV/0!"}},75]
["NST01A","09c",{"$f":"'Cover Sheet'!$C$17","v":0},{"$f":"'Cover Sheet'!$C$26","v":"00:00:00"},5,{"$f":"INDIRECT($I$1&\"!\"&$N$1&G461)/'Cover Sheet'!$C$29","v":{"$error":"#DIV/0!"}},76]
["NST01A","09d",{"$f":"'Cover Sheet'!$C$17","v":0},{"$f":"'Cover Sheet'!$C$26","v":"00:00:00"},5,{"$f":"INDIRECT($I$1&\"!\"&$N$1&G462)/'Cover Sheet'!$C$29","v":{"$error":"#DIV/0!"}},77]
["NST01A","09e",{"$f":"'Cover Sheet'!$C$17","v":0},{"$f":"'Cover Sheet'!$C$26","v":"00:00:00"},5,{"$f":"INDIRECT($I$1&\"!\"&$N$1&G463)/'Cover Sheet'!$C$29","v":{"$error":"#DIV/0!"}},78]
["NST01A","10",{"$f":"'Cover Sheet'!$C$17","v":0},{"$f":"'Cover Sheet'!$C$26","v":"00:00:00"},5]
["NST01A","10a",{"$f":"'Cover Sheet'!$C$17","v":0},{"$f":"'Cover Sheet'!$C$26","v":"00:00:00"},5,{"$f":"INDIRECT($I$1&\"!\"&$N$1&G465)/'Cover Sheet'!$C$29","v":{"$error":"#DIV/0!"}},82]
["NST01A","10b",{"$f":"'Cover Sheet'!$C$17","v":0},{"$f":"'Cover Sheet'!$C$26","v":"00:00:00"},5,{"$f":"INDIRECT($I$1&\"!\"&$N$1&G466)/'Cover Sheet'!$C$29","v":{"$error":"#DIV/0!"}},83]
["NST01A","10c",{"$f":"'Cover Sheet'!$C$17","v":0},{"$f":"'Cover Sheet'!$C$26","v":"00:00:00"},5,{"$f":"INDIRECT($I$1&\"!\"&$N$1&G467)/'Cover Sheet'!$C$29","v":{"$error":"#DIV/0!"}},84]
["NST01A","10d",{"$f":"'Cover Sheet'!$C$17","v":0},{"$f":"'Cover Sheet'!$C$26","v":"00:00:00"},5,{"$f":"INDIRECT($I$1&\"!\"&$N$1&G468)/'Cover Sheet'!$C$29","v":{"$error":"#DIV/0!"}},85]
["NST01A","10e",{"$f":"'Cover Sheet'!$C$17","v":0},{"$f":"'Cover Sheet'!$C$26","v":"00:00:00"},5,{"$f":"INDIRECT($I$1&\"!\"&$N$1&G469)/'Cover Sheet'!$C$29","v":{"$error":"#DIV/0!"}},86]
["NST01A","11",{"$f":"'Cover Sheet'!$C$17","v":0},{"$f":"'Cover Sheet'!$C$26","v":"00:00:00"},5]
["NST01A","11a",{"$f":"'Cover Sheet'!$C$17","v":0},{"$f":"'Cover Sheet'!$C$26","v":"00:00:00"},5,{"$f":"INDIRECT($I$1&\"!\"&$N$1&G471)/'Cover Sheet'!$C$29","v":{"$error":"#DIV/0!"}},90]
["NST01A","11b",{"$f":"'Cover Sheet'!$C$17","v":0},{"$f":"'Cover Sheet'!$C$26","v":"00:00:00"},5,{"$f":"INDIRECT($I$1&\"!\"&$N$1&G472)/'Cover Sheet'!$C$29","v":{"$error":"#DIV/0!"}},91]
["NST01A","11c",{"$f":"'Cover Sheet'!$C$17","v":0},{"$f":"'Cover Sheet'!$C$26","v":"00:00:00"},5,{"$f":"INDIRECT($I$1&\"!\"&$N$1&G473)/'Cover Sheet'!$C$29","v":{"$error":"#DIV/0!"}},92]
["NST01A","11d",{"$f":"'Cover Sheet'!$C$17","v":0},{"$f":"'Cover Sheet'!$C$26","v":"00:00:00"},5,{"$f":"INDIRECT($I$1&\"!\"&$N$1&G474)/'Cover Sheet'!$C$29","v":{"$error":"#DIV/0!"}},93]
["NST01A","11e",{"$f":"'Cover Sheet'!$C$17","v":0},{"$f":"'Cover Sheet'!$C$26","v":"00:00:00"},5,{"$f":"INDIRECT($I$1&\"!\"&$N$1&G475)/'Cover Sheet'!$C$29","v":{"$error":"#DIV/0!"}},94]
["NST01A","12",{"$f":"'Cover Sheet'!$C$17","v":0},{"$f":"'Cover Sheet'!$C$26","v":"00:00:00"},5]
["NST01A","12a",{"$f":"'Cover Sheet'!$C$17","v":0},{"$f":"'Cover Sheet'!$C$26","v":"00:00:00"},5,{"$f":"INDIRECT($I$1&\"!\"&$N$1&G477)/'Cover Sheet'!$C$29","v":{"$error":"#DIV/0!"}},98]
["NST01A","12b",{"$f":"'Cover Sheet'!$C$17","v":0},{"$f":"'Cover Sheet'!$C$26","v":"00:00:00"},5,{"$f":"INDIRECT($I$1&\"!\"&$N$1&G478)/'Cover Sheet'!$C$29","v":{"$error":"#DIV/0!"}},99]
["NST01A","12c",{"$f":"'Cover Sheet'!$C$17","v":0},{"$f":"'Cover Sheet'!$C$26","v":"00:00:00"},5,{"$f":"INDIRECT($I$1&\"!\"&$N$1&G479)/'Cover Sheet'!$C$29","v":{"$error":"#DIV/0!"}},100]
["NST01A","12d",{"$f":"'Cover Sheet'!$C$17","v":0},{"$f":"'Cover Sheet'!$C$26","v":"00:00:00"},5,{"$f":"INDIRECT($I$1&\"!\"&$N$1&G480)/'Cover Sheet'!$C$29","v":{"$error":"#DIV/0!"}},101]
["NST01A","12e",{"$f":"'Cover Sheet'!$C$17","v":0},{"$f":"'Cover Sheet'!$C$26","v":"00:00:00"},5,{"$f":"INDIRECT($I$1&\"!\"&$N$1&G481)/'Cover Sheet'!$C$29","v":{"$error":"#DIV/0!"}},102]
["NST01A","13",{"$f":"'Cover Sheet'!$C$17","v":0},{"$f":"'Cover Sheet'!$C$26","v":"00:00:00"},5]
["NST01A","13a",{"$f":"'Cover Sheet'!$C$17","v":0},{"$f":"'Cover Sheet'!$C$26","v":"00:00:00"},5,{"$f":"INDIRECT($I$1&\"!\"&$N$1&G483)/'Cover Sheet'!$C$29","v":{"$error":"#DIV/0!"}},106]
["NST01A","13b",{"$f":"'Cover Sheet'!$C$17","v":0},{"$f":"'Cover Sheet'!$C$26","v":"00:00:00"},5,{"$f":"INDIRECT($I$1&\"!\"&$N$1&G484)/'Cover Sheet'!$C$29","v":{"$error":"#DIV/0!"}},107]
["NST01A","13c",{"$f":"'Cover Sheet'!$C$17","v":0},{"$f":"'Cover Sheet'!$C$26","v":"00:00:00"},5,{"$f":"INDIRECT($I$1&\"!\"&$N$1&G485)/'Cover Sheet'!$C$29","v":{"$error":"#DIV/0!"}},108]
["NST01A","13d",{"$f":"'Cover Sheet'!$C$17","v":0},{"$f":"'Cover Sheet'!$C$26","v":"00:00:00"},5,{"$f":"INDIRECT($I$1&\"!\"&$N$1&G486)/'Cover Sheet'!$C$29","v":{"$error":"#DIV/0!"}},109]
["NST01A","13e",{"$f":"'Cover Sheet'!$C$17","v":0},{"$f":"'Cover Sheet'!$C$26","v":"00:00:00"},5,{"$f":"INDIRECT($I$1&\"!\"&$N$1&G487)/'Cover Sheet'!$C$29","v":{"$error":"#DIV/0!"}},110]
["NST01A",14,{"$f":"'Cover Sheet'!$C$17","v":0},{"$f":"'Cover Sheet'!$C$26","v":"00:00:00"},5]
["NST01A","14a",{"$f":"'Cover Sheet'!$C$17","v":0},{"$f":"'Cover Sheet'!$C$26","v":"00:00:00"},5,{"$f":"INDIRECT($I$1&\"!\"&$N$1&G489)/'Cover Sheet'!$C$29","v":{"$error":"#DIV/0!"}},114]
["NST01A","14b",{"$f":"'Cover Sheet'!$C$17","v":0},{"$f":"'Cover Sheet'!$C$26","v":"00:00:00"},5,{"$f":"INDIRECT($I$1&\"!\"&$N$1&G490)/'Cover Sheet'!$C$29","v":{"$error":"#DIV/0!"}},115]
["NST01A","14c",{"$f":"'Cover Sheet'!$C$17","v":0},{"$f":"'Cover Sheet'!$C$26","v":"00:00:00"},5,{"$f":"INDIRECT($I$1&\"!\"&$N$1&G491)/'Cover Sheet'!$C$29","v":{"$error":"#DIV/0!"}},116]
["NST01A","14d",{"$f":"'Cover Sheet'!$C$17","v":0},{"$f":"'Cover Sheet'!$C$26","v":"00:00:00"},5,{"$f":"INDIRECT($I$1&\"!\"&$N$1&G492)/'Cover Sheet'!$C$29","v":{"$error":"#DIV/0!"}},117]
["NST01A","14e",{"$f":"'Cover Sheet'!$C$17","v":0},{"$f":"'Cover Sheet'!$C$26","v":"00:00:00"},5,{"$f":"INDIRECT($I$1&\"!\"&$N$1&G493)/'Cover Sheet'!$C$29","v":{"$error":"#DIV/0!"}},118]
["NST01A",15,{"$f":"'Cover Sheet'!$C$17","v":0},{"$f":"'Cover Sheet'!$C$26","v":"00:00:00"},5]
["NST01A","15a",{"$f":"'Cover Sheet'!$C$17","v":0},{"$f":"'Cover Sheet'!$C$26","v":"00:00:00"},5,{"$f":"INDIRECT($I$1&\"!\"&$N$1&G495)/'Cover Sheet'!$C$29","v":{"$error":"#DIV/0!"}},122]
["NST01A","15b",{"$f":"'Cover Sheet'!$C$17","v":0},{"$f":"'Cover Sheet'!$C$26","v":"00:00:00"},5,{"$f":"INDIRECT($I$1&\"!\"&$N$1&G496)/'Cover Sheet'!$C$29","v":{"$error":"#DIV/0!"}},123]
["NST01A","15c",{"$f":"'Cover Sheet'!$C$17","v":0},{"$f":"'Cover Sheet'!$C$26","v":"00:00:00"},5,{"$f":"INDIRECT($I$1&\"!\"&$N$1&G497)/'Cover Sheet'!$C$29","v":{"$error":"#DIV/0!"}},124]
["NST01A","15d",{"$f":"'Cover Sheet'!$C$17","v":0},{"$f":"'Cover Sheet'!$C$26","v":"00:00:00"},5,{"$f":"INDIRECT($I$1&\"!\"&$N$1&G498)/'Cover Sheet'!$C$29","v":{"$error":"#DIV/0!"}},125]
["NST01A","15e",{"$f":"'Cover Sheet'!$C$17","v":0},{"$f":"'Cover Sheet'!$C$26","v":"00:00:00"},5,{"$f":"INDIRECT($I$1&\"!\"&$N$1&G499)/'Cover Sheet'!$C$29","v":{"$error":"#DIV/0!"}},126]
["NST01A",16,{"$f":"'Cover Sheet'!$C$17","v":0},{"$f":"'Cover Sheet'!$C$26","v":"00:00:00"},5]
["NST01A","16a",{"$f":"'Cover Sheet'!$C$17","v":0},{"$f":"'Cover Sheet'!$C$26","v":"00:00:00"},5,{"$f":"INDIRECT($I$1&\"!\"&$N$1&G501)/'Cover Sheet'!$C$29","v":{"$error":"#DIV/0!"}},130]
["NST01A","16b",{"$f":"'Cover Sheet'!$C$17","v":0},{"$f":"'Cover Sheet'!$C$26","v":"00:00:00"},5,{"$f":"INDIRECT($I$1&\"!\"&$N$1&G502)/'Cover Sheet'!$C$29","v":{"$error":"#DIV/0!"}},131]
["NST01A","16c",{"$f":"'Cover Sheet'!$C$17","v":0},{"$f":"'Cover Sheet'!$C$26","v":"00:00:00"},5,{"$f":"INDIRECT($I$1&\"!\"&$N$1&G503)/'Cover Sheet'!$C$29","v":{"$error":"#DIV/0!"}},132]
["NST01A","16d",{"$f":"'Cover Sheet'!$C$17","v":0},{"$f":"'Cover Sheet'!$C$26","v":"00:00:00"},5,{"$f":"INDIRECT($I$1&\"!\"&$N$1&G504)/'Cover Sheet'!$C$29","v":{"$error":"#DIV/0!"}},133]
["NST01A","16e",{"$f":"'Cover Sheet'!$C$17","v":0},{"$f":"'Cover Sheet'!$C$26","v":"00:00:00"},5,{"$f":"INDIRECT($I$1&\"!\"&$N$1&G505)/'Cover Sheet'!$C$29","v":{"$error":"#DIV/0!"}},134]
["NST01A",17,{"$f":"'Cover Sheet'!$C$17","v":0},{"$f":"'Cover Sheet'!$C$26","v":"00:00:00"},5]
["NST01A","17a",{"$f":"'Cover Sheet'!$C$17","v":0},{"$f":"'Cover Sheet'!$C$26","v":"00:00:00"},5,{"$f":"INDIRECT($I$1&\"!\"&$N$1&G507)/'Cover Sheet'!$C$29","v":{"$error":"#DIV/0!"}},138]
["NST01A","17b",{"$f":"'Cover Sheet'!$C$17","v":0},{"$f":"'Cover Sheet'!$C$26","v":"00:00:00"},5,{"$f":"INDIRECT($I$1&\"!\"&$N$1&G508)/'Cover Sheet'!$C$29","v":{"$error":"#DIV/0!"}},139]
["NST01A","17c",{"$f":"'Cover Sheet'!$C$17","v":0},{"$f":"'Cover Sheet'!$C$26","v":"00:00:00"},5,{"$f":"INDIRECT($I$1&\"!\"&$N$1&G509)/'Cover Sheet'!$C$29","v":{"$error":"#DIV/0!"}},140]
["NST01A","17d",{"$f":"'Cover Sheet'!$C$17","v":0},{"$f":"'Cover Sheet'!$C$26","v":"00:00:00"},5,{"$f":"INDIRECT($I$1&\"!\"&$N$1&G510)/'Cover Sheet'!$C$29","v":{"$error":"#DIV/0!"}},141]
["NST01A","17e",{"$f":"'Cover Sheet'!$C$17","v":0},{"$f":"'Cover Sheet'!$C$26","v":"00:00:00"},5,{"$f":"INDIRECT($I$1&\"!\"&$N$1&G511)/'Cover Sheet'!$C$29","v":{"$error":"#DIV/0!"}},142]

{"sheet":"ANST02","index":4,"n_rows":17,"n_cols":7,"rows_kept":17,"cut":false,"hidden":false,"merged":[[9,0,10,1],[4,2,4,6],[2,2,2,3],[2,5,2,6],[0,2,0,6],[1,2,1,6],[3,2,3,6]]}
["Name of licenceholder:",null,{"$f":"IF('Cover Sheet'!C15=\"\",\"\",'Cover Sheet'!C15)","v":""}]
["Type of business carried out:",null,{"$f":"IF('Cover Sheet'!C22=\"\",\"\",'Cover Sheet'!$C$22)","v":""}]
["Period from:",null,{"$f":"IF('Cover Sheet'!C25=\"\",\"\",'Cover Sheet'!C25)","v":""},null,"to",{"$f":"IF('Cover Sheet'!C26=\"\",\"\",'Cover Sheet'!C26)","v":""}]
["Document type:",null,"MFSA National Specific Templates"]
["Sheet Code:",null,"ANST02"]
[]
["Analysis of Gross premiums written by source of business - Long Term business (LTB)"]
[]
[]
["Total",null,"GPW i.r.o. commitments where Malta is the country of commitment (insurance)","GPW i.r.o. commitments where Malta is the country of commitment (reinsurance inwards)","GPW i.r.o. commitments where Malta is not the country of commitment (insurance)","GPW i.r.o. commitments where Malta is not the country of commitment (reinsurance inwards)","Total"]
[null,null,1,2,3,4,5]
["Direct business",1,null,null,null,null,{"$f":"SUM(C12:F12)","v":0}]
["Business generated by agents",2,null,null,null,null,{"$f":"SUM(C13:F13)","v":0}]
["Business generated by brokers",3,null,null,null,null,0]
["Business generated by tied insurance intermediaries",4,null,null,null,null,0]
["Total GPW \n(including investment contracts without DPF)",5,{"$f":"SUM(C12:C15)","v":0},{"$f":"SUM(D12:D15)","v":0},0,0,0]
[null,null,"","","","",""]

{"sheet":"NST02A","index":5,"n_rows":26,"n_cols":6,"rows_kept":26,"cut":false,"hidden":true,"merged":[]}
["SheetCode","FieldCode","FICode","Date","ColNum","Value"]
["NST02A","01a",{"$f":"'Cover Sheet'!$C$17","v":0},{"$f":"'Cover Sheet'!$C$26","v":"00:00:00"},1,{"$f":"ANST02!$C12/'Cover Sheet'!$C$29","v":{"$error":"#DIV/0!"}}]
["NST02A","01b",{"$f":"'Cover Sheet'!$C$17","v":0},{"$f":"'Cover Sheet'!$C$26","v":"00:00:00"},1,{"$f":"ANST02!$C13/'Cover Sheet'!$C$29","v":{"$error":"#DIV/0!"}}]
["NST02A","01c",{"$f":"'Cover Sheet'!$C$17","v":0},{"$f":"'Cover Sheet'!$C$26","v":"00:00:00"},1,{"$f":"ANST02!$C14/'Cover Sheet'!$C$29","v":{"$error":"#DIV/0!"}}]
["NST02A","01d",{"$f":"'Cover Sheet'!$C$17","v":0},{"$f":"'Cover Sheet'!$C$26","v":"00:00:00"},1,{"$f":"ANST02!$C15/'Cover Sheet'!$C$29","v":{"$error":"#DIV/0!"}}]
["NST02A","01e",{"$f":"'Cover Sheet'!$C$17","v":0},{"$f":"'Cover Sheet'!$C$26","v":"00:00:00"},1,{"$f":"ANST02!$C16/'Cover Sheet'!$C$29","v":{"$error":"#DIV/0!"}}]
["NST02A","01a",{"$f":"'Cover Sheet'!$C$17","v":0},{"$f":"'Cover Sheet'!$C$26","v":"00:00:00"},2,{"$f":"ANST02!D12/'Cover Sheet'!$C$29","v":{"$error":"#DIV/0!"}}]
["NST02A","01b",{"$f":"'Cover Sheet'!$C$17","v":0},{"$f":"'Cover Sheet'!$C$26","v":"00:00:00"},2,{"$f":"ANST02!D13/'Cover Sheet'!$C$29","v":{"$error":"#DIV/0!"}}]
["NST02A","01c",{"$f":"'Cover Sheet'!$C$17","v":0},{"$f":"'Cover Sheet'!$C$26","v":"00:00:00"},2,{"$f":"ANST02!D14/'Cover Sheet'!$C$29","v":{"$error":"#DIV/0!"}}]
["NST02A","01d",{"$f":"'Cover Sheet'!$C$17","v":0},{"$f":"'Cover Sheet'!$C$26","v":"00:00:00"},2,{"$f":"ANST02!D15/'Cover Sheet'!$C$29","v":{"$error":"#DIV/0!"}}]
["NST02A","01e",{"$f":"'Cover Sheet'!$C$17","v":0},{"$f":"'Cover Sheet'!$C$26","v":"00:00:00"},2,{"$f":"ANST02!D16/'Cover Sheet'!$C$29","v":{"$error":"#DIV/0!"}}]
["NST02A","01a",{"$f":"'Cover Sheet'!$C$17","v":0},{"$f":"'Cover Sheet'!$C$26","v":"00:00:00"},3,{"$f":"ANST02!E12/'Cover Sheet'!$C$29","v":{"$error":"#DIV/0!"}}]
["NST02A","01b",{"$f":"'Cover Sheet'!$C$17","v":0},{"$f":"'Cover Sheet'!$C$26","v":"00:00:00"},3,{"$f":"ANST02!E13/'Cover Sheet'!$C$29","v":{"$error":"#DIV/0!"}}]
["NST02A","01c",{"$f":"'Cover Sheet'!$C$17","v":0},{"$f":"'Cover Sheet'!$C$26","v":"00:00:00"},3,{"$f":"ANST02!E14/'Cover Sheet'!$C$29","v":{"$error":"#DIV/0!"}}]
["NST02A","01d",{"$f":"'Cover Sheet'!$C$17","v":0},{"$f":"'Cover Sheet'!$C$26","v":"00:00:00"},3,{"$f":"ANST02!E15/'Cover Sheet'!$C$29","v":{"$error":"#DIV/0!"}}]
["NST02A","01e",{"$f":"'Cover Sheet'!$C$17","v":0},{"$f":"'Cover Sheet'!$C$26","v":"00:00:00"},3,{"$f":"ANST02!E16/'Cover Sheet'!$C$29","v":{"$error":"#DIV/0!"}}]
["NST02A","01a",{"$f":"'Cover Sheet'!$C$17","v":0},{"$f":"'Cover Sheet'!$C$26","v":"00:00:00"},4,{"$f":"ANST02!F12/'Cover Sheet'!$C$29","v":{"$error":"#DIV/0!"}}]
["NST02A","01b",{"$f":"'Cover Sheet'!$C$17","v":0},{"$f":"'Cover Sheet'!$C$26","v":"00:00:00"},4,{"$f":"ANST02!F13/'Cover Sheet'!$C$29","v":{"$error":"#DIV/0!"}}]
["NST02A","01c",{"$f":"'Cover Sheet'!$C$17","v":0},{"$f":"'Cover Sheet'!$C$26","v":"00:00:00"},4,{"$f":"ANST02!F14/'Cover Sheet'!$C$29","v":{"$error":"#DIV/0!"}}]
["NST02A","01d",{"$f":"'Cover Sheet'!$C$17","v":0},{"$f":"'Cover Sheet'!$C$26","v":"00:00:00"},4,{"$f":"ANST02!F15/'Cover Sheet'!$C$29","v":{"$error":"#DIV/0!"}}]
["NST02A","01e",{"$f":"'Cover Sheet'!$C$17","v":0},{"$f":"'Cover Sheet'!$C$26","v":"00:00:00"},4,{"$f":"ANST02!F16/'Cover Sheet'!$C$29","v":{"$error":"#DIV/0!"}}]
["NST02A","01a",{"$f":"'Cover Sheet'!$C$17","v":0},{"$f":"'Cover Sheet'!$C$26","v":"00:00:00"},5,{"$f":"ANST02!G12/'Cover Sheet'!$C$29","v":{"$error":"#DIV/0!"}}]
["NST02A","01b",{"$f":"'Cover Sheet'!$C$17","v":0},{"$f":"'Cover Sheet'!$C$26","v":"00:00:00"},5,{"$f":"ANST02!G13/'Cover Sheet'!$C$29","v":{"$error":"#DIV/0!"}}]
["NST02A","01c",{"$f":"'Cover Sheet'!$C$17","v":0},{"$f":"'Cover Sheet'!$C$26","v":"00:00:00"},5,{"$f":"ANST02!G14/'Cover Sheet'!$C$29","v":{"$error":"#DIV/0!"}}]
["NST02A","01d",{"$f":"'Cover Sheet'!$C$17","v":0},{"$f":"'Cover Sheet'!$C$26","v":"00:00:00"},5,{"$f":"ANST02!G15/'Cover Sheet'!$C$29","v":{"$error":"#DIV/0!"}}]
["NST02A","01e",{"$f":"'Cover Sheet'!$C$17","v":0},{"$f":"'Cover Sheet'!$C$26","v":"00:00:00"},5,{"$f":"ANST02!G16/'Cover Sheet'!$C$29","v":{"$error":"#DIV/0!"}}]

{"sheet":"ANST03","index":6,"n_rows":24,"n_cols":24,"rows_kept":24,"cut":false,"hidden":false,"merged":[[0,0,0,2],[0,3,0,6],[1,0,1,2],[1,3,1,6],[2,0,2,2],[2,4,2,5],[3,0,3,2],[3,3,3,6],[4,0,4,2],[4,3,4,6],[11,0,11,1],[8,6,8,8],[20,0,20,1],[21,0,21,1],[9,0,10,2],[8,3,8,5],[13,0,13,1],[14,0,14,1],[15,0,15,1],[16,0,16,1],[17,0,17,1],[18,0,18,1],[12,0,12,1],[8,12,8,14],[8,15,8,17],[8,18,8,20],[8,21,8,23],[19,0,19,1],[8,9,8,11]]}
["Name of licenceholder:",null,null,{"$f":"IF('Cover Sheet'!C15=\"\",\"\",'Cover Sheet'!C15)","v":""}]
["Type of business:",null,null,{"$f":"IF('Cover Sheet'!C22=\"\",\"\",'Cover Sheet'!$C$22)","v":""}]
["Period from:",null,null,{"$f":"IF('Cover Sheet'!C25=\"\",\"\",'Cover Sheet'!C25)","v":""},"to",null,{"$f":"IF('Cover Sheet'!C26=\"\",\"\",'Cover Sheet'!C26)","v":""}]
["Document type:",null,null,"MFSA National Specific Templates"]
["Sheet Code:",null,null,"ANST03"]
[]
["Changes in the number of policyholders - Long Term business (LTB) excluding Pure reinsurance long-term business"]
[]
[null,null,null,"With-profits non-linked policies",null,null,"Non-profits non-linked policies - Individual Life",null,null,"Non-profits non-linked policies - Group Life",null,null,"Accumulating with-profits policies",null,null,"Property-linked policies",null,null,"Index-linked policies",null,null,"Total"]
[null,null,null,"Commitments  where Malta is the country of commitment","Commitments  where Malta is not  the country of commitment","Total - With-profits non-linked policies","Commitments  where Malta is the country of commitment","Commitments  where Malta is not  the country of commitment","Total - Non-profits non-linked policies - Individual Life","Commitments  where Malta is the country of commitment","Commitments  where Malta is not  the country of commitment","Total - Non-profits non-linked policies - Group Life","Commitments  where Malta is the country of commitment","Commitments  where Malta is not  the country of commitment","Total - Accumulating with-profits policies","Commitments  where Malta is the country of commitment","Commitments  where Malta is not  the country of commitment","Total - Property-linked policies","Commitments  where Malta is the country of commitment","Commitments  where Malta is not  the country of commitment","Total - Index-linked policies","Commitments  where Malta is the country of commitment","Commitments  where Malta is not  the country of commitment","Total "]
[null,null,null,1,2,3,4,5,6,7,8,9,10,11,12,13,14,15,16,17,18,19,20,21]
["In force at year start",null,1,null,null,{"$f":"SUM(D12:E12)","v":0},null,null,{"$f":"SUM(G12:H12)","v":0},null,null,{"$f":"SUM(J12:K12)","v":0},null,null,{"$f":"SUM(M12:N12)","v":0},null,null,{"$f":"SUM(P12:Q12)","v":0},null,null,{"$f":"SUM(S12:T12)","v":0},{"$f":"SUM(D12,G12,J12,M12,P12,S12)","v":0},{"$f":"SUM(E12,H12,K12,N12,Q12,T12)","v":0},{"$f":"SUM(F12,I12,L12,O12,R12,U12)","v":0}]
["New business",null,2,null,null,{"$f":"SUM(D13:E13)","v":0},null,null,{"$f":"SUM(G13:H13)","v":0},null,null,{"$f":"SUM(J13:K13)","v":0},null,null,{"$f":"SUM(M13:N13)","v":0},null,null,{"$f":"SUM(P13:Q13)","v":0},null,null,{"$f":"SUM(S13:T13)","v":0},{"$f":"SUM(D13,G13,J13,M13,P13,S13)","v":0},{"$f":"SUM(E13,H13,K13,N13,Q13,T13)","v":0},{"$f":"SUM(F13,I13,L13,O13,R13,U13)","v":0}]
["Reinstatements",null,3,null,null,0,null,null,0,null,null,0,null,null,0,null,null,0,null,null,0,0,0,{"$f":"SUM(F14,I14,L14,O14,R14,U14)","v":0}]
["Deaths",null,4,null,null,0,null,null,0,null,null,0,null,null,0,null,null,0,null,null,0,0,0,0]
["Expiries",null,5,null,null,0,null,null,0,null,null,0,null,null,0,null,null,0,null,null,0,0,0,0]
["Maturities",null,6,null,null,0,null,null,0,null,null,0,null,null,0,null,null,0,null,null,0,0,0,0]
["Surrenders",null,7,null,null,0,null,null,{"$f":"SUM(G18:H18)","v":0},null,null,0,null,null,0,null,null,0,null,null,0,0,0,0]
["Lapses",null,8,null,null,0,null,null,{"$f":"SUM(G19:H19)","v":0},null,null,0,null,null,0,null,null,0,null,null,0,0,0,0]
["Net other movements",null,9,null,null,0,null,null,{"$f":"SUM(G20:H20)","v":0},null,null,0,null,null,0,null,null,0,null,null,0,0,0,0]
["In force at year end",null,10,{"$f":"D12+D13+D14-D15-D16-D17-D18-D19+D20","v":0},{"$f":"E12+E13+E14-E15-E16-E17-E18-E19+E20","v":0},{"$f":"SUM(D21:E21)","v":0},{"$f":"G12+G13+G14-G15-G16-G17-G18-G19+G20","v":0},{"$f":"H12+H13+H14-H15-H16-H17-H18-H19+H20","v":0},{"$f":"SUM(G21:H21)","v":0},{"$f":"J12+J13+J14-J15-J16-J17-J18-J19+J20","v":0},{"$f":"K12+K13+K14-K15-K16-K17-K18-K19+K20","v":0},{"$f":"SUM(J21:K21)","v":0},{"$f":"M12+M13+M14-M15-M16-M17-M18-M19+M20","v":0},{"$f":"N12+N13+N14-N15-N16-N17-N18-N19+N20","v":0},{"$f":"SUM(M21:N21)","v":0},{"$f":"P12+P13+P14-P15-P16-P17-P18-P19+P20","v":0},{"$f":"Q12+Q13+Q14-Q15-Q16-Q17-Q18-Q19+Q20","v":0},{"$f":"SUM(P21:Q21)","v":0},{"$f":"S12+S13+S14-S15-S16-S17-S18-S19+S20","v":0},{"$f":"T12+T13+T14-T15-T16-T17-T18-T19+T20","v":0},{"$f":"SUM(S21:T21)","v":0},0,0,0]
["Discontinuance rate1",null,11,{"$f":"IF(AND(D12=0,D13=0),\"-\",(D18+D19)/(D12+0.5*D13))","v":"-"},{"$f":"IF(AND(E12=0,E13=0),\"-\",(E18+E19)/(E12+0.5*E13))","v":"-"},"-","-","-","-","-","-","-","-","-","-","-","-","-","-","-","-","-","-","-"]
[]
["1Discontinuance rate is calculated as (surrenders + lapses) / (in force at year start + 0.5 * new business)"]

{"sheet":"NST03A","index":7,"n_rows":232,"n_cols":30,"rows_kept":232,"cut":false,"hidden":true,"merged":[]}
["SheetCode","FieldCode","FICode","Date","ColNum","Value",null,null,"ANST03","D","E","F","G","H","I","J","K","L","M","N","O","P","Q","R","S","T","U","V","W","X"]
["NST03A","01",{"$f":"'Cover Sheet'!$C$17","v":0},{"$f":"'Cover Sheet'!$C$26","v":"00:00:00"},1,{"$f":"INDIRECT($I$1&\"!\"&$J$1&$H2)/'Cover Sheet'!$C$29","v":{"$error":"#DIV/0!"}},null,12]
["NST03A","01a",{"$f":"'Cover Sheet'!$C$17","v":0},{"$f":"'Cover Sheet'!$C$26","v":"00:00:00"},1,{"$f":"INDIRECT($I$1&\"!\"&$J$1&$H3)/'Cover Sheet'!$C$29","v":{"$error":"#DIV/0!"}},null,13]
["NST03A","01b",{"$f":"'Cover Sheet'!$C$17","v":0},{"$f":"'Cover Sheet'!$C$26","v":"00:00:00"},1,{"$f":"INDIRECT($I$1&\"!\"&$J$1&$H4)/'Cover Sheet'!$C$29","v":{"$error":"#DIV/0!"}},null,14]
["NST03A","01c",{"$f":"'Cover Sheet'!$C$17","v":0},{"$f":"'Cover Sheet'!$C$26","v":"00:00:00"},1,{"$f":"INDIRECT($I$1&\"!\"&$J$1&$H5)/'Cover Sheet'!$C$29","v":{"$error":"#DIV/0!"}},null,15]
["NST03A","01d",{"$f":"'Cover Sheet'!$C$17","v":0},{"$f":"'Cover Sheet'!$C$26","v":"00:00:00"},1,{"$f":"INDIRECT($I$1&\"!\"&$J$1&$H6)/'Cover Sheet'!$C$29","v":{"$error":"#DIV/0!"}},null,16]
["NST03A","01e",{"$f":"'Cover Sheet'!$C$17","v":0},{"$f":"'Cover Sheet'!$C$26","v":"00:00:00"},1,{"$f":"INDIRECT($I$1&\"!\"&$J$1&$H7)/'Cover Sheet'!$C$29","v":{"$error":"#DIV/0!"}},null,17]
["NST03A","01f",{"$f":"'Cover Sheet'!$C$17","v":0},{"$f":"'Cover Sheet'!$C$26","v":"00:00:00"},1,{"$f":"INDIRECT($I$1&\"!\"&$J$1&$H8)/'Cover Sheet'!$C$29","v":{"$error":"#DIV/0!"}},null,18]
["NST03A","01g",{"$f":"'Cover Sheet'!$C$17","v":0},{"$f":"'Cover Sheet'!$C$26","v":"00:00:00"},1,{"$f":"INDIRECT($I$1&\"!\"&$J$1&$H9)/'Cover Sheet'!$C$29","v":{"$error":"#DIV/0!"}},null,19]
["NST03A","01h",{"$f":"'Cover Sheet'!$C$17","v":0},{"$f":"'Cover Sheet'!$C$26","v":"00:00:00"},1,{"$f":"INDIRECT($I$1&\"!\"&$J$1&$H10)/'Cover Sheet'!$C$29","v":{"$error":"#DIV/0!"}},null,20]
["NST03A","02",{"$f":"'Cover Sheet'!$C$17","v":0},{"$f":"'Cover Sheet'!$C$26","v":"00:00:00"},1,{"$f":"INDIRECT($I$1&\"!\"&$J$1&$H11)/'Cover Sheet'!$C$29","v":{"$error":"#DIV/0!"}},null,21]
["NST03A","03",{"$f":"'Cover Sheet'!$C$17","v":0},{"$f":"'Cover Sheet'!$C$26","v":"00:00:00"},1,{"$f":"INDIRECT($I$1&\"!\"&$J$1&$H12)","v":"-"},null,22]
["NST03A","01",{"$f":"'Cover Sheet'!$C$17","v":0},{"$f":"'Cover Sheet'!$C$26","v":"00:00:00"},2,{"$f":"INDIRECT($I$1&\"!\"&$K$1&$H13)/'Cover Sheet'!$C$29","v":{"$error":"#DIV/0!"}},null,12]
["NST03A","01a",{"$f":"'Cover Sheet'!$C$17","v":0},{"$f":"'Cover Sheet'!$C$26","v":"00:00:00"},2,{"$f":"INDIRECT($I$1&\"!\"&$K$1&$H14)/'Cover Sheet'!$C$29","v":{"$error":"#DIV/0!"}},null,13]
["NST03A","01b",{"$f":"'Cover Sheet'!$C$17","v":0},{"$f":"'Cover Sheet'!$C$26","v":"00:00:00"},2,{"$f":"INDIRECT($I$1&\"!\"&$K$1&$H15)/'Cover Sheet'!$C$29","v":{"$error":"#DIV/0!"}},null,14]
["NST03A","01c",{"$f":"'Cover Sheet'!$C$17","v":0},{"$f":"'Cover Sheet'!$C$26","v":"00:00:00"},2,{"$f":"INDIRECT($I$1&\"!\"&$K$1&$H16)/'Cover Sheet'!$C$29","v":{"$error":"#DIV/0!"}},null,15]
["NST03A","01d",{"$f":"'Cover Sheet'!$C$17","v":0},{"$f":"'Cover Sheet'!$C$26","v":"00:00:00"},2,{"$f":"INDIRECT($I$1&\"!\"&$K$1&$H17)/'Cover Sheet'!$C$29","v":{"$error":"#DIV/0!"}},null,16]
["NST03A","01e",{"$f":"'Cover Sheet'!$C$17","v":0},{"$f":"'Cover Sheet'!$C$26","v":"00:00:00"},2,{"$f":"INDIRECT($I$1&\"!\"&$K$1&$H18)/'Cover Sheet'!$C$29","v":{"$error":"#DIV/0!"}},null,17]
["NST03A","01f",{"$f":"'Cover Sheet'!$C$17","v":0},{"$f":"'Cover Sheet'!$C$26","v":"00:00:00"},2,{"$f":"INDIRECT($I$1&\"!\"&$K$1&$H19)/'Cover Sheet'!$C$29","v":{"$error":"#DIV/0!"}},null,18]
["NST03A","01g",{"$f":"'Cover Sheet'!$C$17","v":0},{"$f":"'Cover Sheet'!$C$26","v":"00:00:00"},2,{"$f":"INDIRECT($I$1&\"!\"&$K$1&$H20)/'Cover Sheet'!$C$29","v":{"$error":"#DIV/0!"}},null,19]
["NST03A","01h",{"$f":"'Cover Sheet'!$C$17","v":0},{"$f":"'Cover Sheet'!$C$26","v":"00:00:00"},2,{"$f":"INDIRECT($I$1&\"!\"&$K$1&$H21)/'Cover Sheet'!$C$29","v":{"$error":"#DIV/0!"}},null,20]
["NST03A","02",{"$f":"'Cover Sheet'!$C$17","v":0},{"$f":"'Cover Sheet'!$C$26","v":"00:00:00"},2,{"$f":"INDIRECT($I$1&\"!\"&$K$1&$H22)/'Cover Sheet'!$C$29","v":{"$error":"#DIV/0!"}},null,21]
["NST03A","03",{"$f":"'Cover Sheet'!$C$17","v":0},{"$f":"'Cover Sheet'!$C$26","v":"00:00:00"},2,{"$f":"INDIRECT($I$1&\"!\"&$K$1&$H23)","v":"-"},null,22]
["NST03A","01",{"$f":"'Cover Sheet'!$C$17","v":0},{"$f":"'Cover Sheet'!$C$26","v":"00:00:00"},3,{"$f":"INDIRECT($I$1&\"!\"&$L$1&$H24)/'Cover Sheet'!$C$29","v":{"$error":"#DIV/0!"}},null,12]
["NST03A","01a",{"$f":"'Cover Sheet'!$C$17","v":0},{"$f":"'Cover Sheet'!$C$26","v":"00:00:00"},3,{"$f":"INDIRECT($I$1&\"!\"&$L$1&$H25)/'Cover Sheet'!$C$29","v":{"$error":"#DIV/0!"}},null,13]
["NST03A","01b",{"$f":"'Cover Sheet'!$C$17","v":0},{"$f":"'Cover Sheet'!$C$26","v":"00:00:00"},3,{"$f":"INDIRECT($I$1&\"!\"&$L$1&$H26)/'Cover Sheet'!$C$29","v":{"$error":"#DIV/0!"}},null,14]
["NST03A","01c",{"$f":"'Cover Sheet'!$C$17","v":0},{"$f":"'Cover Sheet'!$C$26","v":"00:00:00"},3,{"$f":"INDIRECT($I$1&\"!\"&$L$1&$H27)/'Cover Sheet'!$C$29","v":{"$error":"#DIV/0!"}},null,15]
["NST03A","01d",{"$f":"'Cover Sheet'!$C$17","v":0},{"$f":"'Cover Sheet'!$C$26","v":"00:00:00"},3,{"$f":"INDIRECT($I$1&\"!\"&$L$1&$H28)/'Cover Sheet'!$C$29","v":{"$error":"#DIV/0!"}},null,16]
["NST03A","01e",{"$f":"'Cover Sheet'!$C$17","v":0},{"$f":"'Cover Sheet'!$C$26","v":"00:00:00"},3,{"$f":"INDIRECT($I$1&\"!\"&$L$1&$H29)/'Cover Sheet'!$C$29","v":{"$error":"#DIV/0!"}},null,17]
["NST03A","01f",{"$f":"'Cover Sheet'!$C$17","v":0},{"$f":"'Cover Sheet'!$C$26","v":"00:00:00"},3,{"$f":"INDIRECT($I$1&\"!\"&$L$1&$H30)/'Cover Sheet'!$C$29","v":{"$error":"#DIV/0!"}},null,18]
["NST03A","01g",{"$f":"'Cover Sheet'!$C$17","v":0},{"$f":"'Cover Sheet'!$C$26","v":"00:00:00"},3,{"$f":"INDIRECT($I$1&\"!\"&$L$1&$H31)/'Cover Sheet'!$C$29","v":{"$error":"#DIV/0!"}},null,19]
["NST03A","01h",{"$f":"'Cover Sheet'!$C$17","v":0},{"$f":"'Cover Sheet'!$C$26","v":"00:00:00"},3,{"$f":"INDIRECT($I$1&\"!\"&$L$1&$H32)/'Cover Sheet'!$C$29","v":{"$error":"#DIV/0!"}},null,20]
["NST03A","02",{"$f":"'Cover Sheet'!$C$17","v":0},{"$f":"'Cover Sheet'!$C$26","v":"00:00:00"},3,{"$f":"INDIRECT($I$1&\"!\"&$L$1&$H33)/'Cover Sheet'!$C$29","v":{"$error":"#DIV/0!"}},null,21]
["NST03A","03",{"$f":"'Cover Sheet'!$C$17","v":0},{"$f":"'Cover Sheet'!$C$26","v":"00:00:00"},3,{"$f":"INDIRECT($I$1&\"!\"&$L$1&$H34)","v":"-"},null,22]
["NST03A","01",{"$f":"'Cover Sheet'!$C$17","v":0},{"$f":"'Cover Sheet'!$C$26","v":"00:00:00"},4,{"$f":"INDIRECT($I$1&\"!\"&$M$1&$H35)/'Cover Sheet'!$C$29","v":{"$error":"#DIV/0!"}},null,12]
["NST03A","01a",{"$f":"'Cover Sheet'!$C$17","v":0},{"$f":"'Cover Sheet'!$C$26","v":"00:00:00"},4,{"$f":"INDIRECT($I$1&\"!\"&$M$1&$H36)/'Cover Sheet'!$C$29","v":{"$error":"#DIV/0!"}},null,13]
["NST03A","01b",{"$f":"'Cover Sheet'!$C$17","v":0},{"$f":"'Cover Sheet'!$C$26","v":"00:00:00"},4,{"$f":"INDIRECT($I$1&\"!\"&$M$1&$H37)/'Cover Sheet'!$C$29","v":{"$error":"#DIV/0!"}},null,14]
["NST03A","01c",{"$f":"'Cover Sheet'!$C$17","v":0},{"$f":"'Cover Sheet'!$C$26","v":"00:00:00"},4,{"$f":"INDIRECT($I$1&\"!\"&$M$1&$H38)/'Cover Sheet'!$C$29","v":{"$error":"#DIV/0!"}},null,15]
["NST03A","01d",{"$f":"'Cover Sheet'!$C$17","v":0},{"$f":"'Cover Sheet'!$C$26","v":"00:00:00"},4,{"$f":"INDIRECT($I$1&\"!\"&$M$1&$H39)/'Cover Sheet'!$C$29","v":{"$error":"#DIV/0!"}},null,16]
["NST03A","01e",{"$f":"'Cover Sheet'!$C$17","v":0},{"$f":"'Cover Sheet'!$C$26","v":"00:00:00"},4,{"$f":"INDIRECT($I$1&\"!\"&$M$1&$H40)/'Cover Sheet'!$C$29","v":{"$error":"#DIV/0!"}},null,17]
["NST03A","01f",{"$f":"'Cover Sheet'!$C$17","v":0},{"$f":"'Cover Sheet'!$C$26","v":"00:00:00"},4,{"$f":"INDIRECT($I$1&\"!\"&$M$1&$H41)/'Cover Sheet'!$C$29","v":{"$error":"#DIV/0!"}},null,18]
["NST03A","01g",{"$f":"'Cover Sheet'!$C$17","v":0},{"$f":"'Cover Sheet'!$C$26","v":"00:00:00"},4,{"$f":"INDIRECT($I$1&\"!\"&$M$1&$H42)/'Cover Sheet'!$C$29","v":{"$error":"#DIV/0!"}},null,19]
["NST03A","01h",{"$f":"'Cover Sheet'!$C$17","v":0},{"$f":"'Cover Sheet'!$C$26","v":"00:00:00"},4,{"$f":"INDIRECT($I$1&\"!\"&$M$1&$H43)/'Cover Sheet'!$C$29","v":{"$error":"#DIV/0!"}},null,20]
["NST03A","02",{"$f":"'Cover Sheet'!$C$17","v":0},{"$f":"'Cover Sheet'!$C$26","v":"00:00:00"},4,{"$f":"INDIRECT($I$1&\"!\"&$M$1&$H44)/'Cover Sheet'!$C$29","v":{"$error":"#DIV/0!"}},null,21]
["NST03A","03",{"$f":"'Cover Sheet'!$C$17","v":0},{"$f":"'Cover Sheet'!$C$26","v":"00:00:00"},4,{"$f":"INDIRECT($I$1&\"!\"&$M$1&$H45)","v":"-"},null,22]
["NST03A","01",{"$f":"'Cover Sheet'!$C$17","v":0},{"$f":"'Cover Sheet'!$C$26","v":"00:00:00"},5,{"$f":"INDIRECT($I$1&\"!\"&$N$1&$H46)/'Cover Sheet'!$C$29","v":{"$error":"#DIV/0!"}},null,12]
["NST03A","01a",{"$f":"'Cover Sheet'!$C$17","v":0},{"$f":"'Cover Sheet'!$C$26","v":"00:00:00"},5,{"$f":"INDIRECT($I$1&\"!\"&$N$1&$H47)/'Cover Sheet'!$C$29","v":{"$error":"#DIV/0!"}},null,13]
["NST03A","01b",{"$f":"'Cover Sheet'!$C$17","v":0},{"$f":"'Cover Sheet'!$C$26","v":"00:00:00"},5,{"$f":"INDIRECT($I$1&\"!\"&$N$1&$H48)/'Cover Sheet'!$C$29","v":{"$error":"#DIV/0!"}},null,14]
["NST03A","01c",{"$f":"'Cover Sheet'!$C$17","v":0},{"$f":"'Cover Sheet'!$C$26","v":"00:00:00"},5,{"$f":"INDIRECT($I$1&\"!\"&$N$1&$H49)/'Cover Sheet'!$C$29","v":{"$error":"#DIV/0!"}},null,15]
["NST03A","01d",{"$f":"'Cover Sheet'!$C$17","v":0},{"$f":"'Cover Sheet'!$C$26","v":"00:00:00"},5,{"$f":"INDIRECT($I$1&\"!\"&$N$1&$H50)/'Cover Sheet'!$C$29","v":{"$error":"#DIV/0!"}},null,16]
["NST03A","01e",{"$f":"'Cover Sheet'!$C$17","v":0},{"$f":"'Cover Sheet'!$C$26","v":"00:00:00"},5,{"$f":"INDIRECT($I$1&\"!\"&$N$1&$H51)/'Cover Sheet'!$C$29","v":{"$error":"#DIV/0!"}},null,17]
["NST03A","01f",{"$f":"'Cover Sheet'!$C$17","v":0},{"$f":"'Cover Sheet'!$C$26","v":"00:00:00"},5,{"$f":"INDIRECT($I$1&\"!\"&$N$1&$H52)/'Cover Sheet'!$C$29","v":{"$error":"#DIV/0!"}},null,18]
["NST03A","01g",{"$f":"'Cover Sheet'!$C$17","v":0},{"$f":"'Cover Sheet'!$C$26","v":"00:00:00"},5,{"$f":"INDIRECT($I$1&\"!\"&$N$1&$H53)/'Cover Sheet'!$C$29","v":{"$error":"#DIV/0!"}},null,19]
["NST03A","01h",{"$f":"'Cover Sheet'!$C$17","v":0},{"$f":"'Cover Sheet'!$C$26","v":"00:00:00"},5,{"$f":"INDIRECT($I$1&\"!\"&$N$1&$H54)/'Cover Sheet'!$C$29","v":{"$error":"#DIV/0!"}},null,20]
["NST03A","02",{"$f":"'Cover Sheet'!$C$17","v":0},{"$f":"'Cover Sheet'!$C$26","v":"00:00:00"},5,{"$f":"INDIRECT($I$1&\"!\"&$N$1&$H55)/'Cover Sheet'!$C$29","v":{"$error":"#DIV/0!"}},null,21]
["NST03A","03",{"$f":"'Cover Sheet'!$C$17","v":0},{"$f":"'Cover Sheet'!$C$26","v":"00:00:00"},5,{"$f":"INDIRECT($I$1&\"!\"&$N$1&$H56)","v":"-"},null,22]
["NST03A","01",{"$f":"'Cover Sheet'!$C$17","v":0},{"$f":"'Cover Sheet'!$C$26","v":"00:00:00"},6,{"$f":"INDIRECT($I$1&\"!\"&$O$1&$H57)/'Cover Sheet'!$C$29","v":{"$error":"#DIV/0!"}},null,12]
["NST03A","01a",{"$f":"'Cover Sheet'!$C$17","v":0},{"$f":"'Cover Sheet'!$C$26","v":"00:00:00"},6,{"$f":"INDIRECT($I$1&\"!\"&$O$1&$H58)/'Cover Sheet'!$C$29","v":{"$error":"#DIV/0!"}},null,13]
["NST03A","01b",{"$f":"'Cover Sheet'!$C$17","v":0},{"$f":"'Cover Sheet'!$C$26","v":"00:00:00"},6,{"$f":"INDIRECT($I$1&\"!\"&$O$1&$H59)/'Cover Sheet'!$C$29","v":{"$error":"#DIV/0!"}},null,14]
["NST03A","01c",{"$f":"'Cover Sheet'!$C$17","v":0},{"$f":"'Cover Sheet'!$C$26","v":"00:00:00"},6,{"$f":"INDIRECT($I$1&\"!\"&$O$1&$H60)/'Cover Sheet'!$C$29","v":{"$error":"#DIV/0!"}},null,15]
["NST03A","01d",{"$f":"'Cover Sheet'!$C$17","v":0},{"$f":"'Cover Sheet'!$C$26","v":"00:00:00"},6,{"$f":"INDIRECT($I$1&\"!\"&$O$1&$H61)/'Cover Sheet'!$C$29","v":{"$error":"#DIV/0!"}},null,16]
["NST03A","01e",{"$f":"'Cover Sheet'!$C$17","v":0},{"$f":"'Cover Sheet'!$C$26","v":"00:00:00"},6,{"$f":"INDIRECT($I$1&\"!\"&$O$1&$H62)/'Cover Sheet'!$C$29","v":{"$error":"#DIV/0!"}},null,17]
["NST03A","01f",{"$f":"'Cover Sheet'!$C$17","v":0},{"$f":"'Cover Sheet'!$C$26","v":"00:00:00"},6,{"$f":"INDIRECT($I$1&\"!\"&$O$1&$H63)/'Cover Sheet'!$C$29","v":{"$error":"#DIV/0!"}},null,18]
["NST03A","01g",{"$f":"'Cover Sheet'!$C$17","v":0},{"$f":"'Cover Sheet'!$C$26","v":"00:00:00"},6,{"$f":"INDIRECT($I$1&\"!\"&$O$1&$H64)/'Cover Sheet'!$C$29","v":{"$error":"#DIV/0!"}},null,19]
["NST03A","01h",{"$f":"'Cover Sheet'!$C$17","v":0},{"$f":"'Cover Sheet'!$C$26","v":"00:00:00"},6,{"$f":"INDIRECT($I$1&\"!\"&$O$1&$H65)/'Cover Sheet'!$C$29","v":{"$error":"#DIV/0!"}},null,20]
["NST03A","02",{"$f":"'Cover Sheet'!$C$17","v":0},{"$f":"'Cover Sheet'!$C$26","v":"00:00:00"},6,{"$f":"INDIRECT($I$1&\"!\"&$O$1&$H66)/'Cover Sheet'!$C$29","v":{"$error":"#DIV/0!"}},null,21]
["NST03A","03",{"$f":"'Cover Sheet'!$C$17","v":0},{"$f":"'Cover Sheet'!$C$26","v":"00:00:00"},6,{"$f":"INDIRECT($I$1&\"!\"&$O$1&$H67)","v":"-"},null,22]
["NST03A","01",{"$f":"'Cover Sheet'!$C$17","v":0},{"$f":"'Cover Sheet'!$C$26","v":"00:00:00"},7,{"$f":"INDIRECT($I$1&\"!\"&$P$1&$H68)/'Cover Sheet'!$C$29","v":{"$error":"#DIV/0!"}},null,12]
["NST03A","01a",{"$f":"'Cover Sheet'!$C$17","v":0},{"$f":"'Cover Sheet'!$C$26","v":"00:00:00"},7,{"$f":"INDIRECT($I$1&\"!\"&$P$1&$H69)/'Cover Sheet'!$C$29","v":{"$error":"#DIV/0!"}},null,13]
["NST03A","01b",{"$f":"'Cover Sheet'!$C$17","v":0},{"$f":"'Cover Sheet'!$C$26","v":"00:00:00"},7,{"$f":"INDIRECT($I$1&\"!\"&$P$1&$H70)/'Cover Sheet'!$C$29","v":{"$error":"#DIV/0!"}},null,14]
["NST03A","01c",{"$f":"'Cover Sheet'!$C$17","v":0},{"$f":"'Cover Sheet'!$C$26","v":"00:00:00"},7,{"$f":"INDIRECT($I$1&\"!\"&$P$1&$H71)/'Cover Sheet'!$C$29","v":{"$error":"#DIV/0!"}},null,15]
["NST03A","01d",{"$f":"'Cover Sheet'!$C$17","v":0},{"$f":"'Cover Sheet'!$C$26","v":"00:00:00"},7,{"$f":"INDIRECT($I$1&\"!\"&$P$1&$H72)/'Cover Sheet'!$C$29","v":{"$error":"#DIV/0!"}},null,16]
["NST03A","01e",{"$f":"'Cover Sheet'!$C$17","v":0},{"$f":"'Cover Sheet'!$C$26","v":"00:00:00"},7,{"$f":"INDIRECT($I$1&\"!\"&$P$1&$H73)/'Cover Sheet'!$C$29","v":{"$error":"#DIV/0!"}},null,17]
["NST03A","01f",{"$f":"'Cover Sheet'!$C$17","v":0},{"$f":"'Cover Sheet'!$C$26","v":"00:00:00"},7,{"$f":"INDIRECT($I$1&\"!\"&$P$1&$H74)/'Cover Sheet'!$C$29","v":{"$error":"#DIV/0!"}},null,18]
["NST03A","01g",{"$f":"'Cover Sheet'!$C$17","v":0},{"$f":"'Cover Sheet'!$C$26","v":"00:00:00"},7,{"$f":"INDIRECT($I$1&\"!\"&$P$1&$H75)/'Cover Sheet'!$C$29","v":{"$error":"#DIV/0!"}},null,19]
["NST03A","01h",{"$f":"'Cover Sheet'!$C$17","v":0},{"$f":"'Cover Sheet'!$C$26","v":"00:00:00"},7,{"$f":"INDIRECT($I$1&\"!\"&$P$1&$H76)/'Cover Sheet'!$C$29","v":{"$error":"#DIV/0!"}},null,20]
["NST03A","02",{"$f":"'Cover Sheet'!$C$17","v":0},{"$f":"'Cover Sheet'!$C$26","v":"00:00:00"},7,{"$f":"INDIRECT($I$1&\"!\"&$P$1&$H77)/'Cover Sheet'!$C$29","v":{"$error":"#DIV/0!"}},null,21]
["NST03A","03",{"$f":"'Cover Sheet'!$C$17","v":0},{"$f":"'Cover Sheet'!$C$26","v":"00:00:00"},7,{"$f":"INDIRECT($I$1&\"!\"&$P$1&$H78)","v":"-"},null,22]
["NST03A","01",{"$f":"'Cover Sheet'!$C$17","v":0},{"$f":"'Cover Sheet'!$C$26","v":"00:00:00"},8,{"$f":"INDIRECT($I$1&\"!\"&$Q$1&$H79)/'Cover Sheet'!$C$29","v":{"$error":"#DIV/0!"}},null,12]
["NST03A","01a",{"$f":"'Cover Sheet'!$C$17","v":0},{"$f":"'Cover Sheet'!$C$26","v":"00:00:00"},8,{"$f":"INDIRECT($I$1&\"!\"&$Q$1&$H80)/'Cover Sheet'!$C$29","v":{"$error":"#DIV/0!"}},null,13]
["NST03A","01b",{"$f":"'Cover Sheet'!$C$17","v":0},{"$f":"'Cover Sheet'!$C$26","v":"00:00:00"},8,{"$f":"INDIRECT($I$1&\"!\"&$Q$1&$H81)/'Cover Sheet'!$C$29","v":{"$error":"#DIV/0!"}},null,14]
["NST03A","01c",{"$f":"'Cover Sheet'!$C$17","v":0},{"$f":"'Cover Sheet'!$C$26","v":"00:00:00"},8,{"$f":"INDIRECT($I$1&\"!\"&$Q$1&$H82)/'Cover Sheet'!$C$29","v":{"$error":"#DIV/0!"}},null,15]
["NST03A","01d",{"$f":"'Cover Sheet'!$C$17","v":0},{"$f":"'Cover Sheet'!$C$26","v":"00:00:00"},8,{"$f":"INDIRECT($I$1&\"!\"&$Q$1&$H83)/'Cover Sheet'!$C$29","v":{"$error":"#DIV/0!"}},null,16]
["NST03A","01e",{"$f":"'Cover Sheet'!$C$17","v":0},{"$f":"'Cover Sheet'!$C$26","v":"00:00:00"},8,{"$f":"INDIRECT($I$1&\"!\"&$Q$1&$H84)/'Cover Sheet'!$C$29","v":{"$error":"#DIV/0!"}},null,17]
["NST03A","01f",{"$f":"'Cover Sheet'!$C$17","v":0},{"$f":"'Cover Sheet'!$C$26","v":"00:00:00"},8,{"$f":"INDIRECT($I$1&\"!\"&$Q$1&$H85)/'Cover Sheet'!$C$29","v":{"$error":"#DIV/0!"}},null,18]
["NST03A","01g",{"$f":"'Cover Sheet'!$C$17","v":0},{"$f":"'Cover Sheet'!$C$26","v":"00:00:00"},8,{"$f":"INDIRECT($I$1&\"!\"&$Q$1&$H86)/'Cover Sheet'!$C$29","v":{"$error":"#DIV/0!"}},null,19]
["NST03A","01h",{"$f":"'Cover Sheet'!$C$17","v":0},{"$f":"'Cover Sheet'!$C$26","v":"00:00:00"},8,{"$f":"INDIRECT($I$1&\"!\"&$Q$1&$H87)/'Cover Sheet'!$C$29","v":{"$error":"#DIV/0!"}},null,20]
["NST03A","02",{"$f":"'Cover Sheet'!$C$17","v":0},{"$f":"'Cover Sheet'!$C$26","v":"00:00:00"},8,{"$f":"INDIRECT($I$1&\"!\"&$Q$1&$H88)/'Cover Sheet'!$C$29","v":{"$error":"#DIV/0!"}},null,21]
["NST03A","03",{"$f":"'Cover Sheet'!$C$17","v":0},{"$f":"'Cover Sheet'!$C$26","v":"00:00:00"},8,{"$f":"INDIRECT($I$1&\"!\"&$Q$1&$H89)","v":"-"},null,22]
["NST03A","01",{"$f":"'Cover Sheet'!$C$17","v":0},{"$f":"'Cover Sheet'!$C$26","v":"00:00:00"},9,{"$f":"INDIRECT($I$1&\"!\"&$R$1&$H90)/'Cover Sheet'!$C$29","v":{"$error":"#DIV/0!"}},null,12]
["NST03A","01a",{"$f":"'Cover Sheet'!$C$17","v":0},{"$f":"'Cover Sheet'!$C$26","v":"00:00:00"},9,{"$f":"INDIRECT($I$1&\"!\"&$R$1&$H91)/'Cover Sheet'!$C$29","v":{"$error":"#DIV/0!"}},null,13]
["NST03A","01b",{"$f":"'Cover Sheet'!$C$17","v":0},{"$f":"'Cover Sheet'!$C$26","v":"00:00:00"},9,{"$f":"INDIRECT($I$1&\"!\"&$R$1&$H92)/'Cover Sheet'!$C$29","v":{"$error":"#DIV/0!"}},null,14]
["NST03A","01c",{"$f":"'Cover Sheet'!$C$17","v":0},{"$f":"'Cover Sheet'!$C$26","v":"00:00:00"},9,{"$f":"INDIRECT($I$1&\"!\"&$R$1&$H93)/'Cover Sheet'!$C$29","v":{"$error":"#DIV/0!"}},null,15]
["NST03A","01d",{"$f":"'Cover Sheet'!$C$17","v":0},{"$f":"'Cover Sheet'!$C$26","v":"00:00:00"},9,{"$f":"INDIRECT($I$1&\"!\"&$R$1&$H94)/'Cover Sheet'!$C$29","v":{"$error":"#DIV/0!"}},null,16]
["NST03A","01e",{"$f":"'Cover Sheet'!$C$17","v":0},{"$f":"'Cover Sheet'!$C$26","v":"00:00:00"},9,{"$f":"INDIRECT($I$1&\"!\"&$R$1&$H95)/'Cover Sheet'!$C$29","v":{"$error":"#DIV/0!"}},null,17]
["NST03A","01f",{"$f":"'Cover Sheet'!$C$17","v":0},{"$f":"'Cover Sheet'!$C$26","v":"00:00:00"},9,{"$f":"INDIRECT($I$1&\"!\"&$R$1&$H96)/'Cover Sheet'!$C$29","v":{"$error":"#DIV/0!"}},null,18]
["NST03A","01g",{"$f":"'Cover Sheet'!$C$17","v":0},{"$f":"'Cover Sheet'!$C$26","v":"00:00:00"},9,{"$f":"INDIRECT($I$1&\"!\"&$R$1&$H97)/'Cover Sheet'!$C$29","v":{"$error":"#DIV/0!"}},null,19]
["NST03A","01h",{"$f":"'Cover Sheet'!$C$17","v":0},{"$f":"'Cover Sheet'!$C$26","v":"00:00:00"},9,{"$f":"INDIRECT($I$1&\"!\"&$R$1&$H98)/'Cover Sheet'!$C$29","v":{"$error":"#DIV/0!"}},null,20]
["NST03A","02",{"$f":"'Cover Sheet'!$C$17","v":0},{"$f":"'Cover Sheet'!$C$26","v":"00:00:00"},9,{"$f":"INDIRECT($I$1&\"!\"&$R$1&$H99)/'Cover Sheet'!$C$29","v":{"$error":"#DIV/0!"}},null,21]
["NST03A","03",{"$f":"'Cover Sheet'!$C$17","v":0},{"$f":"'Cover Sheet'!$C$26","v":"00:00:00"},9,{"$f":"INDIRECT($I$1&\"!\"&$R$1&$H100)","v":"-"},null,22]
["NST03A","01",{"$f":"'Cover Sheet'!$C$17","v":0},{"$f":"'Cover Sheet'!$C$26","v":"00:00:00"},10,{"$f":"INDIRECT($I$1&\"!\"&$S$1&$H101)/'Cover Sheet'!$C$29","v":{"$error":"#DIV/0!"}},null,12]
["NST03A","01a",{"$f":"'Cover Sheet'!$C$17","v":0},{"$f":"'Cover Sheet'!$C$26","v":"00:00:00"},10,{"$f":"INDIRECT($I$1&\"!\"&$S$1&$H102)/'Cover Sheet'!$C$29","v":{"$error":"#DIV/0!"}},null,13]
["NST03A","01b",{"$f":"'Cover Sheet'!$C$17","v":0},{"$f":"'Cover Sheet'!$C$26","v":"00:00:00"},10,{"$f":"INDIRECT($I$1&\"!\"&$S$1&$H103)/'Cover Sheet'!$C$29","v":{"$error":"#DIV/0!"}},null,14]
["NST03A","01c",{"$f":"'Cover Sheet'!$C$17","v":0},{"$f":"'Cover Sheet'!$C$26","v":"00:00:00"},10,{"$f":"INDIRECT($I$1&\"!\"&$S$1&$H104)/'Cover Sheet'!$C$29","v":{"$error":"#DIV/0!"}},null,15]
["NST03A","01d",{"$f":"'Cover Sheet'!$C$17","v":0},{"$f":"'Cover Sheet'!$C$26","v":"00:00:00"},10,{"$f":"INDIRECT($I$1&\"!\"&$S$1&$H105)/'Cover Sheet'!$C$29","v":{"$error":"#DIV/0!"}},null,16]
["NST03A","01e",{"$f":"'Cover Sheet'!$C$17","v":0},{"$f":"'Cover Sheet'!$C$26","v":"00:00:00"},10,{"$f":"INDIRECT($I$1&\"!\"&$S$1&$H106)/'Cover Sheet'!$C$29","v":{"$error":"#DIV/0!"}},null,17]
["NST03A","01f",{"$f":"'Cover Sheet'!$C$17","v":0},{"$f":"'Cover Sheet'!$C$26","v":"00:00:00"},10,{"$f":"INDIRECT($I$1&\"!\"&$S$1&$H107)/'Cover Sheet'!$C$29","v":{"$error":"#DIV/0!"}},null,18]
["NST03A","01g",{"$f":"'Cover Sheet'!$C$17","v":0},{"$f":"'Cover Sheet'!$C$26","v":"00:00:00"},10,{"$f":"INDIRECT($I$1&\"!\"&$S$1&$H108)/'Cover Sheet'!$C$29","v":{"$error":"#DIV/0!"}},null,19]
["NST03A","01h",{"$f":"'Cover Sheet'!$C$17","v":0},{"$f":"'Cover Sheet'!$C$26","v":"00:00:00"},10,{"$f":"INDIRECT($I$1&\"!\"&$S$1&$H109)/'Cover Sheet'!$C$29","v":{"$error":"#DIV/0!"}},null,20]
["NST03A","02",{"$f":"'Cover Sheet'!$C$17","v":0},{"$f":"'Cover Sheet'!$C$26","v":"00:00:00"},10,{"$f":"INDIRECT($I$1&\"!\"&$S$1&$H110)/'Cover Sheet'!$C$29","v":{"$error":"#DIV/0!"}},null,21]
["NST03A","03",{"$f":"'Cover Sheet'!$C$17","v":0},{"$f":"'Cover Sheet'!$C$26","v":"00:00:00"},10,{"$f":"INDIRECT($I$1&\"!\"&$S$1&$H111)","v":"-"},null,22]
["NST03A","01",{"$f":"'Cover Sheet'!$C$17","v":0},{"$f":"'Cover Sheet'!$C$26","v":"00:00:00"},11,{"$f":"INDIRECT($I$1&\"!\"&$T$1&$H112)/'Cover Sheet'!$C$29","v":{"$error":"#DIV/0!"}},null,12]
["NST03A","01a",{"$f":"'Cover Sheet'!$C$17","v":0},{"$f":"'Cover Sheet'!$C$26","v":"00:00:00"},11,{"$f":"INDIRECT($I$1&\"!\"&$T$1&$H113)/'Cover Sheet'!$C$29","v":{"$error":"#DIV/0!"}},null,13]
["NST03A","01b",{"$f":"'Cover Sheet'!$C$17","v":0},{"$f":"'Cover Sheet'!$C$26","v":"00:00:00"},11,{"$f":"INDIRECT($I$1&\"!\"&$T$1&$H114)/'Cover Sheet'!$C$29","v":{"$error":"#DIV/0!"}},null,14]
["NST03A","01c",{"$f":"'Cover Sheet'!$C$17","v":0},{"$f":"'Cover Sheet'!$C$26","v":"00:00:00"},11,{"$f":"INDIRECT($I$1&\"!\"&$T$1&$H115)/'Cover Sheet'!$C$29","v":{"$error":"#DIV/0!"}},null,15]
["NST03A","01d",{"$f":"'Cover Sheet'!$C$17","v":0},{"$f":"'Cover Sheet'!$C$26","v":"00:00:00"},11,{"$f":"INDIRECT($I$1&\"!\"&$T$1&$H116)/'Cover Sheet'!$C$29","v":{"$error":"#DIV/0!"}},null,16]
["NST03A","01e",{"$f":"'Cover Sheet'!$C$17","v":0},{"$f":"'Cover Sheet'!$C$26","v":"00:00:00"},11,{"$f":"INDIRECT($I$1&\"!\"&$T$1&$H117)/'Cover Sheet'!$C$29","v":{"$error":"#DIV/0!"}},null,17]
["NST03A","01f",{"$f":"'Cover Sheet'!$C$17","v":0},{"$f":"'Cover Sheet'!$C$26","v":"00:00:00"},11,{"$f":"INDIRECT($I$1&\"!\"&$T$1&$H118)/'Cover Sheet'!$C$29","v":{"$error":"#DIV/0!"}},null,18]
["NST03A","01g",{"$f":"'Cover Sheet'!$C$17","v":0},{"$f":"'Cover Sheet'!$C$26","v":"00:00:00"},11,{"$f":"INDIRECT($I$1&\"!\"&$T$1&$H119)/'Cover Sheet'!$C$29","v":{"$error":"#DIV/0!"}},null,19]
["NST03A","01h",{"$f":"'Cover Sheet'!$C$17","v":0},{"$f":"'Cover Sheet'!$C$26","v":"00:00:00"},11,{"$f":"INDIRECT($I$1&\"!\"&$T$1&$H120)/'Cover Sheet'!$C$29","v":{"$error":"#DIV/0!"}},null,20]
["NST03A","02",{"$f":"'Cover Sheet'!$C$17","v":0},{"$f":"'Cover Sheet'!$C$26","v":"00:00:00"},11,{"$f":"INDIRECT($I$1&\"!\"&$T$1&$H121)/'Cover Sheet'!$C$29","v":{"$error":"#DIV/0!"}},null,21]
["NST03A","03",{"$f":"'Cover Sheet'!$C$17","v":0},{"$f":"'Cover Sheet'!$C$26","v":"00:00:00"},11,{"$f":"INDIRECT($I$1&\"!\"&$T$1&$H122)","v":"-"},null,22]
["NST03A","01",{"$f":"'Cover Sheet'!$C$17","v":0},{"$f":"'Cover Sheet'!$C$26","v":"00:00:00"},12,{"$f":"INDIRECT($I$1&\"!\"&$U$1&$H123)/'Cover Sheet'!$C$29","v":{"$error":"#DIV/0!"}},null,12]
["NST03A","01a",{"$f":"'Cover Sheet'!$C$17","v":0},{"$f":"'Cover Sheet'!$C$26","v":"00:00:00"},12,{"$f":"INDIRECT($I$1&\"!\"&$U$1&$H124)/'Cover Sheet'!$C$29","v":{"$error":"#DIV/0!"}},null,13]
["NST03A","01b",{"$f":"'Cover Sheet'!$C$17","v":0},{"$f":"'Cover Sheet'!$C$26","v":"00:00:00"},12,{"$f":"INDIRECT($I$1&\"!\"&$U$1&$H125)/'Cover Sheet'!$C$29","v":{"$error":"#DIV/0!"}},null,14]
["NST03A","01c",{"$f":"'Cover Sheet'!$C$17","v":0},{"$f":"'Cover Sheet'!$C$26","v":"00:00:00"},12,{"$f":"INDIRECT($I$1&\"!\"&$U$1&$H126)/'Cover Sheet'!$C$29","v":{"$error":"#DIV/0!"}},null,15]
["NST03A","01d",{"$f":"'Cover Sheet'!$C$17","v":0},{"$f":"'Cover Sheet'!$C$26","v":"00:00:00"},12,{"$f":"INDIRECT($I$1&\"!\"&$U$1&$H127)/'Cover Sheet'!$C$29","v":{"$error":"#DIV/0!"}},null,16]
["NST03A","01e",{"$f":"'Cover Sheet'!$C$17","v":0},{"$f":"'Cover Sheet'!$C$26","v":"00:00:00"},12,{"$f":"INDIRECT($I$1&\"!\"&$U$1&$H128)/'Cover Sheet'!$C$29","v":{"$error":"#DIV/0!"}},null,17]
["NST03A","01f",{"$f":"'Cover Sheet'!$C$17","v":0},{"$f":"'Cover Sheet'!$C$26","v":"00:00:00"},12,{"$f":"INDIRECT($I$1&\"!\"&$U$1&$H129)/'Cover Sheet'!$C$29","v":{"$error":"#DIV/0!"}},null,18]
["NST03A","01g",{"$f":"'Cover Sheet'!$C$17","v":0},{"$f":"'Cover Sheet'!$C$26","v":"00:00:00"},12,{"$f":"INDIRECT($I$1&\"!\"&$U$1&$H130)/'Cover Sheet'!$C$29","v":{"$error":"#DIV/0!"}},null,19]
["NST03A","01h",{"$f":"'Cover Sheet'!$C$17","v":0},{"$f":"'Cover Sheet'!$C$26","v":"00:00:00"},12,{"$f":"INDIRECT($I$1&\"!\"&$U$1&$H131)/'Cover Sheet'!$C$29","v":{"$error":"#DIV/0!"}},null,20]
["NST03A","02",{"$f":"'Cover Sheet'!$C$17","v":0},{"$f":"'Cover Sheet'!$C$26","v":"00:00:00"},12,{"$f":"INDIRECT($I$1&\"!\"&$U$1&$H132)/'Cover Sheet'!$C$29","v":{"$error":"#DIV/0!"}},null,21]
["NST03A","03",{"$f":"'Cover Sheet'!$C$17","v":0},{"$f":"'Cover Sheet'!$C$26","v":"00:00:00"},12,{"$f":"INDIRECT($I$1&\"!\"&$U$1&$H133)","v":"-"},null,22]
["NST03A","01",{"$f":"'Cover Sheet'!$C$17","v":0},{"$f":"'Cover Sheet'!$C$26","v":"00:00:00"},13,{"$f":"INDIRECT($I$1&\"!\"&$V$1&$H134)/'Cover Sheet'!$C$29","v":{"$error":"#DIV/0!"}},null,12]
["NST03A","01a",{"$f":"'Cover Sheet'!$C$17","v":0},{"$f":"'Cover Sheet'!$C$26","v":"00:00:00"},13,{"$f":"INDIRECT($I$1&\"!\"&$V$1&$H135)/'Cover Sheet'!$C$29","v":{"$error":"#DIV/0!"}},null,13]
["NST03A","01b",{"$f":"'Cover Sheet'!$C$17","v":0},{"$f":"'Cover Sheet'!$C$26","v":"00:00:00"},13,{"$f":"INDIRECT($I$1&\"!\"&$V$1&$H136)/'Cover Sheet'!$C$29","v":{"$error":"#DIV/0!"}},null,14]
["NST03A","01c",{"$f":"'Cover Sheet'!$C$17","v":0},{"$f":"'Cover Sheet'!$C$26","v":"00:00:00"},13,{"$f":"INDIRECT($I$1&\"!\"&$V$1&$H137)/'Cover Sheet'!$C$29","v":{"$error":"#DIV/0!"}},null,15]
["NST03A","01d",{"$f":"'Cover Sheet'!$C$17","v":0},{"$f":"'Cover Sheet'!$C$26","v":"00:00:00"},13,{"$f":"INDIRECT($I$1&\"!\"&$V$1&$H138)/'Cover Sheet'!$C$29","v":{"$error":"#DIV/0!"}},null,16]
["NST03A","01e",{"$f":"'Cover Sheet'!$C$17","v":0},{"$f":"'Cover Sheet'!$C$26","v":"00:00:00"},13,{"$f":"INDIRECT($I$1&\"!\"&$V$1&$H139)/'Cover Sheet'!$C$29","v":{"$error":"#DIV/0!"}},null,17]
["NST03A","01f",{"$f":"'Cover Sheet'!$C$17","v":0},{"$f":"'Cover Sheet'!$C$26","v":"00:00:00"},13,{"$f":"INDIRECT($I$1&\"!\"&$V$1&$H140)/'Cover Sheet'!$C$29","v":{"$error":"#DIV/0!"}},null,18]
["NST03A","01g",{"$f":"'Cover Sheet'!$C$17","v":0},{"$f":"'Cover Sheet'!$C$26","v":"00:00:00"},13,{"$f":"INDIRECT($I$1&\"!\"&$V$1&$H141)/'Cover Sheet'!$C$29","v":{"$error":"#DIV/0!"}},null,19]
["NST03A","01h",{"$f":"'Cover Sheet'!$C$17","v":0},{"$f":"'Cover Sheet'!$C$26","v":"00:00:00"},13,{"$f":"INDIRECT($I$1&\"!\"&$V$1&$H142)/'Cover Sheet'!$C$29","v":{"$error":"#DIV/0!"}},null,20]
["NST03A","02",{"$f":"'Cover Sheet'!$C$17","v":0},{"$f":"'Cover Sheet'!$C$26","v":"00:00:00"},13,{"$f":"INDIRECT($I$1&\"!\"&$V$1&$H143)/'Cover Sheet'!$C$29","v":{"$error":"#DIV/0!"}},null,21]
["NST03A","03",{"$f":"'Cover Sheet'!$C$17","v":0},{"$f":"'Cover Sheet'!$C$26","v":"00:00:00"},13,{"$f":"INDIRECT($I$1&\"!\"&$V$1&$H144)","v":"-"},null,22]
["NST03A","01",{"$f":"'Cover Sheet'!$C$17","v":0},{"$f":"'Cover Sheet'!$C$26","v":"00:00:00"},14,{"$f":"INDIRECT($I$1&\"!\"&$W$1&$H145)/'Cover Sheet'!$C$29","v":{"$error":"#DIV/0!"}},null,12]
["NST03A","01a",{"$f":"'Cover Sheet'!$C$17","v":0},{"$f":"'Cover Sheet'!$C$26","v":"00:00:00"},14,{"$f":"INDIRECT($I$1&\"!\"&$W$1&$H146)/'Cover Sheet'!$C$29","v":{"$error":"#DIV/0!"}},null,13]
["NST03A","01b",{"$f":"'Cover Sheet'!$C$17","v":0},{"$f":"'Cover Sheet'!$C$26","v":"00:00:00"},14,{"$f":"INDIRECT($I$1&\"!\"&$W$1&$H147)/'Cover Sheet'!$C$29","v":{"$error":"#DIV/0!"}},null,14]
["NST03A","01c",{"$f":"'Cover Sheet'!$C$17","v":0},{"$f":"'Cover Sheet'!$C$26","v":"00:00:00"},14,{"$f":"INDIRECT($I$1&\"!\"&$W$1&$H148)/'Cover Sheet'!$C$29","v":{"$error":"#DIV/0!"}},null,15]
["NST03A","01d",{"$f":"'Cover Sheet'!$C$17","v":0},{"$f":"'Cover Sheet'!$C$26","v":"00:00:00"},14,{"$f":"INDIRECT($I$1&\"!\"&$W$1&$H149)/'Cover Sheet'!$C$29","v":{"$error":"#DIV/0!"}},null,16]
["NST03A","01e",{"$f":"'Cover Sheet'!$C$17","v":0},{"$f":"'Cover Sheet'!$C$26","v":"00:00:00"},14,{"$f":"INDIRECT($I$1&\"!\"&$W$1&$H150)/'Cover Sheet'!$C$29","v":{"$error":"#DIV/0!"}},null,17]
["NST03A","01f",{"$f":"'Cover Sheet'!$C$17","v":0},{"$f":"'Cover Sheet'!$C$26","v":"00:00:00"},14,{"$f":"INDIRECT($I$1&\"!\"&$W$1&$H151)/'Cover Sheet'!$C$29","v":{"$error":"#DIV/0!"}},null,18]
["NST03A","01g",{"$f":"'Cover Sheet'!$C$17","v":0},{"$f":"'Cover Sheet'!$C$26","v":"00:00:00"},14,{"$f":"INDIRECT($I$1&\"!\"&$W$1&$H152)/'Cover Sheet'!$C$29","v":{"$error":"#DIV/0!"}},null,19]
["NST03A","01h",{"$f":"'Cover Sheet'!$C$17","v":0},{"$f":"'Cover Sheet'!$C$26","v":"00:00:00"},14,{"$f":"INDIRECT($I$1&\"!\"&$W$1&$H153)/'Cover Sheet'!$C$29","v":{"$error":"#DIV/0!"}},null,20]
["NST03A","02",{"$f":"'Cover Sheet'!$C$17","v":0},{"$f":"'Cover Sheet'!$C$26","v":"00:00:00"},14,{"$f":"INDIRECT($I$1&\"!\"&$W$1&$H154)/'Cover Sheet'!$C$29","v":{"$error":"#DIV/0!"}},null,21]
["NST03A","03",{"$f":"'Cover Sheet'!$C$17","v":0},{"$f":"'Cover Sheet'!$C$26","v":"00:00:00"},14,{"$f":"INDIRECT($I$1&\"!\"&$W$1&$H155)","v":"-"},null,22]
["NST03A","01",{"$f":"'Cover Sheet'!$C$17","v":0},{"$f":"'Cover Sheet'!$C$26","v":"00:00:00"},15,{"$f":"INDIRECT($I$1&\"!\"&$X$1&$H156)/'Cover Sheet'!$C$29","v":{"$error":"#DIV/0!"}},null,12]
["NST03A","01a",{"$f":"'Cover Sheet'!$C$17","v":0},{"$f":"'Cover Sheet'!$C$26","v":"00:00:00"},15,{"$f":"INDIRECT($I$1&\"!\"&$X$1&$H157)/'Cover Sheet'!$C$29","v":{"$error":"#DIV/0!"}},null,13]
["NST03A","01b",{"$f":"'Cover Sheet'!$C$17","v":0},{"$f":"'Cover Sheet'!$C$26","v":"00:00:00"},15,{"$f":"INDIRECT($I$1&\"!\"&$X$1&$H158)/'Cover Sheet'!$C$29","v":{"$error":"#DIV/0!"}},null,14]
["NST03A","01c",{"$f":"'Cover Sheet'!$C$17","v":0},{"$f":"'Cover Sheet'!$C$26","v":"00:00:00"},15,{"$f":"INDIRECT($I$1&\"!\"&$X$1&$H159)/'Cover Sheet'!$C$29","v":{"$error":"#DIV/0!"}},null,15]
["NST03A","01d",{"$f":"'Cover Sheet'!$C$17","v":0},{"$f":"'Cover Sheet'!$C$26","v":"00:00:00"},15,{"$f":"INDIRECT($I$1&\"!\"&$X$1&$H160)/'Cover Sheet'!$C$29","v":{"$error":"#DIV/0!"}},null,16]
["NST03A","01e",{"$f":"'Cover Sheet'!$C$17","v":0},{"$f":"'Cover Sheet'!$C$26","v":"00:00:00"},15,{"$f":"INDIRECT($I$1&\"!\"&$X$1&$H161)/'Cover Sheet'!$C$29","v":{"$error":"#DIV/0!"}},null,17]
["NST03A","01f",{"$f":"'Cover Sheet'!$C$17","v":0},{"$f":"'Cover Sheet'!$C$26","v":"00:00:00"},15,{"$f":"INDIRECT($I$1&\"!\"&$X$1&$H162)/'Cover Sheet'!$C$29","v":{"$error":"#DIV/0!"}},null,18]
["NST03A","01g",{"$f":"'Cover Sheet'!$C$17","v":0},{"$f":"'Cover Sheet'!$C$26","v":"00:00:00"},15,{"$f":"INDIRECT($I$1&\"!\"&$X$1&$H163)/'Cover Sheet'!$C$29","v":{"$error":"#DIV/0!"}},null,19]
["NST03A","01h",{"$f":"'Cover Sheet'!$C$17","v":0},{"$f":"'Cover Sheet'!$C$26","v":"00:00:00"},15,{"$f":"INDIRECT($I$1&\"!\"&$X$1&$H164)/'Cover Sheet'!$C$29","v":{"$error":"#DIV/0!"}},null,20]
["NST03A","02",{"$f":"'Cover Sheet'!$C$17","v":0},{"$f":"'Cover Sheet'!$C$26","v":"00:00:00"},15,{"$f":"INDIRECT($I$1&\"!\"&$X$1&$H165)/'Cover Sheet'!$C$29","v":{"$error":"#DIV/0!"}},null,21]
["NST03A","03",{"$f":"'Cover Sheet'!$C$17","v":0},{"$f":"'Cover Sheet'!$C$26","v":"00:00:00"},15,{"$f":"INDIRECT($I$1&\"!\"&$X$1&$H166)","v":"-"},null,22]
["NST03A","01",{"$f":"'Cover Sheet'!$C$17","v":0},{"$f":"'Cover Sheet'!$C$26","v":"00:00:00"},16,{"$f":"INDIRECT($I$1&\"!\"&$Y$1&$H167)/'Cover Sheet'!$C$29","v":{"$error":"#DIV/0!"}},null,12]
["NST03A","01a",{"$f":"'Cover Sheet'!$C$17","v":0},{"$f":"'Cover Sheet'!$C$26","v":"00:00:00"},16,{"$f":"INDIRECT($I$1&\"!\"&$Y$1&$H168)/'Cover Sheet'!$C$29","v":{"$error":"#DIV/0!"}},null,13]
["NST03A","01b",{"$f":"'Cover Sheet'!$C$17","v":0},{"$f":"'Cover Sheet'!$C$26","v":"00:00:00"},16,{"$f":"INDIRECT($I$1&\"!\"&$Y$1&$H169)/'Cover Sheet'!$C$29","v":{"$error":"#DIV/0!"}},null,14]
["NST03A","01c",{"$f":"'Cover Sheet'!$C$17","v":0},{"$f":"'Cover Sheet'!$C$26","v":"00:00:00"},16,{"$f":"INDIRECT($I$1&\"!\"&$Y$1&$H170)/'Cover Sheet'!$C$29","v":{"$error":"#DIV/0!"}},null,15]
["NST03A","01d",{"$f":"'Cover Sheet'!$C$17","v":0},{"$f":"'Cover Sheet'!$C$26","v":"00:00:00"},16,{"$f":"INDIRECT($I$1&\"!\"&$Y$1&$H171)/'Cover Sheet'!$C$29","v":{"$error":"#DIV/0!"}},null,16]
["NST03A","01e",{"$f":"'Cover Sheet'!$C$17","v":0},{"$f":"'Cover Sheet'!$C$26","v":"00:00:00"},16,{"$f":"INDIRECT($I$1&\"!\"&$Y$1&$H172)/'Cover Sheet'!$C$29","v":{"$error":"#DIV/0!"}},null,17]
["NST03A","01f",{"$f":"'Cover Sheet'!$C$17","v":0},{"$f":"'Cover Sheet'!$C$26","v":"00:00:00"},16,{"$f":"INDIRECT($I$1&\"!\"&$Y$1&$H173)/'Cover Sheet'!$C$29","v":{"$error":"#DIV/0!"}},null,18]
["NST03A","01g",{"$f":"'Cover Sheet'!$C$17","v":0},{"$f":"'Cover Sheet'!$C$26","v":"00:00:00"},16,{"$f":"INDIRECT($I$1&\"!\"&$Y$1&$H174)/'Cover Sheet'!$C$29","v":{"$error":"#DIV/0!"}},null,19]
["NST03A","01h",{"$f":"'Cover Sheet'!$C$17","v":0},{"$f":"'Cover Sheet'!$C$26","v":"00:00:00"},16,{"$f":"INDIRECT($I$1&\"!\"&$Y$1&$H175)/'Cover Sheet'!$C$29","v":{"$error":"#DIV/0!"}},null,20]
["NST03A","02",{"$f":"'Cover Sheet'!$C$17","v":0},{"$f":"'Cover Sheet'!$C$26","v":"00:00:00"},16,{"$f":"INDIRECT($I$1&\"!\"&$Y$1&$H176)/'Cover Sheet'!$C$29","v":{"$error":"#DIV/0!"}},null,21]
["NST03A","03",{"$f":"'Cover Sheet'!$C$17","v":0},{"$f":"'Cover Sheet'!$C$26","v":"00:00:00"},16,{"$f":"INDIRECT($I$1&\"!\"&$Y$1&$H177)","v":"-"},null,22]
["NST03A","01",{"$f":"'Cover Sheet'!$C$17","v":0},{"$f":"'Cover Sheet'!$C$26","v":"00:00:00"},17,{"$f":"INDIRECT($I$1&\"!\"&$Z$1&$H178)/'Cover Sheet'!$C$29","v":{"$error":"#DIV/0!"}},null,12]
["NST03A","01a",{"$f":"'Cover Sheet'!$C$17","v":0},{"$f":"'Cover Sheet'!$C$26","v":"00:00:00"},17,{"$f":"INDIRECT($I$1&\"!\"&$Z$1&$H179)/'Cover Sheet'!$C$29","v":{"$error":"#DIV/0!"}},null,13]
["NST03A","01b",{"$f":"'Cover Sheet'!$C$17","v":0},{"$f":"'Cover Sheet'!$C$26","v":"00:00:00"},17,{"$f":"INDIRECT($I$1&\"!\"&$Z$1&$H180)/'Cover Sheet'!$C$29","v":{"$error":"#DIV/0!"}},null,14]
["NST03A","01c",{"$f":"'Cover Sheet'!$C$17","v":0},{"$f":"'Cover Sheet'!$C$26","v":"00:00:00"},17,{"$f":"INDIRECT($I$1&\"!\"&$Z$1&$H181)/'Cover Sheet'!$C$29","v":{"$error":"#DIV/0!"}},null,15]
["NST03A","01d",{"$f":"'Cover Sheet'!$C$17","v":0},{"$f":"'Cover Sheet'!$C$26","v":"00:00:00"},17,{"$f":"INDIRECT($I$1&\"!\"&$Z$1&$H182)/'Cover Sheet'!$C$29","v":{"$error":"#DIV/0!"}},null,16]
["NST03A","01e",{"$f":"'Cover Sheet'!$C$17","v":0},{"$f":"'Cover Sheet'!$C$26","v":"00:00:00"},17,{"$f":"INDIRECT($I$1&\"!\"&$Z$1&$H183)/'Cover Sheet'!$C$29","v":{"$error":"#DIV/0!"}},null,17]
["NST03A","01f",{"$f":"'Cover Sheet'!$C$17","v":0},{"$f":"'Cover Sheet'!$C$26","v":"00:00:00"},17,{"$f":"INDIRECT($I$1&\"!\"&$Z$1&$H184)/'Cover Sheet'!$C$29","v":{"$error":"#DIV/0!"}},null,18]
["NST03A","01g",{"$f":"'Cover Sheet'!$C$17","v":0},{"$f":"'Cover Sheet'!$C$26","v":"00:00:00"},17,{"$f":"INDIRECT($I$1&\"!\"&$Z$1&$H185)/'Cover Sheet'!$C$29","v":{"$error":"#DIV/0!"}},null,19]
["NST03A","01h",{"$f":"'Cover Sheet'!$C$17","v":0},{"$f":"'Cover Sheet'!$C$26","v":"00:00:00"},17,{"$f":"INDIRECT($I$1&\"!\"&$Z$1&$H186)/'Cover Sheet'!$C$29","v":{"$error":"#DIV/0!"}},null,20]
["NST03A","02",{"$f":"'Cover Sheet'!$C$17","v":0},{"$f":"'Cover Sheet'!$C$26","v":"00:00:00"},17,{"$f":"INDIRECT($I$1&\"!\"&$Z$1&$H187)/'Cover Sheet'!$C$29","v":{"$error":"#DIV/0!"}},null,21]
["NST03A","03",{"$f":"'Cover Sheet'!$C$17","v":0},{"$f":"'Cover Sheet'!$C$26","v":"00:00:00"},17,{"$f":"INDIRECT($I$1&\"!\"&$Z$1&$H188)","v":"-"},null,22]
["NST03A","01",{"$f":"'Cover Sheet'!$C$17","v":0},{"$f":"'Cover Sheet'!$C$26","v":"00:00:00"},18,{"$f":"INDIRECT($I$1&\"!\"&$AA$1&$H189)/'Cover Sheet'!$C$29","v":{"$error":"#DIV/0!"}},null,12]
["NST03A","01a",{"$f":"'Cover Sheet'!$C$17","v":0},{"$f":"'Cover Sheet'!$C$26","v":"00:00:00"},18,{"$f":"INDIRECT($I$1&\"!\"&$AA$1&$H190)/'Cover Sheet'!$C$29","v":{"$error":"#DIV/0!"}},null,13]
["NST03A","01b",{"$f":"'Cover Sheet'!$C$17","v":0},{"$f":"'Cover Sheet'!$C$26","v":"00:00:00"},18,{"$f":"INDIRECT($I$1&\"!\"&$AA$1&$H191)/'Cover Sheet'!$C$29","v":{"$error":"#DIV/0!"}},null,14]
["NST03A","01c",{"$f":"'Cover Sheet'!$C$17","v":0},{"$f":"'Cover Sheet'!$C$26","v":"00:00:00"},18,{"$f":"INDIRECT($I$1&\"!\"&$AA$1&$H192)/'Cover Sheet'!$C$29","v":{"$error":"#DIV/0!"}},null,15]
["NST03A","01d",{"$f":"'Cover Sheet'!$C$17","v":0},{"$f":"'Cover Sheet'!$C$26","v":"00:00:00"},18,{"$f":"INDIRECT($I$1&\"!\"&$AA$1&$H193)/'Cover Sheet'!$C$29","v":{"$error":"#DIV/0!"}},null,16]
["NST03A","01e",{"$f":"'Cover Sheet'!$C$17","v":0},{"$f":"'Cover Sheet'!$C$26","v":"00:00:00"},18,{"$f":"INDIRECT($I$1&\"!\"&$AA$1&$H194)/'Cover Sheet'!$C$29","v":{"$error":"#DIV/0!"}},null,17]
["NST03A","01f",{"$f":"'Cover Sheet'!$C$17","v":0},{"$f":"'Cover Sheet'!$C$26","v":"00:00:00"},18,{"$f":"INDIRECT($I$1&\"!\"&$AA$1&$H195)/'Cover Sheet'!$C$29","v":{"$error":"#DIV/0!"}},null,18]
["NST03A","01g",{"$f":"'Cover Sheet'!$C$17","v":0},{"$f":"'Cover Sheet'!$C$26","v":"00:00:00"},18,{"$f":"INDIRECT($I$1&\"!\"&$AA$1&$H196)/'Cover Sheet'!$C$29","v":{"$error":"#DIV/0!"}},null,19]
["NST03A","01h",{"$f":"'Cover Sheet'!$C$17","v":0},{"$f":"'Cover Sheet'!$C$26","v":"00:00:00"},18,{"$f":"INDIRECT($I$1&\"!\"&$AA$1&$H197)/'Cover Sheet'!$C$29","v":{"$error":"#DIV/0!"}},null,20]
["NST03A","02",{"$f":"'Cover Sheet'!$C$17","v":0},{"$f":"'Cover Sheet'!$C$26","v":"00:00:00"},18,{"$f":"INDIRECT($I$1&\"!\"&$AA$1&$H198)/'Cover Sheet'!$C$29","v":{"$error":"#DIV/0!"}},null,21]
["NST03A","03",{"$f":"'Cover Sheet'!$C$17","v":0},{"$f":"'Cover Sheet'!$C$26","v":"00:00:00"},18,{"$f":"INDIRECT($I$1&\"!\"&$AA$1&$H199)","v":"-"},null,22]
["NST03A","01",{"$f":"'Cover Sheet'!$C$17","v":0},{"$f":"'Cover Sheet'!$C$26","v":"00:00:00"},19,{"$f":"INDIRECT($I$1&\"!\"&$AB$1&$H200)/'Cover Sheet'!$C$29","v":{"$error":"#DIV/0!"}},null,12]
["NST03A","01a",{"$f":"'Cover Sheet'!$C$17","v":0},{"$f":"'Cover Sheet'!$C$26","v":"00:00:00"},19,{"$f":"INDIRECT($I$1&\"!\"&$AB$1&$H201)/'Cover Sheet'!$C$29","v":{"$error":"#DIV/0!"}},null,13]
["NST03A","01b",{"$f":"'Cover Sheet'!$C$17","v":0},{"$f":"'Cover Sheet'!$C$26","v":"00:00:00"},19,{"$f":"INDIRECT($I$1&\"!\"&$AB$1&$H202)/'Cover Sheet'!$C$29","v":{"$error":"#DIV/0!"}},null,14]
["NST03A","01c",{"$f":"'Cover Sheet'!$C$17","v":0},{"$f":"'Cover Sheet'!$C$26","v":"00:00:00"},19,{"$f":"INDIRECT($I$1&\"!\"&$AB$1&$H203)/'Cover Sheet'!$C$29","v":{"$error":"#DIV/0!"}},null,15]
["NST03A","01d",{"$f":"'Cover Sheet'!$C$17","v":0},{"$f":"'Cover Sheet'!$C$26","v":"00:00:00"},19,{"$f":"INDIRECT($I$1&\"!\"&$AB$1&$H204)/'Cover Sheet'!$C$29","v":{"$error":"#DIV/0!"}},null,16]
["NST03A","01e",{"$f":"'Cover Sheet'!$C$17","v":0},{"$f":"'Cover Sheet'!$C$26","v":"00:00:00"},19,{"$f":"INDIRECT($I$1&\"!\"&$AB$1&$H205)/'Cover Sheet'!$C$29","v":{"$error":"#DIV/0!"}},null,17]
["NST03A","01f",{"$f":"'Cover Sheet'!$C$17","v":0},{"$f":"'Cover Sheet'!$C$26","v":"00:00:00"},19,{"$f":"INDIRECT($I$1&\"!\"&$AB$1&$H206)/'Cover Sheet'!$C$29","v":{"$error":"#DIV/0!"}},null,18]
["NST03A","01g",{"$f":"'Cover Sheet'!$C$17","v":0},{"$f":"'Cover Sheet'!$C$26","v":"00:00:00"},19,{"$f":"INDIRECT($I$1&\"!\"&$AB$1&$H207)/'Cover Sheet'!$C$29","v":{"$error":"#DIV/0!"}},null,19]
["NST03A","01h",{"$f":"'Cover Sheet'!$C$17","v":0},{"$f":"'Cover Sheet'!$C$26","v":"00:00:00"},19,{"$f":"INDIRECT($I$1&\"!\"&$AB$1&$H208)/'Cover Sheet'!$C$29","v":{"$error":"#DIV/0!"}},null,20]
["NST03A","02",{"$f":"'Cover Sheet'!$C$17","v":0},{"$f":"'Cover Sheet'!$C$26","v":"00:00:00"},19,{"$f":"INDIRECT($I$1&\"!\"&$AB$1&$H209)/'Cover Sheet'!$C$29","v":{"$error":"#DIV/0!"}},null,21]
["NST03A","03",{"$f":"'Cover Sheet'!$C$17","v":0},{"$f":"'Cover Sheet'!$C$26","v":"00:00:00"},19,{"$f":"INDIRECT($I$1&\"!\"&$AB$1&$H210)","v":"-"},null,22]
["NST03A","01",{"$f":"'Cover Sheet'!$C$17","v":0},{"$f":"'Cover Sheet'!$C$26","v":"00:00:00"},20,{"$f":"INDIRECT($I$1&\"!\"&$AC$1&$H211)/'Cover Sheet'!$C$29","v":{"$error":"#DIV/0!"}},null,12]
["NST03A","01a",{"$f":"'Cover Sheet'!$C$17","v":0},{"$f":"'Cover Sheet'!$C$26","v":"00:00:00"},20,{"$f":"INDIRECT($I$1&\"!\"&$AC$1&$H212)/'Cover Sheet'!$C$29","v":{"$error":"#DIV/0!"}},null,13]
["NST03A","01b",{"$f":"'Cover Sheet'!$C$17","v":0},{"$f":"'Cover Sheet'!$C$26","v":"00:00:00"},20,{"$f":"INDIRECT($I$1&\"!\"&$AC$1&$H213)/'Cover Sheet'!$C$29","v":{"$error":"#DIV/0!"}},null,14]
["NST03A","01c",{"$f":"'Cover Sheet'!$C$17","v":0},{"$f":"'Cover Sheet'!$C$26","v":"00:00:00"},20,{"$f":"INDIRECT($I$1&\"!\"&$AC$1&$H214)/'Cover Sheet'!$C$29","v":{"$error":"#DIV/0!"}},null,15]
["NST03A","01d",{"$f":"'Cover Sheet'!$C$17","v":0},{"$f":"'Cover Sheet'!$C$26","v":"00:00:00"},20,{"$f":"INDIRECT($I$1&\"!\"&$AC$1&$H215)/'Cover Sheet'!$C$29","v":{"$error":"#DIV/0!"}},null,16]
["NST03A","01e",{"$f":"'Cover Sheet'!$C$17","v":0},{"$f":"'Cover Sheet'!$C$26","v":"00:00:00"},20,{"$f":"INDIRECT($I$1&\"!\"&$AC$1&$H216)/'Cover Sheet'!$C$29","v":{"$error":"#DIV/0!"}},null,17]
["NST03A","01f",{"$f":"'Cover Sheet'!$C$17","v":0},{"$f":"'Cover Sheet'!$C$26","v":"00:00:00"},20,{"$f":"INDIRECT($I$1&\"!\"&$AC$1&$H217)/'Cover Sheet'!$C$29","v":{"$error":"#DIV/0!"}},null,18]
["NST03A","01g",{"$f":"'Cover Sheet'!$C$17","v":0},{"$f":"'Cover Sheet'!$C$26","v":"00:00:00"},20,{"$f":"INDIRECT($I$1&\"!\"&$AC$1&$H218)/'Cover Sheet'!$C$29","v":{"$error":"#DIV/0!"}},null,19]
["NST03A","01h",{"$f":"'Cover Sheet'!$C$17","v":0},{"$f":"'Cover Sheet'!$C$26","v":"00:00:00"},20,{"$f":"INDIRECT($I$1&\"!\"&$AC$1&$H219)/'Cover Sheet'!$C$29","v":{"$error":"#DIV/0!"}},null,20]
["NST03A","02",{"$f":"'Cover Sheet'!$C$17","v":0},{"$f":"'Cover Sheet'!$C$26","v":"00:00:00"},20,{"$f":"INDIRECT($I$1&\"!\"&$AC$1&$H220)/'Cover Sheet'!$C$29","v":{"$error":"#DIV/0!"}},null,21]
["NST03A","03",{"$f":"'Cover Sheet'!$C$17","v":0},{"$f":"'Cover Sheet'!$C$26","v":"00:00:00"},20,{"$f":"INDIRECT($I$1&\"!\"&$AC$1&$H221)","v":"-"},null,22]
["NST03A","01",{"$f":"'Cover Sheet'!$C$17","v":0},{"$f":"'Cover Sheet'!$C$26","v":"00:00:00"},21,{"$f":"INDIRECT($I$1&\"!\"&$AD$1&$H222)/'Cover Sheet'!$C$29","v":{"$error":"#DIV/0!"}},null,12]
["NST03A","01a",{"$f":"'Cover Sheet'!$C$17","v":0},{"$f":"'Cover Sheet'!$C$26","v":"00:00:00"},21,{"$f":"INDIRECT($I$1&\"!\"&$AD$1&$H223)/'Cover Sheet'!$C$29","v":{"$error":"#DIV/0!"}},null,13]
["NST03A","01b",{"$f":"'Cover Sheet'!$C$17","v":0},{"$f":"'Cover Sheet'!$C$26","v":"00:00:00"},21,{"$f":"INDIRECT($I$1&\"!\"&$AD$1&$H224)/'Cover Sheet'!$C$29","v":{"$error":"#DIV/0!"}},null,14]
["NST03A","01c",{"$f":"'Cover Sheet'!$C$17","v":0},{"$f":"'Cover Sheet'!$C$26","v":"00:00:00"},21,{"$f":"INDIRECT($I$1&\"!\"&$AD$1&$H225)/'Cover Sheet'!$C$29","v":{"$error":"#DIV/0!"}},null,15]
["NST03A","01d",{"$f":"'Cover Sheet'!$C$17","v":0},{"$f":"'Cover Sheet'!$C$26","v":"00:00:00"},21,{"$f":"INDIRECT($I$1&\"!\"&$AD$1&$H226)/'Cover Sheet'!$C$29","v":{"$error":"#DIV/0!"}},null,16]
["NST03A","01e",{"$f":"'Cover Sheet'!$C$17","v":0},{"$f":"'Cover Sheet'!$C$26","v":"00:00:00"},21,{"$f":"INDIRECT($I$1&\"!\"&$AD$1&$H227)/'Cover Sheet'!$C$29","v":{"$error":"#DIV/0!"}},null,17]
["NST03A","01f",{"$f":"'Cover Sheet'!$C$17","v":0},{"$f":"'Cover Sheet'!$C$26","v":"00:00:00"},21,{"$f":"INDIRECT($I$1&\"!\"&$AD$1&$H228)/'Cover Sheet'!$C$29","v":{"$error":"#DIV/0!"}},null,18]
["NST03A","01g",{"$f":"'Cover Sheet'!$C$17","v":0},{"$f":"'Cover Sheet'!$C$26","v":"00:00:00"},21,{"$f":"INDIRECT($I$1&\"!\"&$AD$1&$H229)/'Cover Sheet'!$C$29","v":{"$error":"#DIV/0!"}},null,19]
["NST03A","01h",{"$f":"'Cover Sheet'!$C$17","v":0},{"$f":"'Cover Sheet'!$C$26","v":"00:00:00"},21,{"$f":"INDIRECT($I$1&\"!\"&$AD$1&$H230)/'Cover Sheet'!$C$29","v":{"$error":"#DIV/0!"}},null,20]
["NST03A","02",{"$f":"'Cover Sheet'!$C$17","v":0},{"$f":"'Cover Sheet'!$C$26","v":"00:00:00"},21,{"$f":"INDIRECT($I$1&\"!\"&$AD$1&$H231)/'Cover Sheet'!$C$29","v":{"$error":"#DIV/0!"}},null,21]
["NST03A","03",{"$f":"'Cover Sheet'!$C$17","v":0},{"$f":"'Cover Sheet'!$C$26","v":"00:00:00"},21,{"$f":"INDIRECT($I$1&\"!\"&$AD$1&$H232)","v":"-"},null,22]

{"sheet":"ANST04","index":8,"n_rows":32,"n_cols":24,"rows_kept":32,"cut":false,"hidden":false,"merged":[[0,0,0,2],[1,0,1,2],[2,0,2,2],[2,4,2,5],[0,3,0,6],[1,3,1,6],[8,21,8,23],[18,0,24,0],[25,0,31,0],[11,0,17,0],[3,0,3,2],[4,0,4,2],[6,0,6,6],[8,3,8,5],[8,6,8,8],[8,12,8,14],[8,15,8,17],[8,18,8,20],[3,3,3,6],[4,3,4,6],[8,0,10,2],[8,9,8,11]]}
["Name of licenceholder:",null,null,{"$f":"IF('Cover Sheet'!C15=\"\",\"\",'Cover Sheet'!C15)","v":""}]
["Type of business:",null,null,{"$f":"IF('Cover Sheet'!C22=\"\",\"\",'Cover Sheet'!$C$22)","v":""}]
["Period from:",null,null,{"$f":"IF('Cover Sheet'!C25=\"\",\"\",'Cover Sheet'!C25)","v":""},"to",null,{"$f":"IF('Cover Sheet'!C26=\"\",\"\",'Cover Sheet'!C26)","v":""}]
["Document type:",null,null,"MFSA National Specific Templates"]
["Sheet Code:",null,null,"ANST04"]
[]
["Analysis of claim amounts by type of decrement - Long Term business"]
[]
[null,null,null,"With-profits non-linked policies",null,null,"Non-profits non-linked policies - Individual Life",null,null,"Non-profits non-linked policies - Group Life",null,null,"Accumulating with-profits policies",null,null,"Property-linked policies",null,null,"Index-linked policies",null,null,"Total"]
[null,null,null,"Commitments  where Malta is the country of commitment","Commitments  where Malta is not  the country of commitment","Total - With-profits non-linked policies","Commitments  where Malta is the country of commitment","Commitments  where Malta is not  the country of commitment","Total - Non-profits non-linked policies - Individual Life","Commitments  where Malta is the country of commitment","Commitments  where Malta is not  the country of commitment","Total - Non-profits non-linked policies - Group Life","Commitments  where Malta is the country of commitment","Commitments  where Malta is not  the country of commitment","Total - Accumulating with-profits policies","Commitments  where Malta is the country of commitment","Commitments  where Malta is not  the country of commitment","Total - Property-linked policies","Commitments  where Malta is the country of commitment","Commitments  where Malta is not  the country of commitment","Total - Index-linked policies","Commitments  where Malta is the country of commitment","Commitments  where Malta is not  the country of commitment","Total "]
[null,null,null,1,2,3,4,5,6,7,8,9,10,11,12,13,14,15,16,17,18,19,20,21]
["Gross","Death ",1,null,null,{"$f":"SUM(D12:E12)","v":0},null,null,{"$f":"SUM(G12:H12)","v":0},null,null,{"$f":"SUM(J12:K12)","v":0},null,null,{"$f":"SUM(M12:N12)","v":0},null,null,{"$f":"SUM(P12:Q12)","v":0},null,null,{"$f":"SUM(S12:T12)","v":0},{"$f":"SUM(D12,G12,J12,M12,P12,S12)","v":0},{"$f":"SUM(E12,H12,K12,N12,Q12,T12)","v":0},{"$f":"SUM(V12:W12)","v":0}]
[null,"Disability lump sums",2,null,null,{"$f":"SUM(D13:E13)","v":0},null,null,{"$f":"SUM(G13:H13)","v":0},null,null,{"$f":"SUM(J13:K13)","v":0},null,null,{"$f":"SUM(M13:N13)","v":0},null,null,{"$f":"SUM(P13:Q13)","v":0},null,null,{"$f":"SUM(S13:T13)","v":0},{"$f":"SUM(D13,G13,J13,M13,P13,S13)","v":0},{"$f":"SUM(E13,H13,K13,N13,Q13,T13)","v":0},{"$f":"SUM(V13:W13)","v":0}]
[null,"Disability periodic payments",3,null,null,{"$f":"SUM(D14:E14)","v":0},null,null,{"$f":"SUM(G14:H14)","v":0},null,null,{"$f":"SUM(J14:K14)","v":0},null,null,{"$f":"SUM(M14:N14)","v":0},null,null,{"$f":"SUM(P14:Q14)","v":0},null,null,{"$f":"SUM(S14:T14)","v":0},0,0,{"$f":"SUM(V14:W14)","v":0}]
[null,"Surrender or partial surrender",4,null,null,0,null,null,0,null,null,0,null,null,0,null,null,0,null,null,0,0,0,0]
[null,"Annuity payments",5,null,null,0,null,null,0,null,null,0,null,null,0,null,null,0,null,null,0,0,0,0]
[null,"Lump sums on maturity",6,null,null,0,null,null,0,null,null,0,null,null,0,null,null,0,null,null,0,0,0,0]
[null,"Total",7,{"$f":"SUM(D12:D17)","v":0},{"$f":"SUM(E12:E17)","v":0},{"$f":"SUM(F12:F17)","v":0},0,0,{"$f":"SUM(I12:I17)","v":0},{"$f":"SUM(J12:J17)","v":0},0,0,0,{"$f":"SUM(N12:N17)","v":0},{"$f":"SUM(O12:O17)","v":0},0,0,0,0,0,0,0,0,0]
["Reinsurance outwards","Death ",8,null,null,{"$f":"SUM(D19:E19)","v":0},null,null,{"$f":"SUM(G19:H19)","v":0},null,null,{"$f":"SUM(J19:K19)","v":0},null,null,{"$f":"SUM(M19:N19)","v":0},null,null,{"$f":"SUM(P19:Q19)","v":0},null,null,{"$f":"SUM(S19:T19)","v":0},{"$f":"SUM(D19,G19,J19,M19,P19,S19)","v":0},{"$f":"SUM(E19,H19,K19,N19,Q19,T19)","v":0},{"$f":"SUM(V19:W19)","v":0}]
[null,"Disability lump sums",9,null,null,{"$f":"SUM(D20:E20)","v":0},null,null,{"$f":"SUM(G20:H20)","v":0},null,null,{"$f":"SUM(J20:K20)","v":0},null,null,{"$f":"SUM(M20:N20)","v":0},null,null,{"$f":"SUM(P20:Q20)","v":0},null,null,{"$f":"SUM(S20:T20)","v":0},{"$f":"SUM(D20,G20,J20,M20,P20,S20)","v":0},{"$f":"SUM(E20,H20,K20,N20,Q20,T20)","v":0},{"$f":"SUM(V20:W20)","v":0}]
[null,"Disability periodic payments",10,null,null,{"$f":"SUM(D21:E21)","v":0},null,null,{"$f":"SUM(G21:H21)","v":0},null,null,{"$f":"SUM(J21:K21)","v":0},null,null,{"$f":"SUM(M21:N21)","v":0},null,null,{"$f":"SUM(P21:Q21)","v":0},null,null,{"$f":"SUM(S21:T21)","v":0},{"$f":"SUM(D21,G21,J21,M21,P21,S21)","v":0},0,{"$f":"SUM(V21:W21)","v":0}]
[null,"Surrender or partial surrender",11,null,null,0,null,null,0,null,null,0,null,null,0,null,null,0,null,null,0,{"$f":"SUM(D22,G22,J22,M22,P22,S22)","v":0},0,0]
[null,"Annuity payments",12,null,null,0,null,null,0,null,null,0,null,null,0,null,null,0,null,null,0,0,0,0]
[null,"Lump sums on maturity",13,null,null,0,null,null,0,null,null,0,null,null,0,null,null,0,null,null,0,0,0,0]
[null,"Total",14,{"$f":"SUM(D19:D24)","v":0},{"$f":"SUM(E19:E24)","v":0},{"$f":"SUM(F19:F24)","v":0},{"$f":"SUM(G19:G24)","v":0},{"$f":"SUM(H19:H24)","v":0},{"$f":"SUM(I19:I24)","v":0},0,0,{"$f":"SUM(L19:L24)","v":0},{"$f":"SUM(M19:M24)","v":0},{"$f":"SUM(N19:N24)","v":0},{"$f":"SUM(O19:O24)","v":0},{"$f":"SUM(P19:P24)","v":0},{"$f":"SUM(Q19:Q24)","v":0},{"$f":"SUM(R19:R24)","v":0},{"$f":"SUM(S19:S24)","v":0},{"$f":"SUM(T19:T24)","v":0},{"$f":"SUM(U19:U24)","v":0},0,0,{"$f":"SUM(X19:X24)","v":0}]
["Net of reinsurance outwards","Death ",15,{"$f":"D12-D19","v":0},{"$f":"E12-E19","v":0},{"$f":"SUM(D26:E26)","v":0},{"$f":"G12-G19","v":0},{"$f":"H12-H19","v":0},{"$f":"SUM(G26:H26)","v":0},{"$f":"J12-J19","v":0},{"$f":"K12-K19","v":0},{"$f":"SUM(J26:K26)","v":0},{"$f":"M12-M19","v":0},{"$f":"N12-N19","v":0},{"$f":"SUM(M26:N26)","v":0},{"$f":"P12-P19","v":0},{"$f":"Q12-Q19","v":0},{"$f":"SUM(P26:Q26)","v":0},{"$f":"S12-S19","v":0},{"$f":"T12-T19","v":0},{"$f":"SUM(S26:T26)","v":0},{"$f":"SUM(D26,G26,J26,M26,P26,S26)","v":0},{"$f":"SUM(E26,H26,K26,N26,Q26,T26)","v":0},{"$f":"SUM(V26:W26)","v":0}]
[null,"Disability lump sums",16,{"$f":"D13-D20","v":0},{"$f":"E13-E20","v":0},{"$f":"SUM(D27:E27)","v":0},{"$f":"G13-G20","v":0},{"$f":"H13-H20","v":0},{"$f":"SUM(G27:H27)","v":0},{"$f":"J13-J20","v":0},{"$f":"K13-K20","v":0},{"$f":"SUM(J27:K27)","v":0},{"$f":"M13-M20","v":0},{"$f":"N13-N20","v":0},{"$f":"SUM(M27:N27)","v":0},{"$f":"P13-P20","v":0},{"$f":"Q13-Q20","v":0},{"$f":"SUM(P27:Q27)","v":0},{"$f":"S13-S20","v":0},{"$f":"T13-T20","v":0},{"$f":"SUM(S27:T27)","v":0},{"$f":"SUM(D27,G27,J27,M27,P27,S27)","v":0},{"$f":"SUM(E27,H27,K27,N27,Q27,T27)","v":0},{"$f":"SUM(V27:W27)","v":0}]
[null,"Disability periodic payments",17,{"$f":"D14-D21","v":0},0,{"$f":"SUM(D28:E28)","v":0},{"$f":"G14-G21","v":0},{"$f":"H14-H21","v":0},{"$f":"SUM(G28:H28)","v":0},{"$f":"J14-J21","v":0},0,{"$f":"SUM(J28:K28)","v":0},{"$f":"M14-M21","v":0},0,{"$f":"SUM(M28:N28)","v":0},{"$f":"P14-P21","v":0},0,{"$f":"SUM(P28:Q28)","v":0},{"$f":"S14-S21","v":0},0,{"$f":"SUM(S28:T28)","v":0},0,0,{"$f":"SUM(V28:W28)","v":0}]
[null,"Surrender or partial surrender",18,0,0,0,{"$f":"G15-G22","v":0},0,0,{"$f":"J15-J22","v":0},0,0,{"$f":"M15-M22","v":0},0,0,{"$f":"P15-P22","v":0},0,0,{"$f":"S15-S22","v":0},0,0,0,0,0]
[null,"Annuity payments",19,0,0,0,{"$f":"G16-G23","v":0},0,0,{"$f":"J16-J23","v":0},0,0,{"$f":"M16-M23","v":0},0,0,{"$f":"P16-P23","v":0},0,0,{"$f":"S16-S23","v":0},0,0,0,0,0]
[null,"Lump sums on maturity",20,0,0,0,{"$f":"G17-G24","v":0},0,0,{"$f":"J17-J24","v":0},0,0,{"$f":"M17-M24","v":0},0,0,{"$f":"P17-P24","v":0},0,0,{"$f":"S17-S24","v":0},0,0,0,0,0]
[null,"Total",21,{"$f":"SUM(D26:D31)","v":0},{"$f":"SUM(E26:E31)","v":0},{"$f":"SUM(F26:F31)","v":0},{"$f":"SUM(G26:G31)","v":0},{"$f":"SUM(H26:H31)","v":0},{"$f":"SUM(I26:I31)","v":0},0,0,{"$f":"SUM(L26:L31)","v":0},{"$f":"SUM(M26:M31)","v":0},{"$f":"SUM(N26:N31)","v":0},{"$f":"SUM(O26:O31)","v":0},{"$f":"SUM(P26:P31)","v":0},{"$f":"SUM(Q26:Q31)","v":0},{"$f":"SUM(R26:R31)","v":0},{"$f":"SUM(S26:S31)","v":0},{"$f":"SUM(T26:T31)","v":0},{"$f":"SUM(U26:U31)","v":0},0,0,{"$f":"SUM(X26:X31)","v":0}]

{"sheet":"NST04A","index":9,"n_rows":442,"n_cols":30,"rows_kept":442,"cut":false,"hidden":true,"merged":[]}
["SheetCode","FieldCode","FICode","Date","ColNum","Value",null,null,"ANST04","D","E","F","G","H","I","J","K","L","M","N","O","P","Q","R","S","T","U","V","W","X"]
["NST04A","01a",{"$f":"'Cover Sheet'!$C$17","v":0},{"$f":"'Cover Sheet'!$C$26","v":"00:00:00"},1,{"$f":"INDIRECT($I$1&\"!\"&$J$1&$G2)/'Cover Sheet'!$C$29","v":{"$error":"#DIV/0!"}},12]
["NST04A","01b",{"$f":"'Cover Sheet'!$C$17","v":0},{"$f":"'Cover Sheet'!$C$26","v":"00:00:00"},1,{"$f":"INDIRECT($I$1&\"!\"&$J$1&$G3)/'Cover Sheet'!$C$29","v":{"$error":"#DIV/0!"}},13]
["NST04A","01c",{"$f":"'Cover Sheet'!$C$17","v":0},{"$f":"'Cover Sheet'!$C$26","v":"00:00:00"},1,{"$f":"INDIRECT($I$1&\"!\"&$J$1&$G4)/'Cover Sheet'!$C$29","v":{"$error":"#DIV/0!"}},14]
["NST04A","01d",{"$f":"'Cover Sheet'!$C$17","v":0},{"$f":"'Cover Sheet'!$C$26","v":"00:00:00"},1,{"$f":"INDIRECT($I$1&\"!\"&$J$1&$G5)/'Cover Sheet'!$C$29","v":{"$error":"#DIV/0!"}},15]
["NST04A","01e",{"$f":"'Cover Sheet'!$C$17","v":0},{"$f":"'Cover Sheet'!$C$26","v":"00:00:00"},1,{"$f":"INDIRECT($I$1&\"!\"&$J$1&$G6)/'Cover Sheet'!$C$29","v":{"$error":"#DIV/0!"}},16]
["NST04A","01f",{"$f":"'Cover Sheet'!$C$17","v":0},{"$f":"'Cover Sheet'!$C$26","v":"00:00:00"},1,{"$f":"INDIRECT($I$1&\"!\"&$J$1&$G7)/'Cover Sheet'!$C$29","v":{"$error":"#DIV/0!"}},17]
["NST04A","01g",{"$f":"'Cover Sheet'!$C$17","v":0},{"$f":"'Cover Sheet'!$C$26","v":"00:00:00"},1,{"$f":"INDIRECT($I$1&\"!\"&$J$1&$G8)/'Cover Sheet'!$C$29","v":{"$error":"#DIV/0!"}},18]
["NST04A","02a",{"$f":"'Cover Sheet'!$C$17","v":0},{"$f":"'Cover Sheet'!$C$26","v":"00:00:00"},1,{"$f":"INDIRECT($I$1&\"!\"&$J$1&$G9)/'Cover Sheet'!$C$29","v":{"$error":"#DIV/0!"}},19]
["NST04A","02b",{"$f":"'Cover Sheet'!$C$17","v":0},{"$f":"'Cover Sheet'!$C$26","v":"00:00:00"},1,{"$f":"INDIRECT($I$1&\"!\"&$J$1&$G10)/'Cover Sheet'!$C$29","v":{"$error":"#DIV/0!"}},20]
["NST04A","02c",{"$f":"'Cover Sheet'!$C$17","v":0},{"$f":"'Cover Sheet'!$C$26","v":"00:00:00"},1,{"$f":"INDIRECT($I$1&\"!\"&$J$1&$G11)/'Cover Sheet'!$C$29","v":{"$error":"#DIV/0!"}},21]
["NST04A","02d",{"$f":"'Cover Sheet'!$C$17","v":0},{"$f":"'Cover Sheet'!$C$26","v":"00:00:00"},1,{"$f":"INDIRECT($I$1&\"!\"&$J$1&$G12)/'Cover Sheet'!$C$29","v":{"$error":"#DIV/0!"}},22]
["NST04A","02e",{"$f":"'Cover Sheet'!$C$17","v":0},{"$f":"'Cover Sheet'!$C$26","v":"00:00:00"},1,{"$f":"INDIRECT($I$1&\"!\"&$J$1&$G13)/'Cover Sheet'!$C$29","v":{"$error":"#DIV/0!"}},23]
["NST04A","02f",{"$f":"'Cover Sheet'!$C$17","v":0},{"$f":"'Cover Sheet'!$C$26","v":"00:00:00"},1,{"$f":"INDIRECT($I$1&\"!\"&$J$1&$G14)/'Cover Sheet'!$C$29","v":{"$error":"#DIV/0!"}},24]
["NST04A","02g",{"$f":"'Cover Sheet'!$C$17","v":0},{"$f":"'Cover Sheet'!$C$26","v":"00:00:00"},1,{"$f":"INDIRECT($I$1&\"!\"&$J$1&$G15)/'Cover Sheet'!$C$29","v":{"$error":"#DIV/0!"}},25]
["NST04A","03a",{"$f":"'Cover Sheet'!$C$17","v":0},{"$f":"'Cover Sheet'!$C$26","v":"00:00:00"},1,{"$f":"INDIRECT($I$1&\"!\"&$J$1&$G16)/'Cover Sheet'!$C$29","v":{"$error":"#DIV/0!"}},26]
["NST04A","03b",{"$f":"'Cover Sheet'!$C$17","v":0},{"$f":"'Cover Sheet'!$C$26","v":"00:00:00"},1,{"$f":"INDIRECT($I$1&\"!\"&$J$1&$G17)/'Cover Sheet'!$C$29","v":{"$error":"#DIV/0!"}},27]
["NST04A","03c",{"$f":"'Cover Sheet'!$C$17","v":0},{"$f":"'Cover Sheet'!$C$26","v":"00:00:00"},1,{"$f":"INDIRECT($I$1&\"!\"&$J$1&$G18)/'Cover Sheet'!$C$29","v":{"$error":"#DIV/0!"}},28]
["NST04A","03d",{"$f":"'Cover Sheet'!$C$17","v":0},{"$f":"'Cover Sheet'!$C$26","v":"00:00:00"},1,{"$f":"INDIRECT($I$1&\"!\"&$J$1&$G19)/'Cover Sheet'!$C$29","v":{"$error":"#DIV/0!"}},29]
["NST04A","03e",{"$f":"'Cover Sheet'!$C$17","v":0},{"$f":"'Cover Sheet'!$C$26","v":"00:00:00"},1,{"$f":"INDIRECT($I$1&\"!\"&$J$1&$G20)/'Cover Sheet'!$C$29","v":{"$error":"#DIV/0!"}},30]
["NST04A","03f",{"$f":"'Cover Sheet'!$C$17","v":0},{"$f":"'Cover Sheet'!$C$26","v":"00:00:00"},1,{"$f":"INDIRECT($I$1&\"!\"&$J$1&$G21)/'Cover Sheet'!$C$29","v":{"$error":"#DIV/0!"}},31]
["NST04A","03g",{"$f":"'Cover Sheet'!$C$17","v":0},{"$f":"'Cover Sheet'!$C$26","v":"00:00:00"},1,{"$f":"INDIRECT($I$1&\"!\"&$J$1&$G22)/'Cover Sheet'!$C$29","v":{"$error":"#DIV/0!"}},32]
["NST04A","01a",{"$f":"'Cover Sheet'!$C$17","v":0},{"$f":"'Cover Sheet'!$C$26","v":"00:00:00"},2,{"$f":"INDIRECT($I$1&\"!\"&$K$1&$G23)/'Cover Sheet'!$C$29","v":{"$error":"#DIV/0!"}},12]
["NST04A","01b",{"$f":"'Cover Sheet'!$C$17","v":0},{"$f":"'Cover Sheet'!$C$26","v":"00:00:00"},2,{"$f":"INDIRECT($I$1&\"!\"&$K$1&$G24)/'Cover Sheet'!$C$29","v":{"$error":"#DIV/0!"}},13]
["NST04A","01c",{"$f":"'Cover Sheet'!$C$17","v":0},{"$f":"'Cover Sheet'!$C$26","v":"00:00:00"},2,{"$f":"INDIRECT($I$1&\"!\"&$K$1&$G25)/'Cover Sheet'!$C$29","v":{"$error":"#DIV/0!"}},14]
["NST04A","01d",{"$f":"'Cover Sheet'!$C$17","v":0},{"$f":"'Cover Sheet'!$C$26","v":"00:00:00"},2,{"$f":"INDIRECT($I$1&\"!\"&$K$1&$G26)/'Cover Sheet'!$C$29","v":{"$error":"#DIV/0!"}},15]
["NST04A","01e",{"$f":"'Cover Sheet'!$C$17","v":0},{"$f":"'Cover Sheet'!$C$26","v":"00:00:00"},2,{"$f":"INDIRECT($I$1&\"!\"&$K$1&$G27)/'Cover Sheet'!$C$29","v":{"$error":"#DIV/0!"}},16]
["NST04A","01f",{"$f":"'Cover Sheet'!$C$17","v":0},{"$f":"'Cover Sheet'!$C$26","v":"00:00:00"},2,{"$f":"INDIRECT($I$1&\"!\"&$K$1&$G28)/'Cover Sheet'!$C$29","v":{"$error":"#DIV/0!"}},17]
["NST04A","01g",{"$f":"'Cover Sheet'!$C$17","v":0},{"$f":"'Cover Sheet'!$C$26","v":"00:00:00"},2,{"$f":"INDIRECT($I$1&\"!\"&$K$1&$G29)/'Cover Sheet'!$C$29","v":{"$error":"#DIV/0!"}},18]
["NST04A","02a",{"$f":"'Cover Sheet'!$C$17","v":0},{"$f":"'Cover Sheet'!$C$26","v":"00:00:00"},2,{"$f":"INDIRECT($I$1&\"!\"&$K$1&$G30)/'Cover Sheet'!$C$29","v":{"$error":"#DIV/0!"}},19]
["NST04A","02b",{"$f":"'Cover Sheet'!$C$17","v":0},{"$f":"'Cover Sheet'!$C$26","v":"00:00:00"},2,{"$f":"INDIRECT($I$1&\"!\"&$K$1&$G31)/'Cover Sheet'!$C$29","v":{"$error":"#DIV/0!"}},20]
["NST04A","02c",{"$f":"'Cover Sheet'!$C$17","v":0},{"$f":"'Cover Sheet'!$C$26","v":"00:00:00"},2,{"$f":"INDIRECT($I$1&\"!\"&$K$1&$G32)/'Cover Sheet'!$C$29","v":{"$error":"#DIV/0!"}},21]
["NST04A","02d",{"$f":"'Cover Sheet'!$C$17","v":0},{"$f":"'Cover Sheet'!$C$26","v":"00:00:00"},2,{"$f":"INDIRECT($I$1&\"!\"&$K$1&$G33)/'Cover Sheet'!$C$29","v":{"$error":"#DIV/0!"}},22]
["NST04A","02e",{"$f":"'Cover Sheet'!$C$17","v":0},{"$f":"'Cover Sheet'!$C$26","v":"00:00:00"},2,{"$f":"INDIRECT($I$1&\"!\"&$K$1&$G34)/'Cover Sheet'!$C$29","v":{"$error":"#DIV/0!"}},23]
["NST04A","02f",{"$f":"'Cover Sheet'!$C$17","v":0},{"$f":"'Cover Sheet'!$C$26","v":"00:00:00"},2,{"$f":"INDIRECT($I$1&\"!\"&$K$1&$G35)/'Cover Sheet'!$C$29","v":{"$error":"#DIV/0!"}},24]
["NST04A","02g",{"$f":"'Cover Sheet'!$C$17","v":0},{"$f":"'Cover Sheet'!$C$26","v":"00:00:00"},2,{"$f":"INDIRECT($I$1&\"!\"&$K$1&$G36)/'Cover Sheet'!$C$29","v":{"$error":"#DIV/0!"}},25]
["NST04A","03a",{"$f":"'Cover Sheet'!$C$17","v":0},{"$f":"'Cover Sheet'!$C$26","v":"00:00:00"},2,{"$f":"INDIRECT($I$1&\"!\"&$K$1&$G37)/'Cover Sheet'!$C$29","v":{"$error":"#DIV/0!"}},26]
["NST04A","03b",{"$f":"'Cover Sheet'!$C$17","v":0},{"$f":"'Cover Sheet'!$C$26","v":"00:00:00"},2,{"$f":"INDIRECT($I$1&\"!\"&$K$1&$G38)/'Cover Sheet'!$C$29","v":{"$error":"#DIV/0!"}},27]
["NST04A","03c",{"$f":"'Cover Sheet'!$C$17","v":0},{"$f":"'Cover Sheet'!$C$26","v":"00:00:00"},2,{"$f":"INDIRECT($I$1&\"!\"&$K$1&$G39)/'Cover Sheet'!$C$29","v":{"$error":"#DIV/0!"}},28]
["NST04A","03d",{"$f":"'Cover Sheet'!$C$17","v":0},{"$f":"'Cover Sheet'!$C$26","v":"00:00:00"},2,{"$f":"INDIRECT($I$1&\"!\"&$K$1&$G40)/'Cover Sheet'!$C$29","v":{"$error":"#DIV/0!"}},29]
["NST04A","03e",{"$f":"'Cover Sheet'!$C$17","v":0},{"$f":"'Cover Sheet'!$C$26","v":"00:00:00"},2,{"$f":"INDIRECT($I$1&\"!\"&$K$1&$G41)/'Cover Sheet'!$C$29","v":{"$error":"#DIV/0!"}},30]
["NST04A","03f",{"$f":"'Cover Sheet'!$C$17","v":0},{"$f":"'Cover Sheet'!$C$26","v":"00:00:00"},2,{"$f":"INDIRECT($I$1&\"!\"&$K$1&$G42)/'Cover Sheet'!$C$29","v":{"$error":"#DIV/0!"}},31]
["NST04A","03g",{"$f":"'Cover Sheet'!$C$17","v":0},{"$f":"'Cover Sheet'!$C$26","v":"00:00:00"},2,{"$f":"INDIRECT($I$1&\"!\"&$K$1&$G43)/'Cover Sheet'!$C$29","v":{"$error":"#DIV/0!"}},32]
["NST04A","01a",{"$f":"'Cover Sheet'!$C$17","v":0},{"$f":"'Cover Sheet'!$C$26","v":"00:00:00"},3,{"$f":"INDIRECT($I$1&\"!\"&$L$1&$G44)/'Cover Sheet'!$C$29","v":{"$error":"#DIV/0!"}},12]
["NST04A","01b",{"$f":"'Cover Sheet'!$C$17","v":0},{"$f":"'Cover Sheet'!$C$26","v":"00:00:00"},3,{"$f":"INDIRECT($I$1&\"!\"&$L$1&$G45)/'Cover Sheet'!$C$29","v":{"$error":"#DIV/0!"}},13]
["NST04A","01c",{"$f":"'Cover Sheet'!$C$17","v":0},{"$f":"'Cover Sheet'!$C$26","v":"00:00:00"},3,{"$f":"INDIRECT($I$1&\"!\"&$L$1&$G46)/'Cover Sheet'!$C$29","v":{"$error":"#DIV/0!"}},14]
["NST04A","01d",{"$f":"'Cover Sheet'!$C$17","v":0},{"$f":"'Cover Sheet'!$C$26","v":"00:00:00"},3,{"$f":"INDIRECT($I$1&\"!\"&$L$1&$G47)/'Cover Sheet'!$C$29","v":{"$error":"#DIV/0!"}},15]
["NST04A","01e",{"$f":"'Cover Sheet'!$C$17","v":0},{"$f":"'Cover Sheet'!$C$26","v":"00:00:00"},3,{"$f":"INDIRECT($I$1&\"!\"&$L$1&$G48)/'Cover Sheet'!$C$29","v":{"$error":"#DIV/0!"}},16]
["NST04A","01f",{"$f":"'Cover Sheet'!$C$17","v":0},{"$f":"'Cover Sheet'!$C$26","v":"00:00:00"},3,{"$f":"INDIRECT($I$1&\"!\"&$L$1&$G49)/'Cover Sheet'!$C$29","v":{"$error":"#DIV/0!"}},17]
["NST04A","01g",{"$f":"'Cover Sheet'!$C$17","v":0},{"$f":"'Cover Sheet'!$C$26","v":"00:00:00"},3,{"$f":"INDIRECT($I$1&\"!\"&$L$1&$G50)/'Cover Sheet'!$C$29","v":{"$error":"#DIV/0!"}},18]
["NST04A","02a",{"$f":"'Cover Sheet'!$C$17","v":0},{"$f":"'Cover Sheet'!$C$26","v":"00:00:00"},3,{"$f":"INDIRECT($I$1&\"!\"&$L$1&$G51)/'Cover Sheet'!$C$29","v":{"$error":"#DIV/0!"}},19]
["NST04A","02b",{"$f":"'Cover Sheet'!$C$17","v":0},{"$f":"'Cover Sheet'!$C$26","v":"00:00:00"},3,{"$f":"INDIRECT($I$1&\"!\"&$L$1&$G52)/'Cover Sheet'!$C$29","v":{"$error":"#DIV/0!"}},20]
["NST04A","02c",{"$f":"'Cover Sheet'!$C$17","v":0},{"$f":"'Cover Sheet'!$C$26","v":"00:00:00"},3,{"$f":"INDIRECT($I$1&\"!\"&$L$1&$G53)/'Cover Sheet'!$C$29","v":{"$error":"#DIV/0!"}},21]
["NST04A","02d",{"$f":"'Cover Sheet'!$C$17","v":0},{"$f":"'Cover Sheet'!$C$26","v":"00:00:00"},3,{"$f":"INDIRECT($I$1&\"!\"&$L$1&$G54)/'Cover Sheet'!$C$29","v":{"$error":"#DIV/0!"}},22]
["NST04A","02e",{"$f":"'Cover Sheet'!$C$17","v":0},{"$f":"'Cover Sheet'!$C$26","v":"00:00:00"},3,{"$f":"INDIRECT($I$1&\"!\"&$L$1&$G55)/'Cover Sheet'!$C$29","v":{"$error":"#DIV/0!"}},23]
["NST04A","02f",{"$f":"'Cover Sheet'!$C$17","v":0},{"$f":"'Cover Sheet'!$C$26","v":"00:00:00"},3,{"$f":"INDIRECT($I$1&\"!\"&$L$1&$G56)/'Cover Sheet'!$C$29","v":{"$error":"#DIV/0!"}},24]
["NST04A","02g",{"$f":"'Cover Sheet'!$C$17","v":0},{"$f":"'Cover Sheet'!$C$26","v":"00:00:00"},3,{"$f":"INDIRECT($I$1&\"!\"&$L$1&$G57)/'Cover Sheet'!$C$29","v":{"$error":"#DIV/0!"}},25]
["NST04A","03a",{"$f":"'Cover Sheet'!$C$17","v":0},{"$f":"'Cover Sheet'!$C$26","v":"00:00:00"},3,{"$f":"INDIRECT($I$1&\"!\"&$L$1&$G58)/'Cover Sheet'!$C$29","v":{"$error":"#DIV/0!"}},26]
["NST04A","03b",{"$f":"'Cover Sheet'!$C$17","v":0},{"$f":"'Cover Sheet'!$C$26","v":"00:00:00"},3,{"$f":"INDIRECT($I$1&\"!\"&$L$1&$G59)/'Cover Sheet'!$C$29","v":{"$error":"#DIV/0!"}},27]
["NST04A","03c",{"$f":"'Cover Sheet'!$C$17","v":0},{"$f":"'Cover Sheet'!$C$26","v":"00:00:00"},3,{"$f":"INDIRECT($I$1&\"!\"&$L$1&$G60)/'Cover Sheet'!$C$29","v":{"$error":"#DIV/0!"}},28]
["NST04A","03d",{"$f":"'Cover Sheet'!$C$17","v":0},{"$f":"'Cover Sheet'!$C$26","v":"00:00:00"},3,{"$f":"INDIRECT($I$1&\"!\"&$L$1&$G61)/'Cover Sheet'!$C$29","v":{"$error":"#DIV/0!"}},29]
["NST04A","03e",{"$f":"'Cover Sheet'!$C$17","v":0},{"$f":"'Cover Sheet'!$C$26","v":"00:00:00"},3,{"$f":"INDIRECT($I$1&\"!\"&$L$1&$G62)/'Cover Sheet'!$C$29","v":{"$error":"#DIV/0!"}},30]
["NST04A","03f",{"$f":"'Cover Sheet'!$C$17","v":0},{"$f":"'Cover Sheet'!$C$26","v":"00:00:00"},3,{"$f":"INDIRECT($I$1&\"!\"&$L$1&$G63)/'Cover Sheet'!$C$29","v":{"$error":"#DIV/0!"}},31]
["NST04A","03g",{"$f":"'Cover Sheet'!$C$17","v":0},{"$f":"'Cover Sheet'!$C$26","v":"00:00:00"},3,{"$f":"INDIRECT($I$1&\"!\"&$L$1&$G64)/'Cover Sheet'!$C$29","v":{"$error":"#DIV/0!"}},32]
["NST04A","01a",{"$f":"'Cover Sheet'!$C$17","v":0},{"$f":"'Cover Sheet'!$C$26","v":"00:00:00"},4,{"$f":"INDIRECT($I$1&\"!\"&$M$1&$G65)/'Cover Sheet'!$C$29","v":{"$error":"#DIV/0!"}},12]
["NST04A","01b",{"$f":"'Cover Sheet'!$C$17","v":0},{"$f":"'Cover Sheet'!$C$26","v":"00:00:00"},4,{"$f":"INDIRECT($I$1&\"!\"&$M$1&$G66)/'Cover Sheet'!$C$29","v":{"$error":"#DIV/0!"}},13]
["NST04A","01c",{"$f":"'Cover Sheet'!$C$17","v":0},{"$f":"'Cover Sheet'!$C$26","v":"00:00:00"},4,{"$f":"INDIRECT($I$1&\"!\"&$M$1&$G67)/'Cover Sheet'!$C$29","v":{"$error":"#DIV/0!"}},14]
["NST04A","01d",{"$f":"'Cover Sheet'!$C$17","v":0},{"$f":"'Cover Sheet'!$C$26","v":"00:00:00"},4,{"$f":"INDIRECT($I$1&\"!\"&$M$1&$G68)/'Cover Sheet'!$C$29","v":{"$error":"#DIV/0!"}},15]
["NST04A","01e",{"$f":"'Cover Sheet'!$C$17","v":0},{"$f":"'Cover Sheet'!$C$26","v":"00:00:00"},4,{"$f":"INDIRECT($I$1&\"!\"&$M$1&$G69)/'Cover Sheet'!$C$29","v":{"$error":"#DIV/0!"}},16]
["NST04A","01f",{"$f":"'Cover Sheet'!$C$17","v":0},{"$f":"'Cover Sheet'!$C$26","v":"00:00:00"},4,{"$f":"INDIRECT($I$1&\"!\"&$M$1&$G70)/'Cover Sheet'!$C$29","v":{"$error":"#DIV/0!"}},17]
["NST04A","01g",{"$f":"'Cover Sheet'!$C$17","v":0},{"$f":"'Cover Sheet'!$C$26","v":"00:00:00"},4,{"$f":"INDIRECT($I$1&\"!\"&$M$1&$G71)/'Cover Sheet'!$C$29","v":{"$error":"#DIV/0!"}},18]
["NST04A","02a",{"$f":"'Cover Sheet'!$C$17","v":0},{"$f":"'Cover Sheet'!$C$26","v":"00:00:00"},4,{"$f":"INDIRECT($I$1&\"!\"&$M$1&$G72)/'Cover Sheet'!$C$29","v":{"$error":"#DIV/0!"}},19]
["NST04A","02b",{"$f":"'Cover Sheet'!$C$17","v":0},{"$f":"'Cover Sheet'!$C$26","v":"00:00:00"},4,{"$f":"INDIRECT($I$1&\"!\"&$M$1&$G73)/'Cover Sheet'!$C$29","v":{"$error":"#DIV/0!"}},20]
["NST04A","02c",{"$f":"'Cover Sheet'!$C$17","v":0},{"$f":"'Cover Sheet'!$C$26","v":"00:00:00"},4,{"$f":"INDIRECT($I$1&\"!\"&$M$1&$G74)/'Cover Sheet'!$C$29","v":{"$error":"#DIV/0!"}},21]
["NST04A","02d",{"$f":"'Cover Sheet'!$C$17","v":0},{"$f":"'Cover Sheet'!$C$26","v":"00:00:00"},4,{"$f":"INDIRECT($I$1&\"!\"&$M$1&$G75)/'Cover Sheet'!$C$29","v":{"$error":"#DIV/0!"}},22]
["NST04A","02e",{"$f":"'Cover Sheet'!$C$17","v":0},{"$f":"'Cover Sheet'!$C$26","v":"00:00:00"},4,{"$f":"INDIRECT($I$1&\"!\"&$M$1&$G76)/'Cover Sheet'!$C$29","v":{"$error":"#DIV/0!"}},23]
["NST04A","02f",{"$f":"'Cover Sheet'!$C$17","v":0},{"$f":"'Cover Sheet'!$C$26","v":"00:00:00"},4,{"$f":"INDIRECT($I$1&\"!\"&$M$1&$G77)/'Cover Sheet'!$C$29","v":{"$error":"#DIV/0!"}},24]
["NST04A","02g",{"$f":"'Cover Sheet'!$C$17","v":0},{"$f":"'Cover Sheet'!$C$26","v":"00:00:00"},4,{"$f":"INDIRECT($I$1&\"!\"&$M$1&$G78)/'Cover Sheet'!$C$29","v":{"$error":"#DIV/0!"}},25]
["NST04A","03a",{"$f":"'Cover Sheet'!$C$17","v":0},{"$f":"'Cover Sheet'!$C$26","v":"00:00:00"},4,{"$f":"INDIRECT($I$1&\"!\"&$M$1&$G79)/'Cover Sheet'!$C$29","v":{"$error":"#DIV/0!"}},26]
["NST04A","03b",{"$f":"'Cover Sheet'!$C$17","v":0},{"$f":"'Cover Sheet'!$C$26","v":"00:00:00"},4,{"$f":"INDIRECT($I$1&\"!\"&$M$1&$G80)/'Cover Sheet'!$C$29","v":{"$error":"#DIV/0!"}},27]
["NST04A","03c",{"$f":"'Cover Sheet'!$C$17","v":0},{"$f":"'Cover Sheet'!$C$26","v":"00:00:00"},4,{"$f":"INDIRECT($I$1&\"!\"&$M$1&$G81)/'Cover Sheet'!$C$29","v":{"$error":"#DIV/0!"}},28]
["NST04A","03d",{"$f":"'Cover Sheet'!$C$17","v":0},{"$f":"'Cover Sheet'!$C$26","v":"00:00:00"},4,{"$f":"INDIRECT($I$1&\"!\"&$M$1&$G82)/'Cover Sheet'!$C$29","v":{"$error":"#DIV/0!"}},29]
["NST04A","03e",{"$f":"'Cover Sheet'!$C$17","v":0},{"$f":"'Cover Sheet'!$C$26","v":"00:00:00"},4,{"$f":"INDIRECT($I$1&\"!\"&$M$1&$G83)/'Cover Sheet'!$C$29","v":{"$error":"#DIV/0!"}},30]
["NST04A","03f",{"$f":"'Cover Sheet'!$C$17","v":0},{"$f":"'Cover Sheet'!$C$26","v":"00:00:00"},4,{"$f":"INDIRECT($I$1&\"!\"&$M$1&$G84)/'Cover Sheet'!$C$29","v":{"$error":"#DIV/0!"}},31]
["NST04A","03g",{"$f":"'Cover Sheet'!$C$17","v":0},{"$f":"'Cover Sheet'!$C$26","v":"00:00:00"},4,{"$f":"INDIRECT($I$1&\"!\"&$M$1&$G85)/'Cover Sheet'!$C$29","v":{"$error":"#DIV/0!"}},32]
["NST04A","01a",{"$f":"'Cover Sheet'!$C$17","v":0},{"$f":"'Cover Sheet'!$C$26","v":"00:00:00"},5,{"$f":"INDIRECT($I$1&\"!\"&$N$1&$G86)/'Cover Sheet'!$C$29","v":{"$error":"#DIV/0!"}},12]
["NST04A","01b",{"$f":"'Cover Sheet'!$C$17","v":0},{"$f":"'Cover Sheet'!$C$26","v":"00:00:00"},5,{"$f":"INDIRECT($I$1&\"!\"&$N$1&$G87)/'Cover Sheet'!$C$29","v":{"$error":"#DIV/0!"}},13]
["NST04A","01c",{"$f":"'Cover Sheet'!$C$17","v":0},{"$f":"'Cover Sheet'!$C$26","v":"00:00:00"},5,{"$f":"INDIRECT($I$1&\"!\"&$N$1&$G88)/'Cover Sheet'!$C$29","v":{"$error":"#DIV/0!"}},14]
["NST04A","01d",{"$f":"'Cover Sheet'!$C$17","v":0},{"$f":"'Cover Sheet'!$C$26","v":"00:00:00"},5,{"$f":"INDIRECT($I$1&\"!\"&$N$1&$G89)/'Cover Sheet'!$C$29","v":{"$error":"#DIV/0!"}},15]
["NST04A","01e",{"$f":"'Cover Sheet'!$C$17","v":0},{"$f":"'Cover Sheet'!$C$26","v":"00:00:00"},5,{"$f":"INDIRECT($I$1&\"!\"&$N$1&$G90)/'Cover Sheet'!$C$29","v":{"$error":"#DIV/0!"}},16]
["NST04A","01f",{"$f":"'Cover Sheet'!$C$17","v":0},{"$f":"'Cover Sheet'!$C$26","v":"00:00:00"},5,{"$f":"INDIRECT($I$1&\"!\"&$N$1&$G91)/'Cover Sheet'!$C$29","v":{"$error":"#DIV/0!"}},17]
["NST04A","01g",{"$f":"'Cover Sheet'!$C$17","v":0},{"$f":"'Cover Sheet'!$C$26","v":"00:00:00"},5,{"$f":"INDIRECT($I$1&\"!\"&$N$1&$G92)/'Cover Sheet'!$C$29","v":{"$error":"#DIV/0!"}},18]
["NST04A","02a",{"$f":"'Cover Sheet'!$C$17","v":0},{"$f":"'Cover Sheet'!$C$26","v":"00:00:00"},5,{"$f":"INDIRECT($I$1&\"!\"&$N$1&$G93)/'Cover Sheet'!$C$29","v":{"$error":"#DIV/0!"}},19]
["NST04A","02b",{"$f":"'Cover Sheet'!$C$17","v":0},{"$f":"'Cover Sheet'!$C$26","v":"00:00:00"},5,{"$f":"INDIRECT($I$1&\"!\"&$N$1&$G94)/'Cover Sheet'!$C$29","v":{"$error":"#DIV/0!"}},20]
["NST04A","02c",{"$f":"'Cover Sheet'!$C$17","v":0},{"$f":"'Cover Sheet'!$C$26","v":"00:00:00"},5,{"$f":"INDIRECT($I$1&\"!\"&$N$1&$G95)/'Cover Sheet'!$C$29","v":{"$error":"#DIV/0!"}},21]
["NST04A","02d",{"$f":"'Cover Sheet'!$C$17","v":0},{"$f":"'Cover Sheet'!$C$26","v":"00:00:00"},5,{"$f":"INDIRECT($I$1&\"!\"&$N$1&$G96)/'Cover Sheet'!$C$29","v":{"$error":"#DIV/0!"}},22]
["NST04A","02e",{"$f":"'Cover Sheet'!$C$17","v":0},{"$f":"'Cover Sheet'!$C$26","v":"00:00:00"},5,{"$f":"INDIRECT($I$1&\"!\"&$N$1&$G97)/'Cover Sheet'!$C$29","v":{"$error":"#DIV/0!"}},23]
["NST04A","02f",{"$f":"'Cover Sheet'!$C$17","v":0},{"$f":"'Cover Sheet'!$C$26","v":"00:00:00"},5,{"$f":"INDIRECT($I$1&\"!\"&$N$1&$G98)/'Cover Sheet'!$C$29","v":{"$error":"#DIV/0!"}},24]
["NST04A","02g",{"$f":"'Cover Sheet'!$C$17","v":0},{"$f":"'Cover Sheet'!$C$26","v":"00:00:00"},5,{"$f":"INDIRECT($I$1&\"!\"&$N$1&$G99)/'Cover Sheet'!$C$29","v":{"$error":"#DIV/0!"}},25]
["NST04A","03a",{"$f":"'Cover Sheet'!$C$17","v":0},{"$f":"'Cover Sheet'!$C$26","v":"00:00:00"},5,{"$f":"INDIRECT($I$1&\"!\"&$N$1&$G100)/'Cover Sheet'!$C$29","v":{"$error":"#DIV/0!"}},26]
["NST04A","03b",{"$f":"'Cover Sheet'!$C$17","v":0},{"$f":"'Cover Sheet'!$C$26","v":"00:00:00"},5,{"$f":"INDIRECT($I$1&\"!\"&$N$1&$G101)/'Cover Sheet'!$C$29","v":{"$error":"#DIV/0!"}},27]
["NST04A","03c",{"$f":"'Cover Sheet'!$C$17","v":0},{"$f":"'Cover Sheet'!$C$26","v":"00:00:00"},5,{"$f":"INDIRECT($I$1&\"!\"&$N$1&$G102)/'Cover Sheet'!$C$29","v":{"$error":"#DIV/0!"}},28]
["NST04A","03d",{"$f":"'Cover Sheet'!$C$17","v":0},{"$f":"'Cover Sheet'!$C$26","v":"00:00:00"},5,{"$f":"INDIRECT($I$1&\"!\"&$N$1&$G103)/'Cover Sheet'!$C$29","v":{"$error":"#DIV/0!"}},29]
["NST04A","03e",{"$f":"'Cover Sheet'!$C$17","v":0},{"$f":"'Cover Sheet'!$C$26","v":"00:00:00"},5,{"$f":"INDIRECT($I$1&\"!\"&$N$1&$G104)/'Cover Sheet'!$C$29","v":{"$error":"#DIV/0!"}},30]
["NST04A","03f",{"$f":"'Cover Sheet'!$C$17","v":0},{"$f":"'Cover Sheet'!$C$26","v":"00:00:00"},5,{"$f":"INDIRECT($I$1&\"!\"&$N$1&$G105)/'Cover Sheet'!$C$29","v":{"$error":"#DIV/0!"}},31]
["NST04A","03g",{"$f":"'Cover Sheet'!$C$17","v":0},{"$f":"'Cover Sheet'!$C$26","v":"00:00:00"},5,{"$f":"INDIRECT($I$1&\"!\"&$N$1&$G106)/'Cover Sheet'!$C$29","v":{"$error":"#DIV/0!"}},32]
["NST04A","01a",{"$f":"'Cover Sheet'!$C$17","v":0},{"$f":"'Cover Sheet'!$C$26","v":"00:00:00"},6,{"$f":"INDIRECT($I$1&\"!\"&$O$1&$G107)/'Cover Sheet'!$C$29","v":{"$error":"#DIV/0!"}},12]
["NST04A","01b",{"$f":"'Cover Sheet'!$C$17","v":0},{"$f":"'Cover Sheet'!$C$26","v":"00:00:00"},6,{"$f":"INDIRECT($I$1&\"!\"&$O$1&$G108)/'Cover Sheet'!$C$29","v":{"$error":"#DIV/0!"}},13]
["NST04A","01c",{"$f":"'Cover Sheet'!$C$17","v":0},{"$f":"'Cover Sheet'!$C$26","v":"00:00:00"},6,{"$f":"INDIRECT($I$1&\"!\"&$O$1&$G109)/'Cover Sheet'!$C$29","v":{"$error":"#DIV/0!"}},14]
["NST04A","01d",{"$f":"'Cover Sheet'!$C$17","v":0},{"$f":"'Cover Sheet'!$C$26","v":"00:00:00"},6,{"$f":"INDIRECT($I$1&\"!\"&$O$1&$G110)/'Cover Sheet'!$C$29","v":{"$error":"#DIV/0!"}},15]
["NST04A","01e",{"$f":"'Cover Sheet'!$C$17","v":0},{"$f":"'Cover Sheet'!$C$26","v":"00:00:00"},6,{"$f":"INDIRECT($I$1&\"!\"&$O$1&$G111)/'Cover Sheet'!$C$29","v":{"$error":"#DIV/0!"}},16]
["NST04A","01f",{"$f":"'Cover Sheet'!$C$17","v":0},{"$f":"'Cover Sheet'!$C$26","v":"00:00:00"},6,{"$f":"INDIRECT($I$1&\"!\"&$O$1&$G112)/'Cover Sheet'!$C$29","v":{"$error":"#DIV/0!"}},17]
["NST04A","01g",{"$f":"'Cover Sheet'!$C$17","v":0},{"$f":"'Cover Sheet'!$C$26","v":"00:00:00"},6,{"$f":"INDIRECT($I$1&\"!\"&$O$1&$G113)/'Cover Sheet'!$C$29","v":{"$error":"#DIV/0!"}},18]
["NST04A","02a",{"$f":"'Cover Sheet'!$C$17","v":0},{"$f":"'Cover Sheet'!$C$26","v":"00:00:00"},6,{"$f":"INDIRECT($I$1&\"!\"&$O$1&$G114)/'Cover Sheet'!$C$29","v":{"$error":"#DIV/0!"}},19]
["NST04A","02b",{"$f":"'Cover Sheet'!$C$17","v":0},{"$f":"'Cover Sheet'!$C$26","v":"00:00:00"},6,{"$f":"INDIRECT($I$1&\"!\"&$O$1&$G115)/'Cover Sheet'!$C$29","v":{"$error":"#DIV/0!"}},20]
["NST04A","02c",{"$f":"'Cover Sheet'!$C$17","v":0},{"$f":"'Cover Sheet'!$C$26","v":"00:00:00"},6,{"$f":"INDIRECT($I$1&\"!\"&$O$1&$G116)/'Cover Sheet'!$C$29","v":{"$error":"#DIV/0!"}},21]
["NST04A","02d",{"$f":"'Cover Sheet'!$C$17","v":0},{"$f":"'Cover Sheet'!$C$26","v":"00:00:00"},6,{"$f":"INDIRECT($I$1&\"!\"&$O$1&$G117)/'Cover Sheet'!$C$29","v":{"$error":"#DIV/0!"}},22]
["NST04A","02e",{"$f":"'Cover Sheet'!$C$17","v":0},{"$f":"'Cover Sheet'!$C$26","v":"00:00:00"},6,{"$f":"INDIRECT($I$1&\"!\"&$O$1&$G118)/'Cover Sheet'!$C$29","v":{"$error":"#DIV/0!"}},23]
["NST04A","02f",{"$f":"'Cover Sheet'!$C$17","v":0},{"$f":"'Cover Sheet'!$C$26","v":"00:00:00"},6,{"$f":"INDIRECT($I$1&\"!\"&$O$1&$G119)/'Cover Sheet'!$C$29","v":{"$error":"#DIV/0!"}},24]
["NST04A","02g",{"$f":"'Cover Sheet'!$C$17","v":0},{"$f":"'Cover Sheet'!$C$26","v":"00:00:00"},6,{"$f":"INDIRECT($I$1&\"!\"&$O$1&$G120)/'Cover Sheet'!$C$29","v":{"$error":"#DIV/0!"}},25]
["NST04A","03a",{"$f":"'Cover Sheet'!$C$17","v":0},{"$f":"'Cover Sheet'!$C$26","v":"00:00:00"},6,{"$f":"INDIRECT($I$1&\"!\"&$O$1&$G121)/'Cover Sheet'!$C$29","v":{"$error":"#DIV/0!"}},26]
["NST04A","03b",{"$f":"'Cover Sheet'!$C$17","v":0},{"$f":"'Cover Sheet'!$C$26","v":"00:00:00"},6,{"$f":"INDIRECT($I$1&\"!\"&$O$1&$G122)/'Cover Sheet'!$C$29","v":{"$error":"#DIV/0!"}},27]
["NST04A","03c",{"$f":"'Cover Sheet'!$C$17","v":0},{"$f":"'Cover Sheet'!$C$26","v":"00:00:00"},6,{"$f":"INDIRECT($I$1&\"!\"&$O$1&$G123)/'Cover Sheet'!$C$29","v":{"$error":"#DIV/0!"}},28]
["NST04A","03d",{"$f":"'Cover Sheet'!$C$17","v":0},{"$f":"'Cover Sheet'!$C$26","v":"00:00:00"},6,{"$f":"INDIRECT($I$1&\"!\"&$O$1&$G124)/'Cover Sheet'!$C$29","v":{"$error":"#DIV/0!"}},29]
["NST04A","03e",{"$f":"'Cover Sheet'!$C$17","v":0},{"$f":"'Cover Sheet'!$C$26","v":"00:00:00"},6,{"$f":"INDIRECT($I$1&\"!\"&$O$1&$G125)/'Cover Sheet'!$C$29","v":{"$error":"#DIV/0!"}},30]
["NST04A","03f",{"$f":"'Cover Sheet'!$C$17","v":0},{"$f":"'Cover Sheet'!$C$26","v":"00:00:00"},6,{"$f":"INDIRECT($I$1&\"!\"&$O$1&$G126)/'Cover Sheet'!$C$29","v":{"$error":"#DIV/0!"}},31]
["NST04A","03g",{"$f":"'Cover Sheet'!$C$17","v":0},{"$f":"'Cover Sheet'!$C$26","v":"00:00:00"},6,{"$f":"INDIRECT($I$1&\"!\"&$O$1&$G127)/'Cover Sheet'!$C$29","v":{"$error":"#DIV/0!"}},32]
["NST04A","01a",{"$f":"'Cover Sheet'!$C$17","v":0},{"$f":"'Cover Sheet'!$C$26","v":"00:00:00"},7,{"$f":"INDIRECT($I$1&\"!\"&$P$1&$G128)/'Cover Sheet'!$C$29","v":{"$error":"#DIV/0!"}},12]
["NST04A","01b",{"$f":"'Cover Sheet'!$C$17","v":0},{"$f":"'Cover Sheet'!$C$26","v":"00:00:00"},7,{"$f":"INDIRECT($I$1&\"!\"&$P$1&$G129)/'Cover Sheet'!$C$29","v":{"$error":"#DIV/0!"}},13]
["NST04A","01c",{"$f":"'Cover Sheet'!$C$17","v":0},{"$f":"'Cover Sheet'!$C$26","v":"00:00:00"},7,{"$f":"INDIRECT($I$1&\"!\"&$P$1&$G130)/'Cover Sheet'!$C$29","v":{"$error":"#DIV/0!"}},14]
["NST04A","01d",{"$f":"'Cover Sheet'!$C$17","v":0},{"$f":"'Cover Sheet'!$C$26","v":"00:00:00"},7,{"$f":"INDIRECT($I$1&\"!\"&$P$1&$G131)/'Cover Sheet'!$C$29","v":{"$error":"#DIV/0!"}},15]
["NST04A","01e",{"$f":"'Cover Sheet'!$C$17","v":0},{"$f":"'Cover Sheet'!$C$26","v":"00:00:00"},7,{"$f":"INDIRECT($I$1&\"!\"&$P$1&$G132)/'Cover Sheet'!$C$29","v":{"$error":"#DIV/0!"}},16]
["NST04A","01f",{"$f":"'Cover Sheet'!$C$17","v":0},{"$f":"'Cover Sheet'!$C$26","v":"00:00:00"},7,{"$f":"INDIRECT($I$1&\"!\"&$P$1&$G133)/'Cover Sheet'!$C$29","v":{"$error":"#DIV/0!"}},17]
["NST04A","01g",{"$f":"'Cover Sheet'!$C$17","v":0},{"$f":"'Cover Sheet'!$C$26","v":"00:00:00"},7,{"$f":"INDIRECT($I$1&\"!\"&$P$1&$G134)/'Cover Sheet'!$C$29","v":{"$error":"#DIV/0!"}},18]
["NST04A","02a",{"$f":"'Cover Sheet'!$C$17","v":0},{"$f":"'Cover Sheet'!$C$26","v":"00:00:00"},7,{"$f":"INDIRECT($I$1&\"!\"&$P$1&$G135)/'Cover Sheet'!$C$29","v":{"$error":"#DIV/0!"}},19]
["NST04A","02b",{"$f":"'Cover Sheet'!$C$17","v":0},{"$f":"'Cover Sheet'!$C$26","v":"00:00:00"},7,{"$f":"INDIRECT($I$1&\"!\"&$P$1&$G136)/'Cover Sheet'!$C$29","v":{"$error":"#DIV/0!"}},20]
["NST04A","02c",{"$f":"'Cover Sheet'!$C$17","v":0},{"$f":"'Cover Sheet'!$C$26","v":"00:00:00"},7,{"$f":"INDIRECT($I$1&\"!\"&$P$1&$G137)/'Cover Sheet'!$C$29","v":{"$error":"#DIV/0!"}},21]
["NST04A","02d",{"$f":"'Cover Sheet'!$C$17","v":0},{"$f":"'Cover Sheet'!$C$26","v":"00:00:00"},7,{"$f":"INDIRECT($I$1&\"!\"&$P$1&$G138)/'Cover Sheet'!$C$29","v":{"$error":"#DIV/0!"}},22]
["NST04A","02e",{"$f":"'Cover Sheet'!$C$17","v":0},{"$f":"'Cover Sheet'!$C$26","v":"00:00:00"},7,{"$f":"INDIRECT($I$1&\"!\"&$P$1&$G139)/'Cover Sheet'!$C$29","v":{"$error":"#DIV/0!"}},23]
["NST04A","02f",{"$f":"'Cover Sheet'!$C$17","v":0},{"$f":"'Cover Sheet'!$C$26","v":"00:00:00"},7,{"$f":"INDIRECT($I$1&\"!\"&$P$1&$G140)/'Cover Sheet'!$C$29","v":{"$error":"#DIV/0!"}},24]
["NST04A","02g",{"$f":"'Cover Sheet'!$C$17","v":0},{"$f":"'Cover Sheet'!$C$26","v":"00:00:00"},7,{"$f":"INDIRECT($I$1&\"!\"&$P$1&$G141)/'Cover Sheet'!$C$29","v":{"$error":"#DIV/0!"}},25]
["NST04A","03a",{"$f":"'Cover Sheet'!$C$17","v":0},{"$f":"'Cover Sheet'!$C$26","v":"00:00:00"},7,{"$f":"INDIRECT($I$1&\"!\"&$P$1&$G142)/'Cover Sheet'!$C$29","v":{"$error":"#DIV/0!"}},26]
["NST04A","03b",{"$f":"'Cover Sheet'!$C$17","v":0},{"$f":"'Cover Sheet'!$C$26","v":"00:00:00"},7,{"$f":"INDIRECT($I$1&\"!\"&$P$1&$G143)/'Cover Sheet'!$C$29","v":{"$error":"#DIV/0!"}},27]
["NST04A","03c",{"$f":"'Cover Sheet'!$C$17","v":0},{"$f":"'Cover Sheet'!$C$26","v":"00:00:00"},7,{"$f":"INDIRECT($I$1&\"!\"&$P$1&$G144)/'Cover Sheet'!$C$29","v":{"$error":"#DIV/0!"}},28]
["NST04A","03d",{"$f":"'Cover Sheet'!$C$17","v":0},{"$f":"'Cover Sheet'!$C$26","v":"00:00:00"},7,{"$f":"INDIRECT($I$1&\"!\"&$P$1&$G145)/'Cover Sheet'!$C$29","v":{"$error":"#DIV/0!"}},29]
["NST04A","03e",{"$f":"'Cover Sheet'!$C$17","v":0},{"$f":"'Cover Sheet'!$C$26","v":"00:00:00"},7,{"$f":"INDIRECT($I$1&\"!\"&$P$1&$G146)/'Cover Sheet'!$C$29","v":{"$error":"#DIV/0!"}},30]
["NST04A","03f",{"$f":"'Cover Sheet'!$C$17","v":0},{"$f":"'Cover Sheet'!$C$26","v":"00:00:00"},7,{"$f":"INDIRECT($I$1&\"!\"&$P$1&$G147)/'Cover Sheet'!$C$29","v":{"$error":"#DIV/0!"}},31]
["NST04A","03g",{"$f":"'Cover Sheet'!$C$17","v":0},{"$f":"'Cover Sheet'!$C$26","v":"00:00:00"},7,{"$f":"INDIRECT($I$1&\"!\"&$P$1&$G148)/'Cover Sheet'!$C$29","v":{"$error":"#DIV/0!"}},32]
["NST04A","01a",{"$f":"'Cover Sheet'!$C$17","v":0},{"$f":"'Cover Sheet'!$C$26","v":"00:00:00"},8,{"$f":"INDIRECT($I$1&\"!\"&$Q$1&$G149)/'Cover Sheet'!$C$29","v":{"$error":"#DIV/0!"}},12]
["NST04A","01b",{"$f":"'Cover Sheet'!$C$17","v":0},{"$f":"'Cover Sheet'!$C$26","v":"00:00:00"},8,{"$f":"INDIRECT($I$1&\"!\"&$Q$1&$G150)/'Cover Sheet'!$C$29","v":{"$error":"#DIV/0!"}},13]
["NST04A","01c",{"$f":"'Cover Sheet'!$C$17","v":0},{"$f":"'Cover Sheet'!$C$26","v":"00:00:00"},8,{"$f":"INDIRECT($I$1&\"!\"&$Q$1&$G151)/'Cover Sheet'!$C$29","v":{"$error":"#DIV/0!"}},14]
["NST04A","01d",{"$f":"'Cover Sheet'!$C$17","v":0},{"$f":"'Cover Sheet'!$C$26","v":"00:00:00"},8,{"$f":"INDIRECT($I$1&\"!\"&$Q$1&$G152)/'Cover Sheet'!$C$29","v":{"$error":"#DIV/0!"}},15]
["NST04A","01e",{"$f":"'Cover Sheet'!$C$17","v":0},{"$f":"'Cover Sheet'!$C$26","v":"00:00:00"},8,{"$f":"INDIRECT($I$1&\"!\"&$Q$1&$G153)/'Cover Sheet'!$C$29","v":{"$error":"#DIV/0!"}},16]
["NST04A","01f",{"$f":"'Cover Sheet'!$C$17","v":0},{"$f":"'Cover Sheet'!$C$26","v":"00:00:00"},8,{"$f":"INDIRECT($I$1&\"!\"&$Q$1&$G154)/'Cover Sheet'!$C$29","v":{"$error":"#DIV/0!"}},17]
["NST04A","01g",{"$f":"'Cover Sheet'!$C$17","v":0},{"$f":"'Cover Sheet'!$C$26","v":"00:00:00"},8,{"$f":"INDIRECT($I$1&\"!\"&$Q$1&$G155)/'Cover Sheet'!$C$29","v":{"$error":"#DIV/0!"}},18]
["NST04A","02a",{"$f":"'Cover Sheet'!$C$17","v":0},{"$f":"'Cover Sheet'!$C$26","v":"00:00:00"},8,{"$f":"INDIRECT($I$1&\"!\"&$Q$1&$G156)/'Cover Sheet'!$C$29","v":{"$error":"#DIV/0!"}},19]
["NST04A","02b",{"$f":"'Cover Sheet'!$C$17","v":0},{"$f":"'Cover Sheet'!$C$26","v":"00:00:00"},8,{"$f":"INDIRECT($I$1&\"!\"&$Q$1&$G157)/'Cover Sheet'!$C$29","v":{"$error":"#DIV/0!"}},20]
["NST04A","02c",{"$f":"'Cover Sheet'!$C$17","v":0},{"$f":"'Cover Sheet'!$C$26","v":"00:00:00"},8,{"$f":"INDIRECT($I$1&\"!\"&$Q$1&$G158)/'Cover Sheet'!$C$29","v":{"$error":"#DIV/0!"}},21]
["NST04A","02d",{"$f":"'Cover Sheet'!$C$17","v":0},{"$f":"'Cover Sheet'!$C$26","v":"00:00:00"},8,{"$f":"INDIRECT($I$1&\"!\"&$Q$1&$G159)/'Cover Sheet'!$C$29","v":{"$error":"#DIV/0!"}},22]
["NST04A","02e",{"$f":"'Cover Sheet'!$C$17","v":0},{"$f":"'Cover Sheet'!$C$26","v":"00:00:00"},8,{"$f":"INDIRECT($I$1&\"!\"&$Q$1&$G160)/'Cover Sheet'!$C$29","v":{"$error":"#DIV/0!"}},23]
["NST04A","02f",{"$f":"'Cover Sheet'!$C$17","v":0},{"$f":"'Cover Sheet'!$C$26","v":"00:00:00"},8,{"$f":"INDIRECT($I$1&\"!\"&$Q$1&$G161)/'Cover Sheet'!$C$29","v":{"$error":"#DIV/0!"}},24]
["NST04A","02g",{"$f":"'Cover Sheet'!$C$17","v":0},{"$f":"'Cover Sheet'!$C$26","v":"00:00:00"},8,{"$f":"INDIRECT($I$1&\"!\"&$Q$1&$G162)/'Cover Sheet'!$C$29","v":{"$error":"#DIV/0!"}},25]
["NST04A","03a",{"$f":"'Cover Sheet'!$C$17","v":0},{"$f":"'Cover Sheet'!$C$26","v":"00:00:00"},8,{"$f":"INDIRECT($I$1&\"!\"&$Q$1&$G163)/'Cover Sheet'!$C$29","v":{"$error":"#DIV/0!"}},26]
["NST04A","03b",{"$f":"'Cover Sheet'!$C$17","v":0},{"$f":"'Cover Sheet'!$C$26","v":"00:00:00"},8,{"$f":"INDIRECT($I$1&\"!\"&$Q$1&$G164)/'Cover Sheet'!$C$29","v":{"$error":"#DIV/0!"}},27]
["NST04A","03c",{"$f":"'Cover Sheet'!$C$17","v":0},{"$f":"'Cover Sheet'!$C$26","v":"00:00:00"},8,{"$f":"INDIRECT($I$1&\"!\"&$Q$1&$G165)/'Cover Sheet'!$C$29","v":{"$error":"#DIV/0!"}},28]
["NST04A","03d",{"$f":"'Cover Sheet'!$C$17","v":0},{"$f":"'Cover Sheet'!$C$26","v":"00:00:00"},8,{"$f":"INDIRECT($I$1&\"!\"&$Q$1&$G166)/'Cover Sheet'!$C$29","v":{"$error":"#DIV/0!"}},29]
["NST04A","03e",{"$f":"'Cover Sheet'!$C$17","v":0},{"$f":"'Cover Sheet'!$C$26","v":"00:00:00"},8,{"$f":"INDIRECT($I$1&\"!\"&$Q$1&$G167)/'Cover Sheet'!$C$29","v":{"$error":"#DIV/0!"}},30]
["NST04A","03f",{"$f":"'Cover Sheet'!$C$17","v":0},{"$f":"'Cover Sheet'!$C$26","v":"00:00:00"},8,{"$f":"INDIRECT($I$1&\"!\"&$Q$1&$G168)/'Cover Sheet'!$C$29","v":{"$error":"#DIV/0!"}},31]
["NST04A","03g",{"$f":"'Cover Sheet'!$C$17","v":0},{"$f":"'Cover Sheet'!$C$26","v":"00:00:00"},8,{"$f":"INDIRECT($I$1&\"!\"&$Q$1&$G169)/'Cover Sheet'!$C$29","v":{"$error":"#DIV/0!"}},32]
["NST04A","01a",{"$f":"'Cover Sheet'!$C$17","v":0},{"$f":"'Cover Sheet'!$C$26","v":"00:00:00"},9,{"$f":"INDIRECT($I$1&\"!\"&$R$1&$G170)/'Cover Sheet'!$C$29","v":{"$error":"#DIV/0!"}},12]
["NST04A","01b",{"$f":"'Cover Sheet'!$C$17","v":0},{"$f":"'Cover Sheet'!$C$26","v":"00:00:00"},9,{"$f":"INDIRECT($I$1&\"!\"&$R$1&$G171)/'Cover Sheet'!$C$29","v":{"$error":"#DIV/0!"}},13]
["NST04A","01c",{"$f":"'Cover Sheet'!$C$17","v":0},{"$f":"'Cover Sheet'!$C$26","v":"00:00:00"},9,{"$f":"INDIRECT($I$1&\"!\"&$R$1&$G172)/'Cover Sheet'!$C$29","v":{"$error":"#DIV/0!"}},14]
["NST04A","01d",{"$f":"'Cover Sheet'!$C$17","v":0},{"$f":"'Cover Sheet'!$C$26","v":"00:00:00"},9,{"$f":"INDIRECT($I$1&\"!\"&$R$1&$G173)/'Cover Sheet'!$C$29","v":{"$error":"#DIV/0!"}},15]
["NST04A","01e",{"$f":"'Cover Sheet'!$C$17","v":0},{"$f":"'Cover Sheet'!$C$26","v":"00:00:00"},9,{"$f":"INDIRECT($I$1&\"!\"&$R$1&$G174)/'Cover Sheet'!$C$29","v":{"$error":"#DIV/0!"}},16]
["NST04A","01f",{"$f":"'Cover Sheet'!$C$17","v":0},{"$f":"'Cover Sheet'!$C$26","v":"00:00:00"},9,{"$f":"INDIRECT($I$1&\"!\"&$R$1&$G175)/'Cover Sheet'!$C$29","v":{"$error":"#DIV/0!"}},17]
["NST04A","01g",{"$f":"'Cover Sheet'!$C$17","v":0},{"$f":"'Cover Sheet'!$C$26","v":"00:00:00"},9,{"$f":"INDIRECT($I$1&\"!\"&$R$1&$G176)/'Cover Sheet'!$C$29","v":{"$error":"#DIV/0!"}},18]
["NST04A","02a",{"$f":"'Cover Sheet'!$C$17","v":0},{"$f":"'Cover Sheet'!$C$26","v":"00:00:00"},9,{"$f":"INDIRECT($I$1&\"!\"&$R$1&$G177)/'Cover Sheet'!$C$29","v":{"$error":"#DIV/0!"}},19]
["NST04A","02b",{"$f":"'Cover Sheet'!$C$17","v":0},{"$f":"'Cover Sheet'!$C$26","v":"00:00:00"},9,{"$f":"INDIRECT($I$1&\"!\"&$R$1&$G178)/'Cover Sheet'!$C$29","v":{"$error":"#DIV/0!"}},20]
["NST04A","02c",{"$f":"'Cover Sheet'!$C$17","v":0},{"$f":"'Cover Sheet'!$C$26","v":"00:00:00"},9,{"$f":"INDIRECT($I$1&\"!\"&$R$1&$G179)/'Cover Sheet'!$C$29","v":{"$error":"#DIV/0!"}},21]
["NST04A","02d",{"$f":"'Cover Sheet'!$C$17","v":0},{"$f":"'Cover Sheet'!$C$26","v":"00:00:00"},9,{"$f":"INDIRECT($I$1&\"!\"&$R$1&$G180)/'Cover Sheet'!$C$29","v":{"$error":"#DIV/0!"}},22]
["NST04A","02e",{"$f":"'Cover Sheet'!$C$17","v":0},{"$f":"'Cover Sheet'!$C$26","v":"00:00:00"},9,{"$f":"INDIRECT($I$1&\"!\"&$R$1&$G181)/'Cover Sheet'!$C$29","v":{"$error":"#DIV/0!"}},23]
["NST04A","02f",{"$f":"'Cover Sheet'!$C$17","v":0},{"$f":"'Cover Sheet'!$C$26","v":"00:00:00"},9,{"$f":"INDIRECT($I$1&\"!\"&$R$1&$G182)/'Cover Sheet'!$C$29","v":{"$error":"#DIV/0!"}},24]
["NST04A","02g",{"$f":"'Cover Sheet'!$C$17","v":0},{"$f":"'Cover Sheet'!$C$26","v":"00:00:00"},9,{"$f":"INDIRECT($I$1&\"!\"&$R$1&$G183)/'Cover Sheet'!$C$29","v":{"$error":"#DIV/0!"}},25]
["NST04A","03a",{"$f":"'Cover Sheet'!$C$17","v":0},{"$f":"'Cover Sheet'!$C$26","v":"00:00:00"},9,{"$f":"INDIRECT($I$1&\"!\"&$R$1&$G184)/'Cover Sheet'!$C$29","v":{"$error":"#DIV/0!"}},26]
["NST04A","03b",{"$f":"'Cover Sheet'!$C$17","v":0},{"$f":"'Cover Sheet'!$C$26","v":"00:00:00"},9,{"$f":"INDIRECT($I$1&\"!\"&$R$1&$G185)/'Cover Sheet'!$C$29","v":{"$error":"#DIV/0!"}},27]
["NST04A","03c",{"$f":"'Cover Sheet'!$C$17","v":0},{"$f":"'Cover Sheet'!$C$26","v":"00:00:00"},9,{"$f":"INDIRECT($I$1&\"!\"&$R$1&$G186)/'Cover Sheet'!$C$29","v":{"$error":"#DIV/0!"}},28]
["NST04A","03d",{"$f":"'Cover Sheet'!$C$17","v":0},{"$f":"'Cover Sheet'!$C$26","v":"00:00:00"},9,{"$f":"INDIRECT($I$1&\"!\"&$R$1&$G187)/'Cover Sheet'!$C$29","v":{"$error":"#DIV/0!"}},29]
["NST04A","03e",{"$f":"'Cover Sheet'!$C$17","v":0},{"$f":"'Cover Sheet'!$C$26","v":"00:00:00"},9,{"$f":"INDIRECT($I$1&\"!\"&$R$1&$G188)/'Cover Sheet'!$C$29","v":{"$error":"#DIV/0!"}},30]
["NST04A","03f",{"$f":"'Cover Sheet'!$C$17","v":0},{"$f":"'Cover Sheet'!$C$26","v":"00:00:00"},9,{"$f":"INDIRECT($I$1&\"!\"&$R$1&$G189)/'Cover Sheet'!$C$29","v":{"$error":"#DIV/0!"}},31]
["NST04A","03g",{"$f":"'Cover Sheet'!$C$17","v":0},{"$f":"'Cover Sheet'!$C$26","v":"00:00:00"},9,{"$f":"INDIRECT($I$1&\"!\"&$R$1&$G190)/'Cover Sheet'!$C$29","v":{"$error":"#DIV/0!"}},32]
["NST04A","01a",{"$f":"'Cover Sheet'!$C$17","v":0},{"$f":"'Cover Sheet'!$C$26","v":"00:00:00"},10,{"$f":"INDIRECT($I$1&\"!\"&$S$1&$G191)/'Cover Sheet'!$C$29","v":{"$error":"#DIV/0!"}},12]
["NST04A","01b",{"$f":"'Cover Sheet'!$C$17","v":0},{"$f":"'Cover Sheet'!$C$26","v":"00:00:00"},10,{"$f":"INDIRECT($I$1&\"!\"&$S$1&$G192)/'Cover Sheet'!$C$29","v":{"$error":"#DIV/0!"}},13]
["NST04A","01c",{"$f":"'Cover Sheet'!$C$17","v":0},{"$f":"'Cover Sheet'!$C$26","v":"00:00:00"},10,{"$f":"INDIRECT($I$1&\"!\"&$S$1&$G193)/'Cover Sheet'!$C$29","v":{"$error":"#DIV/0!"}},14]
["NST04A","01d",{"$f":"'Cover Sheet'!$C$17","v":0},{"$f":"'Cover Sheet'!$C$26","v":"00:00:00"},10,{"$f":"INDIRECT($I$1&\"!\"&$S$1&$G194)/'Cover Sheet'!$C$29","v":{"$error":"#DIV/0!"}},15]
["NST04A","01e",{"$f":"'Cover Sheet'!$C$17","v":0},{"$f":"'Cover Sheet'!$C$26","v":"00:00:00"},10,{"$f":"INDIRECT($I$1&\"!\"&$S$1&$G195)/'Cover Sheet'!$C$29","v":{"$error":"#DIV/0!"}},16]
["NST04A","01f",{"$f":"'Cover Sheet'!$C$17","v":0},{"$f":"'Cover Sheet'!$C$26","v":"00:00:00"},10,{"$f":"INDIRECT($I$1&\"!\"&$S$1&$G196)/'Cover Sheet'!$C$29","v":{"$error":"#DIV/0!"}},17]
["NST04A","01g",{"$f":"'Cover Sheet'!$C$17","v":0},{"$f":"'Cover Sheet'!$C$26","v":"00:00:00"},10,{"$f":"INDIRECT($I$1&\"!\"&$S$1&$G197)/'Cover Sheet'!$C$29","v":{"$error":"#DIV/0!"}},18]
["NST04A","02a",{"$f":"'Cover Sheet'!$C$17","v":0},{"$f":"'Cover Sheet'!$C$26","v":"00:00:00"},10,{"$f":"INDIRECT($I$1&\"!\"&$S$1&$G198)/'Cover Sheet'!$C$29","v":{"$error":"#DIV/0!"}},19]
["NST04A","02b",{"$f":"'Cover Sheet'!$C$17","v":0},{"$f":"'Cover Sheet'!$C$26","v":"00:00:00"},10,{"$f":"INDIRECT($I$1&\"!\"&$S$1&$G199)/'Cover Sheet'!$C$29","v":{"$error":"#DIV/0!"}},20]
["NST04A","02c",{"$f":"'Cover Sheet'!$C$17","v":0},{"$f":"'Cover Sheet'!$C$26","v":"00:00:00"},10,{"$f":"INDIRECT($I$1&\"!\"&$S$1&$G200)/'Cover Sheet'!$C$29","v":{"$error":"#DIV/0!"}},21]
["NST04A","02d",{"$f":"'Cover Sheet'!$C$17","v":0},{"$f":"'Cover Sheet'!$C$26","v":"00:00:00"},10,{"$f":"INDIRECT($I$1&\"!\"&$S$1&$G201)/'Cover Sheet'!$C$29","v":{"$error":"#DIV/0!"}},22]
["NST04A","02e",{"$f":"'Cover Sheet'!$C$17","v":0},{"$f":"'Cover Sheet'!$C$26","v":"00:00:00"},10,{"$f":"INDIRECT($I$1&\"!\"&$S$1&$G202)/'Cover Sheet'!$C$29","v":{"$error":"#DIV/0!"}},23]
["NST04A","02f",{"$f":"'Cover Sheet'!$C$17","v":0},{"$f":"'Cover Sheet'!$C$26","v":"00:00:00"},10,{"$f":"INDIRECT($I$1&\"!\"&$S$1&$G203)/'Cover Sheet'!$C$29","v":{"$error":"#DIV/0!"}},24]
["NST04A","02g",{"$f":"'Cover Sheet'!$C$17","v":0},{"$f":"'Cover Sheet'!$C$26","v":"00:00:00"},10,{"$f":"INDIRECT($I$1&\"!\"&$S$1&$G204)/'Cover Sheet'!$C$29","v":{"$error":"#DIV/0!"}},25]
["NST04A","03a",{"$f":"'Cover Sheet'!$C$17","v":0},{"$f":"'Cover Sheet'!$C$26","v":"00:00:00"},10,{"$f":"INDIRECT($I$1&\"!\"&$S$1&$G205)/'Cover Sheet'!$C$29","v":{"$error":"#DIV/0!"}},26]
["NST04A","03b",{"$f":"'Cover Sheet'!$C$17","v":0},{"$f":"'Cover Sheet'!$C$26","v":"00:00:00"},10,{"$f":"INDIRECT($I$1&\"!\"&$S$1&$G206)/'Cover Sheet'!$C$29","v":{"$error":"#DIV/0!"}},27]
["NST04A","03c",{"$f":"'Cover Sheet'!$C$17","v":0},{"$f":"'Cover Sheet'!$C$26","v":"00:00:00"},10,{"$f":"INDIRECT($I$1&\"!\"&$S$1&$G207)/'Cover Sheet'!$C$29","v":{"$error":"#DIV/0!"}},28]
["NST04A","03d",{"$f":"'Cover Sheet'!$C$17","v":0},{"$f":"'Cover Sheet'!$C$26","v":"00:00:00"},10,{"$f":"INDIRECT($I$1&\"!\"&$S$1&$G208)/'Cover Sheet'!$C$29","v":{"$error":"#DIV/0!"}},29]
["NST04A","03e",{"$f":"'Cover Sheet'!$C$17","v":0},{"$f":"'Cover Sheet'!$C$26","v":"00:00:00"},10,{"$f":"INDIRECT($I$1&\"!\"&$S$1&$G209)/'Cover Sheet'!$C$29","v":{"$error":"#DIV/0!"}},30]
["NST04A","03f",{"$f":"'Cover Sheet'!$C$17","v":0},{"$f":"'Cover Sheet'!$C$26","v":"00:00:00"},10,{"$f":"INDIRECT($I$1&\"!\"&$S$1&$G210)/'Cover Sheet'!$C$29","v":{"$error":"#DIV/0!"}},31]
["NST04A","03g",{"$f":"'Cover Sheet'!$C$17","v":0},{"$f":"'Cover Sheet'!$C$26","v":"00:00:00"},10,{"$f":"INDIRECT($I$1&\"!\"&$S$1&$G211)/'Cover Sheet'!$C$29","v":{"$error":"#DIV/0!"}},32]
["NST04A","01a",{"$f":"'Cover Sheet'!$C$17","v":0},{"$f":"'Cover Sheet'!$C$26","v":"00:00:00"},11,{"$f":"INDIRECT($I$1&\"!\"&$T$1&$G212)/'Cover Sheet'!$C$29","v":{"$error":"#DIV/0!"}},12]
["NST04A","01b",{"$f":"'Cover Sheet'!$C$17","v":0},{"$f":"'Cover Sheet'!$C$26","v":"00:00:00"},11,{"$f":"INDIRECT($I$1&\"!\"&$T$1&$G213)/'Cover Sheet'!$C$29","v":{"$error":"#DIV/0!"}},13]
["NST04A","01c",{"$f":"'Cover Sheet'!$C$17","v":0},{"$f":"'Cover Sheet'!$C$26","v":"00:00:00"},11,{"$f":"INDIRECT($I$1&\"!\"&$T$1&$G214)/'Cover Sheet'!$C$29","v":{"$error":"#DIV/0!"}},14]
["NST04A","01d",{"$f":"'Cover Sheet'!$C$17","v":0},{"$f":"'Cover Sheet'!$C$26","v":"00:00:00"},11,{"$f":"INDIRECT($I$1&\"!\"&$T$1&$G215)/'Cover Sheet'!$C$29","v":{"$error":"#DIV/0!"}},15]
["NST04A","01e",{"$f":"'Cover Sheet'!$C$17","v":0},{"$f":"'Cover Sheet'!$C$26","v":"00:00:00"},11,{"$f":"INDIRECT($I$1&\"!\"&$T$1&$G216)/'Cover Sheet'!$C$29","v":{"$error":"#DIV/0!"}},16]
["NST04A","01f",{"$f":"'Cover Sheet'!$C$17","v":0},{"$f":"'Cover Sheet'!$C$26","v":"00:00:00"},11,{"$f":"INDIRECT($I$1&\"!\"&$T$1&$G217)/'Cover Sheet'!$C$29","v":{"$error":"#DIV/0!"}},17]
["NST04A","01g",{"$f":"'Cover Sheet'!$C$17","v":0},{"$f":"'Cover Sheet'!$C$26","v":"00:00:00"},11,{"$f":"INDIRECT($I$1&\"!\"&$T$1&$G218)/'Cover Sheet'!$C$29","v":{"$error":"#DIV/0!"}},18]
["NST04A","02a",{"$f":"'Cover Sheet'!$C$17","v":0},{"$f":"'Cover Sheet'!$C$26","v":"00:00:00"},11,{"$f":"INDIRECT($I$1&\"!\"&$T$1&$G219)/'Cover Sheet'!$C$29","v":{"$error":"#DIV/0!"}},19]
["NST04A","02b",{"$f":"'Cover Sheet'!$C$17","v":0},{"$f":"'Cover Sheet'!$C$26","v":"00:00:00"},11,{"$f":"INDIRECT($I$1&\"!\"&$T$1&$G220)/'Cover Sheet'!$C$29","v":{"$error":"#DIV/0!"}},20]
["NST04A","02c",{"$f":"'Cover Sheet'!$C$17","v":0},{"$f":"'Cover Sheet'!$C$26","v":"00:00:00"},11,{"$f":"INDIRECT($I$1&\"!\"&$T$1&$G221)/'Cover Sheet'!$C$29","v":{"$error":"#DIV/0!"}},21]
["NST04A","02d",{"$f":"'Cover Sheet'!$C$17","v":0},{"$f":"'Cover Sheet'!$C$26","v":"00:00:00"},11,{"$f":"INDIRECT($I$1&\"!\"&$T$1&$G222)/'Cover Sheet'!$C$29","v":{"$error":"#DIV/0!"}},22]
["NST04A","02e",{"$f":"'Cover Sheet'!$C$17","v":0},{"$f":"'Cover Sheet'!$C$26","v":"00:00:00"},11,{"$f":"INDIRECT($I$1&\"!\"&$T$1&$G223)/'Cover Sheet'!$C$29","v":{"$error":"#DIV/0!"}},23]
["NST04A","02f",{"$f":"'Cover Sheet'!$C$17","v":0},{"$f":"'Cover Sheet'!$C$26","v":"00:00:00"},11,{"$f":"INDIRECT($I$1&\"!\"&$T$1&$G224)/'Cover Sheet'!$C$29","v":{"$error":"#DIV/0!"}},24]
["NST04A","02g",{"$f":"'Cover Sheet'!$C$17","v":0},{"$f":"'Cover Sheet'!$C$26","v":"00:00:00"},11,{"$f":"INDIRECT($I$1&\"!\"&$T$1&$G225)/'Cover Sheet'!$C$29","v":{"$error":"#DIV/0!"}},25]
["NST04A","03a",{"$f":"'Cover Sheet'!$C$17","v":0},{"$f":"'Cover Sheet'!$C$26","v":"00:00:00"},11,{"$f":"INDIRECT($I$1&\"!\"&$T$1&$G226)/'Cover Sheet'!$C$29","v":{"$error":"#DIV/0!"}},26]
["NST04A","03b",{"$f":"'Cover Sheet'!$C$17","v":0},{"$f":"'Cover Sheet'!$C$26","v":"00:00:00"},11,{"$f":"INDIRECT($I$1&\"!\"&$T$1&$G227)/'Cover Sheet'!$C$29","v":{"$error":"#DIV/0!"}},27]
["NST04A","03c",{"$f":"'Cover Sheet'!$C$17","v":0},{"$f":"'Cover Sheet'!$C$26","v":"00:00:00"},11,{"$f":"INDIRECT($I$1&\"!\"&$T$1&$G228)/'Cover Sheet'!$C$29","v":{"$error":"#DIV/0!"}},28]
["NST04A","03d",{"$f":"'Cover Sheet'!$C$17","v":0},{"$f":"'Cover Sheet'!$C$26","v":"00:00:00"},11,{"$f":"INDIRECT($I$1&\"!\"&$T$1&$G229)/'Cover Sheet'!$C$29","v":{"$error":"#DIV/0!"}},29]
["NST04A","03e",{"$f":"'Cover Sheet'!$C$17","v":0},{"$f":"'Cover Sheet'!$C$26","v":"00:00:00"},11,{"$f":"INDIRECT($I$1&\"!\"&$T$1&$G230)/'Cover Sheet'!$C$29","v":{"$error":"#DIV/0!"}},30]
["NST04A","03f",{"$f":"'Cover Sheet'!$C$17","v":0},{"$f":"'Cover Sheet'!$C$26","v":"00:00:00"},11,{"$f":"INDIRECT($I$1&\"!\"&$T$1&$G231)/'Cover Sheet'!$C$29","v":{"$error":"#DIV/0!"}},31]
["NST04A","03g",{"$f":"'Cover Sheet'!$C$17","v":0},{"$f":"'Cover Sheet'!$C$26","v":"00:00:00"},11,{"$f":"INDIRECT($I$1&\"!\"&$T$1&$G232)/'Cover Sheet'!$C$29","v":{"$error":"#DIV/0!"}},32]
["NST04A","01a",{"$f":"'Cover Sheet'!$C$17","v":0},{"$f":"'Cover Sheet'!$C$26","v":"00:00:00"},12,{"$f":"INDIRECT($I$1&\"!\"&$U$1&$G233)/'Cover Sheet'!$C$29","v":{"$error":"#DIV/0!"}},12]
["NST04A","01b",{"$f":"'Cover Sheet'!$C$17","v":0},{"$f":"'Cover Sheet'!$C$26","v":"00:00:00"},12,{"$f":"INDIRECT($I$1&\"!\"&$U$1&$G234)/'Cover Sheet'!$C$29","v":{"$error":"#DIV/0!"}},13]
["NST04A","01c",{"$f":"'Cover Sheet'!$C$17","v":0},{"$f":"'Cover Sheet'!$C$26","v":"00:00:00"},12,{"$f":"INDIRECT($I$1&\"!\"&$U$1&$G235)/'Cover Sheet'!$C$29","v":{"$error":"#DIV/0!"}},14]
["NST04A","01d",{"$f":"'Cover Sheet'!$C$17","v":0},{"$f":"'Cover Sheet'!$C$26","v":"00:00:00"},12,{"$f":"INDIRECT($I$1&\"!\"&$U$1&$G236)/'Cover Sheet'!$C$29","v":{"$error":"#DIV/0!"}},15]
["NST04A","01e",{"$f":"'Cover Sheet'!$C$17","v":0},{"$f":"'Cover Sheet'!$C$26","v":"00:00:00"},12,{"$f":"INDIRECT($I$1&\"!\"&$U$1&$G237)/'Cover Sheet'!$C$29","v":{"$error":"#DIV/0!"}},16]
["NST04A","01f",{"$f":"'Cover Sheet'!$C$17","v":0},{"$f":"'Cover Sheet'!$C$26","v":"00:00:00"},12,{"$f":"INDIRECT($I$1&\"!\"&$U$1&$G238)/'Cover Sheet'!$C$29","v":{"$error":"#DIV/0!"}},17]
["NST04A","01g",{"$f":"'Cover Sheet'!$C$17","v":0},{"$f":"'Cover Sheet'!$C$26","v":"00:00:00"},12,{"$f":"INDIRECT($I$1&\"!\"&$U$1&$G239)/'Cover Sheet'!$C$29","v":{"$error":"#DIV/0!"}},18]
["NST04A","02a",{"$f":"'Cover Sheet'!$C$17","v":0},{"$f":"'Cover Sheet'!$C$26","v":"00:00:00"},12,{"$f":"INDIRECT($I$1&\"!\"&$U$1&$G240)/'Cover Sheet'!$C$29","v":{"$error":"#DIV/0!"}},19]
["NST04A","02b",{"$f":"'Cover Sheet'!$C$17","v":0},{"$f":"'Cover Sheet'!$C$26","v":"00:00:00"},12,{"$f":"INDIRECT($I$1&\"!\"&$U$1&$G241)/'Cover Sheet'!$C$29","v":{"$error":"#DIV/0!"}},20]
["NST04A","02c",{"$f":"'Cover Sheet'!$C$17","v":0},{"$f":"'Cover Sheet'!$C$26","v":"00:00:00"},12,{"$f":"INDIRECT($I$1&\"!\"&$U$1&$G242)/'Cover Sheet'!$C$29","v":{"$error":"#DIV/0!"}},21]
["NST04A","02d",{"$f":"'Cover Sheet'!$C$17","v":0},{"$f":"'Cover Sheet'!$C$26","v":"00:00:00"},12,{"$f":"INDIRECT($I$1&\"!\"&$U$1&$G243)/'Cover Sheet'!$C$29","v":{"$error":"#DIV/0!"}},22]
["NST04A","02e",{"$f":"'Cover Sheet'!$C$17","v":0},{"$f":"'Cover Sheet'!$C$26","v":"00:00:00"},12,{"$f":"INDIRECT($I$1&\"!\"&$U$1&$G244)/'Cover Sheet'!$C$29","v":{"$error":"#DIV/0!"}},23]
["NST04A","02f",{"$f":"'Cover Sheet'!$C$17","v":0},{"$f":"'Cover Sheet'!$C$26","v":"00:00:00"},12,{"$f":"INDIRECT($I$1&\"!\"&$U$1&$G245)/'Cover Sheet'!$C$29","v":{"$error":"#DIV/0!"}},24]
["NST04A","02g",{"$f":"'Cover Sheet'!$C$17","v":0},{"$f":"'Cover Sheet'!$C$26","v":"00:00:00"},12,{"$f":"INDIRECT($I$1&\"!\"&$U$1&$G246)/'Cover Sheet'!$C$29","v":{"$error":"#DIV/0!"}},25]
["NST04A","03a",{"$f":"'Cover Sheet'!$C$17","v":0},{"$f":"'Cover Sheet'!$C$26","v":"00:00:00"},12,{"$f":"INDIRECT($I$1&\"!\"&$U$1&$G247)/'Cover Sheet'!$C$29","v":{"$error":"#DIV/0!"}},26]
["NST04A","03b",{"$f":"'Cover Sheet'!$C$17","v":0},{"$f":"'Cover Sheet'!$C$26","v":"00:00:00"},12,{"$f":"INDIRECT($I$1&\"!\"&$U$1&$G248)/'Cover Sheet'!$C$29","v":{"$error":"#DIV/0!"}},27]
["NST04A","03c",{"$f":"'Cover Sheet'!$C$17","v":0},{"$f":"'Cover Sheet'!$C$26","v":"00:00:00"},12,{"$f":"INDIRECT($I$1&\"!\"&$U$1&$G249)/'Cover Sheet'!$C$29","v":{"$error":"#DIV/0!"}},28]
["NST04A","03d",{"$f":"'Cover Sheet'!$C$17","v":0},{"$f":"'Cover Sheet'!$C$26","v":"00:00:00"},12,{"$f":"INDIRECT($I$1&\"!\"&$U$1&$G250)/'Cover Sheet'!$C$29","v":{"$error":"#DIV/0!"}},29]
["NST04A","03e",{"$f":"'Cover Sheet'!$C$17","v":0},{"$f":"'Cover Sheet'!$C$26","v":"00:00:00"},12,{"$f":"INDIRECT($I$1&\"!\"&$U$1&$G251)/'Cover Sheet'!$C$29","v":{"$error":"#DIV/0!"}},30]
["NST04A","03f",{"$f":"'Cover Sheet'!$C$17","v":0},{"$f":"'Cover Sheet'!$C$26","v":"00:00:00"},12,{"$f":"INDIRECT($I$1&\"!\"&$U$1&$G252)/'Cover Sheet'!$C$29","v":{"$error":"#DIV/0!"}},31]
["NST04A","03g",{"$f":"'Cover Sheet'!$C$17","v":0},{"$f":"'Cover Sheet'!$C$26","v":"00:00:00"},12,{"$f":"INDIRECT($I$1&\"!\"&$U$1&$G253)/'Cover Sheet'!$C$29","v":{"$error":"#DIV/0!"}},32]
["NST04A","01a",{"$f":"'Cover Sheet'!$C$17","v":0},{"$f":"'Cover Sheet'!$C$26","v":"00:00:00"},13,{"$f":"INDIRECT($I$1&\"!\"&$V$1&$G254)/'Cover Sheet'!$C$29","v":{"$error":"#DIV/0!"}},12]
["NST04A","01b",{"$f":"'Cover Sheet'!$C$17","v":0},{"$f":"'Cover Sheet'!$C$26","v":"00:00:00"},13,{"$f":"INDIRECT($I$1&\"!\"&$V$1&$G255)/'Cover Sheet'!$C$29","v":{"$error":"#DIV/0!"}},13]
["NST04A","01c",{"$f":"'Cover Sheet'!$C$17","v":0},{"$f":"'Cover Sheet'!$C$26","v":"00:00:00"},13,{"$f":"INDIRECT($I$1&\"!\"&$V$1&$G256)/'Cover Sheet'!$C$29","v":{"$error":"#DIV/0!"}},14]
["NST04A","01d",{"$f":"'Cover Sheet'!$C$17","v":0},{"$f":"'Cover Sheet'!$C$26","v":"00:00:00"},13,{"$f":"INDIRECT($I$1&\"!\"&$V$1&$G257)/'Cover Sheet'!$C$29","v":{"$error":"#DIV/0!"}},15]
["NST04A","01e",{"$f":"'Cover Sheet'!$C$17","v":0},{"$f":"'Cover Sheet'!$C$26","v":"00:00:00"},13,{"$f":"INDIRECT($I$1&\"!\"&$V$1&$G258)/'Cover Sheet'!$C$29","v":{"$error":"#DIV/0!"}},16]
["NST04A","01f",{"$f":"'Cover Sheet'!$C$17","v":0},{"$f":"'Cover Sheet'!$C$26","v":"00:00:00"},13,{"$f":"INDIRECT($I$1&\"!\"&$V$1&$G259)/'Cover Sheet'!$C$29","v":{"$error":"#DIV/0!"}},17]
["NST04A","01g",{"$f":"'Cover Sheet'!$C$17","v":0},{"$f":"'Cover Sheet'!$C$26","v":"00:00:00"},13,{"$f":"INDIRECT($I$1&\"!\"&$V$1&$G260)/'Cover Sheet'!$C$29","v":{"$error":"#DIV/0!"}},18]
["NST04A","02a",{"$f":"'Cover Sheet'!$C$17","v":0},{"$f":"'Cover Sheet'!$C$26","v":"00:00:00"},13,{"$f":"INDIRECT($I$1&\"!\"&$V$1&$G261)/'Cover Sheet'!$C$29","v":{"$error":"#DIV/0!"}},19]
["NST04A","02b",{"$f":"'Cover Sheet'!$C$17","v":0},{"$f":"'Cover Sheet'!$C$26","v":"00:00:00"},13,{"$f":"INDIRECT($I$1&\"!\"&$V$1&$G262)/'Cover Sheet'!$C$29","v":{"$error":"#DIV/0!"}},20]
["NST04A","02c",{"$f":"'Cover Sheet'!$C$17","v":0},{"$f":"'Cover Sheet'!$C$26","v":"00:00:00"},13,{"$f":"INDIRECT($I$1&\"!\"&$V$1&$G263)/'Cover Sheet'!$C$29","v":{"$error":"#DIV/0!"}},21]
["NST04A","02d",{"$f":"'Cover Sheet'!$C$17","v":0},{"$f":"'Cover Sheet'!$C$26","v":"00:00:00"},13,{"$f":"INDIRECT($I$1&\"!\"&$V$1&$G264)/'Cover Sheet'!$C$29","v":{"$error":"#DIV/0!"}},22]
["NST04A","02e",{"$f":"'Cover Sheet'!$C$17","v":0},{"$f":"'Cover Sheet'!$C$26","v":"00:00:00"},13,{"$f":"INDIRECT($I$1&\"!\"&$V$1&$G265)/'Cover Sheet'!$C$29","v":{"$error":"#DIV/0!"}},23]
["NST04A","02f",{"$f":"'Cover Sheet'!$C$17","v":0},{"$f":"'Cover Sheet'!$C$26","v":"00:00:00"},13,{"$f":"INDIRECT($I$1&\"!\"&$V$1&$G266)/'Cover Sheet'!$C$29","v":{"$error":"#DIV/0!"}},24]
["NST04A","02g",{"$f":"'Cover Sheet'!$C$17","v":0},{"$f":"'Cover Sheet'!$C$26","v":"00:00:00"},13,{"$f":"INDIRECT($I$1&\"!\"&$V$1&$G267)/'Cover Sheet'!$C$29","v":{"$error":"#DIV/0!"}},25]
["NST04A","03a",{"$f":"'Cover Sheet'!$C$17","v":0},{"$f":"'Cover Sheet'!$C$26","v":"00:00:00"},13,{"$f":"INDIRECT($I$1&\"!\"&$V$1&$G268)/'Cover Sheet'!$C$29","v":{"$error":"#DIV/0!"}},26]
["NST04A","03b",{"$f":"'Cover Sheet'!$C$17","v":0},{"$f":"'Cover Sheet'!$C$26","v":"00:00:00"},13,{"$f":"INDIRECT($I$1&\"!\"&$V$1&$G269)/'Cover Sheet'!$C$29","v":{"$error":"#DIV/0!"}},27]
["NST04A","03c",{"$f":"'Cover Sheet'!$C$17","v":0},{"$f":"'Cover Sheet'!$C$26","v":"00:00:00"},13,{"$f":"INDIRECT($I$1&\"!\"&$V$1&$G270)/'Cover Sheet'!$C$29","v":{"$error":"#DIV/0!"}},28]
["NST04A","03d",{"$f":"'Cover Sheet'!$C$17","v":0},{"$f":"'Cover Sheet'!$C$26","v":"00:00:00"},13,{"$f":"INDIRECT($I$1&\"!\"&$V$1&$G271)/'Cover Sheet'!$C$29","v":{"$error":"#DIV/0!"}},29]
["NST04A","03e",{"$f":"'Cover Sheet'!$C$17","v":0},{"$f":"'Cover Sheet'!$C$26","v":"00:00:00"},13,{"$f":"INDIRECT($I$1&\"!\"&$V$1&$G272)/'Cover Sheet'!$C$29","v":{"$error":"#DIV/0!"}},30]
["NST04A","03f",{"$f":"'Cover Sheet'!$C$17","v":0},{"$f":"'Cover Sheet'!$C$26","v":"00:00:00"},13,{"$f":"INDIRECT($I$1&\"!\"&$V$1&$G273)/'Cover Sheet'!$C$29","v":{"$error":"#DIV/0!"}},31]
["NST04A","03g",{"$f":"'Cover Sheet'!$C$17","v":0},{"$f":"'Cover Sheet'!$C$26","v":"00:00:00"},13,{"$f":"INDIRECT($I$1&\"!\"&$V$1&$G274)/'Cover Sheet'!$C$29","v":{"$error":"#DIV/0!"}},32]
["NST04A","01a",{"$f":"'Cover Sheet'!$C$17","v":0},{"$f":"'Cover Sheet'!$C$26","v":"00:00:00"},14,{"$f":"INDIRECT($I$1&\"!\"&$W$1&$G275)/'Cover Sheet'!$C$29","v":{"$error":"#DIV/0!"}},12]
["NST04A","01b",{"$f":"'Cover Sheet'!$C$17","v":0},{"$f":"'Cover Sheet'!$C$26","v":"00:00:00"},14,{"$f":"INDIRECT($I$1&\"!\"&$W$1&$G276)/'Cover Sheet'!$C$29","v":{"$error":"#DIV/0!"}},13]
["NST04A","01c",{"$f":"'Cover Sheet'!$C$17","v":0},{"$f":"'Cover Sheet'!$C$26","v":"00:00:00"},14,{"$f":"INDIRECT($I$1&\"!\"&$W$1&$G277)/'Cover Sheet'!$C$29","v":{"$error":"#DIV/0!"}},14]
["NST04A","01d",{"$f":"'Cover Sheet'!$C$17","v":0},{"$f":"'Cover Sheet'!$C$26","v":"00:00:00"},14,{"$f":"INDIRECT($I$1&\"!\"&$W$1&$G278)/'Cover Sheet'!$C$29","v":{"$error":"#DIV/0!"}},15]
["NST04A","01e",{"$f":"'Cover Sheet'!$C$17","v":0},{"$f":"'Cover Sheet'!$C$26","v":"00:00:00"},14,{"$f":"INDIRECT($I$1&\"!\"&$W$1&$G279)/'Cover Sheet'!$C$29","v":{"$error":"#DIV/0!"}},16]
["NST04A","01f",{"$f":"'Cover Sheet'!$C$17","v":0},{"$f":"'Cover Sheet'!$C$26","v":"00:00:00"},14,{"$f":"INDIRECT($I$1&\"!\"&$W$1&$G280)/'Cover Sheet'!$C$29","v":{"$error":"#DIV/0!"}},17]
["NST04A","01g",{"$f":"'Cover Sheet'!$C$17","v":0},{"$f":"'Cover Sheet'!$C$26","v":"00:00:00"},14,{"$f":"INDIRECT($I$1&\"!\"&$W$1&$G281)/'Cover Sheet'!$C$29","v":{"$error":"#DIV/0!"}},18]
["NST04A","02a",{"$f":"'Cover Sheet'!$C$17","v":0},{"$f":"'Cover Sheet'!$C$26","v":"00:00:00"},14,{"$f":"INDIRECT($I$1&\"!\"&$W$1&$G282)/'Cover Sheet'!$C$29","v":{"$error":"#DIV/0!"}},19]
["NST04A","02b",{"$f":"'Cover Sheet'!$C$17","v":0},{"$f":"'Cover Sheet'!$C$26","v":"00:00:00"},14,{"$f":"INDIRECT($I$1&\"!\"&$W$1&$G283)/'Cover Sheet'!$C$29","v":{"$error":"#DIV/0!"}},20]
["NST04A","02c",{"$f":"'Cover Sheet'!$C$17","v":0},{"$f":"'Cover Sheet'!$C$26","v":"00:00:00"},14,{"$f":"INDIRECT($I$1&\"!\"&$W$1&$G284)/'Cover Sheet'!$C$29","v":{"$error":"#DIV/0!"}},21]
["NST04A","02d",{"$f":"'Cover Sheet'!$C$17","v":0},{"$f":"'Cover Sheet'!$C$26","v":"00:00:00"},14,{"$f":"INDIRECT($I$1&\"!\"&$W$1&$G285)/'Cover Sheet'!$C$29","v":{"$error":"#DIV/0!"}},22]
["NST04A","02e",{"$f":"'Cover Sheet'!$C$17","v":0},{"$f":"'Cover Sheet'!$C$26","v":"00:00:00"},14,{"$f":"INDIRECT($I$1&\"!\"&$W$1&$G286)/'Cover Sheet'!$C$29","v":{"$error":"#DIV/0!"}},23]
["NST04A","02f",{"$f":"'Cover Sheet'!$C$17","v":0},{"$f":"'Cover Sheet'!$C$26","v":"00:00:00"},14,{"$f":"INDIRECT($I$1&\"!\"&$W$1&$G287)/'Cover Sheet'!$C$29","v":{"$error":"#DIV/0!"}},24]
["NST04A","02g",{"$f":"'Cover Sheet'!$C$17","v":0},{"$f":"'Cover Sheet'!$C$26","v":"00:00:00"},14,{"$f":"INDIRECT($I$1&\"!\"&$W$1&$G288)/'Cover Sheet'!$C$29","v":{"$error":"#DIV/0!"}},25]
["NST04A","03a",{"$f":"'Cover Sheet'!$C$17","v":0},{"$f":"'Cover Sheet'!$C$26","v":"00:00:00"},14,{"$f":"INDIRECT($I$1&\"!\"&$W$1&$G289)/'Cover Sheet'!$C$29","v":{"$error":"#DIV/0!"}},26]
["NST04A","03b",{"$f":"'Cover Sheet'!$C$17","v":0},{"$f":"'Cover Sheet'!$C$26","v":"00:00:00"},14,{"$f":"INDIRECT($I$1&\"!\"&$W$1&$G290)/'Cover Sheet'!$C$29","v":{"$error":"#DIV/0!"}},27]
["NST04A","03c",{"$f":"'Cover Sheet'!$C$17","v":0},{"$f":"'Cover Sheet'!$C$26","v":"00:00:00"},14,{"$f":"INDIRECT($I$1&\"!\"&$W$1&$G291)/'Cover Sheet'!$C$29","v":{"$error":"#DIV/0!"}},28]
["NST04A","03d",{"$f":"'Cover Sheet'!$C$17","v":0},{"$f":"'Cover Sheet'!$C$26","v":"00:00:00"},14,{"$f":"INDIRECT($I$1&\"!\"&$W$1&$G292)/'Cover Sheet'!$C$29","v":{"$error":"#DIV/0!"}},29]
["NST04A","03e",{"$f":"'Cover Sheet'!$C$17","v":0},{"$f":"'Cover Sheet'!$C$26","v":"00:00:00"},14,{"$f":"INDIRECT($I$1&\"!\"&$W$1&$G293)/'Cover Sheet'!$C$29","v":{"$error":"#DIV/0!"}},30]
["NST04A","03f",{"$f":"'Cover Sheet'!$C$17","v":0},{"$f":"'Cover Sheet'!$C$26","v":"00:00:00"},14,{"$f":"INDIRECT($I$1&\"!\"&$W$1&$G294)/'Cover Sheet'!$C$29","v":{"$error":"#DIV/0!"}},31]
["NST04A","03g",{"$f":"'Cover Sheet'!$C$17","v":0},{"$f":"'Cover Sheet'!$C$26","v":"00:00:00"},14,{"$f":"INDIRECT($I$1&\"!\"&$W$1&$G295)/'Cover Sheet'!$C$29","v":{"$error":"#DIV/0!"}},32]
["NST04A","01a",{"$f":"'Cover Sheet'!$C$17","v":0},{"$f":"'Cover Sheet'!$C$26","v":"00:00:00"},15,{"$f":"INDIRECT($I$1&\"!\"&$X$1&$G296)/'Cover Sheet'!$C$29","v":{"$error":"#DIV/0!"}},12]
["NST04A","01b",{"$f":"'Cover Sheet'!$C$17","v":0},{"$f":"'Cover Sheet'!$C$26","v":"00:00:00"},15,{"$f":"INDIRECT($I$1&\"!\"&$X$1&$G297)/'Cover Sheet'!$C$29","v":{"$error":"#DIV/0!"}},13]
["NST04A","01c",{"$f":"'Cover Sheet'!$C$17","v":0},{"$f":"'Cover Sheet'!$C$26","v":"00:00:00"},15,{"$f":"INDIRECT($I$1&\"!\"&$X$1&$G298)/'Cover Sheet'!$C$29","v":{"$error":"#DIV/0!"}},14]
["NST04A","01d",{"$f":"'Cover Sheet'!$C$17","v":0},{"$f":"'Cover Sheet'!$C$26","v":"00:00:00"},15,{"$f":"INDIRECT($I$1&\"!\"&$X$1&$G299)/'Cover Sheet'!$C$29","v":{"$error":"#DIV/0!"}},15]
["NST04A","01e",{"$f":"'Cover Sheet'!$C$17","v":0},{"$f":"'Cover Sheet'!$C$26","v":"00:00:00"},15,{"$f":"INDIRECT($I$1&\"!\"&$X$1&$G300)/'Cover Sheet'!$C$29","v":{"$error":"#DIV/0!"}},16]
["NST04A","01f",{"$f":"'Cover Sheet'!$C$17","v":0},{"$f":"'Cover Sheet'!$C$26","v":"00:00:00"},15,{"$f":"INDIRECT($I$1&\"!\"&$X$1&$G301)/'Cover Sheet'!$C$29","v":{"$error":"#DIV/0!"}},17]
["NST04A","01g",{"$f":"'Cover Sheet'!$C$17","v":0},{"$f":"'Cover Sheet'!$C$26","v":"00:00:00"},15,{"$f":"INDIRECT($I$1&\"!\"&$X$1&$G302)/'Cover Sheet'!$C$29","v":{"$error":"#DIV/0!"}},18]
["NST04A","02a",{"$f":"'Cover Sheet'!$C$17","v":0},{"$f":"'Cover Sheet'!$C$26","v":"00:00:00"},15,{"$f":"INDIRECT($I$1&\"!\"&$X$1&$G303)/'Cover Sheet'!$C$29","v":{"$error":"#DIV/0!"}},19]
["NST04A","02b",{"$f":"'Cover Sheet'!$C$17","v":0},{"$f":"'Cover Sheet'!$C$26","v":"00:00:00"},15,{"$f":"INDIRECT($I$1&\"!\"&$X$1&$G304)/'Cover Sheet'!$C$29","v":{"$error":"#DIV/0!"}},20]
["NST04A","02c",{"$f":"'Cover Sheet'!$C$17","v":0},{"$f":"'Cover Sheet'!$C$26","v":"00:00:00"},15,{"$f":"INDIRECT($I$1&\"!\"&$X$1&$G305)/'Cover Sheet'!$C$29","v":{"$error":"#DIV/0!"}},21]
["NST04A","02d",{"$f":"'Cover Sheet'!$C$17","v":0},{"$f":"'Cover Sheet'!$C$26","v":"00:00:00"},15,{"$f":"INDIRECT($I$1&\"!\"&$X$1&$G306)/'Cover Sheet'!$C$29","v":{"$error":"#DIV/0!"}},22]
["NST04A","02e",{"$f":"'Cover Sheet'!$C$17","v":0},{"$f":"'Cover Sheet'!$C$26","v":"00:00:00"},15,{"$f":"INDIRECT($I$1&\"!\"&$X$1&$G307)/'Cover Sheet'!$C$29","v":{"$error":"#DIV/0!"}},23]
["NST04A","02f",{"$f":"'Cover Sheet'!$C$17","v":0},{"$f":"'Cover Sheet'!$C$26","v":"00:00:00"},15,{"$f":"INDIRECT($I$1&\"!\"&$X$1&$G308)/'Cover Sheet'!$C$29","v":{"$error":"#DIV/0!"}},24]
["NST04A","02g",{"$f":"'Cover Sheet'!$C$17","v":0},{"$f":"'Cover Sheet'!$C$26","v":"00:00:00"},15,{"$f":"INDIRECT($I$1&\"!\"&$X$1&$G309)/'Cover Sheet'!$C$29","v":{"$error":"#DIV/0!"}},25]
["NST04A","03a",{"$f":"'Cover Sheet'!$C$17","v":0},{"$f":"'Cover Sheet'!$C$26","v":"00:00:00"},15,{"$f":"INDIRECT($I$1&\"!\"&$X$1&$G310)/'Cover Sheet'!$C$29","v":{"$error":"#DIV/0!"}},26]
["NST04A","03b",{"$f":"'Cover Sheet'!$C$17","v":0},{"$f":"'Cover Sheet'!$C$26","v":"00:00:00"},15,{"$f":"INDIRECT($I$1&\"!\"&$X$1&$G311)/'Cover Sheet'!$C$29","v":{"$error":"#DIV/0!"}},27]
["NST04A","03c",{"$f":"'Cover Sheet'!$C$17","v":0},{"$f":"'Cover Sheet'!$C$26","v":"00:00:00"},15,{"$f":"INDIRECT($I$1&\"!\"&$X$1&$G312)/'Cover Sheet'!$C$29","v":{"$error":"#DIV/0!"}},28]
["NST04A","03d",{"$f":"'Cover Sheet'!$C$17","v":0},{"$f":"'Cover Sheet'!$C$26","v":"00:00:00"},15,{"$f":"INDIRECT($I$1&\"!\"&$X$1&$G313)/'Cover Sheet'!$C$29","v":{"$error":"#DIV/0!"}},29]
["NST04A","03e",{"$f":"'Cover Sheet'!$C$17","v":0},{"$f":"'Cover Sheet'!$C$26","v":"00:00:00"},15,{"$f":"INDIRECT($I$1&\"!\"&$X$1&$G314)/'Cover Sheet'!$C$29","v":{"$error":"#DIV/0!"}},30]
["NST04A","03f",{"$f":"'Cover Sheet'!$C$17","v":0},{"$f":"'Cover Sheet'!$C$26","v":"00:00:00"},15,{"$f":"INDIRECT($I$1&\"!\"&$X$1&$G315)/'Cover Sheet'!$C$29","v":{"$error":"#DIV/0!"}},31]
["NST04A","03g",{"$f":"'Cover Sheet'!$C$17","v":0},{"$f":"'Cover Sheet'!$C$26","v":"00:00:00"},15,{"$f":"INDIRECT($I$1&\"!\"&$X$1&$G316)/'Cover Sheet'!$C$29","v":{"$error":"#DIV/0!"}},32]
["NST04A","01a",{"$f":"'Cover Sheet'!$C$17","v":0},{"$f":"'Cover Sheet'!$C$26","v":"00:00:00"},16,{"$f":"INDIRECT($I$1&\"!\"&$Y$1&$G317)/'Cover Sheet'!$C$29","v":{"$error":"#DIV/0!"}},12]
["NST04A","01b",{"$f":"'Cover Sheet'!$C$17","v":0},{"$f":"'Cover Sheet'!$C$26","v":"00:00:00"},16,{"$f":"INDIRECT($I$1&\"!\"&$Y$1&$G318)/'Cover Sheet'!$C$29","v":{"$error":"#DIV/0!"}},13]
["NST04A","01c",{"$f":"'Cover Sheet'!$C$17","v":0},{"$f":"'Cover Sheet'!$C$26","v":"00:00:00"},16,{"$f":"INDIRECT($I$1&\"!\"&$Y$1&$G319)/'Cover Sheet'!$C$29","v":{"$error":"#DIV/0!"}},14]
["NST04A","01d",{"$f":"'Cover Sheet'!$C$17","v":0},{"$f":"'Cover Sheet'!$C$26","v":"00:00:00"},16,{"$f":"INDIRECT($I$1&\"!\"&$Y$1&$G320)/'Cover Sheet'!$C$29","v":{"$error":"#DIV/0!"}},15]
["NST04A","01e",{"$f":"'Cover Sheet'!$C$17","v":0},{"$f":"'Cover Sheet'!$C$26","v":"00:00:00"},16,{"$f":"INDIRECT($I$1&\"!\"&$Y$1&$G321)/'Cover Sheet'!$C$29","v":{"$error":"#DIV/0!"}},16]
["NST04A","01f",{"$f":"'Cover Sheet'!$C$17","v":0},{"$f":"'Cover Sheet'!$C$26","v":"00:00:00"},16,{"$f":"INDIRECT($I$1&\"!\"&$Y$1&$G322)/'Cover Sheet'!$C$29","v":{"$error":"#DIV/0!"}},17]
["NST04A","01g",{"$f":"'Cover Sheet'!$C$17","v":0},{"$f":"'Cover Sheet'!$C$26","v":"00:00:00"},16,{"$f":"INDIRECT($I$1&\"!\"&$Y$1&$G323)/'Cover Sheet'!$C$29","v":{"$error":"#DIV/0!"}},18]
["NST04A","02a",{"$f":"'Cover Sheet'!$C$17","v":0},{"$f":"'Cover Sheet'!$C$26","v":"00:00:00"},16,{"$f":"INDIRECT($I$1&\"!\"&$Y$1&$G324)/'Cover Sheet'!$C$29","v":{"$error":"#DIV/0!"}},19]
["NST04A","02b",{"$f":"'Cover Sheet'!$C$17","v":0},{"$f":"'Cover Sheet'!$C$26","v":"00:00:00"},16,{"$f":"INDIRECT($I$1&\"!\"&$Y$1&$G325)/'Cover Sheet'!$C$29","v":{"$error":"#DIV/0!"}},20]
["NST04A","02c",{"$f":"'Cover Sheet'!$C$17","v":0},{"$f":"'Cover Sheet'!$C$26","v":"00:00:00"},16,{"$f":"INDIRECT($I$1&\"!\"&$Y$1&$G326)/'Cover Sheet'!$C$29","v":{"$error":"#DIV/0!"}},21]
["NST04A","02d",{"$f":"'Cover Sheet'!$C$17","v":0},{"$f":"'Cover Sheet'!$C$26","v":"00:00:00"},16,{"$f":"INDIRECT($I$1&\"!\"&$Y$1&$G327)/'Cover Sheet'!$C$29","v":{"$error":"#DIV/0!"}},22]
["NST04A","02e",{"$f":"'Cover Sheet'!$C$17","v":0},{"$f":"'Cover Sheet'!$C$26","v":"00:00:00"},16,{"$f":"INDIRECT($I$1&\"!\"&$Y$1&$G328)/'Cover Sheet'!$C$29","v":{"$error":"#DIV/0!"}},23]
["NST04A","02f",{"$f":"'Cover Sheet'!$C$17","v":0},{"$f":"'Cover Sheet'!$C$26","v":"00:00:00"},16,{"$f":"INDIRECT($I$1&\"!\"&$Y$1&$G329)/'Cover Sheet'!$C$29","v":{"$error":"#DIV/0!"}},24]
["NST04A","02g",{"$f":"'Cover Sheet'!$C$17","v":0},{"$f":"'Cover Sheet'!$C$26","v":"00:00:00"},16,{"$f":"INDIRECT($I$1&\"!\"&$Y$1&$G330)/'Cover Sheet'!$C$29","v":{"$error":"#DIV/0!"}},25]
["NST04A","03a",{"$f":"'Cover Sheet'!$C$17","v":0},{"$f":"'Cover Sheet'!$C$26","v":"00:00:00"},16,{"$f":"INDIRECT($I$1&\"!\"&$Y$1&$G331)/'Cover Sheet'!$C$29","v":{"$error":"#DIV/0!"}},26]
["NST04A","03b",{"$f":"'Cover Sheet'!$C$17","v":0},{"$f":"'Cover Sheet'!$C$26","v":"00:00:00"},16,{"$f":"INDIRECT($I$1&\"!\"&$Y$1&$G332)/'Cover Sheet'!$C$29","v":{"$error":"#DIV/0!"}},27]
["NST04A","03c",{"$f":"'Cover Sheet'!$C$17","v":0},{"$f":"'Cover Sheet'!$C$26","v":"00:00:00"},16,{"$f":"INDIRECT($I$1&\"!\"&$Y$1&$G333)/'Cover Sheet'!$C$29","v":{"$error":"#DIV/0!"}},28]
["NST04A","03d",{"$f":"'Cover Sheet'!$C$17","v":0},{"$f":"'Cover Sheet'!$C$26","v":"00:00:00"},16,{"$f":"INDIRECT($I$1&\"!\"&$Y$1&$G334)/'Cover Sheet'!$C$29","v":{"$error":"#DIV/0!"}},29]
["NST04A","03e",{"$f":"'Cover Sheet'!$C$17","v":0},{"$f":"'Cover Sheet'!$C$26","v":"00:00:00"},16,{"$f":"INDIRECT($I$1&\"!\"&$Y$1&$G335)/'Cover Sheet'!$C$29","v":{"$error":"#DIV/0!"}},30]
["NST04A","03f",{"$f":"'Cover Sheet'!$C$17","v":0},{"$f":"'Cover Sheet'!$C$26","v":"00:00:00"},16,{"$f":"INDIRECT($I$1&\"!\"&$Y$1&$G336)/'Cover Sheet'!$C$29","v":{"$error":"#DIV/0!"}},31]
["NST04A","03g",{"$f":"'Cover Sheet'!$C$17","v":0},{"$f":"'Cover Sheet'!$C$26","v":"00:00:00"},16,{"$f":"INDIRECT($I$1&\"!\"&$Y$1&$G337)/'Cover Sheet'!$C$29","v":{"$error":"#DIV/0!"}},32]
["NST04A","01a",{"$f":"'Cover Sheet'!$C$17","v":0},{"$f":"'Cover Sheet'!$C$26","v":"00:00:00"},17,{"$f":"INDIRECT($I$1&\"!\"&$Z$1&$G338)/'Cover Sheet'!$C$29","v":{"$error":"#DIV/0!"}},12]
["NST04A","01b",{"$f":"'Cover Sheet'!$C$17","v":0},{"$f":"'Cover Sheet'!$C$26","v":"00:00:00"},17,{"$f":"INDIRECT($I$1&\"!\"&$Z$1&$G339)/'Cover Sheet'!$C$29","v":{"$error":"#DIV/0!"}},13]
["NST04A","01c",{"$f":"'Cover Sheet'!$C$17","v":0},{"$f":"'Cover Sheet'!$C$26","v":"00:00:00"},17,{"$f":"INDIRECT($I$1&\"!\"&$Z$1&$G340)/'Cover Sheet'!$C$29","v":{"$error":"#DIV/0!"}},14]
["NST04A","01d",{"$f":"'Cover Sheet'!$C$17","v":0},{"$f":"'Cover Sheet'!$C$26","v":"00:00:00"},17,{"$f":"INDIRECT($I$1&\"!\"&$Z$1&$G341)/'Cover Sheet'!$C$29","v":{"$error":"#DIV/0!"}},15]
["NST04A","01e",{"$f":"'Cover Sheet'!$C$17","v":0},{"$f":"'Cover Sheet'!$C$26","v":"00:00:00"},17,{"$f":"INDIRECT($I$1&\"!\"&$Z$1&$G342)/'Cover Sheet'!$C$29","v":{"$error":"#DIV/0!"}},16]
["NST04A","01f",{"$f":"'Cover Sheet'!$C$17","v":0},{"$f":"'Cover Sheet'!$C$26","v":"00:00:00"},17,{"$f":"INDIRECT($I$1&\"!\"&$Z$1&$G343)/'Cover Sheet'!$C$29","v":{"$error":"#DIV/0!"}},17]
["NST04A","01g",{"$f":"'Cover Sheet'!$C$17","v":0},{"$f":"'Cover Sheet'!$C$26","v":"00:00:00"},17,{"$f":"INDIRECT($I$1&\"!\"&$Z$1&$G344)/'Cover Sheet'!$C$29","v":{"$error":"#DIV/0!"}},18]
["NST04A","02a",{"$f":"'Cover Sheet'!$C$17","v":0},{"$f":"'Cover Sheet'!$C$26","v":"00:00:00"},17,{"$f":"INDIRECT($I$1&\"!\"&$Z$1&$G345)/'Cover Sheet'!$C$29","v":{"$error":"#DIV/0!"}},19]
["NST04A","02b",{"$f":"'Cover Sheet'!$C$17","v":0},{"$f":"'Cover Sheet'!$C$26","v":"00:00:00"},17,{"$f":"INDIRECT($I$1&\"!\"&$Z$1&$G346)/'Cover Sheet'!$C$29","v":{"$error":"#DIV/0!"}},20]
["NST04A","02c",{"$f":"'Cover Sheet'!$C$17","v":0},{"$f":"'Cover Sheet'!$C$26","v":"00:00:00"},17,{"$f":"INDIRECT($I$1&\"!\"&$Z$1&$G347)/'Cover Sheet'!$C$29","v":{"$error":"#DIV/0!"}},21]
["NST04A","02d",{"$f":"'Cover Sheet'!$C$17","v":0},{"$f":"'Cover Sheet'!$C$26","v":"00:00:00"},17,{"$f":"INDIRECT($I$1&\"!\"&$Z$1&$G348)/'Cover Sheet'!$C$29","v":{"$error":"#DIV/0!"}},22]
["NST04A","02e",{"$f":"'Cover Sheet'!$C$17","v":0},{"$f":"'Cover Sheet'!$C$26","v":"00:00:00"},17,{"$f":"INDIRECT($I$1&\"!\"&$Z$1&$G349)/'Cover Sheet'!$C$29","v":{"$error":"#DIV/0!"}},23]
["NST04A","02f",{"$f":"'Cover Sheet'!$C$17","v":0},{"$f":"'Cover Sheet'!$C$26","v":"00:00:00"},17,{"$f":"INDIRECT($I$1&\"!\"&$Z$1&$G350)/'Cover Sheet'!$C$29","v":{"$error":"#DIV/0!"}},24]
["NST04A","02g",{"$f":"'Cover Sheet'!$C$17","v":0},{"$f":"'Cover Sheet'!$C$26","v":"00:00:00"},17,{"$f":"INDIRECT($I$1&\"!\"&$Z$1&$G351)/'Cover Sheet'!$C$29","v":{"$error":"#DIV/0!"}},25]
["NST04A","03a",{"$f":"'Cover Sheet'!$C$17","v":0},{"$f":"'Cover Sheet'!$C$26","v":"00:00:00"},17,{"$f":"INDIRECT($I$1&\"!\"&$Z$1&$G352)/'Cover Sheet'!$C$29","v":{"$error":"#DIV/0!"}},26]
["NST04A","03b",{"$f":"'Cover Sheet'!$C$17","v":0},{"$f":"'Cover Sheet'!$C$26","v":"00:00:00"},17,{"$f":"INDIRECT($I$1&\"!\"&$Z$1&$G353)/'Cover Sheet'!$C$29","v":{"$error":"#DIV/0!"}},27]
["NST04A","03c",{"$f":"'Cover Sheet'!$C$17","v":0},{"$f":"'Cover Sheet'!$C$26","v":"00:00:00"},17,{"$f":"INDIRECT($I$1&\"!\"&$Z$1&$G354)/'Cover Sheet'!$C$29","v":{"$error":"#DIV/0!"}},28]
["NST04A","03d",{"$f":"'Cover Sheet'!$C$17","v":0},{"$f":"'Cover Sheet'!$C$26","v":"00:00:00"},17,{"$f":"INDIRECT($I$1&\"!\"&$Z$1&$G355)/'Cover Sheet'!$C$29","v":{"$error":"#DIV/0!"}},29]
["NST04A","03e",{"$f":"'Cover Sheet'!$C$17","v":0},{"$f":"'Cover Sheet'!$C$26","v":"00:00:00"},17,{"$f":"INDIRECT($I$1&\"!\"&$Z$1&$G356)/'Cover Sheet'!$C$29","v":{"$error":"#DIV/0!"}},30]
["NST04A","03f",{"$f":"'Cover Sheet'!$C$17","v":0},{"$f":"'Cover Sheet'!$C$26","v":"00:00:00"},17,{"$f":"INDIRECT($I$1&\"!\"&$Z$1&$G357)/'Cover Sheet'!$C$29","v":{"$error":"#DIV/0!"}},31]
["NST04A","03g",{"$f":"'Cover Sheet'!$C$17","v":0},{"$f":"'Cover Sheet'!$C$26","v":"00:00:00"},17,{"$f":"INDIRECT($I$1&\"!\"&$Z$1&$G358)/'Cover Sheet'!$C$29","v":{"$error":"#DIV/0!"}},32]
["NST04A","01a",{"$f":"'Cover Sheet'!$C$17","v":0},{"$f":"'Cover Sheet'!$C$26","v":"00:00:00"},18,{"$f":"INDIRECT($I$1&\"!\"&$AA$1&$G359)/'Cover Sheet'!$C$29","v":{"$error":"#DIV/0!"}},12]
["NST04A","01b",{"$f":"'Cover Sheet'!$C$17","v":0},{"$f":"'Cover Sheet'!$C$26","v":"00:00:00"},18,{"$f":"INDIRECT($I$1&\"!\"&$AA$1&$G360)/'Cover Sheet'!$C$29","v":{"$error":"#DIV/0!"}},13]
["NST04A","01c",{"$f":"'Cover Sheet'!$C$17","v":0},{"$f":"'Cover Sheet'!$C$26","v":"00:00:00"},18,{"$f":"INDIRECT($I$1&\"!\"&$AA$1&$G361)/'Cover Sheet'!$C$29","v":{"$error":"#DIV/0!"}},14]
["NST04A","01d",{"$f":"'Cover Sheet'!$C$17","v":0},{"$f":"'Cover Sheet'!$C$26","v":"00:00:00"},18,{"$f":"INDIRECT($I$1&\"!\"&$AA$1&$G362)/'Cover Sheet'!$C$29","v":{"$error":"#DIV/0!"}},15]
["NST04A","01e",{"$f":"'Cover Sheet'!$C$17","v":0},{"$f":"'Cover Sheet'!$C$26","v":"00:00:00"},18,{"$f":"INDIRECT($I$1&\"!\"&$AA$1&$G363)/'Cover Sheet'!$C$29","v":{"$error":"#DIV/0!"}},16]
["NST04A","01f",{"$f":"'Cover Sheet'!$C$17","v":0},{"$f":"'Cover Sheet'!$C$26","v":"00:00:00"},18,{"$f":"INDIRECT($I$1&\"!\"&$AA$1&$G364)/'Cover Sheet'!$C$29","v":{"$error":"#DIV/0!"}},17]
["NST04A","01g",{"$f":"'Cover Sheet'!$C$17","v":0},{"$f":"'Cover Sheet'!$C$26","v":"00:00:00"},18,{"$f":"INDIRECT($I$1&\"!\"&$AA$1&$G365)/'Cover Sheet'!$C$29","v":{"$error":"#DIV/0!"}},18]
["NST04A","02a",{"$f":"'Cover Sheet'!$C$17","v":0},{"$f":"'Cover Sheet'!$C$26","v":"00:00:00"},18,{"$f":"INDIRECT($I$1&\"!\"&$AA$1&$G366)/'Cover Sheet'!$C$29","v":{"$error":"#DIV/0!"}},19]
["NST04A","02b",{"$f":"'Cover Sheet'!$C$17","v":0},{"$f":"'Cover Sheet'!$C$26","v":"00:00:00"},18,{"$f":"INDIRECT($I$1&\"!\"&$AA$1&$G367)/'Cover Sheet'!$C$29","v":{"$error":"#DIV/0!"}},20]
["NST04A","02c",{"$f":"'Cover Sheet'!$C$17","v":0},{"$f":"'Cover Sheet'!$C$26","v":"00:00:00"},18,{"$f":"INDIRECT($I$1&\"!\"&$AA$1&$G368)/'Cover Sheet'!$C$29","v":{"$error":"#DIV/0!"}},21]
["NST04A","02d",{"$f":"'Cover Sheet'!$C$17","v":0},{"$f":"'Cover Sheet'!$C$26","v":"00:00:00"},18,{"$f":"INDIRECT($I$1&\"!\"&$AA$1&$G369)/'Cover Sheet'!$C$29","v":{"$error":"#DIV/0!"}},22]
["NST04A","02e",{"$f":"'Cover Sheet'!$C$17","v":0},{"$f":"'Cover Sheet'!$C$26","v":"00:00:00"},18,{"$f":"INDIRECT($I$1&\"!\"&$AA$1&$G370)/'Cover Sheet'!$C$29","v":{"$error":"#DIV/0!"}},23]
["NST04A","02f",{"$f":"'Cover Sheet'!$C$17","v":0},{"$f":"'Cover Sheet'!$C$26","v":"00:00:00"},18,{"$f":"INDIRECT($I$1&\"!\"&$AA$1&$G371)/'Cover Sheet'!$C$29","v":{"$error":"#DIV/0!"}},24]
["NST04A","02g",{"$f":"'Cover Sheet'!$C$17","v":0},{"$f":"'Cover Sheet'!$C$26","v":"00:00:00"},18,{"$f":"INDIRECT($I$1&\"!\"&$AA$1&$G372)/'Cover Sheet'!$C$29","v":{"$error":"#DIV/0!"}},25]
["NST04A","03a",{"$f":"'Cover Sheet'!$C$17","v":0},{"$f":"'Cover Sheet'!$C$26","v":"00:00:00"},18,{"$f":"INDIRECT($I$1&\"!\"&$AA$1&$G373)/'Cover Sheet'!$C$29","v":{"$error":"#DIV/0!"}},26]
["NST04A","03b",{"$f":"'Cover Sheet'!$C$17","v":0},{"$f":"'Cover Sheet'!$C$26","v":"00:00:00"},18,{"$f":"INDIRECT($I$1&\"!\"&$AA$1&$G374)/'Cover Sheet'!$C$29","v":{"$error":"#DIV/0!"}},27]
["NST04A","03c",{"$f":"'Cover Sheet'!$C$17","v":0},{"$f":"'Cover Sheet'!$C$26","v":"00:00:00"},18,{"$f":"INDIRECT($I$1&\"!\"&$AA$1&$G375)/'Cover Sheet'!$C$29","v":{"$error":"#DIV/0!"}},28]
["NST04A","03d",{"$f":"'Cover Sheet'!$C$17","v":0},{"$f":"'Cover Sheet'!$C$26","v":"00:00:00"},18,{"$f":"INDIRECT($I$1&\"!\"&$AA$1&$G376)/'Cover Sheet'!$C$29","v":{"$error":"#DIV/0!"}},29]
["NST04A","03e",{"$f":"'Cover Sheet'!$C$17","v":0},{"$f":"'Cover Sheet'!$C$26","v":"00:00:00"},18,{"$f":"INDIRECT($I$1&\"!\"&$AA$1&$G377)/'Cover Sheet'!$C$29","v":{"$error":"#DIV/0!"}},30]
["NST04A","03f",{"$f":"'Cover Sheet'!$C$17","v":0},{"$f":"'Cover Sheet'!$C$26","v":"00:00:00"},18,{"$f":"INDIRECT($I$1&\"!\"&$AA$1&$G378)/'Cover Sheet'!$C$29","v":{"$error":"#DIV/0!"}},31]
["NST04A","03g",{"$f":"'Cover Sheet'!$C$17","v":0},{"$f":"'Cover Sheet'!$C$26","v":"00:00:00"},18,{"$f":"INDIRECT($I$1&\"!\"&$AA$1&$G379)/'Cover Sheet'!$C$29","v":{"$error":"#DIV/0!"}},32]
["NST04A","01a",{"$f":"'Cover Sheet'!$C$17","v":0},{"$f":"'Cover Sheet'!$C$26","v":"00:00:00"},19,{"$f":"INDIRECT($I$1&\"!\"&$AB$1&$G380)/'Cover Sheet'!$C$29","v":{"$error":"#DIV/0!"}},12]
["NST04A","01b",{"$f":"'Cover Sheet'!$C$17","v":0},{"$f":"'Cover Sheet'!$C$26","v":"00:00:00"},19,{"$f":"INDIRECT($I$1&\"!\"&$AB$1&$G381)/'Cover Sheet'!$C$29","v":{"$error":"#DIV/0!"}},13]
["NST04A","01c",{"$f":"'Cover Sheet'!$C$17","v":0},{"$f":"'Cover Sheet'!$C$26","v":"00:00:00"},19,{"$f":"INDIRECT($I$1&\"!\"&$AB$1&$G382)/'Cover Sheet'!$C$29","v":{"$error":"#DIV/0!"}},14]
["NST04A","01d",{"$f":"'Cover Sheet'!$C$17","v":0},{"$f":"'Cover Sheet'!$C$26","v":"00:00:00"},19,{"$f":"INDIRECT($I$1&\"!\"&$AB$1&$G383)/'Cover Sheet'!$C$29","v":{"$error":"#DIV/0!"}},15]
["NST04A","01e",{"$f":"'Cover Sheet'!$C$17","v":0},{"$f":"'Cover Sheet'!$C$26","v":"00:00:00"},19,{"$f":"INDIRECT($I$1&\"!\"&$AB$1&$G384)/'Cover Sheet'!$C$29","v":{"$error":"#DIV/0!"}},16]
["NST04A","01f",{"$f":"'Cover Sheet'!$C$17","v":0},{"$f":"'Cover Sheet'!$C$26","v":"00:00:00"},19,{"$f":"INDIRECT($I$1&\"!\"&$AB$1&$G385)/'Cover Sheet'!$C$29","v":{"$error":"#DIV/0!"}},17]
["NST04A","01g",{"$f":"'Cover Sheet'!$C$17","v":0},{"$f":"'Cover Sheet'!$C$26","v":"00:00:00"},19,{"$f":"INDIRECT($I$1&\"!\"&$AB$1&$G386)/'Cover Sheet'!$C$29","v":{"$error":"#DIV/0!"}},18]
["NST04A","02a",{"$f":"'Cover Sheet'!$C$17","v":0},{"$f":"'Cover Sheet'!$C$26","v":"00:00:00"},19,{"$f":"INDIRECT($I$1&\"!\"&$AB$1&$G387)/'Cover Sheet'!$C$29","v":{"$error":"#DIV/0!"}},19]
["NST04A","02b",{"$f":"'Cover Sheet'!$C$17","v":0},{"$f":"'Cover Sheet'!$C$26","v":"00:00:00"},19,{"$f":"INDIRECT($I$1&\"!\"&$AB$1&$G388)/'Cover Sheet'!$C$29","v":{"$error":"#DIV/0!"}},20]
["NST04A","02c",{"$f":"'Cover Sheet'!$C$17","v":0},{"$f":"'Cover Sheet'!$C$26","v":"00:00:00"},19,{"$f":"INDIRECT($I$1&\"!\"&$AB$1&$G389)/'Cover Sheet'!$C$29","v":{"$error":"#DIV/0!"}},21]
["NST04A","02d",{"$f":"'Cover Sheet'!$C$17","v":0},{"$f":"'Cover Sheet'!$C$26","v":"00:00:00"},19,{"$f":"INDIRECT($I$1&\"!\"&$AB$1&$G390)/'Cover Sheet'!$C$29","v":{"$error":"#DIV/0!"}},22]
["NST04A","02e",{"$f":"'Cover Sheet'!$C$17","v":0},{"$f":"'Cover Sheet'!$C$26","v":"00:00:00"},19,{"$f":"INDIRECT($I$1&\"!\"&$AB$1&$G391)/'Cover Sheet'!$C$29","v":{"$error":"#DIV/0!"}},23]
["NST04A","02f",{"$f":"'Cover Sheet'!$C$17","v":0},{"$f":"'Cover Sheet'!$C$26","v":"00:00:00"},19,{"$f":"INDIRECT($I$1&\"!\"&$AB$1&$G392)/'Cover Sheet'!$C$29","v":{"$error":"#DIV/0!"}},24]
["NST04A","02g",{"$f":"'Cover Sheet'!$C$17","v":0},{"$f":"'Cover Sheet'!$C$26","v":"00:00:00"},19,{"$f":"INDIRECT($I$1&\"!\"&$AB$1&$G393)/'Cover Sheet'!$C$29","v":{"$error":"#DIV/0!"}},25]
["NST04A","03a",{"$f":"'Cover Sheet'!$C$17","v":0},{"$f":"'Cover Sheet'!$C$26","v":"00:00:00"},19,{"$f":"INDIRECT($I$1&\"!\"&$AB$1&$G394)/'Cover Sheet'!$C$29","v":{"$error":"#DIV/0!"}},26]
["NST04A","03b",{"$f":"'Cover Sheet'!$C$17","v":0},{"$f":"'Cover Sheet'!$C$26","v":"00:00:00"},19,{"$f":"INDIRECT($I$1&\"!\"&$AB$1&$G395)/'Cover Sheet'!$C$29","v":{"$error":"#DIV/0!"}},27]
["NST04A","03c",{"$f":"'Cover Sheet'!$C$17","v":0},{"$f":"'Cover Sheet'!$C$26","v":"00:00:00"},19,{"$f":"INDIRECT($I$1&\"!\"&$AB$1&$G396)/'Cover Sheet'!$C$29","v":{"$error":"#DIV/0!"}},28]
["NST04A","03d",{"$f":"'Cover Sheet'!$C$17","v":0},{"$f":"'Cover Sheet'!$C$26","v":"00:00:00"},19,{"$f":"INDIRECT($I$1&\"!\"&$AB$1&$G397)/'Cover Sheet'!$C$29","v":{"$error":"#DIV/0!"}},29]
["NST04A","03e",{"$f":"'Cover Sheet'!$C$17","v":0},{"$f":"'Cover Sheet'!$C$26","v":"00:00:00"},19,{"$f":"INDIRECT($I$1&\"!\"&$AB$1&$G398)/'Cover Sheet'!$C$29","v":{"$error":"#DIV/0!"}},30]
["NST04A","03f",{"$f":"'Cover Sheet'!$C$17","v":0},{"$f":"'Cover Sheet'!$C$26","v":"00:00:00"},19,{"$f":"INDIRECT($I$1&\"!\"&$AB$1&$G399)/'Cover Sheet'!$C$29","v":{"$error":"#DIV/0!"}},31]
["NST04A","03g",{"$f":"'Cover Sheet'!$C$17","v":0},{"$f":"'Cover Sheet'!$C$26","v":"00:00:00"},19,{"$f":"INDIRECT($I$1&\"!\"&$AB$1&$G400)/'Cover Sheet'!$C$29","v":{"$error":"#DIV/0!"}},32]
["NST04A","01a",{"$f":"'Cover Sheet'!$C$17","v":0},{"$f":"'Cover Sheet'!$C$26","v":"00:00:00"},20,{"$f":"INDIRECT($I$1&\"!\"&$AC$1&$G401)/'Cover Sheet'!$C$29","v":{"$error":"#DIV/0!"}},12]
["NST04A","01b",{"$f":"'Cover Sheet'!$C$17","v":0},{"$f":"'Cover Sheet'!$C$26","v":"00:00:00"},20,{"$f":"INDIRECT($I$1&\"!\"&$AC$1&$G402)/'Cover Sheet'!$C$29","v":{"$error":"#DIV/0!"}},13]
["NST04A","01c",{"$f":"'Cover Sheet'!$C$17","v":0},{"$f":"'Cover Sheet'!$C$26","v":"00:00:00"},20,{"$f":"INDIRECT($I$1&\"!\"&$AC$1&$G403)/'Cover Sheet'!$C$29","v":{"$error":"#DIV/0!"}},14]
["NST04A","01d",{"$f":"'Cover Sheet'!$C$17","v":0},{"$f":"'Cover Sheet'!$C$26","v":"00:00:00"},20,{"$f":"INDIRECT($I$1&\"!\"&$AC$1&$G404)/'Cover Sheet'!$C$29","v":{"$error":"#DIV/0!"}},15]
["NST04A","01e",{"$f":"'Cover Sheet'!$C$17","v":0},{"$f":"'Cover Sheet'!$C$26","v":"00:00:00"},20,{"$f":"INDIRECT($I$1&\"!\"&$AC$1&$G405)/'Cover Sheet'!$C$29","v":{"$error":"#DIV/0!"}},16]
["NST04A","01f",{"$f":"'Cover Sheet'!$C$17","v":0},{"$f":"'Cover Sheet'!$C$26","v":"00:00:00"},20,{"$f":"INDIRECT($I$1&\"!\"&$AC$1&$G406)/'Cover Sheet'!$C$29","v":{"$error":"#DIV/0!"}},17]
["NST04A","01g",{"$f":"'Cover Sheet'!$C$17","v":0},{"$f":"'Cover Sheet'!$C$26","v":"00:00:00"},20,{"$f":"INDIRECT($I$1&\"!\"&$AC$1&$G407)/'Cover Sheet'!$C$29","v":{"$error":"#DIV/0!"}},18]
["NST04A","02a",{"$f":"'Cover Sheet'!$C$17","v":0},{"$f":"'Cover Sheet'!$C$26","v":"00:00:00"},20,{"$f":"INDIRECT($I$1&\"!\"&$AC$1&$G408)/'Cover Sheet'!$C$29","v":{"$error":"#DIV/0!"}},19]
["NST04A","02b",{"$f":"'Cover Sheet'!$C$17","v":0},{"$f":"'Cover Sheet'!$C$26","v":"00:00:00"},20,{"$f":"INDIRECT($I$1&\"!\"&$AC$1&$G409)/'Cover Sheet'!$C$29","v":{"$error":"#DIV/0!"}},20]
["NST04A","02c",{"$f":"'Cover Sheet'!$C$17","v":0},{"$f":"'Cover Sheet'!$C$26","v":"00:00:00"},20,{"$f":"INDIRECT($I$1&\"!\"&$AC$1&$G410)/'Cover Sheet'!$C$29","v":{"$error":"#DIV/0!"}},21]
["NST04A","02d",{"$f":"'Cover Sheet'!$C$17","v":0},{"$f":"'Cover Sheet'!$C$26","v":"00:00:00"},20,{"$f":"INDIRECT($I$1&\"!\"&$AC$1&$G411)/'Cover Sheet'!$C$29","v":{"$error":"#DIV/0!"}},22]
["NST04A","02e",{"$f":"'Cover Sheet'!$C$17","v":0},{"$f":"'Cover Sheet'!$C$26","v":"00:00:00"},20,{"$f":"INDIRECT($I$1&\"!\"&$AC$1&$G412)/'Cover Sheet'!$C$29","v":{"$error":"#DIV/0!"}},23]
["NST04A","02f",{"$f":"'Cover Sheet'!$C$17","v":0},{"$f":"'Cover Sheet'!$C$26","v":"00:00:00"},20,{"$f":"INDIRECT($I$1&\"!\"&$AC$1&$G413)/'Cover Sheet'!$C$29","v":{"$error":"#DIV/0!"}},24]
["NST04A","02g",{"$f":"'Cover Sheet'!$C$17","v":0},{"$f":"'Cover Sheet'!$C$26","v":"00:00:00"},20,{"$f":"INDIRECT($I$1&\"!\"&$AC$1&$G414)/'Cover Sheet'!$C$29","v":{"$error":"#DIV/0!"}},25]
["NST04A","03a",{"$f":"'Cover Sheet'!$C$17","v":0},{"$f":"'Cover Sheet'!$C$26","v":"00:00:00"},20,{"$f":"INDIRECT($I$1&\"!\"&$AC$1&$G415)/'Cover Sheet'!$C$29","v":{"$error":"#DIV/0!"}},26]
["NST04A","03b",{"$f":"'Cover Sheet'!$C$17","v":0},{"$f":"'Cover Sheet'!$C$26","v":"00:00:00"},20,{"$f":"INDIRECT($I$1&\"!\"&$AC$1&$G416)/'Cover Sheet'!$C$29","v":{"$error":"#DIV/0!"}},27]
["NST04A","03c",{"$f":"'Cover Sheet'!$C$17","v":0},{"$f":"'Cover Sheet'!$C$26","v":"00:00:00"},20,{"$f":"INDIRECT($I$1&\"!\"&$AC$1&$G417)/'Cover Sheet'!$C$29","v":{"$error":"#DIV/0!"}},28]
["NST04A","03d",{"$f":"'Cover Sheet'!$C$17","v":0},{"$f":"'Cover Sheet'!$C$26","v":"00:00:00"},20,{"$f":"INDIRECT($I$1&\"!\"&$AC$1&$G418)/'Cover Sheet'!$C$29","v":{"$error":"#DIV/0!"}},29]
["NST04A","03e",{"$f":"'Cover Sheet'!$C$17","v":0},{"$f":"'Cover Sheet'!$C$26","v":"00:00:00"},20,{"$f":"INDIRECT($I$1&\"!\"&$AC$1&$G419)/'Cover Sheet'!$C$29","v":{"$error":"#DIV/0!"}},30]
["NST04A","03f",{"$f":"'Cover Sheet'!$C$17","v":0},{"$f":"'Cover Sheet'!$C$26","v":"00:00:00"},20,{"$f":"INDIRECT($I$1&\"!\"&$AC$1&$G420)/'Cover Sheet'!$C$29","v":{"$error":"#DIV/0!"}},31]
["NST04A","03g",{"$f":"'Cover Sheet'!$C$17","v":0},{"$f":"'Cover Sheet'!$C$26","v":"00:00:00"},20,{"$f":"INDIRECT($I$1&\"!\"&$AC$1&$G421)/'Cover Sheet'!$C$29","v":{"$error":"#DIV/0!"}},32]
["NST04A","01a",{"$f":"'Cover Sheet'!$C$17","v":0},{"$f":"'Cover Sheet'!$C$26","v":"00:00:00"},21,{"$f":"INDIRECT($I$1&\"!\"&$AD$1&$G422)/'Cover Sheet'!$C$29","v":{"$error":"#DIV/0!"}},12]
["NST04A","01b",{"$f":"'Cover Sheet'!$C$17","v":0},{"$f":"'Cover Sheet'!$C$26","v":"00:00:00"},21,{"$f":"INDIRECT($I$1&\"!\"&$AD$1&$G423)/'Cover Sheet'!$C$29","v":{"$error":"#DIV/0!"}},13]
["NST04A","01c",{"$f":"'Cover Sheet'!$C$17","v":0},{"$f":"'Cover Sheet'!$C$26","v":"00:00:00"},21,{"$f":"INDIRECT($I$1&\"!\"&$AD$1&$G424)/'Cover Sheet'!$C$29","v":{"$error":"#DIV/0!"}},14]
["NST04A","01d",{"$f":"'Cover Sheet'!$C$17","v":0},{"$f":"'Cover Sheet'!$C$26","v":"00:00:00"},21,{"$f":"INDIRECT($I$1&\"!\"&$AD$1&$G425)/'Cover Sheet'!$C$29","v":{"$error":"#DIV/0!"}},15]
["NST04A","01e",{"$f":"'Cover Sheet'!$C$17","v":0},{"$f":"'Cover Sheet'!$C$26","v":"00:00:00"},21,{"$f":"INDIRECT($I$1&\"!\"&$AD$1&$G426)/'Cover Sheet'!$C$29","v":{"$error":"#DIV/0!"}},16]
["NST04A","01f",{"$f":"'Cover Sheet'!$C$17","v":0},{"$f":"'Cover Sheet'!$C$26","v":"00:00:00"},21,{"$f":"INDIRECT($I$1&\"!\"&$AD$1&$G427)/'Cover Sheet'!$C$29","v":{"$error":"#DIV/0!"}},17]
["NST04A","01g",{"$f":"'Cover Sheet'!$C$17","v":0},{"$f":"'Cover Sheet'!$C$26","v":"00:00:00"},21,{"$f":"INDIRECT($I$1&\"!\"&$AD$1&$G428)/'Cover Sheet'!$C$29","v":{"$error":"#DIV/0!"}},18]
["NST04A","02a",{"$f":"'Cover Sheet'!$C$17","v":0},{"$f":"'Cover Sheet'!$C$26","v":"00:00:00"},21,{"$f":"INDIRECT($I$1&\"!\"&$AD$1&$G429)/'Cover Sheet'!$C$29","v":{"$error":"#DIV/0!"}},19]
["NST04A","02b",{"$f":"'Cover Sheet'!$C$17","v":0},{"$f":"'Cover Sheet'!$C$26","v":"00:00:00"},21,{"$f":"INDIRECT($I$1&\"!\"&$AD$1&$G430)/'Cover Sheet'!$C$29","v":{"$error":"#DIV/0!"}},20]
["NST04A","02c",{"$f":"'Cover Sheet'!$C$17","v":0},{"$f":"'Cover Sheet'!$C$26","v":"00:00:00"},21,{"$f":"INDIRECT($I$1&\"!\"&$AD$1&$G431)/'Cover Sheet'!$C$29","v":{"$error":"#DIV/0!"}},21]
["NST04A","02d",{"$f":"'Cover Sheet'!$C$17","v":0},{"$f":"'Cover Sheet'!$C$26","v":"00:00:00"},21,{"$f":"INDIRECT($I$1&\"!\"&$AD$1&$G432)/'Cover Sheet'!$C$29","v":{"$error":"#DIV/0!"}},22]
["NST04A","02e",{"$f":"'Cover Sheet'!$C$17","v":0},{"$f":"'Cover Sheet'!$C$26","v":"00:00:00"},21,{"$f":"INDIRECT($I$1&\"!\"&$AD$1&$G433)/'Cover Sheet'!$C$29","v":{"$error":"#DIV/0!"}},23]
["NST04A","02f",{"$f":"'Cover Sheet'!$C$17","v":0},{"$f":"'Cover Sheet'!$C$26","v":"00:00:00"},21,{"$f":"INDIRECT($I$1&\"!\"&$AD$1&$G434)/'Cover Sheet'!$C$29","v":{"$error":"#DIV/0!"}},24]
["NST04A","02g",{"$f":"'Cover Sheet'!$C$17","v":0},{"$f":"'Cover Sheet'!$C$26","v":"00:00:00"},21,{"$f":"INDIRECT($I$1&\"!\"&$AD$1&$G435)/'Cover Sheet'!$C$29","v":{"$error":"#DIV/0!"}},25]
["NST04A","03a",{"$f":"'Cover Sheet'!$C$17","v":0},{"$f":"'Cover Sheet'!$C$26","v":"00:00:00"},21,{"$f":"INDIRECT($I$1&\"!\"&$AD$1&$G436)/'Cover Sheet'!$C$29","v":{"$error":"#DIV/0!"}},26]
["NST04A","03b",{"$f":"'Cover Sheet'!$C$17","v":0},{"$f":"'Cover Sheet'!$C$26","v":"00:00:00"},21,{"$f":"INDIRECT($I$1&\"!\"&$AD$1&$G437)/'Cover Sheet'!$C$29","v":{"$error":"#DIV/0!"}},27]
["NST04A","03c",{"$f":"'Cover Sheet'!$C$17","v":0},{"$f":"'Cover Sheet'!$C$26","v":"00:00:00"},21,{"$f":"INDIRECT($I$1&\"!\"&$AD$1&$G438)/'Cover Sheet'!$C$29","v":{"$error":"#DIV/0!"}},28]
["NST04A","03d",{"$f":"'Cover Sheet'!$C$17","v":0},{"$f":"'Cover Sheet'!$C$26","v":"00:00:00"},21,{"$f":"INDIRECT($I$1&\"!\"&$AD$1&$G439)/'Cover Sheet'!$C$29","v":{"$error":"#DIV/0!"}},29]
["NST04A","03e",{"$f":"'Cover Sheet'!$C$17","v":0},{"$f":"'Cover Sheet'!$C$26","v":"00:00:00"},21,{"$f":"INDIRECT($I$1&\"!\"&$AD$1&$G440)/'Cover Sheet'!$C$29","v":{"$error":"#DIV/0!"}},30]
["NST04A","03f",{"$f":"'Cover Sheet'!$C$17","v":0},{"$f":"'Cover Sheet'!$C$26","v":"00:00:00"},21,{"$f":"INDIRECT($I$1&\"!\"&$AD$1&$G441)/'Cover Sheet'!$C$29","v":{"$error":"#DIV/0!"}},31]
["NST04A","03g",{"$f":"'Cover Sheet'!$C$17","v":0},{"$f":"'Cover Sheet'!$C$26","v":"00:00:00"},21,{"$f":"INDIRECT($I$1&\"!\"&$AD$1&$G442)/'Cover Sheet'!$C$29","v":{"$error":"#DIV/0!"}},32]

{"sheet":"ANST05","index":10,"n_rows":72,"n_cols":8,"rows_kept":72,"cut":false,"hidden":false,"merged":[[70,1,70,3],[71,1,71,3],[60,1,60,4],[61,1,61,4],[62,1,62,4],[67,1,67,3],[68,1,68,3],[69,1,69,3],[58,0,58,4],[47,1,47,3],[48,1,48,3],[49,1,49,3],[50,1,50,3],[51,1,51,3],[52,1,52,3],[53,1,53,3],[54,0,54,4],[55,1,55,3],[56,0,56,4],[57,1,57,3],[46,1,46,3],[35,1,35,3],[36,1,36,3],[37,1,37,3],[38,1,38,3],[39,1,39,3],[40,1,40,3],[41,0,41,4],[42,1,42,3],[43,0,43,4],[44,1,44,3],[45,0,45,4],[34,1,34,3],[23,0,23,4],[24,1,24,3],[25,0,25,4],[26,1,26,3],[27,0,27,4],[28,1,28,3],[29,1,29,3],[30,1,30,3],[31,0,31,4],[32,1,32,3],[33,1,33,3],[22,1,22,3],[11,1,11,3],[12,1,12,3],[13,1,13,3],[14,1,14,3],[15,0,15,4],[16,1,16,3],[17,1,17,3],[18,1,18,3],[19,0,19,4],[20,1,20,3],[21,0,21,4],[10,1,10,3],[0,2,0,4],[1,2,1,4],[3,2,3,4],[4,2,4,4],[6,0,6,4]]}
["Name of licenceholder:",null,{"$f":"IF('Cover Sheet'!C15=\"\",\"\",'Cover Sheet'!C15)","v":""}]
["Type of business carried out:",null,{"$f":"IF('Cover Sheet'!C22=\"\",\"\",'Cover Sheet'!$C$22)","v":""}]
["Period from:",null,{"$f":"IF('Cover Sheet'!C25=\"\",\"\",'Cover Sheet'!C25)","v":""},"to",{"$f":"IF('Cover Sheet'!C26=\"\",\"\",'Cover Sheet'!C26)","v":""}]
["Document type:",null,"MFSA National Specific Templates"]
["Sheet Code:",null,"ANST05"]
[]
["Technical Account - General Business"]
[]
[null,null,null,null,"Amount",null,"Validation "]
[null,"Currency",null,null,{"$f":"IF('Cover Sheet'!C28=\"\",\"\",'Cover Sheet'!C28)","v":""}]
[1.1000000000000001,"Gross premiums written",null,null,null,null,{"$f":"IF(E11=\"\",0,1)","v":0},1]
[1.2,"Outward reinsurance premiums (Total)",null,null,{"$f":"SUM(E13:E14)","v":0},null,null,2]
[1.3,"Outward reinsurance premiums (Proportional)",null,null,null,null,null,3]
[1.4,"Outward reinsurance premiums (Non-proportional)",null,null,null,null,null,4]
[1,"Net premium written",null,null,{"$f":"E11+E12","v":0},null,null,5]
[null,null,null,null,null,null,null,6]
[2.1,"Change in the gross provision for unearned premiums",null,null,null,null,{"$f":"IF(E17=\"\",0,1)","v":0},7]
[2.2000000000000002,"Change in the provision for unearned premiums reinsurance",null,null,null,null,null,8]
[2,"Change in net provision for unearned premium",null,null,{"$f":"E17+E18","v":0},null,null,9]
[null,null,null,null,null,null,null,10]
[3,"Earned premiums, net of reinsurance",null,null,{"$f":"E15+E19","v":0},null,null,11]
[null,null,null,null,null,null,null,12]
[4,"Earned premiums, gross of reinsurance",null,null,{"$f":"E11+E17","v":0},null,null,13]
[null,null,null,null,null,null,null,14]
[5,"Allocated investment return",null,null,null,null,{"$f":"IF(E25=\"\",0,1)","v":0},15]
[null,null,null,null,null,null,null,16]
[6,"Total technical income",null,null,{"$f":"E21+E25","v":0},null,null,17]
[null,null,null,null,null,null,null,18]
[7.1,"Gross claims paid including losses / claims payable",null,null,null,null,{"$f":"IF(E29=\"\",0,1)","v":0},19]
[7.2,"Reinsurers share of claims paid",null,null,null,null,{"$f":"IF(E30=\"\",0,1)","v":0},20]
[7,"Net claims paid",null,null,{"$f":"SUM(E29:E30)","v":0},null,null,21]
[null,null,null,null,null,null,null,22]
[8.1,"Change in gross claims outstanding reserves",null,null,null,null,{"$f":"IF(E33=\"\",0,1)","v":0},23]
[8.1999999999999993,"Change in gross IBNR provision",null,null,null,null,{"$f":"IF(E34=\"\",0,1)","v":0},24]
[8.3000000000000007,"Change in gross IBNER provision",null,null,null,null,{"$f":"IF(E35=\"\",0,1)","v":0},25]
[8.4,"Change in other gross reserve",null,null,null,null,0,26]
[8.5,"Change in claims outstanding reserves, reinsurers share",null,null,null,null,0,27]
[8.6,"Change in the provision of IBNR, reinsurers share",null,null,null,null,0,28]
[8.6999999999999993,"Change in the provision of IBNER, reinsurers share",null,null,null,null,0,29]
[8.8000000000000007,"Change in other reserves, reinsurers share",null,null,null,null,0,30]
[8,"Change in net provision for claims, IBNR and other reserves",null,null,{"$f":"SUM(E33:E40)","v":0},null,null,31]
[null,null,null,null,null,null,null,32]
[9,"Claims incurred, net of reinsurance",null,null,{"$f":"E31+E41","v":0},null,null,33]
[null,null,null,null,null,null,null,34]
[10,"Claims incurred, gross of reinsurance",null,null,{"$f":"E29+E33+E34+E35+E36","v":0},null,null,35]
[null,null,null,null,null,null,null,36]
[11.1,"Commission paid",null,null,null,null,null,37]
[11.2,"Change in the provision for DAC",null,null,null,null,null,38]
[11.3,"Claims management costs",null,null,null,null,{"$f":"IF(E49=\"\",0,1)","v":0},39]
[11.4,"MIB levy (Motor)",null,null,null,null,null,40]
[11.5,"Reinsurance commissions and profit participation",null,null,null,null,null,41]
[11.6,"Commissions received other than those included in 11.50 above",null,null,null,null,null,42]
[11.7,"Other expenses",null,null,null,null,null,43]
[11,"Net operating expenses",null,null,{"$f":"SUM(E47:E53)","v":0},null,null,44]
[null,null,null,null,null,null,null,45]
[12,"Total technical charges",null,null,{"$f":"E43+E54","v":0},null,null,46]
[null,null,null,null,null,null,null,47]
[13,"Technical result - General Business",null,null,{"$f":"E27-E56","v":0},null,{"$f":"IF(OR('Cover Sheet'!C22=\"Long Term Business\",E11=\"\",E17=\"\",E29=\"\",E33=\"\",E34=\"\",E35=\"\",E49=\"\"),0,1)","v":0},48]
[]
[null,"Notes"]
["i","Please key in a value for each cell in the table where there is a validation. Where the cell contains no value, a value of zero is to be keyed in."]
["ii","Kindly note that the Technical Result will not be displayed unless a value is keyed in for: [i] Gross Premiums Written; [ii] Change in the gross provision for unearned premiums; [iii] Gross claims paid; [iv] Change in gross provision for claims outstanding reserves; [v] Change in gross IBNR; [vi] Change in gross IBNER; and [vii] Claims management costs."]
["iii","Claims outstanding should exclude claims management costs. The latter should be disclosed separately in line 11.30."]
[]
[]
[]
[null,"Ratios"]
[14,"Loss ratio, net of reinsurance",null,null,{"$f":"IF(OR(E43=0,E21=0),\"\",E43/E21)","v":""}]
[15,"Loss ratio, gross of reinsurance",null,null,{"$f":"IF(OR(E23=0,E45=0),\"\",E45/E23)","v":""}]
[16,"Combined ratio, net of reinsurance",null,null,{"$f":"IF(OR(E21=0,E56=0),\"\",E56/E21)","v":""}]
[17,"Combined ratio, gross of reinsurance",null,null,{"$f":"IF(OR(E23=0,E45=0,E54=0),\"\",(E45+E54)/E23)","v":""}]
[18,"Expense ratio (ratio of Net operating expenses to Gross Premiums written)",null,null,{"$f":"IF(OR(E11=\"\",E54=0),\"\",E54/E11)","v":""}]

{"sheet":"NST05A","index":11,"n_rows":37,"n_cols":8,"rows_kept":37,"cut":false,"hidden":true,"merged":[]}
["SheetCode","FieldCode","FICode","Date","ColNum","Value",null,"Line"]
["NST05A","01a",{"$f":"'Cover Sheet'!$C$17","v":0},{"$f":"'Cover Sheet'!$C$26","v":"00:00:00"},1,{"$f":"OFFSET(ANST05!$A$10,H2,4)","v":0},null,1]
["NST05A","01b",{"$f":"'Cover Sheet'!$C$17","v":0},{"$f":"'Cover Sheet'!$C$26","v":"00:00:00"},1,{"$f":"OFFSET(ANST05!$A$10,H3,4)","v":0},null,2]
["NST05A","01c",{"$f":"'Cover Sheet'!$C$17","v":0},{"$f":"'Cover Sheet'!$C$26","v":"00:00:00"},1,{"$f":"OFFSET(ANST05!$A$10,H4,4)","v":0},null,3]
["NST05A","01d",{"$f":"'Cover Sheet'!$C$17","v":0},{"$f":"'Cover Sheet'!$C$26","v":"00:00:00"},1,{"$f":"OFFSET(ANST05!$A$10,H5,4)","v":0},null,4]
["NST05A","01e",{"$f":"'Cover Sheet'!$C$17","v":0},{"$f":"'Cover Sheet'!$C$26","v":"00:00:00"},1,{"$f":"OFFSET(ANST05!$A$10,H6,4)","v":0},null,5]
["NST05A","02a",{"$f":"'Cover Sheet'!$C$17","v":0},{"$f":"'Cover Sheet'!$C$26","v":"00:00:00"},1,{"$f":"OFFSET(ANST05!$A$10,H7,4)","v":0},null,7]
["NST05A","02b",{"$f":"'Cover Sheet'!$C$17","v":0},{"$f":"'Cover Sheet'!$C$26","v":"00:00:00"},1,{"$f":"OFFSET(ANST05!$A$10,H8,4)","v":0},null,8]
["NST05A","02c",{"$f":"'Cover Sheet'!$C$17","v":0},{"$f":"'Cover Sheet'!$C$26","v":"00:00:00"},1,{"$f":"OFFSET(ANST05!$A$10,H9,4)","v":0},null,9]
["NST05A","03",{"$f":"'Cover Sheet'!$C$17","v":0},{"$f":"'Cover Sheet'!$C$26","v":"00:00:00"},1,{"$f":"OFFSET(ANST05!$A$10,H10,4)","v":0},null,11]
["NST05A","04",{"$f":"'Cover Sheet'!$C$17","v":0},{"$f":"'Cover Sheet'!$C$26","v":"00:00:00"},1,{"$f":"OFFSET(ANST05!$A$10,H11,4)","v":0},null,13]
["NST05A","05",{"$f":"'Cover Sheet'!$C$17","v":0},{"$f":"'Cover Sheet'!$C$26","v":"00:00:00"},1,{"$f":"OFFSET(ANST05!$A$10,H12,4)","v":0},null,15]
["NST05A","06",{"$f":"'Cover Sheet'!$C$17","v":0},{"$f":"'Cover Sheet'!$C$26","v":"00:00:00"},1,{"$f":"OFFSET(ANST05!$A$10,H13,4)","v":0},null,17]
["NST05A","07a",{"$f":"'Cover Sheet'!$C$17","v":0},{"$f":"'Cover Sheet'!$C$26","v":"00:00:00"},1,{"$f":"OFFSET(ANST05!$A$10,H14,4)","v":0},null,19]
["NST05A","07b",{"$f":"'Cover Sheet'!$C$17","v":0},{"$f":"'Cover Sheet'!$C$26","v":"00:00:00"},1,{"$f":"OFFSET(ANST05!$A$10,H15,4)","v":0},null,20]
["NST05A","07c",{"$f":"'Cover Sheet'!$C$17","v":0},{"$f":"'Cover Sheet'!$C$26","v":"00:00:00"},1,{"$f":"OFFSET(ANST05!$A$10,H16,4)","v":0},null,21]
["NST05A","08a",{"$f":"'Cover Sheet'!$C$17","v":0},{"$f":"'Cover Sheet'!$C$26","v":"00:00:00"},1,{"$f":"OFFSET(ANST05!$A$10,H17,4)","v":0},null,23]
["NST05A","08b",{"$f":"'Cover Sheet'!$C$17","v":0},{"$f":"'Cover Sheet'!$C$26","v":"00:00:00"},1,{"$f":"OFFSET(ANST05!$A$10,H18,4)","v":0},null,24]
["NST05A","08c",{"$f":"'Cover Sheet'!$C$17","v":0},{"$f":"'Cover Sheet'!$C$26","v":"00:00:00"},1,{"$f":"OFFSET(ANST05!$A$10,H19,4)","v":0},null,25]
["NST05A","08d",{"$f":"'Cover Sheet'!$C$17","v":0},{"$f":"'Cover Sheet'!$C$26","v":"00:00:00"},1,{"$f":"OFFSET(ANST05!$A$10,H20,4)","v":0},null,26]
["NST05A","08e",{"$f":"'Cover Sheet'!$C$17","v":0},{"$f":"'Cover Sheet'!$C$26","v":"00:00:00"},1,{"$f":"OFFSET(ANST05!$A$10,H21,4)","v":0},null,27]
["NST05A","08f",{"$f":"'Cover Sheet'!$C$17","v":0},{"$f":"'Cover Sheet'!$C$26","v":"00:00:00"},1,{"$f":"OFFSET(ANST05!$A$10,H22,4)","v":0},null,28]
["NST05A","08g",{"$f":"'Cover Sheet'!$C$17","v":0},{"$f":"'Cover Sheet'!$C$26","v":"00:00:00"},1,{"$f":"OFFSET(ANST05!$A$10,H23,4)","v":0},null,29]
["NST05A","08h",{"$f":"'Cover Sheet'!$C$17","v":0},{"$f":"'Cover Sheet'!$C$26","v":"00:00:00"},1,{"$f":"OFFSET(ANST05!$A$10,H24,4)","v":0},null,30]
["NST05A","08i",{"$f":"'Cover Sheet'!$C$17","v":0},{"$f":"'Cover Sheet'!$C$26","v":"00:00:00"},1,{"$f":"OFFSET(ANST05!$A$10,H25,4)","v":0},null,31]
["NST05A","09",{"$f":"'Cover Sheet'!$C$17","v":0},{"$f":"'Cover Sheet'!$C$26","v":"00:00:00"},1,{"$f":"OFFSET(ANST05!$A$10,H26,4)","v":0},null,33]
["NST05A",10,{"$f":"'Cover Sheet'!$C$17","v":0},{"$f":"'Cover Sheet'!$C$26","v":"00:00:00"},1,{"$f":"OFFSET(ANST05!$A$10,H27,4)","v":0},null,35]
["NST05A","11a",{"$f":"'Cover Sheet'!$C$17","v":0},{"$f":"'Cover Sheet'!$C$26","v":"00:00:00"},1,{"$f":"OFFSET(ANST05!$A$10,H28,4)","v":0},null,37]
["NST05A","11b",{"$f":"'Cover Sheet'!$C$17","v":0},{"$f":"'Cover Sheet'!$C$26","v":"00:00:00"},1,{"$f":"OFFSET(ANST05!$A$10,H29,4)","v":0},null,38]
["NST05A","11c",{"$f":"'Cover Sheet'!$C$17","v":0},{"$f":"'Cover Sheet'!$C$26","v":"00:00:00"},1,{"$f":"OFFSET(ANST05!$A$10,H30,4)","v":0},null,39]
["NST05A","11d",{"$f":"'Cover Sheet'!$C$17","v":0},{"$f":"'Cover Sheet'!$C$26","v":"00:00:00"},1,{"$f":"OFFSET(ANST05!$A$10,H31,4)","v":0},null,40]
["NST05A","11e",{"$f":"'Cover Sheet'!$C$17","v":0},{"$f":"'Cover Sheet'!$C$26","v":"00:00:00"},1,{"$f":"OFFSET(ANST05!$A$10,H32,4)","v":0},null,41]
["NST05A","11f",{"$f":"'Cover Sheet'!$C$17","v":0},{"$f":"'Cover Sheet'!$C$26","v":"00:00:00"},1,{"$f":"OFFSET(ANST05!$A$10,H33,4)","v":0},null,42]
["NST05A","11g",{"$f":"'Cover Sheet'!$C$17","v":0},{"$f":"'Cover Sheet'!$C$26","v":"00:00:00"},1,{"$f":"OFFSET(ANST05!$A$10,H34,4)","v":0},null,43]
["NST05A","11h",{"$f":"'Cover Sheet'!$C$17","v":0},{"$f":"'Cover Sheet'!$C$26","v":"00:00:00"},1,{"$f":"OFFSET(ANST05!$A$10,H35,4)","v":0},null,44]
["NST05A",12,{"$f":"'Cover Sheet'!$C$17","v":0},{"$f":"'Cover Sheet'!$C$26","v":"00:00:00"},1,{"$f":"OFFSET(ANST05!$A$10,H36,4)","v":0},null,46]
["NST05A",13,{"$f":"'Cover Sheet'!$C$17","v":0},{"$f":"'Cover Sheet'!$C$26","v":"00:00:00"},1,{"$f":"OFFSET(ANST05!$A$10,H37,4)","v":0},null,48]

{"sheet":"ANST05EUR","index":12,"n_rows":60,"n_cols":3,"rows_kept":60,"cut":false,"hidden":true,"merged":[[1,0,1,1]]}
[]
["FRE/D General Business Technical Account Input Worksheet"]
[]
["Technical Account","Amount"]
["Currency","€"]
["Gross premiums written",{"$f":"IF('Cover Sheet'!$C$29=\"\",0,ANST05!E11/'Cover Sheet'!$C$29)","v":0},1]
["Outward reinsurance premiums (Total)",{"$f":"IF('Cover Sheet'!$C$29=\"\",0,ANST05!E12/'Cover Sheet'!$C$29)","v":0},2]
["Outward reinsurance premiums (Proportional)",{"$f":"IF('Cover Sheet'!$C$29=\"\",0,ANST05!E13/'Cover Sheet'!$C$29)","v":0},3]
["Outward reinsurance premiums (Non-proportional)",{"$f":"IF('Cover Sheet'!$C$29=\"\",0,ANST05!E14/'Cover Sheet'!$C$29)","v":0},4]
["Net premium written",{"$f":"B6+B7","v":0},5]
[null,null,6]
["Change in the gross provision for unearned premiums",{"$f":"IF('Cover Sheet'!$C$29=\"\",0,ANST05!E17/'Cover Sheet'!$C$29)","v":0},7]
["Change in the provision for unearned premiums reinsurance",{"$f":"IF('Cover Sheet'!$C$29=\"\",0,ANST05!E18/'Cover Sheet'!$C$29)","v":0},8]
["Change in net provision for unearned premium",{"$f":"IF('Cover Sheet'!$C$29=\"\",0,ANST05!E19/'Cover Sheet'!$C$29)","v":0},9]
[null,null,10]
["Earned premiums, net of reinsurance",{"$f":"SUM(B10+B14)","v":0},11]
[null,null,12]
["Earned premiums, gross of reinsurance",{"$f":"SUM(B6,B12)","v":0},13]
[null,null,14]
["Allocated investment return",{"$f":"IF('Cover Sheet'!$C$29=\"\",0,ANST05!E25/'Cover Sheet'!$C$29)","v":0},15]
[null,null,16]
["Total technical income",{"$f":"SUM(B16,B20)","v":0},17]
[null,null,18]
["Gross claims paid including losses / claims payable",{"$f":"IF('Cover Sheet'!$C$29=\"\",0,ANST05!E29/'Cover Sheet'!$C$29)","v":0},19]
["Reinsurers' share of claims paid",{"$f":"IF('Cover Sheet'!$C$29=\"\",0,ANST05!E30/'Cover Sheet'!$C$29)","v":0},20]
["Net claims paid",{"$f":"SUM(B24:B25)","v":0},21]
[null,null,22]
["Change in gross claims outstanding reserves",{"$f":"IF('Cover Sheet'!$C$29=\"\",0,ANST05!E33/'Cover Sheet'!$C$29)","v":0},23]
["Change in gross IBNR provision",{"$f":"IF('Cover Sheet'!$C$29=\"\",0,ANST05!E34/'Cover Sheet'!$C$29)","v":0},24]
["Change in gross IBNER provision",{"$f":"IF('Cover Sheet'!$C$29=\"\",0,ANST05!E35/'Cover Sheet'!$C$29)","v":0},25]
["Change in other gross reserve",{"$f":"IF('Cover Sheet'!$C$29=\"\",0,ANST05!E36/'Cover Sheet'!$C$29)","v":0},26]
["Change in gross claims outstanding reserves, reinsurers share",{"$f":"IF('Cover Sheet'!$C$29=\"\",0,ANST05!E37/'Cover Sheet'!$C$29)","v":0},27]
["Change in the provision of IBNR, reinsurers share",{"$f":"IF('Cover Sheet'!$C$29=\"\",0,ANST05!E38/'Cover Sheet'!$C$29)","v":0},28]
["Change in the provision of IBNER, reinsurers share",{"$f":"IF('Cover Sheet'!$C$29=\"\",0,ANST05!E39/'Cover Sheet'!$C$29)","v":0},29]
["Change in other reserves, reinsurers share",{"$f":"IF('Cover Sheet'!$C$29=\"\",0,ANST05!E40/'Cover Sheet'!$C$29)","v":0},30]
["Change in net provision for claims, IBNR and other reserves",{"$f":"SUM(B28:B35)","v":0},31]
[null,null,32]
["Claims incurred, net of reinsurance",{"$f":"SUM(B26,B36)","v":0},33]
[null,null,34]
["Claims incurred, gross of reinsurance",{"$f":"SUM(B24,B28,B29,B30,B31)","v":0},35]
[null,null,36]
["Commission paid",{"$f":"IF('Cover Sheet'!$C$29=\"\",0,ANST05!E47/'Cover Sheet'!$C$29)","v":0},37]
["Change in the provision for DAC",{"$f":"IF('Cover Sheet'!$C$29=\"\",0,ANST05!E48/'Cover Sheet'!$C$29)","v":0},38]
["Claims management costs",{"$f":"IF('Cover Sheet'!$C$29=\"\",0,ANST05!E49/'Cover Sheet'!$C$29)","v":0},39]
["MIB levy (Motor)",{"$f":"IF('Cover Sheet'!$C$29=\"\",0,ANST05!E50/'Cover Sheet'!$C$29)","v":0},40]
["Reinsurance commissions and profit participation",{"$f":"IF('Cover Sheet'!$C$29=\"\",0,ANST05!E51/'Cover Sheet'!$C$29)","v":0},41]
["Commissions received other than those included in row above",{"$f":"IF('Cover Sheet'!$C$29=\"\",0,ANST05!E52/'Cover Sheet'!$C$29)","v":0},42]
["Other expenses",{"$f":"IF('Cover Sheet'!$C$29=\"\",0,ANST05!E53/'Cover Sheet'!$C$29)","v":0},43]
["Net operating expenses",{"$f":"SUM(B42:B48)","v":0},44]
[null,null,45]
["Total technical charges",{"$f":"SUM(B38,B49)","v":0},46]
[null,null,47]
["Technical result",{"$f":"B22-B51","v":0},48]
[null,null,49]
[null,null,50]
["Loss ratio, net of reinsurance",{"$f":"B38/B16","v":{"$error":"#DIV/0!"}},51]
["Loss ratio, gross of reinsurance",{"$f":"B40/B18","v":{"$error":"#DIV/0!"}},52]
["Combined ratio, net of reinsurance",{"$f":"B51/B16","v":{"$error":"#DIV/0!"}},53]
["Combined ratio, gross of reinsurance",{"$f":"(B49+B40)/B18","v":{"$error":"#DIV/0!"}},54]
["Expense ratio (ratio of Net operating expenses to Gross Premiums written)",{"$f":"B49/B6","v":{"$error":"#DIV/0!"}},55]

{"sheet":"NST05AEUR","index":13,"n_rows":42,"n_cols":8,"rows_kept":42,"cut":false,"hidden":true,"merged":[]}
["SheetCode","FieldCode","FICode","Date","ColNum","Value",null,"Line"]
["NST05AEUR","01a",{"$f":"'Cover Sheet'!$C$17","v":0},{"$f":"'Cover Sheet'!$C$26","v":"00:00:00"},1,{"$f":"OFFSET(ANST05EUR!$A$5,H2,1)","v":0},null,1]
["NST05AEUR","01b",{"$f":"'Cover Sheet'!$C$17","v":0},{"$f":"'Cover Sheet'!$C$26","v":"00:00:00"},1,{"$f":"OFFSET(ANST05EUR!$A$5,H3,1)","v":0},null,2]
["NST05AEUR","01c",{"$f":"'Cover Sheet'!$C$17","v":0},{"$f":"'Cover Sheet'!$C$26","v":"00:00:00"},1,{"$f":"OFFSET(ANST05EUR!$A$5,H4,1)","v":0},null,3]
["NST05AEUR","01d",{"$f":"'Cover Sheet'!$C$17","v":0},{"$f":"'Cover Sheet'!$C$26","v":"00:00:00"},1,{"$f":"OFFSET(ANST05EUR!$A$5,H5,1)","v":0},null,4]
["NST05AEUR","01e",{"$f":"'Cover Sheet'!$C$17","v":0},{"$f":"'Cover Sheet'!$C$26","v":"00:00:00"},1,{"$f":"OFFSET(ANST05EUR!$A$5,H6,1)","v":0},null,5]
["NST05AEUR","02a",{"$f":"'Cover Sheet'!$C$17","v":0},{"$f":"'Cover Sheet'!$C$26","v":"00:00:00"},1,{"$f":"OFFSET(ANST05EUR!$A$5,H7,1)","v":0},null,7]
["NST05AEUR","02b",{"$f":"'Cover Sheet'!$C$17","v":0},{"$f":"'Cover Sheet'!$C$26","v":"00:00:00"},1,{"$f":"OFFSET(ANST05EUR!$A$5,H8,1)","v":0},null,8]
["NST05AEUR","02c",{"$f":"'Cover Sheet'!$C$17","v":0},{"$f":"'Cover Sheet'!$C$26","v":"00:00:00"},1,{"$f":"OFFSET(ANST05EUR!$A$5,H9,1)","v":0},null,9]
["NST05AEUR",{"$f":"\"03\"","v":"03"},{"$f":"'Cover Sheet'!$C$17","v":0},{"$f":"'Cover Sheet'!$C$26","v":"00:00:00"},1,{"$f":"OFFSET(ANST05EUR!$A$5,H10,1)","v":0},null,11]
["NST05AEUR",{"$f":"\"04\"","v":"04"},{"$f":"'Cover Sheet'!$C$17","v":0},{"$f":"'Cover Sheet'!$C$26","v":"00:00:00"},1,{"$f":"OFFSET(ANST05EUR!$A$5,H11,1)","v":0},null,13]
["NST05AEUR","05a",{"$f":"'Cover Sheet'!$C$17","v":0},{"$f":"'Cover Sheet'!$C$26","v":"00:00:00"},1,{"$f":"OFFSET(ANST05EUR!$A$5,H12,1)","v":0},null,15]
["NST05AEUR","05b",{"$f":"'Cover Sheet'!$C$17","v":0},{"$f":"'Cover Sheet'!$C$26","v":"00:00:00"},1,{"$f":"OFFSET(ANST05EUR!$A$5,H13,1)","v":0},null,17]
["NST05AEUR","06a",{"$f":"'Cover Sheet'!$C$17","v":0},{"$f":"'Cover Sheet'!$C$26","v":"00:00:00"},1,{"$f":"OFFSET(ANST05EUR!$A$5,H14,1)","v":0},null,19]
["NST05AEUR","06b",{"$f":"'Cover Sheet'!$C$17","v":0},{"$f":"'Cover Sheet'!$C$26","v":"00:00:00"},1,{"$f":"OFFSET(ANST05EUR!$A$5,H15,1)","v":0},null,20]
["NST05AEUR","06c",{"$f":"'Cover Sheet'!$C$17","v":0},{"$f":"'Cover Sheet'!$C$26","v":"00:00:00"},1,{"$f":"OFFSET(ANST05EUR!$A$5,H16,1)","v":0},null,21]
["NST05AEUR","07a",{"$f":"'Cover Sheet'!$C$17","v":0},{"$f":"'Cover Sheet'!$C$26","v":"00:00:00"},1,{"$f":"OFFSET(ANST05EUR!$A$5,H17,1)","v":0},null,23]
["NST05AEUR","07b",{"$f":"'Cover Sheet'!$C$17","v":0},{"$f":"'Cover Sheet'!$C$26","v":"00:00:00"},1,{"$f":"OFFSET(ANST05EUR!$A$5,H18,1)","v":0},null,24]
["NST05AEUR","07c",{"$f":"'Cover Sheet'!$C$17","v":0},{"$f":"'Cover Sheet'!$C$26","v":"00:00:00"},1,{"$f":"OFFSET(ANST05EUR!$A$5,H19,1)","v":0},null,25]
["NST05AEUR","07d",{"$f":"'Cover Sheet'!$C$17","v":0},{"$f":"'Cover Sheet'!$C$26","v":"00:00:00"},1,{"$f":"OFFSET(ANST05EUR!$A$5,H20,1)","v":0},null,26]
["NST05AEUR","07e",{"$f":"'Cover Sheet'!$C$17","v":0},{"$f":"'Cover Sheet'!$C$26","v":"00:00:00"},1,{"$f":"OFFSET(ANST05EUR!$A$5,H21,1)","v":0},null,27]
["NST05AEUR","07f",{"$f":"'Cover Sheet'!$C$17","v":0},{"$f":"'Cover Sheet'!$C$26","v":"00:00:00"},1,{"$f":"OFFSET(ANST05EUR!$A$5,H22,1)","v":0},null,28]
["NST05AEUR","07g",{"$f":"'Cover Sheet'!$C$17","v":0},{"$f":"'Cover Sheet'!$C$26","v":"00:00:00"},1,{"$f":"OFFSET(ANST05EUR!$A$5,H23,1)","v":0},null,29]
["NST05AEUR","07h",{"$f":"'Cover Sheet'!$C$17","v":0},{"$f":"'Cover Sheet'!$C$26","v":"00:00:00"},1,{"$f":"OFFSET(ANST05EUR!$A$5,H24,1)","v":0},null,30]
["NST05AEUR","07i",{"$f":"'Cover Sheet'!$C$17","v":0},{"$f":"'Cover Sheet'!$C$26","v":"00:00:00"},1,{"$f":"OFFSET(ANST05EUR!$A$5,H25,1)","v":0},null,31]
["NST05AEUR",{"$f":"\"08\"","v":"08"},{"$f":"'Cover Sheet'!$C$17","v":0},{"$f":"'Cover Sheet'!$C$26","v":"00:00:00"},1,{"$f":"OFFSET(ANST05EUR!$A$5,H26,1)","v":0},null,33]
["NST05AEUR",{"$f":"\"09\"","v":"09"},{"$f":"'Cover Sheet'!$C$17","v":0},{"$f":"'Cover Sheet'!$C$26","v":"00:00:00"},1,{"$f":"OFFSET(ANST05EUR!$A$5,H27,1)","v":0},null,35]
["NST05AEUR","10a",{"$f":"'Cover Sheet'!$C$17","v":0},{"$f":"'Cover Sheet'!$C$26","v":"00:00:00"},1,{"$f":"OFFSET(ANST05EUR!$A$5,H28,1)","v":0},null,37]
["NST05AEUR","10b",{"$f":"'Cover Sheet'!$C$17","v":0},{"$f":"'Cover Sheet'!$C$26","v":"00:00:00"},1,{"$f":"OFFSET(ANST05EUR!$A$5,H29,1)","v":0},null,38]
["NST05AEUR","10c",{"$f":"'Cover Sheet'!$C$17","v":0},{"$f":"'Cover Sheet'!$C$26","v":"00:00:00"},1,{"$f":"OFFSET(ANST05EUR!$A$5,H30,1)","v":0},null,39]
["NST05AEUR","10d",{"$f":"'Cover Sheet'!$C$17","v":0},{"$f":"'Cover Sheet'!$C$26","v":"00:00:00"},1,{"$f":"OFFSET(ANST05EUR!$A$5,H31,1)","v":0},null,40]
["NST05AEUR","10e",{"$f":"'Cover Sheet'!$C$17","v":0},{"$f":"'Cover Sheet'!$C$26","v":"00:00:00"},1,{"$f":"OFFSET(ANST05EUR!$A$5,H32,1)","v":0},null,41]
["NST05AEUR","10f",{"$f":"'Cover Sheet'!$C$17","v":0},{"$f":"'Cover Sheet'!$C$26","v":"00:00:00"},1,{"$f":"OFFSET(ANST05EUR!$A$5,H33,1)","v":0},null,42]
["NST05AEUR","10g",{"$f":"'Cover Sheet'!$C$17","v":0},{"$f":"'Cover Sheet'!$C$26","v":"00:00:00"},1,{"$f":"OFFSET(ANST05EUR!$A$5,H34,1)","v":0},null,43]
["NST05AEUR","10h",{"$f":"'Cover Sheet'!$C$17","v":0},{"$f":"'Cover Sheet'!$C$26","v":"00:00:00"},1,{"$f":"OFFSET(ANST05EUR!$A$5,H35,1)","v":0},null,44]
["NST05AEUR",11,{"$f":"'Cover Sheet'!$C$17","v":0},{"$f":"'Cover Sheet'!$C$26","v":"00:00:00"},1,{"$f":"OFFSET(ANST05EUR!$A$5,H36,1)","v":0},null,46]
["NST05AEUR",12,{"$f":"'Cover Sheet'!$C$17","v":0},{"$f":"'Cover Sheet'!$C$26","v":"00:00:00"},1,{"$f":"OFFSET(ANST05EUR!$A$5,H37,1)","v":0},null,48]
["NST05AEUR",13,{"$f":"'Cover Sheet'!$C$17","v":0},{"$f":"'Cover Sheet'!$C$26","v":"00:00:00"},1,{"$f":"OFFSET(ANST05EUR!$A$5,H38,1)","v":{"$error":"#DIV/0!"}},null,51]
["NST05AEUR",14,{"$f":"'Cover Sheet'!$C$17","v":0},{"$f":"'Cover Sheet'!$C$26","v":"00:00:00"},1,{"$f":"OFFSET(ANST05EUR!$A$5,H39,1)","v":{"$error":"#DIV/0!"}},null,52]
["NST05AEUR",15,{"$f":"'Cover Sheet'!$C$17","v":0},{"$f":"'Cover Sheet'!$C$26","v":"00:00:00"},1,{"$f":"OFFSET(ANST05EUR!$A$5,H40,1)","v":{"$error":"#DIV/0!"}},null,53]
["NST05AEUR",16,{"$f":"'Cover Sheet'!$C$17","v":0},{"$f":"'Cover Sheet'!$C$26","v":"00:00:00"},1,{"$f":"OFFSET(ANST05EUR!$A$5,H41,1)","v":{"$error":"#DIV/0!"}},null,54]
["NST05AEUR",17,{"$f":"'Cover Sheet'!$C$17","v":0},{"$f":"'Cover Sheet'!$C$26","v":"00:00:00"},1,{"$f":"OFFSET(ANST05EUR!$A$5,H42,1)","v":{"$error":"#DIV/0!"}},null,55]

{"sheet":"ANST06","index":14,"n_rows":62,"n_cols":8,"rows_kept":62,"cut":false,"hidden":false,"merged":[[61,1,61,4],[49,1,49,3],[50,1,50,3],[51,1,51,3],[52,1,52,3],[53,0,53,4],[54,1,54,3],[55,0,55,4],[56,1,56,3],[57,0,57,4],[59,1,59,4],[60,1,60,4],[48,1,48,3],[37,1,37,3],[38,1,38,3],[39,1,39,3],[40,1,40,3],[41,0,41,4],[42,1,42,3],[43,0,43,4],[44,1,44,3],[45,0,45,4],[46,1,46,3],[47,1,47,3],[36,1,36,3],[24,1,24,3],[25,0,25,4],[26,1,26,3],[27,0,27,4],[28,1,28,3],[29,1,29,3],[30,1,30,3],[31,0,31,4],[32,1,32,3],[33,1,33,3],[35,1,35,3],[23,0,23,4],[11,1,11,3],[12,1,12,3],[13,1,13,3],[14,1,14,3],[15,0,15,4],[16,1,16,3],[18,1,18,3],[19,0,19,4],[20,1,20,3],[21,0,21,4],[22,1,22,3],[10,1,10,3],[0,2,0,4],[1,2,1,4],[3,2,3,4],[4,2,4,4],[6,0,6,4]]}
["Name of licenceholder:",null,{"$f":"IF('Cover Sheet'!C15=\"\",\"\",'Cover Sheet'!C15)","v":""}]
["Type of business carried out:",null,{"$f":"IF('Cover Sheet'!C22=\"\",\"\",'Cover Sheet'!$C$22)","v":""}]
["Period from:",null,{"$f":"IF('Cover Sheet'!C25=\"\",\"\",'Cover Sheet'!C25)","v":""},"to",{"$f":"IF('Cover Sheet'!C26=\"\",\"\",'Cover Sheet'!C26)","v":""}]
["Document type:",null,"MFSA National Specific Templates"]
["Sheet Code:",null,"ANST06"]
[]
["Technical Account - Life Business "]
[]
[null,null,null,null,"Amount",null,"Validation "]
[null,"Currency",null,null,{"$f":"IF('Cover Sheet'!C28=\"\",\"\",'Cover Sheet'!C28)","v":""}]
[1.1000000000000001,"Gross premiums written",null,null,null,null,{"$f":"IF(E11=\"\",0,1)","v":0},1]
[1.2,"Outward reinsurance premiums (Total)",null,null,{"$f":"SUM(E13:E14)","v":0},null,null,2]
[1.3,"Outward reinsurance premiums (Proportional)",null,null,null,null,null,3]
[1.4,"Outward reinsurance premiums (Non-proportional)",null,null,null,null,null,4]
[1,"Net premium written",null,null,{"$f":"SUM(E11:E12)","v":0},null,null,5]
[null,null,null,null,null,null,null,6]
[2.1,"Change in the gross provision for unearned premiums",null,null,null,null,{"$f":"IF(E17=\"\",0,1)","v":0},7]
[2.2000000000000002,"Change in the provision for unearned premiums, reinsurers share (Total)",null,null,null,null,null,8]
[2,"Change in net provision for unearned premium",null,null,{"$f":"E17+E18","v":0},null,null,9]
[null,null,null,null,null,null,null,10]
[3,"Earned premiums, net of reinsurance",null,null,{"$f":"E15+E19","v":0},null,null,11]
[null,null,null,null,null,null,null,12]
[4,"Earned premiums, gross of reinsurance",null,null,{"$f":"E11+E17","v":0},null,null,13]
[null,null,null,null,null,null,null,14]
[5,"Allocated investment return",null,null,null,null,{"$f":"IF(E25=\"\",0,1)","v":0},15]
[null,null,null,null,null,null,null,16]
[6,"Total technical income",null,null,{"$f":"E21+E25","v":0},null,null,17]
[null,null,null,null,null,null,null,18]
[7.1,"Gross claims paid",null,null,null,null,{"$f":"IF(E29=\"\",0,1)","v":0},19]
[7.2,"Reinsurers share of claims paid",null,null,null,null,{"$f":"IF(E30=\"\",0,1)","v":0},20]
[7,"Net claims paid",null,null,{"$f":"SUM(E29:E30)","v":0},null,null,21]
[null,null,null,null,null,null,null,22]
[8.1,"Change in gross life technical provisions",null,null,null,null,{"$f":"IF(E33=\"\",0,1)","v":0},23]
[8.1999999999999993,"Change in gross claims outstanding reserves",null,null,null,null,{"$f":"IF(E34=\"\",0,1)","v":0},24]
[8.3000000000000007,"Change in gross IBNR provision",null,null,null,null,{"$f":"IF(E35=\"\",0,1)","v":0},25]
[8.4,"Change in other gross reserve",null,null,null,null,{"$f":"IF(E36=\"\",0,1)","v":0},26]
[8.5,"Change in the life technical provisions, reinsurers share",null,null,null,null,0,27]
[8.6,"Change in claims outstanding reserves, reinsurers share",null,null,null,null,0,28]
[8.6999999999999993,"Change in the provision of IBNR, reinsurers share",null,null,null,null,0,29]
[8.8000000000000007,"Change in other reserves, reinsurers share",null,null,null,null,0,30]
[8,"Change in net provision for claims and other reserves",null,null,{"$f":"SUM(E33:E40)","v":0},null,null,31]
[null,null,null,null,null,null,null,32]
[9,"Claims incurred, net of reinsurance",null,null,{"$f":"E31+E41","v":0},null,null,33]
[null,null,null,null,null,null,null,34]
[10,"Claims incurred, gross of reinsurance",null,null,{"$f":"E29+E33+E34+E35+E36","v":0},null,null,35]
[null,null,null,null,null,null,null,36]
[11.1,"Commission paid",null,null,null,null,null,37]
[11.2,"Change in the provision for DAC",null,null,null,null,null,38]
[11.3,"Claims management costs",null,null,null,null,{"$f":"IF(E49=\"\",0,1)","v":0},39]
[11.4,"Reinsurance commissions and profit participation",null,null,null,null,null,40]
[11.5,"Commissions received other than those included in 11.40 above",null,null,null,null,null,41]
[11.6,"Other expenses",null,null,null,null,null,42]
[11,"Net operating expenses",null,null,{"$f":"SUM(E47:E52)","v":0},null,null,43]
[null,null,null,null,null,null,null,44]
[12,"Total technical charges",null,null,{"$f":"E43+E53","v":0},null,null,45]
[null,null,null,null,null,null,null,46]
[13,"Technical result - Life Business",null,null,{"$f":"E27-E55","v":0},null,{"$f":"IF(OR('Cover Sheet'!C22=\"General Business\",E11=\"\",E17=\"\",E29=\"\",E33=\"\",E34=\"\",E35=\"\",E49=\"\"),0,1)","v":0},47]
[]
[null,"Notes"]
["i","Please key in a value for each cell in the table where there is a validation. Where the cell contains no value, a value of zero is to be keyed in."]
["ii","Kindly note that the Technical Result will not be displayed unless a value is keyed in for: [i] Gross Premiums Written; [ii] Change in the gross provision for unearned premiums; [iii] Gross claims paid; [iv] change in gross life technical provisions; [v] Change in gross provision for claims outstanding reserves; [vi] Change in gross IBNR; and [vi]claims management costs."]
["iii","Claims outstanding should exclude claims management costs. The latter should be disclosed separately in line 11.30."]

{"sheet":"NST06A","index":15,"n_rows":36,"n_cols":8,"rows_kept":36,"cut":false,"hidden":true,"merged":[]}
["SheetCode","FieldCode","FICode","Date","ColNum","Value",null,"Line"]
["NST06A","01a",{"$f":"'Cover Sheet'!$C$17","v":0},{"$f":"'Cover Sheet'!$C$26","v":"00:00:00"},1,{"$f":"OFFSET(ANST06!$A$10,H2,4)","v":0},null,1]
["NST06A","01b",{"$f":"'Cover Sheet'!$C$17","v":0},{"$f":"'Cover Sheet'!$C$26","v":"00:00:00"},1,{"$f":"OFFSET(ANST06!$A$10,H3,4)","v":0},null,2]
["NST06A","01c",{"$f":"'Cover Sheet'!$C$17","v":0},{"$f":"'Cover Sheet'!$C$26","v":"00:00:00"},1,{"$f":"OFFSET(ANST06!$A$10,H4,4)","v":0},null,3]
["NST06A","01d",{"$f":"'Cover Sheet'!$C$17","v":0},{"$f":"'Cover Sheet'!$C$26","v":"00:00:00"},1,{"$f":"OFFSET(ANST06!$A$10,H5,4)","v":0},null,4]
["NST06A","01e",{"$f":"'Cover Sheet'!$C$17","v":0},{"$f":"'Cover Sheet'!$C$26","v":"00:00:00"},1,{"$f":"OFFSET(ANST06!$A$10,H6,4)","v":0},null,5]
["NST06A","02a",{"$f":"'Cover Sheet'!$C$17","v":0},{"$f":"'Cover Sheet'!$C$26","v":"00:00:00"},1,{"$f":"OFFSET(ANST06!$A$10,H7,4)","v":0},null,7]
["NST06A","02b",{"$f":"'Cover Sheet'!$C$17","v":0},{"$f":"'Cover Sheet'!$C$26","v":"00:00:00"},1,{"$f":"OFFSET(ANST06!$A$10,H8,4)","v":0},null,8]
["NST06A","02c",{"$f":"'Cover Sheet'!$C$17","v":0},{"$f":"'Cover Sheet'!$C$26","v":"00:00:00"},1,{"$f":"OFFSET(ANST06!$A$10,H9,4)","v":0},null,9]
["NST06A","03",{"$f":"'Cover Sheet'!$C$17","v":0},{"$f":"'Cover Sheet'!$C$26","v":"00:00:00"},1,{"$f":"OFFSET(ANST06!$A$10,H10,4)","v":0},null,11]
["NST06A","04",{"$f":"'Cover Sheet'!$C$17","v":0},{"$f":"'Cover Sheet'!$C$26","v":"00:00:00"},1,{"$f":"OFFSET(ANST06!$A$10,H11,4)","v":0},null,13]
["NST06A","05",{"$f":"'Cover Sheet'!$C$17","v":0},{"$f":"'Cover Sheet'!$C$26","v":"00:00:00"},1,{"$f":"OFFSET(ANST06!$A$10,H12,4)","v":0},null,15]
["NST06A","06",{"$f":"'Cover Sheet'!$C$17","v":0},{"$f":"'Cover Sheet'!$C$26","v":"00:00:00"},1,{"$f":"OFFSET(ANST06!$A$10,H13,4)","v":0},null,17]
["NST06A","07a",{"$f":"'Cover Sheet'!$C$17","v":0},{"$f":"'Cover Sheet'!$C$26","v":"00:00:00"},1,{"$f":"OFFSET(ANST06!$A$10,H14,4)","v":0},null,19]
["NST06A","07b",{"$f":"'Cover Sheet'!$C$17","v":0},{"$f":"'Cover Sheet'!$C$26","v":"00:00:00"},1,{"$f":"OFFSET(ANST06!$A$10,H15,4)","v":0},null,20]
["NST06A","07c",{"$f":"'Cover Sheet'!$C$17","v":0},{"$f":"'Cover Sheet'!$C$26","v":"00:00:00"},1,{"$f":"OFFSET(ANST06!$A$10,H16,4)","v":0},null,21]
["NST06A","08a",{"$f":"'Cover Sheet'!$C$17","v":0},{"$f":"'Cover Sheet'!$C$26","v":"00:00:00"},1,{"$f":"OFFSET(ANST06!$A$10,H17,4)","v":0},null,23]
["NST06A","08b",{"$f":"'Cover Sheet'!$C$17","v":0},{"$f":"'Cover Sheet'!$C$26","v":"00:00:00"},1,{"$f":"OFFSET(ANST06!$A$10,H18,4)","v":0},null,24]
["NST06A","08c",{"$f":"'Cover Sheet'!$C$17","v":0},{"$f":"'Cover Sheet'!$C$26","v":"00:00:00"},1,{"$f":"OFFSET(ANST06!$A$10,H19,4)","v":0},null,25]
["NST06A","08d",{"$f":"'Cover Sheet'!$C$17","v":0},{"$f":"'Cover Sheet'!$C$26","v":"00:00:00"},1,{"$f":"OFFSET(ANST06!$A$10,H20,4)","v":0},null,26]
["NST06A","08e",{"$f":"'Cover Sheet'!$C$17","v":0},{"$f":"'Cover Sheet'!$C$26","v":"00:00:00"},1,{"$f":"OFFSET(ANST06!$A$10,H21,4)","v":0},null,27]
["NST06A","08f",{"$f":"'Cover Sheet'!$C$17","v":0},{"$f":"'Cover Sheet'!$C$26","v":"00:00:00"},1,{"$f":"OFFSET(ANST06!$A$10,H22,4)","v":0},null,28]
["NST06A","08g",{"$f":"'Cover Sheet'!$C$17","v":0},{"$f":"'Cover Sheet'!$C$26","v":"00:00:00"},1,{"$f":"OFFSET(ANST06!$A$10,H23,4)","v":0},null,29]
["NST06A","08h",{"$f":"'Cover Sheet'!$C$17","v":0},{"$f":"'Cover Sheet'!$C$26","v":"00:00:00"},1,{"$f":"OFFSET(ANST06!$A$10,H24,4)","v":0},null,30]
["NST06A","08i",{"$f":"'Cover Sheet'!$C$17","v":0},{"$f":"'Cover Sheet'!$C$26","v":"00:00:00"},1,{"$f":"OFFSET(ANST06!$A$10,H25,4)","v":0},null,31]
["NST06A","09",{"$f":"'Cover Sheet'!$C$17","v":0},{"$f":"'Cover Sheet'!$C$26","v":"00:00:00"},1,{"$f":"OFFSET(ANST06!$A$10,H26,4)","v":0},null,33]
["NST06A",10,{"$f":"'Cover Sheet'!$C$17","v":0},{"$f":"'Cover Sheet'!$C$26","v":"00:00:00"},1,{"$f":"OFFSET(ANST06!$A$10,H27,4)","v":0},null,35]
["NST06A","11a",{"$f":"'Cover Sheet'!$C$17","v":0},{"$f":"'Cover Sheet'!$C$26","v":"00:00:00"},1,{"$f":"OFFSET(ANST06!$A$10,H28,4)","v":0},null,37]
["NST06A","11b",{"$f":"'Cover Sheet'!$C$17","v":0},{"$f":"'Cover Sheet'!$C$26","v":"00:00:00"},1,{"$f":"OFFSET(ANST06!$A$10,H29,4)","v":0},null,38]
["NST06A","11c",{"$f":"'Cover Sheet'!$C$17","v":0},{"$f":"'Cover Sheet'!$C$26","v":"00:00:00"},1,{"$f":"OFFSET(ANST06!$A$10,H30,4)","v":0},null,39]
["NST06A","11d",{"$f":"'Cover Sheet'!$C$17","v":0},{"$f":"'Cover Sheet'!$C$26","v":"00:00:00"},1,{"$f":"OFFSET(ANST06!$A$10,H31,4)","v":0},null,40]
["NST06A","11e",{"$f":"'Cover Sheet'!$C$17","v":0},{"$f":"'Cover Sheet'!$C$26","v":"00:00:00"},1,{"$f":"OFFSET(ANST06!$A$10,H32,4)","v":0},null,41]
["NST06A","11f",{"$f":"'Cover Sheet'!$C$17","v":0},{"$f":"'Cover Sheet'!$C$26","v":"00:00:00"},1,{"$f":"OFFSET(ANST06!$A$10,H33,4)","v":0},null,42]
["NST06A","11g",{"$f":"'Cover Sheet'!$C$17","v":0},{"$f":"'Cover Sheet'!$C$26","v":"00:00:00"},1,{"$f":"OFFSET(ANST06!$A$10,H34,4)","v":0},null,43]
["NST06A",12,{"$f":"'Cover Sheet'!$C$17","v":0},{"$f":"'Cover Sheet'!$C$26","v":"00:00:00"},1,{"$f":"OFFSET(ANST06!$A$10,H35,4)","v":0},null,45]
["NST06A",13,{"$f":"'Cover Sheet'!$C$17","v":0},{"$f":"'Cover Sheet'!$C$26","v":"00:00:00"},1,{"$f":"OFFSET(ANST06!$A$10,H36,4)","v":0},null,47]

{"sheet":"ANST06EUR","index":16,"n_rows":52,"n_cols":3,"rows_kept":52,"cut":false,"hidden":true,"merged":[[1,0,1,1]]}
[]
["FRE/D Life Business - Technical Account Input Worksheet"]
[]
["Technical Account","Amount"]
["Currency","€"]
["Gross premiums written",{"$f":"IF('Cover Sheet'!$C$29=\"\",0,ANST06!E11/'Cover Sheet'!$C$29)","v":0},1]
["Outward reinsurance premiums (Total)",{"$f":"IF('Cover Sheet'!$C$29=\"\",0,ANST06!E12/'Cover Sheet'!$C$29)","v":0},2]
["   Outward reinsurance premiums (Proportional)",{"$f":"IF('Cover Sheet'!$C$29=\"\",0,ANST06!E13/'Cover Sheet'!$C$29)","v":0},3]
["   Outward reinsurance premiums (Non-Proportional)",{"$f":"IF('Cover Sheet'!$C$29=\"\",0,ANST06!E14/'Cover Sheet'!$C$29)","v":0},4]
["Net premium written",{"$f":"B6+B7","v":0},5]
[null,null,6]
["Change in the gross provision for unearned premiums",{"$f":"IF('Cover Sheet'!$C$29=\"\",0,ANST06!E17/'Cover Sheet'!$C$29)","v":0},7]
["Change in provision for unearned premium, reinsurers share (Total)",{"$f":"IF('Cover Sheet'!$C$29=\"\",0,ANST06!E18/'Cover Sheet'!$C$29)","v":0},8]
["Change in net provision for unearned premium",{"$f":"B13+B12","v":0},9]
[null,null,10]
["Earned premiums, net of reinsurance",{"$f":"B10+B14","v":0},11]
[null,null,12]
["Earned premiums, gross of reinsurance",{"$f":"SUM(B6,B12)","v":0},13]
[null,null,14]
["Allocated investment return",{"$f":"IF('Cover Sheet'!$C$29=\"\",0,ANST06!E25/'Cover Sheet'!$C$29)","v":0},15]
[null,null,16]
["Total technical income",{"$f":"SUM(B16,B20)","v":0},17]
[null,null,18]
["Gross claims paid",{"$f":"IF('Cover Sheet'!$C$29=\"\",0,ANST06!E29/'Cover Sheet'!$C$29)","v":0},19]
["Reinsurers' share of claims paid",{"$f":"IF('Cover Sheet'!$C$29=\"\",0,ANST06!E30/'Cover Sheet'!$C$29)","v":0},20]
["Net claims paid",{"$f":"SUM(B24:B25)","v":0},21]
[null,null,22]
["Change in gross life technical provisions",{"$f":"IF('Cover Sheet'!$C$29=\"\",0,ANST06!E33/'Cover Sheet'!$C$29)","v":0},23]
["Change in gross claims outstanding reserves",{"$f":"IF('Cover Sheet'!$C$29=\"\",0,ANST06!E34/'Cover Sheet'!$C$29)","v":0},24]
["Change in gross IBNR provision",{"$f":"IF('Cover Sheet'!$C$29=\"\",0,ANST06!E35/'Cover Sheet'!$C$29)","v":0},25]
["Change in other gross reserve",{"$f":"IF('Cover Sheet'!$C$29=\"\",0,ANST06!E36/'Cover Sheet'!$C$29)","v":0},26]
["Change in the life technical provisions, reinsurers share",{"$f":"IF('Cover Sheet'!$C$29=\"\",0,ANST06!E37/'Cover Sheet'!$C$29)","v":0},27]
["Change in gross claims outstanding reserves, reinsurers share",{"$f":"IF('Cover Sheet'!$C$29=\"\",0,ANST06!E38/'Cover Sheet'!$C$29)","v":0},28]
["Change in the provision of IBNR, reinsurers share",{"$f":"IF('Cover Sheet'!$C$29=\"\",0,ANST06!E39/'Cover Sheet'!$C$29)","v":0},29]
["Change in other reserves, reinsurers share",{"$f":"IF('Cover Sheet'!$C$29=\"\",0,ANST06!E40/'Cover Sheet'!$C$29)","v":0},30]
["Change in net provision for claims, equalisation and other reserves",{"$f":"SUM(B28:B35)","v":0},31]
[null,null,32]
["Claims incurred, net of reinsurance",{"$f":"SUM(B26,B36)","v":0},33]
[null,null,34]
["Claims incurred, gross of reinsurance",{"$f":"SUM(B24,B28,B29,B30,B31)","v":0},35]
[null,null,36]
["Commission paid",{"$f":"IF('Cover Sheet'!$C$29=\"\",0,ANST06!E47/'Cover Sheet'!$C$29)","v":0},37]
["Change in the provision for DAC",{"$f":"IF('Cover Sheet'!$C$29=\"\",0,ANST06!E48/'Cover Sheet'!$C$29)","v":0},38]
["Claims management costs",{"$f":"IF('Cover Sheet'!$C$29=\"\",0,ANST06!E49/'Cover Sheet'!$C$29)","v":0},39]
["Reinsurance commissions and profit participation",{"$f":"IF('Cover Sheet'!$C$29=\"\",0,ANST06!E50/'Cover Sheet'!$C$29)","v":0},40]
["Commissions received other than those included in row above",{"$f":"IF('Cover Sheet'!$C$29=\"\",0,ANST06!E51/'Cover Sheet'!$C$29)","v":0},41]
["Other expenses",{"$f":"IF('Cover Sheet'!$C$29=\"\",0,ANST06!E52/'Cover Sheet'!$C$29)","v":0},42]
["Net operating expenses",{"$f":"SUM(B42:B47)","v":0},43]
[null,null,44]
["Total technical charges",{"$f":"SUM(B38,B48)","v":0},45]
[null,null,46]
["Technical result",{"$f":"B22-B50","v":0},47]

{"sheet":"NST06AEUR","index":17,"n_rows":36,"n_cols":8,"rows_kept":36,"cut":false,"hidden":true,"merged":[]}
["SheetCode","FieldCode","FICode","Date","ColNum","Value",null,"Line"]
["NST06AEUR","01a",{"$f":"'Cover Sheet'!$C$17","v":0},{"$f":"'Cover Sheet'!$C$26","v":"00:00:00"},1,{"$f":"OFFSET(ANST06EUR!$A$5,H2,1)","v":0},null,1]
["NST06AEUR","01b",{"$f":"'Cover Sheet'!$C$17","v":0},{"$f":"'Cover Sheet'!$C$26","v":"00:00:00"},1,{"$f":"OFFSET(ANST06EUR!$A$5,H3,1)","v":0},null,2]
["NST06AEUR","01c",{"$f":"'Cover Sheet'!$C$17","v":0},{"$f":"'Cover Sheet'!$C$26","v":"00:00:00"},1,{"$f":"OFFSET(ANST06EUR!$A$5,H4,1)","v":0},null,3]
["NST06AEUR","01d",{"$f":"'Cover Sheet'!$C$17","v":0},{"$f":"'Cover Sheet'!$C$26","v":"00:00:00"},1,{"$f":"OFFSET(ANST06EUR!$A$5,H5,1)","v":0},null,4]
["NST06AEUR","01e",{"$f":"'Cover Sheet'!$C$17","v":0},{"$f":"'Cover Sheet'!$C$26","v":"00:00:00"},1,{"$f":"OFFSET(ANST06EUR!$A$5,H6,1)","v":0},null,5]
["NST06AEUR","02a",{"$f":"'Cover Sheet'!$C$17","v":0},{"$f":"'Cover Sheet'!$C$26","v":"00:00:00"},1,{"$f":"OFFSET(ANST06EUR!$A$5,H7,1)","v":0},null,7]
["NST06AEUR","02b",{"$f":"'Cover Sheet'!$C$17","v":0},{"$f":"'Cover Sheet'!$C$26","v":"00:00:00"},1,{"$f":"OFFSET(ANST06EUR!$A$5,H8,1)","v":0},null,8]
["NST06AEUR","02c",{"$f":"'Cover Sheet'!$C$17","v":0},{"$f":"'Cover Sheet'!$C$26","v":"00:00:00"},1,{"$f":"OFFSET(ANST06EUR!$A$5,H9,1)","v":0},null,9]
["NST06AEUR","02d",{"$f":"'Cover Sheet'!$C$17","v":0},{"$f":"'Cover Sheet'!$C$26","v":"00:00:00"},1,{"$f":"OFFSET(ANST06EUR!$A$5,H10,1)","v":0},null,11]
["NST06AEUR","03",{"$f":"'Cover Sheet'!$C$17","v":0},{"$f":"'Cover Sheet'!$C$26","v":"00:00:00"},1,{"$f":"OFFSET(ANST06EUR!$A$5,H11,1)","v":0},null,13]
["NST06AEUR","04a",{"$f":"'Cover Sheet'!$C$17","v":0},{"$f":"'Cover Sheet'!$C$26","v":"00:00:00"},1,{"$f":"OFFSET(ANST06EUR!$A$5,H12,1)","v":0},null,15]
["NST06AEUR","04b",{"$f":"'Cover Sheet'!$C$17","v":0},{"$f":"'Cover Sheet'!$C$26","v":"00:00:00"},1,{"$f":"OFFSET(ANST06EUR!$A$5,H13,1)","v":0},null,17]
["NST06AEUR","05a",{"$f":"'Cover Sheet'!$C$17","v":0},{"$f":"'Cover Sheet'!$C$26","v":"00:00:00"},1,{"$f":"OFFSET(ANST06EUR!$A$5,H14,1)","v":0},null,19]
["NST06AEUR","05b",{"$f":"'Cover Sheet'!$C$17","v":0},{"$f":"'Cover Sheet'!$C$26","v":"00:00:00"},1,{"$f":"OFFSET(ANST06EUR!$A$5,H15,1)","v":0},null,20]
["NST06AEUR","05c",{"$f":"'Cover Sheet'!$C$17","v":0},{"$f":"'Cover Sheet'!$C$26","v":"00:00:00"},1,{"$f":"OFFSET(ANST06EUR!$A$5,H16,1)","v":0},null,21]
["NST06AEUR","06a",{"$f":"'Cover Sheet'!$C$17","v":0},{"$f":"'Cover Sheet'!$C$26","v":"00:00:00"},1,{"$f":"OFFSET(ANST06EUR!$A$5,H17,1)","v":0},null,23]
["NST06AEUR","06b",{"$f":"'Cover Sheet'!$C$17","v":0},{"$f":"'Cover Sheet'!$C$26","v":"00:00:00"},1,{"$f":"OFFSET(ANST06EUR!$A$5,H18,1)","v":0},null,24]
["NST06AEUR","06c",{"$f":"'Cover Sheet'!$C$17","v":0},{"$f":"'Cover Sheet'!$C$26","v":"00:00:00"},1,{"$f":"OFFSET(ANST06EUR!$A$5,H19,1)","v":0},null,25]
["NST06AEUR","06d",{"$f":"'Cover Sheet'!$C$17","v":0},{"$f":"'Cover Sheet'!$C$26","v":"00:00:00"},1,{"$f":"OFFSET(ANST06EUR!$A$5,H20,1)","v":0},null,26]
["NST06AEUR","06e",{"$f":"'Cover Sheet'!$C$17","v":0},{"$f":"'Cover Sheet'!$C$26","v":"00:00:00"},1,{"$f":"OFFSET(ANST06EUR!$A$5,H21,1)","v":0},null,27]
["NST06AEUR","06f",{"$f":"'Cover Sheet'!$C$17","v":0},{"$f":"'Cover Sheet'!$C$26","v":"00:00:00"},1,{"$f":"OFFSET(ANST06EUR!$A$5,H22,1)","v":0},null,28]
["NST06AEUR","06g",{"$f":"'Cover Sheet'!$C$17","v":0},{"$f":"'Cover Sheet'!$C$26","v":"00:00:00"},1,{"$f":"OFFSET(ANST06EUR!$A$5,H23,1)","v":0},null,29]
["NST06AEUR","06h",{"$f":"'Cover Sheet'!$C$17","v":0},{"$f":"'Cover Sheet'!$C$26","v":"00:00:00"},1,{"$f":"OFFSET(ANST06EUR!$A$5,H24,1)","v":0},null,30]
["NST06AEUR","06i",{"$f":"'Cover Sheet'!$C$17","v":0},{"$f":"'Cover Sheet'!$C$26","v":"00:00:00"},1,{"$f":"OFFSET(ANST06EUR!$A$5,H25,1)","v":0},null,31]
["NST06AEUR","07",{"$f":"'Cover Sheet'!$C$17","v":0},{"$f":"'Cover Sheet'!$C$26","v":"00:00:00"},1,{"$f":"OFFSET(ANST06EUR!$A$5,H26,1)","v":0},null,33]
["NST06AEUR","08",{"$f":"'Cover Sheet'!$C$17","v":0},{"$f":"'Cover Sheet'!$C$26","v":"00:00:00"},1,{"$f":"OFFSET(ANST06EUR!$A$5,H27,1)","v":0},null,35]
["NST06AEUR","09a",{"$f":"'Cover Sheet'!$C$17","v":0},{"$f":"'Cover Sheet'!$C$26","v":"00:00:00"},1,{"$f":"OFFSET(ANST06EUR!$A$5,H28,1)","v":0},null,37]
["NST06AEUR","09b",{"$f":"'Cover Sheet'!$C$17","v":0},{"$f":"'Cover Sheet'!$C$26","v":"00:00:00"},1,{"$f":"OFFSET(ANST06EUR!$A$5,H29,1)","v":0},null,38]
["NST06AEUR","09c",{"$f":"'Cover Sheet'!$C$17","v":0},{"$f":"'Cover Sheet'!$C$26","v":"00:00:00"},1,{"$f":"OFFSET(ANST06EUR!$A$5,H30,1)","v":0},null,39]
["NST06AEUR","09d",{"$f":"'Cover Sheet'!$C$17","v":0},{"$f":"'Cover Sheet'!$C$26","v":"00:00:00"},1,{"$f":"OFFSET(ANST06EUR!$A$5,H31,1)","v":0},null,40]
["NST06AEUR","09e",{"$f":"'Cover Sheet'!$C$17","v":0},{"$f":"'Cover Sheet'!$C$26","v":"00:00:00"},1,{"$f":"OFFSET(ANST06EUR!$A$5,H32,1)","v":0},null,41]
["NST06AEUR","09f",{"$f":"'Cover Sheet'!$C$17","v":0},{"$f":"'Cover Sheet'!$C$26","v":"00:00:00"},1,{"$f":"OFFSET(ANST06EUR!$A$5,H33,1)","v":0},null,42]
["NST06AEUR","09g",{"$f":"'Cover Sheet'!$C$17","v":0},{"$f":"'Cover Sheet'!$C$26","v":"00:00:00"},1,{"$f":"OFFSET(ANST06EUR!$A$5,H34,1)","v":0},null,43]
["NST06AEUR",10,{"$f":"'Cover Sheet'!$C$17","v":0},{"$f":"'Cover Sheet'!$C$26","v":"00:00:00"},1,{"$f":"OFFSET(ANST06EUR!$A$5,H35,1)","v":0},null,45]
["NST06AEUR",11,{"$f":"'Cover Sheet'!$C$17","v":0},{"$f":"'Cover Sheet'!$C$26","v":"00:00:00"},1,{"$f":"OFFSET(ANST06EUR!$A$5,H36,1)","v":0},null,47]

{"sheet":"ANST07","index":18,"n_rows":27,"n_cols":8,"rows_kept":27,"cut":false,"hidden":false,"merged":[[15,1,15,3],[0,2,0,4],[1,2,1,4],[3,2,3,4],[4,2,4,4],[6,0,6,4],[9,1,9,3],[10,1,10,3],[11,1,11,3],[12,1,12,3],[13,1,13,3],[14,1,14,3],[22,1,22,3],[23,1,23,3],[26,1,26,4],[16,1,16,3],[17,1,17,3],[18,1,18,3],[19,1,19,3],[20,1,20,4],[21,1,21,3]]}
["Name of licenceholder:",null,{"$f":"IF('Cover Sheet'!C15=\"\",\"\",'Cover Sheet'!C15)","v":""}]
["Type of business carried out:",null,{"$f":"IF('Cover Sheet'!C22=\"\",\"\",'Cover Sheet'!$C$22)","v":""}]
["Period from:",null,{"$f":"IF('Cover Sheet'!C25=\"\",\"\",'Cover Sheet'!C25)","v":""},"to",{"$f":"IF('Cover Sheet'!C26=\"\",\"\",'Cover Sheet'!C26)","v":""}]
["Document type:",null,"MFSA National Specific Templates"]
["Sheet Code:",null,"ANST07"]
[]
["Non-Technical Account"]
[]
[null,null,null,null,"Amount",null,"Validation "]
[null,"Currency",null,null,{"$f":"IF('Cover Sheet'!C28=\"\",\"\",'Cover Sheet'!C28)","v":""}]
[1,"Technical result - General Businesss",null,null,{"$f":"ANST05!E58","v":0},null,null,1]
[null,null,null,null,null,null,null,2]
[{"$f":"A11+1","v":2},"Technical result - Life Business",null,null,{"$f":"ANST06!E57","v":0},null,null,3]
[null,null,null,null,null,null,null,4]
[{"$f":"A13+1","v":3},"Technical result - Total",null,null,{"$f":"IF('Cover Sheet'!C22=\"General Business\",ANST07!E11,IF('Cover Sheet'!C22=\"Long Term Business\",ANST07!E13,(ANST07!E11+ANST07!E13)))","v":0},null,null,5]
[null,null,null,null,null,null,null,6]
[{"$f":"A15+1","v":4},"Investment income/(costs)",null,null,null,null,{"$f":"IF(E17=\"\",0,1)","v":0},7]
[{"$f":"A17+1","v":5},"Other income",null,null,null,null,0,8]
[{"$f":"A18+1","v":6},"Movements in fair value of financial instruments",null,null,null,null,0,9]
[7,"Other expenditure",null,null,null,null,0,10]
[null,null,null,null,null,null,null,11]
[{"$f":"A20+1","v":8},"Profit before taxation",null,null,{"$f":"SUM(E15:E20)","v":0},null,null,12]
[{"$f":"A22+1","v":9},"Tax",null,null,null,null,{"$f":"IF(E23=\"\",0,1)","v":0},13]
[{"$f":"A23+1","v":10},"Profit after tax",null,null,{"$f":"E22+E23","v":0},null,null,14]
[]
[null,"Notes"]
["i","Please key in a value for each cell in the table. Where the cell contains no value, a value of zero is to be keyed in."]

{"sheet":"Matrix_Schema","index":19,"n_rows":1048572,"n_cols":16381,"rows_kept":1125,"cut":true,"hidden":true,"merged":[],"bounds":{"rows_first":500,"rows_last":125,"rows_between":500,"halvings":2}}
["CUBEiD","REPCUR","ENTITYID","GEOCOMM","GEORISK","INSTYP","REFERENCE_DATE","SOURBUS","TYPDEC","TYPINS","TYPPOLICY","AMOUNT","DEATH","DISCRATE","ENDATE","EXP","LAPS","MAT","NETOTHMOV","NEWBUS","RATIO","REINS","SURR"]
["CMANT_13000",{"$f":"+'Cover Sheet'!$C$28","v":0},"ENTITY_ID","--- na ---","--- na ---","--- na ---",{"$f":"TEXT('Cover Sheet'!$C$26, \"yyyymmdd\")","v":"19000100"},"--- na ---","--- na ---",13000,"--- na ---",{"$f":"ROUND(+ANST05!E11,4)","v":0},"--- na ---","--- na ---","--- na ---","--- na ---","--- na ---","--- na ---","--- na ---","--- na ---","--- na ---","--- na ---","--- na ---"]
["CMANT_13010",{"$f":"+'Cover Sheet'!$C$28","v":0},"ENTITY_ID","--- na ---","--- na ---","--- na ---",{"$f":"TEXT('Cover Sheet'!$C$26, \"yyyymmdd\")","v":"19000100"},"--- na ---","--- na ---",13010,"--- na ---",{"$f":"ROUND(+ANST05!E12,4)","v":0},"--- na ---","--- na ---","--- na ---","--- na ---","--- na ---","--- na ---","--- na ---","--- na ---","--- na ---","--- na ---","--- na ---"]
["CMANT_13020",{"$f":"+'Cover Sheet'!$C$28","v":0},"ENTITY_ID","--- na ---","--- na ---","--- na ---",{"$f":"TEXT('Cover Sheet'!$C$26, \"yyyymmdd\")","v":"19000100"},"--- na ---","--- na ---",13020,"--- na ---",{"$f":"ROUND(+ANST05!E13,4)","v":0},"--- na ---","--- na ---","--- na ---","--- na ---","--- na ---","--- na ---","--- na ---","--- na ---","--- na ---","--- na ---","--- na ---"]
["CMANT_13030",{"$f":"+'Cover Sheet'!$C$28","v":0},"ENTITY_ID","--- na ---","--- na ---","--- na ---",{"$f":"TEXT('Cover Sheet'!$C$26, \"yyyymmdd\")","v":"19000100"},"--- na ---","--- na ---",13030,"--- na ---",{"$f":"ROUND(+ANST05!E14,4)","v":0},"--- na ---","--- na ---","--- na ---","--- na ---","--- na ---","--- na ---","--- na ---","--- na ---","--- na ---","--- na ---","--- na ---"]
["CMANT_13040",{"$f":"+'Cover Sheet'!$C$28","v":0},"ENTITY_ID","--- na ---","--- na ---","--- na ---",{"$f":"TEXT('Cover Sheet'!$C$26, \"yyyymmdd\")","v":"19000100"},"--- na ---","--- na ---",13040,"--- na ---",{"$f":"ROUND(+ANST05!E15,4)","v":0},"--- na ---","--- na ---","--- na ---","--- na ---","--- na ---","--- na ---","--- na ---","--- na ---","--- na ---","--- na ---","--- na ---"]
["CMANT_13050",{"$f":"+'Cover Sheet'!$C$28","v":0},"ENTITY_ID","--- na ---","--- na ---","--- na ---",{"$f":"TEXT('Cover Sheet'!$C$26, \"yyyymmdd\")","v":"19000100"},"--- na ---","--- na ---",13050,"--- na ---",{"$f":"ROUND(+ANST05!E17,4)","v":0},"--- na ---","--- na ---","--- na ---","--- na ---","--- na ---","--- na ---","--- na ---","--- na ---","--- na ---","--- na ---","--- na ---"]
["CMANT_13060",{"$f":"+'Cover Sheet'!$C$28","v":0},"ENTITY_ID","--- na ---","--- na ---","--- na ---",{"$f":"TEXT('Cover Sheet'!$C$26, \"yyyymmdd\")","v":"19000100"},"--- na ---","--- na ---",13060,"--- na ---",{"$f":"ROUND(+ANST05!E18,4)","v":0},"--- na ---","--- na ---","--- na ---","--- na ---","--- na ---","--- na ---","--- na ---","--- na ---","--- na ---","--- na ---","--- na ---"]
["CMANT_13070",{"$f":"+'Cover Sheet'!$C$28","v":0},"ENTITY_ID","--- na ---","--- na ---","--- na ---",{"$f":"TEXT('Cover Sheet'!$C$26, \"yyyymmdd\")","v":"19000100"},"--- na ---","--- na ---",13070,"--- na ---",{"$f":"ROUND(+ANST05!E19,4)","v":0},"--- na ---","--- na ---","--- na ---","--- na ---","--- na ---","--- na ---","--- na ---","--- na ---","--- na ---","--- na ---","--- na ---"]
["CMANT_13080",{"$f":"+'Cover Sheet'!$C$28","v":0},"ENTITY_ID","--- na ---","--- na ---","--- na ---",{"$f":"TEXT('Cover Sheet'!$C$26, \"yyyymmdd\")","v":"19000100"},"--- na ---","--- na ---",13080,"--- na ---",{"$f":"ROUND(+ANST05!E21,4)","v":0},"--- na ---","--- na ---","--- na ---","--- na ---","--- na ---","--- na ---","--- na ---","--- na ---","--- na ---","--- na ---","--- na ---"]
["CMANT_13090",{"$f":"+'Cover Sheet'!$C$28","v":0},"ENTITY_ID","--- na ---","--- na ---","--- na ---",{"$f":"TEXT('Cover Sheet'!$C$26, \"yyyymmdd\")","v":"19000100"},"--- na ---","--- na ---",13090,"--- na ---",{"$f":"ROUND(+ANST05!E23,4)","v":0},"--- na ---","--- na ---","--- na ---","--- na ---","--- na ---","--- na ---","--- na ---","--- na ---","--- na ---","--- na ---","--- na ---"]
["CMANT_13100",{"$f":"+'Cover Sheet'!$C$28","v":0},"ENTITY_ID","--- na ---","--- na ---","--- na ---",{"$f":"TEXT('Cover Sheet'!$C$26, \"yyyymmdd\")","v":"19000100"},"--- na ---","--- na ---",13100,"--- na ---",{"$f":"ROUND(+ANST05!E25,4)","v":0},"--- na ---","--- na ---","--- na ---","--- na ---","--- na ---","--- na ---","--- na ---","--- na ---","--- na ---","--- na ---","--- na ---"]
["CMANT_13113",{"$f":"+'Cover Sheet'!$C$28","v":0},"ENTITY_ID","--- na ---","--- na ---","--- na ---",{"$f":"TEXT('Cover Sheet'!$C$26, \"yyyymmdd\")","v":"19000100"},"--- na ---","--- na ---",13113,"--- na ---",{"$f":"ROUND(+ANST05!E27,4)","v":0},"--- na ---","--- na ---","--- na ---","--- na ---","--- na ---","--- na ---","--- na ---","--- na ---","--- na ---","--- na ---","--- na ---"]
["CMANT_13120",{"$f":"+'Cover Sheet'!$C$28","v":0},"ENTITY_ID","--- na ---","--- na ---","--- na ---",{"$f":"TEXT('Cover Sheet'!$C$26, \"yyyymmdd\")","v":"19000100"},"--- na ---","--- na ---",13120,"--- na ---",{"$f":"ROUND(+ANST05!E29,4)","v":0},"--- na ---","--- na ---","--- na ---","--- na ---","--- na ---","--- na ---","--- na ---","--- na ---","--- na ---","--- na ---","--- na ---"]
["CMANT_13130",{"$f":"+'Cover Sheet'!$C$28","v":0},"ENTITY_ID","--- na ---","--- na ---","--- na ---",{"$f":"TEXT('Cover Sheet'!$C$26, \"yyyymmdd\")","v":"19000100"},"--- na ---","--- na ---",13130,"--- na ---",{"$f":"ROUND(+ANST05!E30,4)","v":0},"--- na ---","--- na ---","--- na ---","--- na ---","--- na ---","--- na ---","--- na ---","--- na ---","--- na ---","--- na ---","--- na ---"]
["CMANT_13140",{"$f":"+'Cover Sheet'!$C$28","v":0},"ENTITY_ID","--- na ---","--- na ---","--- na ---",{"$f":"TEXT('Cover Sheet'!$C$26, \"yyyymmdd\")","v":"19000100"},"--- na ---","--- na ---",13140,"--- na ---",{"$f":"ROUND(+ANST05!E31,4)","v":0},"--- na ---","--- na ---","--- na ---","--- na ---","--- na ---","--- na ---","--- na ---","--- na ---","--- na ---","--- na ---","--- na ---"]
["CMANT_13150",{"$f":"+'Cover Sheet'!$C$28","v":0},"ENTITY_ID","--- na ---","--- na ---","--- na ---",{"$f":"TEXT('Cover Sheet'!$C$26, \"yyyymmdd\")","v":"19000100"},"--- na ---","--- na ---",13150,"--- na ---",{"$f":"ROUND(+ANST05!E33,4)","v":0},"--- na ---","--- na ---","--- na ---","--- na ---","--- na ---","--- na ---","--- na ---","--- na ---","--- na ---","--- na ---","--- na ---"]
["CMANT_13160",{"$f":"+'Cover Sheet'!$C$28","v":0},"ENTITY_ID","--- na ---","--- na ---","--- na ---",{"$f":"TEXT('Cover Sheet'!$C$26, \"yyyymmdd\")","v":"19000100"},"--- na ---","--- na ---",13160,"--- na ---",{"$f":"ROUND(+ANST05!E34,4)","v":0},"--- na ---","--- na ---","--- na ---","--- na ---","--- na ---","--- na ---","--- na ---","--- na ---","--- na ---","--- na ---","--- na ---"]
["CMANT_13170",{"$f":"+'Cover Sheet'!$C$28","v":0},"ENTITY_ID","--- na ---","--- na ---","--- na ---",{"$f":"TEXT('Cover Sheet'!$C$26, \"yyyymmdd\")","v":"19000100"},"--- na ---","--- na ---",13170,"--- na ---",{"$f":"ROUND(+ANST05!E35,4)","v":0},"--- na ---","--- na ---","--- na ---","--- na ---","--- na ---","--- na ---","--- na ---","--- na ---","--- na ---","--- na ---","--- na ---"]
["CMANT_13180",{"$f":"+'Cover Sheet'!$C$28","v":0},"ENTITY_ID","--- na ---","--- na ---","--- na ---",{"$f":"TEXT('Cover Sheet'!$C$26, \"yyyymmdd\")","v":"19000100"},"--- na ---","--- na ---",13180,"--- na ---",{"$f":"ROUND(+ANST05!E36,4)","v":0},"--- na ---","--- na ---","--- na ---","--- na ---","--- na ---","--- na ---","--- na ---","--- na ---","--- na ---","--- na ---","--- na ---"]
["CMANT_13190",{"$f":"+'Cover Sheet'!$C$28","v":0},"ENTITY_ID","--- na ---","--- na ---","--- na ---",{"$f":"TEXT('Cover Sheet'!$C$26, \"yyyymmdd\")","v":"19000100"},"--- na ---","--- na ---",13190,"--- na ---",{"$f":"ROUND(+ANST05!E37,4)","v":0},"--- na ---","--- na ---","--- na ---","--- na ---","--- na ---","--- na ---","--- na ---","--- na ---","--- na ---","--- na ---","--- na ---"]
["CMANT_13200",{"$f":"+'Cover Sheet'!$C$28","v":0},"ENTITY_ID","--- na ---","--- na ---","--- na ---",{"$f":"TEXT('Cover Sheet'!$C$26, \"yyyymmdd\")","v":"19000100"},"--- na ---","--- na ---",13200,"--- na ---",{"$f":"ROUND(+ANST05!E38,4)","v":0},"--- na ---","--- na ---","--- na ---","--- na ---","--- na ---","--- na ---","--- na ---","--- na ---","--- na ---","--- na ---","--- na ---"]
["CMANT_13210",{"$f":"+'Cover Sheet'!$C$28","v":0},"ENTITY_ID","--- na ---","--- na ---","--- na ---",{"$f":"TEXT('Cover Sheet'!$C$26, \"yyyymmdd\")","v":"19000100"},"--- na ---","--- na ---",13210,"--- na ---",{"$f":"ROUND(+ANST05!E39,4)","v":0},"--- na ---","--- na ---","--- na ---","--- na ---","--- na ---","--- na ---","--- na ---","--- na ---","--- na ---","--- na ---","--- na ---"]
["CMANT_13220",{"$f":"+'Cover Sheet'!$C$28","v":0},"ENTITY_ID","--- na ---","--- na ---","--- na ---",{"$f":"TEXT('Cover Sheet'!$C$26, \"yyyymmdd\")","v":"19000100"},"--- na ---","--- na ---",13220,"--- na ---",{"$f":"ROUND(+ANST05!E40,4)","v":0},"--- na ---","--- na ---","--- na ---","--- na ---","--- na ---","--- na ---","--- na ---","--- na ---","--- na ---","--- na ---","--- na ---"]
["CMANT_13230",{"$f":"+'Cover Sheet'!$C$28","v":0},"ENTITY_ID","--- na ---","--- na ---","--- na ---",{"$f":"TEXT('Cover Sheet'!$C$26, \"yyyymmdd\")","v":"19000100"},"--- na ---","--- na ---",13230,"--- na ---",{"$f":"ROUND(+ANST05!E41,4)","v":0},"--- na ---","--- na ---","--- na ---","--- na ---","--- na ---","--- na ---","--- na ---","--- na ---","--- na ---","--- na ---","--- na ---"]
["CMANT_13240",{"$f":"+'Cover Sheet'!$C$28","v":0},"ENTITY_ID","--- na ---","--- na ---","--- na ---",{"$f":"TEXT('Cover Sheet'!$C$26, \"yyyymmdd\")","v":"19000100"},"--- na ---","--- na ---",13240,"--- na ---",{"$f":"ROUND(+ANST05!E43,4)","v":0},"--- na ---","--- na ---","--- na ---","--- na ---","--- na ---","--- na ---","--- na ---","--- na ---","--- na ---","--- na ---","--- na ---"]
["CMANT_13250",{"$f":"+'Cover Sheet'!$C$28","v":0},"ENTITY_ID","--- na ---","--- na ---","--- na ---",{"$f":"TEXT('Cover Sheet'!$C$26, \"yyyymmdd\")","v":"19000100"},"--- na ---","--- na ---",13250,"--- na ---",{"$f":"ROUND(+ANST05!E45,4)","v":0},"--- na ---","--- na ---","--- na ---","--- na ---","--- na ---","--- na ---","--- na ---","--- na ---","--- na ---","--- na ---","--- na ---"]
["CMANT_13260",{"$f":"+'Cover Sheet'!$C$28","v":0},"ENTITY_ID","--- na ---","--- na ---","--- na ---",{"$f":"TEXT('Cover Sheet'!$C$26, \"yyyymmdd\")","v":"19000100"},"--- na ---","--- na ---",13260,"--- na ---",{"$f":"ROUND(+ANST05!E47,4)","v":0},"--- na ---","--- na ---","--- na ---","--- na ---","--- na ---","--- na ---","--- na ---","--- na ---","--- na ---","--- na ---","--- na ---"]
["CMANT_13270",{"$f":"+'Cover Sheet'!$C$28","v":0},"ENTITY_ID","--- na ---","--- na ---","--- na ---",{"$f":"TEXT('Cover Sheet'!$C$26, \"yyyymmdd\")","v":"19000100"},"--- na ---","--- na ---",13270,"--- na ---",{"$f":"ROUND(+ANST05!E48,4)","v":0},"--- na ---","--- na ---","--- na ---","--- na ---","--- na ---","--- na ---","--- na ---","--- na ---","--- na ---","--- na ---","--- na ---"]
["CMANT_13280",{"$f":"+'Cover Sheet'!$C$28","v":0},"ENTITY_ID","--- na ---","--- na ---","--- na ---",{"$f":"TEXT('Cover Sheet'!$C$26, \"yyyymmdd\")","v":"19000100"},"--- na ---","--- na ---",13280,"--- na ---",{"$f":"ROUND(+ANST05!E49,4)","v":0},"--- na ---","--- na ---","--- na ---","--- na ---","--- na ---","--- na ---","--- na ---","--- na ---","--- na ---","--- na ---","--- na ---"]
["CMANT_13290",{"$f":"+'Cover Sheet'!$C$28","v":0},"ENTITY_ID","--- na ---","--- na ---","--- na ---",{"$f":"TEXT('Cover Sheet'!$C$26, \"yyyymmdd\")","v":"19000100"},"--- na ---","--- na ---",13290,"--- na ---",{"$f":"ROUND(+ANST05!E50,4)","v":0},"--- na ---","--- na ---","--- na ---","--- na ---","--- na ---","--- na ---","--- na ---","--- na ---","--- na ---","--- na ---","--- na ---"]
["CMANT_13300",{"$f":"+'Cover Sheet'!$C$28","v":0},"ENTITY_ID","--- na ---","--- na ---","--- na ---",{"$f":"TEXT('Cover Sheet'!$C$26, \"yyyymmdd\")","v":"19000100"},"--- na ---","--- na ---",13300,"--- na ---",{"$f":"ROUND(+ANST05!E51,4)","v":0},"--- na ---","--- na ---","--- na ---","--- na ---","--- na ---","--- na ---","--- na ---","--- na ---","--- na ---","--- na ---","--- na ---"]
["CMANT_13310",{"$f":"+'Cover Sheet'!$C$28","v":0},"ENTITY_ID","--- na ---","--- na ---","--- na ---",{"$f":"TEXT('Cover Sheet'!$C$26, \"yyyymmdd\")","v":"19000100"},"--- na ---","--- na ---",13310,"--- na ---",{"$f":"ROUND(+ANST05!E52,4)","v":0},"--- na ---","--- na ---","--- na ---","--- na ---","--- na ---","--- na ---","--- na ---","--- na ---","--- na ---","--- na ---","--- na ---"]
["CMANT_13320",{"$f":"+'Cover Sheet'!$C$28","v":0},"ENTITY_ID","--- na ---","--- na ---","--- na ---",{"$f":"TEXT('Cover Sheet'!$C$26, \"yyyymmdd\")","v":"19000100"},"--- na ---","--- na ---",13320,"--- na ---",{"$f":"ROUND(+ANST05!E53,4)","v":0},"--- na ---","--- na ---","--- na ---","--- na ---","--- na ---","--- na ---","--- na ---","--- na ---","--- na ---","--- na ---","--- na ---"]
["CMANT_13330",{"$f":"+'Cover Sheet'!$C$28","v":0},"ENTITY_ID","--- na ---","--- na ---","--- na ---",{"$f":"TEXT('Cover Sheet'!$C$26, \"yyyymmdd\")","v":"19000100"},"--- na ---","--- na ---",13330,"--- na ---",{"$f":"ROUND(+ANST05!E54,4)","v":0},"--- na ---","--- na ---","--- na ---","--- na ---","--- na ---","--- na ---","--- na ---","--- na ---","--- na ---","--- na ---","--- na ---"]
["CMANT_13340",{"$f":"+'Cover Sheet'!$C$28","v":0},"ENTITY_ID","--- na ---","--- na ---","--- na ---",{"$f":"TEXT('Cover Sheet'!$C$26, \"yyyymmdd\")","v":"19000100"},"--- na ---","--- na ---",13340,"--- na ---",{"$f":"ROUND(+ANST05!E56,4)","v":0},"--- na ---","--- na ---","--- na ---","--- na ---","--- na ---","--- na ---","--- na ---","--- na ---","--- na ---","--- na ---","--- na ---"]
["CMANT_13350",{"$f":"+'Cover Sheet'!$C$28","v":0},"ENTITY_ID","--- na ---","--- na ---","--- na ---",{"$f":"TEXT('Cover Sheet'!$C$26, \"yyyymmdd\")","v":"19000100"},"--- na ---","--- na ---",13350,"--- na ---",{"$f":"ROUND(+ANST05!E58,4)","v":0},"--- na ---","--- na ---","--- na ---","--- na ---","--- na ---","--- na ---","--- na ---","--- na ---","--- na ---","--- na ---","--- na ---"]
["CMANT_13410",{"$f":"+'Cover Sheet'!$C$28","v":0},"ENTITY_ID","--- na ---","--- na ---","--- na ---",{"$f":"TEXT('Cover Sheet'!$C$26, \"yyyymmdd\")","v":"19000100"},"--- na ---","--- na ---",13410,"--- na ---",{"$f":"ROUND(+ANST06!E11,4)","v":0},"--- na ---","--- na ---","--- na ---","--- na ---","--- na ---","--- na ---","--- na ---","--- na ---","--- na ---","--- na ---","--- na ---"]
["CMANT_13420",{"$f":"+'Cover Sheet'!$C$28","v":0},"ENTITY_ID","--- na ---","--- na ---","--- na ---",{"$f":"TEXT('Cover Sheet'!$C$26, \"yyyymmdd\")","v":"19000100"},"--- na ---","--- na ---",13420,"--- na ---",{"$f":"ROUND(+ANST06!E12,4)","v":0},"--- na ---","--- na ---","--- na ---","--- na ---","--- na ---","--- na ---","--- na ---","--- na ---","--- na ---","--- na ---","--- na ---"]
["CMANT_13430",{"$f":"+'Cover Sheet'!$C$28","v":0},"ENTITY_ID","--- na ---","--- na ---","--- na ---",{"$f":"TEXT('Cover Sheet'!$C$26, \"yyyymmdd\")","v":"19000100"},"--- na ---","--- na ---",13430,"--- na ---",{"$f":"ROUND(+ANST06!E13,4)","v":0},"--- na ---","--- na ---","--- na ---","--- na ---","--- na ---","--- na ---","--- na ---","--- na ---","--- na ---","--- na ---","--- na ---"]
["CMANT_13440",{"$f":"+'Cover Sheet'!$C$28","v":0},"ENTITY_ID","--- na ---","--- na ---","--- na ---",{"$f":"TEXT('Cover Sheet'!$C$26, \"yyyymmdd\")","v":"19000100"},"--- na ---","--- na ---",13440,"--- na ---",{"$f":"ROUND(+ANST06!E14,4)","v":0},"--- na ---","--- na ---","--- na ---","--- na ---","--- na ---","--- na ---","--- na ---","--- na ---","--- na ---","--- na ---","--- na ---"]
["CMANT_13450",{"$f":"+'Cover Sheet'!$C$28","v":0},"ENTITY_ID","--- na ---","--- na ---","--- na ---",{"$f":"TEXT('Cover Sheet'!$C$26, \"yyyymmdd\")","v":"19000100"},"--- na ---","--- na ---",13450,"--- na ---",{"$f":"ROUND(+ANST06!E15,4)","v":0},"--- na ---","--- na ---","--- na ---","--- na ---","--- na ---","--- na ---","--- na ---","--- na ---","--- na ---","--- na ---","--- na ---"]
["CMANT_13460",{"$f":"+'Cover Sheet'!$C$28","v":0},"ENTITY_ID","--- na ---","--- na ---","--- na ---",{"$f":"TEXT('Cover Sheet'!$C$26, \"yyyymmdd\")","v":"19000100"},"--- na ---","--- na ---",13460,"--- na ---",{"$f":"ROUND(+ANST06!E17,4)","v":0},"--- na ---","--- na ---","--- na ---","--- na ---","--- na ---","--- na ---","--- na ---","--- na ---","--- na ---","--- na ---","--- na ---"]
["CMANT_13470",{"$f":"+'Cover Sheet'!$C$28","v":0},"ENTITY_ID","--- na ---","--- na ---","--- na ---",{"$f":"TEXT('Cover Sheet'!$C$26, \"yyyymmdd\")","v":"19000100"},"--- na ---","--- na ---",13470,"--- na ---",{"$f":"ROUND(+ANST06!E18,4)","v":0},"--- na ---","--- na ---","--- na ---","--- na ---","--- na ---","--- na ---","--- na ---","--- na ---","--- na ---","--- na ---","--- na ---"]
["CMANT_13480",{"$f":"+'Cover Sheet'!$C$28","v":0},"ENTITY_ID","--- na ---","--- na ---","--- na ---",{"$f":"TEXT('Cover Sheet'!$C$26, \"yyyymmdd\")","v":"19000100"},"--- na ---","--- na ---",13480,"--- na ---",{"$f":"ROUND(+ANST06!E19,4)","v":0},"--- na ---","--- na ---","--- na ---","--- na ---","--- na ---","--- na ---","--- na ---","--- na ---","--- na ---","--- na ---","--- na ---"]
["CMANT_13490",{"$f":"+'Cover Sheet'!$C$28","v":0},"ENTITY_ID","--- na ---","--- na ---","--- na ---",{"$f":"TEXT('Cover Sheet'!$C$26, \"yyyymmdd\")","v":"19000100"},"--- na ---","--- na ---",13490,"--- na ---",{"$f":"ROUND(+ANST06!E21,4)","v":0},"--- na ---","--- na ---","--- na ---","--- na ---","--- na ---","--- na ---","--- na ---","--- na ---","--- na ---","--- na ---","--- na ---"]
["CMANT_13500",{"$f":"+'Cover Sheet'!$C$28","v":0},"ENTITY_ID","--- na ---","--- na ---","--- na ---",{"$f":"TEXT('Cover Sheet'!$C$26, \"yyyymmdd\")","v":"19000100"},"--- na ---","--- na ---",13500,"--- na ---",{"$f":"ROUND(+ANST06!E23,4)","v":0},"--- na ---","--- na ---","--- na ---","--- na ---","--- na ---","--- na ---","--- na ---","--- na ---","--- na ---","--- na ---","--- na ---"]
["CMANT_13510",{"$f":"+'Cover Sheet'!$C$28","v":0},"ENTITY_ID","--- na ---","--- na ---","--- na ---",{"$f":"TEXT('Cover Sheet'!$C$26, \"yyyymmdd\")","v":"19000100"},"--- na ---","--- na ---",13510,"--- na ---",{"$f":"ROUND(+ANST06!E25,4)","v":0},"--- na ---","--- na ---","--- na ---","--- na ---","--- na ---","--- na ---","--- na ---","--- na ---","--- na ---","--- na ---","--- na ---"]
["CMANT_13523",{"$f":"+'Cover Sheet'!$C$28","v":0},"ENTITY_ID","--- na ---","--- na ---","--- na ---",{"$f":"TEXT('Cover Sheet'!$C$26, \"yyyymmdd\")","v":"19000100"},"--- na ---","--- na ---",13523,"--- na ---",{"$f":"ROUND(+ANST06!E27,4)","v":0},"--- na ---","--- na ---","--- na ---","--- na ---","--- na ---","--- na ---","--- na ---","--- na ---","--- na ---","--- na ---","--- na ---"]
["CMANT_13530",{"$f":"+'Cover Sheet'!$C$28","v":0},"ENTITY_ID","--- na ---","--- na ---","--- na ---",{"$f":"TEXT('Cover Sheet'!$C$26, \"yyyymmdd\")","v":"19000100"},"--- na ---","--- na ---",13530,"--- na ---",{"$f":"ROUND(+ANST06!E29,4)","v":0},"--- na ---","--- na ---","--- na ---","--- na ---","--- na ---","--- na ---","--- na ---","--- na ---","--- na ---","--- na ---","--- na ---"]
["CMANT_13540",{"$f":"+'Cover Sheet'!$C$28","v":0},"ENTITY_ID","--- na ---","--- na ---","--- na ---",{"$f":"TEXT('Cover Sheet'!$C$26, \"yyyymmdd\")","v":"19000100"},"--- na ---","--- na ---",13540,"--- na ---",{"$f":"ROUND(+ANST06!E30,4)","v":0},"--- na ---","--- na ---","--- na ---","--- na ---","--- na ---","--- na ---","--- na ---","--- na ---","--- na ---","--- na ---","--- na ---"]
["CMANT_13550",{"$f":"+'Cover Sheet'!$C$28","v":0},"ENTITY_ID","--- na ---","--- na ---","--- na ---",{"$f":"TEXT('Cover Sheet'!$C$26, \"yyyymmdd\")","v":"19000100"},"--- na ---","--- na ---",13550,"--- na ---",{"$f":"ROUND(+ANST06!E31,4)","v":0},"--- na ---","--- na ---","--- na ---","--- na ---","--- na ---","--- na ---","--- na ---","--- na ---","--- na ---","--- na ---","--- na ---"]
["CMANT_13560",{"$f":"+'Cover Sheet'!$C$28","v":0},"ENTITY_ID","--- na ---","--- na ---","--- na ---",{"$f":"TEXT('Cover Sheet'!$C$26, \"yyyymmdd\")","v":"19000100"},"--- na ---","--- na ---",13560,"--- na ---",{"$f":"ROUND(+ANST06!E33,4)","v":0},"--- na ---","--- na ---","--- na ---","--- na ---","--- na ---","--- na ---","--- na ---","--- na ---","--- na ---","--- na ---","--- na ---"]
["CMANT_13570",{"$f":"+'Cover Sheet'!$C$28","v":0},"ENTITY_ID","--- na ---","--- na ---","--- na ---",{"$f":"TEXT('Cover Sheet'!$C$26, \"yyyymmdd\")","v":"19000100"},"--- na ---","--- na ---",13570,"--- na ---",{"$f":"ROUND(+ANST06!E34,4)","v":0},"--- na ---","--- na ---","--- na ---","--- na ---","--- na ---","--- na ---","--- na ---","--- na ---","--- na ---","--- na ---","--- na ---"]
["CMANT_13580",{"$f":"+'Cover Sheet'!$C$28","v":0},"ENTITY_ID","--- na ---","--- na ---","--- na ---",{"$f":"TEXT('Cover Sheet'!$C$26, \"yyyymmdd\")","v":"19000100"},"--- na ---","--- na ---",13580,"--- na ---",{"$f":"ROUND(+ANST06!E35,4)","v":0},"--- na ---","--- na ---","--- na ---","--- na ---","--- na ---","--- na ---","--- na ---","--- na ---","--- na ---","--- na ---","--- na ---"]
["CMANT_13590",{"$f":"+'Cover Sheet'!$C$28","v":0},"ENTITY_ID","--- na ---","--- na ---","--- na ---",{"$f":"TEXT('Cover Sheet'!$C$26, \"yyyymmdd\")","v":"19000100"},"--- na ---","--- na ---",13590,"--- na ---",{"$f":"ROUND(+ANST06!E36,4)","v":0},"--- na ---","--- na ---","--- na ---","--- na ---","--- na ---","--- na ---","--- na ---","--- na ---","--- na ---","--- na ---","--- na ---"]
["CMANT_13600",{"$f":"+'Cover Sheet'!$C$28","v":0},"ENTITY_ID","--- na ---","--- na ---","--- na ---",{"$f":"TEXT('Cover Sheet'!$C$26, \"yyyymmdd\")","v":"19000100"},"--- na ---","--- na ---",13600,"--- na ---",{"$f":"ROUND(+ANST06!E37,4)","v":0},"--- na ---","--- na ---","--- na ---","--- na ---","--- na ---","--- na ---","--- na ---","--- na ---","--- na ---","--- na ---","--- na ---"]
["CMANT_13610",{"$f":"+'Cover Sheet'!$C$28","v":0},"ENTITY_ID","--- na ---","--- na ---","--- na ---",{"$f":"TEXT('Cover Sheet'!$C$26, \"yyyymmdd\")","v":"19000100"},"--- na ---","--- na ---",13610,"--- na ---",{"$f":"ROUND(+ANST06!E38,4)","v":0},"--- na ---","--- na ---","--- na ---","--- na ---","--- na ---","--- na ---","--- na ---","--- na ---","--- na ---","--- na ---","--- na ---"]
["CMANT_13620",{"$f":"+'Cover Sheet'!$C$28","v":0},"ENTITY_ID","--- na ---","--- na ---","--- na ---",{"$f":"TEXT('Cover Sheet'!$C$26, \"yyyymmdd\")","v":"19000100"},"--- na ---","--- na ---",13620,"--- na ---",{"$f":"ROUND(+ANST06!E39,4)","v":0},"--- na ---","--- na ---","--- na ---","--- na ---","--- na ---","--- na ---","--- na ---","--- na ---","--- na ---","--- na ---","--- na ---"]
["CMANT_13630",{"$f":"+'Cover Sheet'!$C$28","v":0},"ENTITY_ID","--- na ---","--- na ---","--- na ---",{"$f":"TEXT('Cover Sheet'!$C$26, \"yyyymmdd\")","v":"19000100"},"--- na ---","--- na ---",13630,"--- na ---",{"$f":"ROUND(+ANST06!E40,4)","v":0},"--- na ---","--- na ---","--- na ---","--- na ---","--- na ---","--- na ---","--- na ---","--- na ---","--- na ---","--- na ---","--- na ---"]
["CMANT_13640",{"$f":"+'Cover Sheet'!$C$28","v":0},"ENTITY_ID","--- na ---","--- na ---","--- na ---",{"$f":"TEXT('Cover Sheet'!$C$26, \"yyyymmdd\")","v":"19000100"},"--- na ---","--- na ---",13640,"--- na ---",{"$f":"ROUND(+ANST06!E41,4)","v":0},"--- na ---","--- na ---","--- na ---","--- na ---","--- na ---","--- na ---","--- na ---","--- na ---","--- na ---","--- na ---","--- na ---"]
["CMANT_13650",{"$f":"+'Cover Sheet'!$C$28","v":0},"ENTITY_ID","--- na ---","--- na ---","--- na ---",{"$f":"TEXT('Cover Sheet'!$C$26, \"yyyymmdd\")","v":"19000100"},"--- na ---","--- na ---",13650,"--- na ---",{"$f":"ROUND(+ANST06!E43,4)","v":0},"--- na ---","--- na ---","--- na ---","--- na ---","--- na ---","--- na ---","--- na ---","--- na ---","--- na ---","--- na ---","--- na ---"]
["CMANT_13660",{"$f":"+'Cover Sheet'!$C$28","v":0},"ENTITY_ID","--- na ---","--- na ---","--- na ---",{"$f":"TEXT('Cover Sheet'!$C$26, \"yyyymmdd\")","v":"19000100"},"--- na ---","--- na ---",13660,"--- na ---",{"$f":"ROUND(+ANST06!E45,4)","v":0},"--- na ---","--- na ---","--- na ---","--- na ---","--- na ---","--- na ---","--- na ---","--- na ---","--- na ---","--- na ---","--- na ---"]
["CMANT_13670",{"$f":"+'Cover Sheet'!$C$28","v":0},"ENTITY_ID","--- na ---","--- na ---","--- na ---",{"$f":"TEXT('Cover Sheet'!$C$26, \"yyyymmdd\")","v":"19000100"},"--- na ---","--- na ---",13670,"--- na ---",{"$f":"ROUND(+ANST06!E47,4)","v":0},"--- na ---","--- na ---","--- na ---","--- na ---","--- na ---","--- na ---","--- na ---","--- na ---","--- na ---","--- na ---","--- na ---"]
["CMANT_13680",{"$f":"+'Cover Sheet'!$C$28","v":0},"ENTITY_ID","--- na ---","--- na ---","--- na ---",{"$f":"TEXT('Cover Sheet'!$C$26, \"yyyymmdd\")","v":"19000100"},"--- na ---","--- na ---",13680,"--- na ---",{"$f":"ROUND(+ANST06!E48,4)","v":0},"--- na ---","--- na ---","--- na ---","--- na ---","--- na ---","--- na ---","--- na ---","--- na ---","--- na ---","--- na ---","--- na ---"]
["CMANT_13690",{"$f":"+'Cover Sheet'!$C$28","v":0},"ENTITY_ID","--- na ---","--- na ---","--- na ---",{"$f":"TEXT('Cover Sheet'!$C$26, \"yyyymmdd\")","v":"19000100"},"--- na ---","--- na ---",13690,"--- na ---",{"$f":"ROUND(+ANST06!E49,4)","v":0},"--- na ---","--- na ---","--- na ---","--- na ---","--- na ---","--- na ---","--- na ---","--- na ---","--- na ---","--- na ---","--- na ---"]
["CMANT_13700",{"$f":"+'Cover Sheet'!$C$28","v":0},"ENTITY_ID","--- na ---","--- na ---","--- na ---",{"$f":"TEXT('Cover Sheet'!$C$26, \"yyyymmdd\")","v":"19000100"},"--- na ---","--- na ---",13700,"--- na ---",{"$f":"ROUND(+ANST06!E50,4)","v":0},"--- na ---","--- na ---","--- na ---","--- na ---","--- na ---","--- na ---","--- na ---","--- na ---","--- na ---","--- na ---","--- na ---"]
["CMANT_13710",{"$f":"+'Cover Sheet'!$C$28","v":0},"ENTITY_ID","--- na ---","--- na ---","--- na ---",{"$f":"TEXT('Cover Sheet'!$C$26, \"yyyymmdd\")","v":"19000100"},"--- na ---","--- na ---",13710,"--- na ---",{"$f":"ROUND(+ANST06!E51,4)","v":0},"--- na ---","--- na ---","--- na ---","--- na ---","--- na ---","--- na ---","--- na ---","--- na ---","--- na ---","--- na ---","--- na ---"]
["CMANT_13720",{"$f":"+'Cover Sheet'!$C$28","v":0},"ENTITY_ID","--- na ---","--- na ---","--- na ---",{"$f":"TEXT('Cover Sheet'!$C$26, \"yyyymmdd\")","v":"19000100"},"--- na ---","--- na ---",13720,"--- na ---",{"$f":"ROUND(+ANST06!E52,4)","v":0},"--- na ---","--- na ---","--- na ---","--- na ---","--- na ---","--- na ---","--- na ---","--- na ---","--- na ---","--- na ---","--- na ---"]
["CMANT_13730",{"$f":"+'Cover Sheet'!$C$28","v":0},"ENTITY_ID","--- na ---","--- na ---","--- na ---",{"$f":"TEXT('Cover Sheet'!$C$26, \"yyyymmdd\")","v":"19000100"},"--- na ---","--- na ---",13730,"--- na ---",{"$f":"ROUND(+ANST06!E53,4)","v":0},"--- na ---","--- na ---","--- na ---","--- na ---","--- na ---","--- na ---","--- na ---","--- na ---","--- na ---","--- na ---","--- na ---"]
["CMANT_13740",{"$f":"+'Cover Sheet'!$C$28","v":0},"ENTITY_ID","--- na ---","--- na ---","--- na ---",{"$f":"TEXT('Cover Sheet'!$C$26, \"yyyymmdd\")","v":"19000100"},"--- na ---","--- na ---",13740,"--- na ---",{"$f":"ROUND(+ANST06!E55,4)","v":0},"--- na ---","--- na ---","--- na ---","--- na ---","--- na ---","--- na ---","--- na ---","--- na ---","--- na ---","--- na ---","--- na ---"]
["CMANT_13750",{"$f":"+'Cover Sheet'!$C$28","v":0},"ENTITY_ID","--- na ---","--- na ---","--- na ---",{"$f":"TEXT('Cover Sheet'!$C$26, \"yyyymmdd\")","v":"19000100"},"--- na ---","--- na ---",13750,"--- na ---",{"$f":"ROUND(+ANST06!E57,4)","v":0},"--- na ---","--- na ---","--- na ---","--- na ---","--- na ---","--- na ---","--- na ---","--- na ---","--- na ---","--- na ---","--- na ---"]
["CMANT_13760",{"$f":"+'Cover Sheet'!$C$28","v":0},"ENTITY_ID","--- na ---","--- na ---","--- na ---",{"$f":"TEXT('Cover Sheet'!$C$26, \"yyyymmdd\")","v":"19000100"},"--- na ---","--- na ---",13760,"--- na ---",{"$f":"ROUND(+ANST07!E15,4)","v":0},"--- na ---","--- na ---","--- na ---","--- na ---","--- na ---","--- na ---","--- na ---","--- na ---","--- na ---","--- na ---","--- na ---"]
["CMANT_13770",{"$f":"+'Cover Sheet'!$C$28","v":0},"ENTITY_ID","--- na ---","--- na ---","--- na ---",{"$f":"TEXT('Cover Sheet'!$C$26, \"yyyymmdd\")","v":"19000100"},"--- na ---","--- na ---",13770,"--- na ---",{"$f":"ROUND(+ANST07!E17,4)","v":0},"--- na ---","--- na ---","--- na ---","--- na ---","--- na ---","--- na ---","--- na ---","--- na ---","--- na ---","--- na ---","--- na ---"]
["CMANT_13783",{"$f":"+'Cover Sheet'!$C$28","v":0},"ENTITY_ID","--- na ---","--- na ---","--- na ---",{"$f":"TEXT('Cover Sheet'!$C$26, \"yyyymmdd\")","v":"19000100"},"--- na ---","--- na ---",13783,"--- na ---",{"$f":"ROUND(+ANST07!E18,4)","v":0},"--- na ---","--- na ---","--- na ---","--- na ---","--- na ---","--- na ---","--- na ---","--- na ---","--- na ---","--- na ---","--- na ---"]
["CMANT_13790",{"$f":"+'Cover Sheet'!$C$28","v":0},"ENTITY_ID","--- na ---","--- na ---","--- na ---",{"$f":"TEXT('Cover Sheet'!$C$26, \"yyyymmdd\")","v":"19000100"},"--- na ---","--- na ---",13790,"--- na ---",{"$f":"ROUND(+ANST07!E19,4)","v":0},"--- na ---","--- na ---","--- na ---","--- na ---","--- na ---","--- na ---","--- na ---","--- na ---","--- na ---","--- na ---","--- na ---"]
["CMANT_13800",{"$f":"+'Cover Sheet'!$C$28","v":0},"ENTITY_ID","--- na ---","--- na ---","--- na ---",{"$f":"TEXT('Cover Sheet'!$C$26, \"yyyymmdd\")","v":"19000100"},"--- na ---","--- na ---",13800,"--- na ---",{"$f":"ROUND(+ANST07!E20,4)","v":0},"--- na ---","--- na ---","--- na ---","--- na ---","--- na ---","--- na ---","--- na ---","--- na ---","--- na ---","--- na ---","--- na ---"]
["CMANT_13810",{"$f":"+'Cover Sheet'!$C$28","v":0},"ENTITY_ID","--- na ---","--- na ---","--- na ---",{"$f":"TEXT('Cover Sheet'!$C$26, \"yyyymmdd\")","v":"19000100"},"--- na ---","--- na ---",13810,"--- na ---",{"$f":"ROUND(+ANST07!E22,4)","v":0},"--- na ---","--- na ---","--- na ---","--- na ---","--- na ---","--- na ---","--- na ---","--- na ---","--- na ---","--- na ---","--- na ---"]
["CMANT_13820",{"$f":"+'Cover Sheet'!$C$28","v":0},"ENTITY_ID","--- na ---","--- na ---","--- na ---",{"$f":"TEXT('Cover Sheet'!$C$26, \"yyyymmdd\")","v":"19000100"},"--- na ---","--- na ---",13820,"--- na ---",{"$f":"ROUND(+ANST07!E23,4)","v":0},"--- na ---","--- na ---","--- na ---","--- na ---","--- na ---","--- na ---","--- na ---","--- na ---","--- na ---","--- na ---","--- na ---"]
["CMANT_13830",{"$f":"+'Cover Sheet'!$C$28","v":0},"ENTITY_ID","--- na ---","--- na ---","--- na ---",{"$f":"TEXT('Cover Sheet'!$C$26, \"yyyymmdd\")","v":"19000100"},"--- na ---","--- na ---",13830,"--- na ---",{"$f":"ROUND(+ANST07!E24,4)","v":0},"--- na ---","--- na ---","--- na ---","--- na ---","--- na ---","--- na ---","--- na ---","--- na ---","--- na ---","--- na ---","--- na ---"]
["CMANT_14280",{"$f":"+'Cover Sheet'!$C$28","v":0},"ENTITY_ID","--- na ---","MT",1,{"$f":"TEXT('Cover Sheet'!$C$26, \"yyyymmdd\")","v":"19000100"},1,"--- na ---",14280,"--- na ---",{"$f":"ROUND(+ANST01!C98,4)","v":0},"--- na ---","--- na ---","--- na ---","--- na ---","--- na ---","--- na ---","--- na ---","--- na ---","--- na ---","--- na ---","--- na ---"]
["CMANT_14280",{"$f":"+'Cover Sheet'!$C$28","v":0},"ENTITY_ID","--- na ---","MT",1,{"$f":"TEXT('Cover Sheet'!$C$26, \"yyyymmdd\")","v":"19000100"},2,"--- na ---",14280,"--- na ---",{"$f":"ROUND(+ANST01!C99,4)","v":0},"--- na ---","--- na ---","--- na ---","--- na ---","--- na ---","--- na ---","--- na ---","--- na ---","--- na ---","--- na ---","--- na ---"]
["CMANT_14280",{"$f":"+'Cover Sheet'!$C$28","v":0},"ENTITY_ID","--- na ---","MT",1,{"$f":"TEXT('Cover Sheet'!$C$26, \"yyyymmdd\")","v":"19000100"},3,"--- na ---",14280,"--- na ---",{"$f":"ROUND(+ANST01!C100,4)","v":0},"--- na ---","--- na ---","--- na ---","--- na ---","--- na ---","--- na ---","--- na ---","--- na ---","--- na ---","--- na ---","--- na ---"]
["CMANT_14280",{"$f":"+'Cover Sheet'!$C$28","v":0},"ENTITY_ID","--- na ---","MT",1,{"$f":"TEXT('Cover Sheet'!$C$26, \"yyyymmdd\")","v":"19000100"},4,"--- na ---",14280,"--- na ---",{"$f":"ROUND(+ANST01!C101,4)","v":0},"--- na ---","--- na ---","--- na ---","--- na ---","--- na ---","--- na ---","--- na ---","--- na ---","--- na ---","--- na ---","--- na ---"]
["CMANT_14280",{"$f":"+'Cover Sheet'!$C$28","v":0},"ENTITY_ID","--- na ---","MT",1,{"$f":"TEXT('Cover Sheet'!$C$26, \"yyyymmdd\")","v":"19000100"},5,"--- na ---",14280,"--- na ---",{"$f":"ROUND(+ANST01!C102,4)","v":0},"--- na ---","--- na ---","--- na ---","--- na ---","--- na ---","--- na ---","--- na ---","--- na ---","--- na ---","--- na ---","--- na ---"]
["CMANT_14280",{"$f":"+'Cover Sheet'!$C$28","v":0},"ENTITY_ID","--- na ---","W1",1,{"$f":"TEXT('Cover Sheet'!$C$26, \"yyyymmdd\")","v":"19000100"},1,"--- na ---",14280,"--- na ---",{"$f":"ROUND(+ANST01!E98,4)","v":0},"--- na ---","--- na ---","--- na ---","--- na ---","--- na ---","--- na ---","--- na ---","--- na ---","--- na ---","--- na ---","--- na ---"]
["CMANT_14280",{"$f":"+'Cover Sheet'!$C$28","v":0},"ENTITY_ID","--- na ---","W1",1,{"$f":"TEXT('Cover Sheet'!$C$26, \"yyyymmdd\")","v":"19000100"},2,"--- na ---",14280,"--- na ---",{"$f":"ROUND(+ANST01!E99,4)","v":0},"--- na ---","--- na ---","--- na ---","--- na ---","--- na ---","--- na ---","--- na ---","--- na ---","--- na ---","--- na ---","--- na ---"]
["CMANT_14280",{"$f":"+'Cover Sheet'!$C$28","v":0},"ENTITY_ID","--- na ---","W1",1,{"$f":"TEXT('Cover Sheet'!$C$26, \"yyyymmdd\")","v":"19000100"},3,"--- na ---",14280,"--- na ---",{"$f":"ROUND(+ANST01!E100,4)","v":0},"--- na ---","--- na ---","--- na ---","--- na ---","--- na ---","--- na ---","--- na ---","--- na ---","--- na ---","--- na ---","--- na ---"]
["CMANT_14280",{"$f":"+'Cover Sheet'!$C$28","v":0},"ENTITY_ID","--- na ---","W1",1,{"$f":"TEXT('Cover Sheet'!$C$26, \"yyyymmdd\")","v":"19000100"},4,"--- na ---",14280,"--- na ---",{"$f":"ROUND(+ANST01!E101,4)","v":0},"--- na ---","--- na ---","--- na ---","--- na ---","--- na ---","--- na ---","--- na ---","--- na ---","--- na ---","--- na ---","--- na ---"]
["CMANT_14280",{"$f":"+'Cover Sheet'!$C$28","v":0},"ENTITY_ID","--- na ---","W1",1,{"$f":"TEXT('Cover Sheet'!$C$26, \"yyyymmdd\")","v":"19000100"},5,"--- na ---",14280,"--- na ---",{"$f":"ROUND(+ANST01!E102,4)","v":0},"--- na ---","--- na ---","--- na ---","--- na ---","--- na ---","--- na ---","--- na ---","--- na ---","--- na ---","--- na ---","--- na ---"]
["CMANT_14281",{"$f":"+'Cover Sheet'!$C$28","v":0},"ENTITY_ID","--- na ---","W0",1,{"$f":"TEXT('Cover Sheet'!$C$26, \"yyyymmdd\")","v":"19000100"},1,"--- na ---",14281,"--- na ---",{"$f":"ROUND(+ANST01!G98,4)","v":0},"--- na ---","--- na ---","--- na ---","--- na ---","--- na ---","--- na ---","--- na ---","--- na ---","--- na ---","--- na ---","--- na ---"]
["CMANT_14281",{"$f":"+'Cover Sheet'!$C$28","v":0},"ENTITY_ID","--- na ---","W0",1,{"$f":"TEXT('Cover Sheet'!$C$26, \"yyyymmdd\")","v":"19000100"},2,"--- na ---",14281,"--- na ---",{"$f":"ROUND(+ANST01!G99,4)","v":0},"--- na ---","--- na ---","--- na ---","--- na ---","--- na ---","--- na ---","--- na ---","--- na ---","--- na ---","--- na ---","--- na ---"]
["CMANT_14281",{"$f":"+'Cover Sheet'!$C$28","v":0},"ENTITY_ID","--- na ---","W0",1,{"$f":"TEXT('Cover Sheet'!$C$26, \"yyyymmdd\")","v":"19000100"},3,"--- na ---",14281,"--- na ---",{"$f":"ROUND(+ANST01!G100,4)","v":0},"--- na ---","--- na ---","--- na ---","--- na ---","--- na ---","--- na ---","--- na ---","--- na ---","--- na ---","--- na ---","--- na ---"]
["CMANT_14281",{"$f":"+'Cover Sheet'!$C$28","v":0},"ENTITY_ID","--- na ---","W0",1,{"$f":"TEXT('Cover Sheet'!$C$26, \"yyyymmdd\")","v":"19000100"},4,"--- na ---",14281,"--- na ---",{"$f":"ROUND(+ANST01!G101,4)","v":0},"--- na ---","--- na ---","--- na ---","--- na ---","--- na ---","--- na ---","--- na ---","--- na ---","--- na ---","--- na ---","--- na ---"]
["CMANT_14281",{"$f":"+'Cover Sheet'!$C$28","v":0},"ENTITY_ID","--- na ---","W0",1,{"$f":"TEXT('Cover Sheet'!$C$26, \"yyyymmdd\")","v":"19000100"},5,"--- na ---",14281,"--- na ---",{"$f":"ROUND(+ANST01!G102,4)","v":0},"--- na ---","--- na ---","--- na ---","--- na ---","--- na ---","--- na ---","--- na ---","--- na ---","--- na ---","--- na ---","--- na ---"]
["CMANT_14280",{"$f":"+'Cover Sheet'!$C$28","v":0},"ENTITY_ID","--- na ---","MT",2,{"$f":"TEXT('Cover Sheet'!$C$26, \"yyyymmdd\")","v":"19000100"},1,"--- na ---",14280,"--- na ---",{"$f":"ROUND(+ANST01!C82,4)","v":0},"--- na ---","--- na ---","--- na ---","--- na ---","--- na ---","--- na ---","--- na ---","--- na ---","--- na ---","--- na ---","--- na ---"]
["CMANT_14280",{"$f":"+'Cover Sheet'!$C$28","v":0},"ENTITY_ID","--- na ---","MT",2,{"$f":"TEXT('Cover Sheet'!$C$26, \"yyyymmdd\")","v":"19000100"},2,"--- na ---",14280,"--- na ---",{"$f":"ROUND(+ANST01!C83,4)","v":0},"--- na ---","--- na ---","--- na ---","--- na ---","--- na ---","--- na ---","--- na ---","--- na ---","--- na ---","--- na ---","--- na ---"]
["CMANT_14280",{"$f":"+'Cover Sheet'!$C$28","v":0},"ENTITY_ID","--- na ---","MT",2,{"$f":"TEXT('Cover Sheet'!$C$26, \"yyyymmdd\")","v":"19000100"},3,"--- na ---",14280,"--- na ---",{"$f":"ROUND(+ANST01!C84,4)","v":0},"--- na ---","--- na ---","--- na ---","--- na ---","--- na ---","--- na ---","--- na ---","--- na ---","--- na ---","--- na ---","--- na ---"]
["CMANT_14280",{"$f":"+'Cover Sheet'!$C$28","v":0},"ENTITY_ID","--- na ---","MT",2,{"$f":"TEXT('Cover Sheet'!$C$26, \"yyyymmdd\")","v":"19000100"},4,"--- na ---",14280,"--- na ---",{"$f":"ROUND(+ANST01!C85,4)","v":0},"--- na ---","--- na ---","--- na ---","--- na ---","--- na ---","--- na ---","--- na ---","--- na ---","--- na ---","--- na ---","--- na ---"]
["CMANT_14280",{"$f":"+'Cover Sheet'!$C$28","v":0},"ENTITY_ID","--- na ---","MT",2,{"$f":"TEXT('Cover Sheet'!$C$26, \"yyyymmdd\")","v":"19000100"},5,"--- na ---",14280,"--- na ---",{"$f":"ROUND(+ANST01!C86,4)","v":0},"--- na ---","--- na ---","--- na ---","--- na ---","--- na ---","--- na ---","--- na ---","--- na ---","--- na ---","--- na ---","--- na ---"]
["CMANT_14280",{"$f":"+'Cover Sheet'!$C$28","v":0},"ENTITY_ID","--- na ---","W1",2,{"$f":"TEXT('Cover Sheet'!$C$26, \"yyyymmdd\")","v":"19000100"},1,"--- na ---",14280,"--- na ---",{"$f":"ROUND(+ANST01!E82,4)","v":0},"--- na ---","--- na ---","--- na ---","--- na ---","--- na ---","--- na ---","--- na ---","--- na ---","--- na ---","--- na ---","--- na ---"]
["CMANT_14280",{"$f":"+'Cover Sheet'!$C$28","v":0},"ENTITY_ID","--- na ---","W1",2,{"$f":"TEXT('Cover Sheet'!$C$26, \"yyyymmdd\")","v":"19000100"},2,"--- na ---",14280,"--- na ---",{"$f":"ROUND(+ANST01!E83,4)","v":0},"--- na ---","--- na ---","--- na ---","--- na ---","--- na ---","--- na ---","--- na ---","--- na ---","--- na ---","--- na ---","--- na ---"]
["CMANT_14280",{"$f":"+'Cover Sheet'!$C$28","v":0},"ENTITY_ID","--- na ---","W1",2,{"$f":"TEXT('Cover Sheet'!$C$26, \"yyyymmdd\")","v":"19000100"},3,"--- na ---",14280,"--- na ---",{"$f":"ROUND(+ANST01!E84,4)","v":0},"--- na ---","--- na ---","--- na ---","--- na ---","--- na ---","--- na ---","--- na ---","--- na ---","--- na ---","--- na ---","--- na ---"]
["CMANT_14280",{"$f":"+'Cover Sheet'!$C$28","v":0},"ENTITY_ID","--- na ---","W1",2,{"$f":"TEXT('Cover Sheet'!$C$26, \"yyyymmdd\")","v":"19000100"},4,"--- na ---",14280,"--- na ---",{"$f":"ROUND(+ANST01!E85,4)","v":0},"--- na ---","--- na ---","--- na ---","--- na ---","--- na ---","--- na ---","--- na ---","--- na ---","--- na ---","--- na ---","--- na ---"]
["CMANT_14280",{"$f":"+'Cover Sheet'!$C$28","v":0},"ENTITY_ID","--- na ---","W1",2,{"$f":"TEXT('Cover Sheet'!$C$26, \"yyyymmdd\")","v":"19000100"},5,"--- na ---",14280,"--- na ---",{"$f":"ROUND(+ANST01!E86,4)","v":0},"--- na ---","--- na ---","--- na ---","--- na ---","--- na ---","--- na ---","--- na ---","--- na ---","--- na ---","--- na ---","--- na ---"]
["CMANT_14281",{"$f":"+'Cover Sheet'!$C$28","v":0},"ENTITY_ID","--- na ---","W0",2,{"$f":"TEXT('Cover Sheet'!$C$26, \"yyyymmdd\")","v":"19000100"},1,"--- na ---",14281,"--- na ---",{"$f":"ROUND(+ANST01!G82,4)","v":0},"--- na ---","--- na ---","--- na ---","--- na ---","--- na ---","--- na ---","--- na ---","--- na ---","--- na ---","--- na ---","--- na ---"]
["CMANT_14281",{"$f":"+'Cover Sheet'!$C$28","v":0},"ENTITY_ID","--- na ---","W0",2,{"$f":"TEXT('Cover Sheet'!$C$26, \"yyyymmdd\")","v":"19000100"},2,"--- na ---",14281,"--- na ---",{"$f":"ROUND(+ANST01!G83,4)","v":0},"--- na ---","--- na ---","--- na ---","--- na ---","--- na ---","--- na ---","--- na ---","--- na ---","--- na ---","--- na ---","--- na ---"]
["CMANT_14281",{"$f":"+'Cover Sheet'!$C$28","v":0},"ENTITY_ID","--- na ---","W0",2,{"$f":"TEXT('Cover Sheet'!$C$26, \"yyyymmdd\")","v":"19000100"},3,"--- na ---",14281,"--- na ---",{"$f":"ROUND(+ANST01!G84,4)","v":0},"--- na ---","--- na ---","--- na ---","--- na ---","--- na ---","--- na ---","--- na ---","--- na ---","--- na ---","--- na ---","--- na ---"]
["CMANT_14281",{"$f":"+'Cover Sheet'!$C$28","v":0},"ENTITY_ID","--- na ---","W0",2,{"$f":"TEXT('Cover Sheet'!$C$26, \"yyyymmdd\")","v":"19000100"},4,"--- na ---",14281,"--- na ---",{"$f":"ROUND(+ANST01!G85,4)","v":0},"--- na ---","--- na ---","--- na ---","--- na ---","--- na ---","--- na ---","--- na ---","--- na ---","--- na ---","--- na ---","--- na ---"]
["CMANT_14281",{"$f":"+'Cover Sheet'!$C$28","v":0},"ENTITY_ID","--- na ---","W0",2,{"$f":"TEXT('Cover Sheet'!$C$26, \"yyyymmdd\")","v":"19000100"},5,"--- na ---",14281,"--- na ---",{"$f":"ROUND(+ANST01!G86,4)","v":0},"--- na ---","--- na ---","--- na ---","--- na ---","--- na ---","--- na ---","--- na ---","--- na ---","--- na ---","--- na ---","--- na ---"]
["CMANT_14280",{"$f":"+'Cover Sheet'!$C$28","v":0},"ENTITY_ID","--- na ---","MT",3,{"$f":"TEXT('Cover Sheet'!$C$26, \"yyyymmdd\")","v":"19000100"},1,"--- na ---",14280,"--- na ---",{"$f":"ROUND(+ANST01!C66,4)","v":0},"--- na ---","--- na ---","--- na ---","--- na ---","--- na ---","--- na ---","--- na ---","--- na ---","--- na ---","--- na ---","--- na ---"]
["CMANT_14280",{"$f":"+'Cover Sheet'!$C$28","v":0},"ENTITY_ID","--- na ---","MT",3,{"$f":"TEXT('Cover Sheet'!$C$26, \"yyyymmdd\")","v":"19000100"},2,"--- na ---",14280,"--- na ---",{"$f":"ROUND(+ANST01!C67,4)","v":0},"--- na ---","--- na ---","--- na ---","--- na ---","--- na ---","--- na ---","--- na ---","--- na ---","--- na ---","--- na ---","--- na ---"]
["CMANT_14280",{"$f":"+'Cover Sheet'!$C$28","v":0},"ENTITY_ID","--- na ---","MT",3,{"$f":"TEXT('Cover Sheet'!$C$26, \"yyyymmdd\")","v":"19000100"},3,"--- na ---",14280,"--- na ---",{"$f":"ROUND(+ANST01!C68,4)","v":0},"--- na ---","--- na ---","--- na ---","--- na ---","--- na ---","--- na ---","--- na ---","--- na ---","--- na ---","--- na ---","--- na ---"]
["CMANT_14280",{"$f":"+'Cover Sheet'!$C$28","v":0},"ENTITY_ID","--- na ---","MT",3,{"$f":"TEXT('Cover Sheet'!$C$26, \"yyyymmdd\")","v":"19000100"},4,"--- na ---",14280,"--- na ---",{"$f":"ROUND(+ANST01!C69,4)","v":0},"--- na ---","--- na ---","--- na ---","--- na ---","--- na ---","--- na ---","--- na ---","--- na ---","--- na ---","--- na ---","--- na ---"]
["CMANT_14280",{"$f":"+'Cover Sheet'!$C$28","v":0},"ENTITY_ID","--- na ---","MT",3,{"$f":"TEXT('Cover Sheet'!$C$26, \"yyyymmdd\")","v":"19000100"},5,"--- na ---",14280,"--- na ---",{"$f":"ROUND(+ANST01!C70,4)","v":0},"--- na ---","--- na ---","--- na ---","--- na ---","--- na ---","--- na ---","--- na ---","--- na ---","--- na ---","--- na ---","--- na ---"]
["CMANT_14280",{"$f":"+'Cover Sheet'!$C$28","v":0},"ENTITY_ID","--- na ---","W1",3,{"$f":"TEXT('Cover Sheet'!$C$26, \"yyyymmdd\")","v":"19000100"},1,"--- na ---",14280,"--- na ---",{"$f":"ROUND(+ANST01!E66,4)","v":0},"--- na ---","--- na ---","--- na ---","--- na ---","--- na ---","--- na ---","--- na ---","--- na ---","--- na ---","--- na ---","--- na ---"]
["CMANT_14280",{"$f":"+'Cover Sheet'!$C$28","v":0},"ENTITY_ID","--- na ---","W1",3,{"$f":"TEXT('Cover Sheet'!$C$26, \"yyyymmdd\")","v":"19000100"},2,"--- na ---",14280,"--- na ---",{"$f":"ROUND(+ANST01!E67,4)","v":0},"--- na ---","--- na ---","--- na ---","--- na ---","--- na ---","--- na ---","--- na ---","--- na ---","--- na ---","--- na ---","--- na ---"]
["CMANT_14280",{"$f":"+'Cover Sheet'!$C$28","v":0},"ENTITY_ID","--- na ---","W1",3,{"$f":"TEXT('Cover Sheet'!$C$26, \"yyyymmdd\")","v":"19000100"},3,"--- na ---",14280,"--- na ---",{"$f":"ROUND(+ANST01!E68,4)","v":0},"--- na ---","--- na ---","--- na ---","--- na ---","--- na ---","--- na ---","--- na ---","--- na ---","--- na ---","--- na ---","--- na ---"]
["CMANT_14280",{"$f":"+'Cover Sheet'!$C$28","v":0},"ENTITY_ID","--- na ---","W1",3,{"$f":"TEXT('Cover Sheet'!$C$26, \"yyyymmdd\")","v":"19000100"},4,"--- na ---",14280,"--- na ---",{"$f":"ROUND(+ANST01!E69,4)","v":0},"--- na ---","--- na ---","--- na ---","--- na ---","--- na ---","--- na ---","--- na ---","--- na ---","--- na ---","--- na ---","--- na ---"]
["CMANT_14280",{"$f":"+'Cover Sheet'!$C$28","v":0},"ENTITY_ID","--- na ---","W1",3,{"$f":"TEXT('Cover Sheet'!$C$26, \"yyyymmdd\")","v":"19000100"},5,"--- na ---",14280,"--- na ---",{"$f":"ROUND(+ANST01!E70,4)","v":0},"--- na ---","--- na ---","--- na ---","--- na ---","--- na ---","--- na ---","--- na ---","--- na ---","--- na ---","--- na ---","--- na ---"]
["CMANT_14281",{"$f":"+'Cover Sheet'!$C$28","v":0},"ENTITY_ID","--- na ---","W0",3,{"$f":"TEXT('Cover Sheet'!$C$26, \"yyyymmdd\")","v":"19000100"},1,"--- na ---",14281,"--- na ---",{"$f":"ROUND(+ANST01!G66,4)","v":0},"--- na ---","--- na ---","--- na ---","--- na ---","--- na ---","--- na ---","--- na ---","--- na ---","--- na ---","--- na ---","--- na ---"]
["CMANT_14281",{"$f":"+'Cover Sheet'!$C$28","v":0},"ENTITY_ID","--- na ---","W0",3,{"$f":"TEXT('Cover Sheet'!$C$26, \"yyyymmdd\")","v":"19000100"},2,"--- na ---",14281,"--- na ---",{"$f":"ROUND(+ANST01!G67,4)","v":0},"--- na ---","--- na ---","--- na ---","--- na ---","--- na ---","--- na ---","--- na ---","--- na ---","--- na ---","--- na ---","--- na ---"]
["CMANT_14281",{"$f":"+'Cover Sheet'!$C$28","v":0},"ENTITY_ID","--- na ---","W0",3,{"$f":"TEXT('Cover Sheet'!$C$26, \"yyyymmdd\")","v":"19000100"},3,"--- na ---",14281,"--- na ---",{"$f":"ROUND(+ANST01!G68,4)","v":0},"--- na ---","--- na ---","--- na ---","--- na ---","--- na ---","--- na ---","--- na ---","--- na ---","--- na ---","--- na ---","--- na ---"]
["CMANT_14281",{"$f":"+'Cover Sheet'!$C$28","v":0},"ENTITY_ID","--- na ---","W0",3,{"$f":"TEXT('Cover Sheet'!$C$26, \"yyyymmdd\")","v":"19000100"},4,"--- na ---",14281,"--- na ---",{"$f":"ROUND(+ANST01!G69,4)","v":0},"--- na ---","--- na ---","--- na ---","--- na ---","--- na ---","--- na ---","--- na ---","--- na ---","--- na ---","--- na ---","--- na ---"]
["CMANT_14281",{"$f":"+'Cover Sheet'!$C$28","v":0},"ENTITY_ID","--- na ---","W0",3,{"$f":"TEXT('Cover Sheet'!$C$26, \"yyyymmdd\")","v":"19000100"},5,"--- na ---",14281,"--- na ---",{"$f":"ROUND(+ANST01!G70,4)","v":0},"--- na ---","--- na ---","--- na ---","--- na ---","--- na ---","--- na ---","--- na ---","--- na ---","--- na ---","--- na ---","--- na ---"]
["CMANT_14280",{"$f":"+'Cover Sheet'!$C$28","v":0},"ENTITY_ID","--- na ---","MT",4,{"$f":"TEXT('Cover Sheet'!$C$26, \"yyyymmdd\")","v":"19000100"},1,"--- na ---",14280,"--- na ---",{"$f":"ROUND(+ANST01!C74,4)","v":0},"--- na ---","--- na ---","--- na ---","--- na ---","--- na ---","--- na ---","--- na ---","--- na ---","--- na ---","--- na ---","--- na ---"]
["CMANT_14280",{"$f":"+'Cover Sheet'!$C$28","v":0},"ENTITY_ID","--- na ---","MT",4,{"$f":"TEXT('Cover Sheet'!$C$26, \"yyyymmdd\")","v":"19000100"},2,"--- na ---",14280,"--- na ---",{"$f":"ROUND(+ANST01!C75,4)","v":0},"--- na ---","--- na ---","--- na ---","--- na ---","--- na ---","--- na ---","--- na ---","--- na ---","--- na ---","--- na ---","--- na ---"]
["CMANT_14280",{"$f":"+'Cover Sheet'!$C$28","v":0},"ENTITY_ID","--- na ---","MT",4,{"$f":"TEXT('Cover Sheet'!$C$26, \"yyyymmdd\")","v":"19000100"},3,"--- na ---",14280,"--- na ---",{"$f":"ROUND(+ANST01!C76,4)","v":0},"--- na ---","--- na ---","--- na ---","--- na ---","--- na ---","--- na ---","--- na ---","--- na ---","--- na ---","--- na ---","--- na ---"]
["CMANT_14280",{"$f":"+'Cover Sheet'!$C$28","v":0},"ENTITY_ID","--- na ---","MT",4,{"$f":"TEXT('Cover Sheet'!$C$26, \"yyyymmdd\")","v":"19000100"},4,"--- na ---",14280,"--- na ---",{"$f":"ROUND(+ANST01!C77,4)","v":0},"--- na ---","--- na ---","--- na ---","--- na ---","--- na ---","--- na ---","--- na ---","--- na ---","--- na ---","--- na ---","--- na ---"]
["CMANT_14280",{"$f":"+'Cover Sheet'!$C$28","v":0},"ENTITY_ID","--- na ---","MT",4,{"$f":"TEXT('Cover Sheet'!$C$26, \"yyyymmdd\")","v":"19000100"},5,"--- na ---",14280,"--- na ---",{"$f":"ROUND(+ANST01!C78,4)","v":0},"--- na ---","--- na ---","--- na ---","--- na ---","--- na ---","--- na ---","--- na ---","--- na ---","--- na ---","--- na ---","--- na ---"]
["CMANT_14280",{"$f":"+'Cover Sheet'!$C$28","v":0},"ENTITY_ID","--- na ---","W1",4,{"$f":"TEXT('Cover Sheet'!$C$26, \"yyyymmdd\")","v":"19000100"},1,"--- na ---",14280,"--- na ---",{"$f":"ROUND(+ANST01!E74,4)","v":0},"--- na ---","--- na ---","--- na ---","--- na ---","--- na ---","--- na ---","--- na ---","--- na ---","--- na ---","--- na ---","--- na ---"]
["CMANT_14280",{"$f":"+'Cover Sheet'!$C$28","v":0},"ENTITY_ID","--- na ---","W1",4,{"$f":"TEXT('Cover Sheet'!$C$26, \"yyyymmdd\")","v":"19000100"},2,"--- na ---",14280,"--- na ---",{"$f":"ROUND(+ANST01!E75,4)","v":0},"--- na ---","--- na ---","--- na ---","--- na ---","--- na ---","--- na ---","--- na ---","--- na ---","--- na ---","--- na ---","--- na ---"]
["CMANT_14280",{"$f":"+'Cover Sheet'!$C$28","v":0},"ENTITY_ID","--- na ---","W1",4,{"$f":"TEXT('Cover Sheet'!$C$26, \"yyyymmdd\")","v":"19000100"},3,"--- na ---",14280,"--- na ---",{"$f":"ROUND(+ANST01!E76,4)","v":0},"--- na ---","--- na ---","--- na ---","--- na ---","--- na ---","--- na ---","--- na ---","--- na ---","--- na ---","--- na ---","--- na ---"]
["CMANT_14280",{"$f":"+'Cover Sheet'!$C$28","v":0},"ENTITY_ID","--- na ---","W1",4,{"$f":"TEXT('Cover Sheet'!$C$26, \"yyyymmdd\")","v":"19000100"},4,"--- na ---",14280,"--- na ---",{"$f":"ROUND(+ANST01!E77,4)","v":0},"--- na ---","--- na ---","--- na ---","--- na ---","--- na ---","--- na ---","--- na ---","--- na ---","--- na ---","--- na ---","--- na ---"]
["CMANT_14280",{"$f":"+'Cover Sheet'!$C$28","v":0},"ENTITY_ID","--- na ---","W1",4,{"$f":"TEXT('Cover Sheet'!$C$26, \"yyyymmdd\")","v":"19000100"},5,"--- na ---",14280,"--- na ---",{"$f":"ROUND(+ANST01!E78,4)","v":0},"--- na ---","--- na ---","--- na ---","--- na ---","--- na ---","--- na ---","--- na ---","--- na ---","--- na ---","--- na ---","--- na ---"]
["CMANT_14281",{"$f":"+'Cover Sheet'!$C$28","v":0},"ENTITY_ID","--- na ---","W0",4,{"$f":"TEXT('Cover Sheet'!$C$26, \"yyyymmdd\")","v":"19000100"},1,"--- na ---",14281,"--- na ---",{"$f":"ROUND(+ANST01!G74,4)","v":0},"--- na ---","--- na ---","--- na ---","--- na ---","--- na ---","--- na ---","--- na ---","--- na ---","--- na ---","--- na ---","--- na ---"]
["CMANT_14281",{"$f":"+'Cover Sheet'!$C$28","v":0},"ENTITY_ID","--- na ---","W0",4,{"$f":"TEXT('Cover Sheet'!$C$26, \"yyyymmdd\")","v":"19000100"},2,"--- na ---",14281,"--- na ---",{"$f":"ROUND(+ANST01!G75,4)","v":0},"--- na ---","--- na ---","--- na ---","--- na ---","--- na ---","--- na ---","--- na ---","--- na ---","--- na ---","--- na ---","--- na ---"]
["CMANT_14281",{"$f":"+'Cover Sheet'!$C$28","v":0},"ENTITY_ID","--- na ---","W0",4,{"$f":"TEXT('Cover Sheet'!$C$26, \"yyyymmdd\")","v":"19000100"},3,"--- na ---",14281,"--- na ---",{"$f":"ROUND(+ANST01!G76,4)","v":0},"--- na ---","--- na ---","--- na ---","--- na ---","--- na ---","--- na ---","--- na ---","--- na ---","--- na ---","--- na ---","--- na ---"]
["CMANT_14281",{"$f":"+'Cover Sheet'!$C$28","v":0},"ENTITY_ID","--- na ---","W0",4,{"$f":"TEXT('Cover Sheet'!$C$26, \"yyyymmdd\")","v":"19000100"},4,"--- na ---",14281,"--- na ---",{"$f":"ROUND(+ANST01!G77,4)","v":0},"--- na ---","--- na ---","--- na ---","--- na ---","--- na ---","--- na ---","--- na ---","--- na ---","--- na ---","--- na ---","--- na ---"]
["CMANT_14281",{"$f":"+'Cover Sheet'!$C$28","v":0},"ENTITY_ID","--- na ---","W0",4,{"$f":"TEXT('Cover Sheet'!$C$26, \"yyyymmdd\")","v":"19000100"},5,"--- na ---",14281,"--- na ---",{"$f":"ROUND(+ANST01!G78,4)","v":0},"--- na ---","--- na ---","--- na ---","--- na ---","--- na ---","--- na ---","--- na ---","--- na ---","--- na ---","--- na ---","--- na ---"]
["CMANT_14280",{"$f":"+'Cover Sheet'!$C$28","v":0},"ENTITY_ID","--- na ---","MT",5,{"$f":"TEXT('Cover Sheet'!$C$26, \"yyyymmdd\")","v":"19000100"},1,"--- na ---",14280,"--- na ---",{"$f":"ROUND(+ANST01!C90,4)","v":0},"--- na ---","--- na ---","--- na ---","--- na ---","--- na ---","--- na ---","--- na ---","--- na ---","--- na ---","--- na ---","--- na ---"]
["CMANT_14280",{"$f":"+'Cover Sheet'!$C$28","v":0},"ENTITY_ID","--- na ---","MT",5,{"$f":"TEXT('Cover Sheet'!$C$26, \"yyyymmdd\")","v":"19000100"},2,"--- na ---",14280,"--- na ---",{"$f":"ROUND(+ANST01!C91,4)","v":0},"--- na ---","--- na ---","--- na ---","--- na ---","--- na ---","--- na ---","--- na ---","--- na ---","--- na ---","--- na ---","--- na ---"]
["CMANT_14280",{"$f":"+'Cover Sheet'!$C$28","v":0},"ENTITY_ID","--- na ---","MT",5,{"$f":"TEXT('Cover Sheet'!$C$26, \"yyyymmdd\")","v":"19000100"},3,"--- na ---",14280,"--- na ---",{"$f":"ROUND(+ANST01!C92,4)","v":0},"--- na ---","--- na ---","--- na ---","--- na ---","--- na ---","--- na ---","--- na ---","--- na ---","--- na ---","--- na ---","--- na ---"]
["CMANT_14280",{"$f":"+'Cover Sheet'!$C$28","v":0},"ENTITY_ID","--- na ---","MT",5,{"$f":"TEXT('Cover Sheet'!$C$26, \"yyyymmdd\")","v":"19000100"},4,"--- na ---",14280,"--- na ---",{"$f":"ROUND(+ANST01!C93,4)","v":0},"--- na ---","--- na ---","--- na ---","--- na ---","--- na ---","--- na ---","--- na ---","--- na ---","--- na ---","--- na ---","--- na ---"]
["CMANT_14280",{"$f":"+'Cover Sheet'!$C$28","v":0},"ENTITY_ID","--- na ---","MT",5,{"$f":"TEXT('Cover Sheet'!$C$26, \"yyyymmdd\")","v":"19000100"},5,"--- na ---",14280,"--- na ---",{"$f":"ROUND(+ANST01!C94,4)","v":0},"--- na ---","--- na ---","--- na ---","--- na ---","--- na ---","--- na ---","--- na ---","--- na ---","--- na ---","--- na ---","--- na ---"]
["CMANT_14280",{"$f":"+'Cover Sheet'!$C$28","v":0},"ENTITY_ID","--- na ---","W1",5,{"$f":"TEXT('Cover Sheet'!$C$26, \"yyyymmdd\")","v":"19000100"},1,"--- na ---",14280,"--- na ---",{"$f":"ROUND(+ANST01!E90,4)","v":0},"--- na ---","--- na ---","--- na ---","--- na ---","--- na ---","--- na ---","--- na ---","--- na ---","--- na ---","--- na ---","--- na ---"]
["CMANT_14280",{"$f":"+'Cover Sheet'!$C$28","v":0},"ENTITY_ID","--- na ---","W1",5,{"$f":"TEXT('Cover Sheet'!$C$26, \"yyyymmdd\")","v":"19000100"},2,"--- na ---",14280,"--- na ---",{"$f":"ROUND(+ANST01!E91,4)","v":0},"--- na ---","--- na ---","--- na ---","--- na ---","--- na ---","--- na ---","--- na ---","--- na ---","--- na ---","--- na ---","--- na ---"]
["CMANT_14280",{"$f":"+'Cover Sheet'!$C$28","v":0},"ENTITY_ID","--- na ---","W1",5,{"$f":"TEXT('Cover Sheet'!$C$26, \"yyyymmdd\")","v":"19000100"},3,"--- na ---",14280,"--- na ---",{"$f":"ROUND(+ANST01!E92,4)","v":0},"--- na ---","--- na ---","--- na ---","--- na ---","--- na ---","--- na ---","--- na ---","--- na ---","--- na ---","--- na ---","--- na ---"]
["CMANT_14280",{"$f":"+'Cover Sheet'!$C$28","v":0},"ENTITY_ID","--- na ---","W1",5,{"$f":"TEXT('Cover Sheet'!$C$26, \"yyyymmdd\")","v":"19000100"},4,"--- na ---",14280,"--- na ---",{"$f":"ROUND(+ANST01!E93,4)","v":0},"--- na ---","--- na ---","--- na ---","--- na ---","--- na ---","--- na ---","--- na ---","--- na ---","--- na ---","--- na ---","--- na ---"]
["CMANT_14280",{"$f":"+'Cover Sheet'!$C$28","v":0},"ENTITY_ID","--- na ---","W1",5,{"$f":"TEXT('Cover Sheet'!$C$26, \"yyyymmdd\")","v":"19000100"},5,"--- na ---",14280,"--- na ---",{"$f":"ROUND(+ANST01!E94,4)","v":0},"--- na ---","--- na ---","--- na ---","--- na ---","--- na ---","--- na ---","--- na ---","--- na ---","--- na ---","--- na ---","--- na ---"]
["CMANT_14281",{"$f":"+'Cover Sheet'!$C$28","v":0},"ENTITY_ID","--- na ---","W0",5,{"$f":"TEXT('Cover Sheet'!$C$26, \"yyyymmdd\")","v":"19000100"},1,"--- na ---",14281,"--- na ---",{"$f":"ROUND(+ANST01!G90,4)","v":0},"--- na ---","--- na ---","--- na ---","--- na ---","--- na ---","--- na ---","--- na ---","--- na ---","--- na ---","--- na ---","--- na ---"]
["CMANT_14281",{"$f":"+'Cover Sheet'!$C$28","v":0},"ENTITY_ID","--- na ---","W0",5,{"$f":"TEXT('Cover Sheet'!$C$26, \"yyyymmdd\")","v":"19000100"},2,"--- na ---",14281,"--- na ---",{"$f":"ROUND(+ANST01!G91,4)","v":0},"--- na ---","--- na ---","--- na ---","--- na ---","--- na ---","--- na ---","--- na ---","--- na ---","--- na ---","--- na ---","--- na ---"]
["CMANT_14281",{"$f":"+'Cover Sheet'!$C$28","v":0},"ENTITY_ID","--- na ---","W0",5,{"$f":"TEXT('Cover Sheet'!$C$26, \"yyyymmdd\")","v":"19000100"},3,"--- na ---",14281,"--- na ---",{"$f":"ROUND(+ANST01!G92,4)","v":0},"--- na ---","--- na ---","--- na ---","--- na ---","--- na ---","--- na ---","--- na ---","--- na ---","--- na ---","--- na ---","--- na ---"]
["CMANT_14281",{"$f":"+'Cover Sheet'!$C$28","v":0},"ENTITY_ID","--- na ---","W0",5,{"$f":"TEXT('Cover Sheet'!$C$26, \"yyyymmdd\")","v":"19000100"},4,"--- na ---",14281,"--- na ---",{"$f":"ROUND(+ANST01!G93,4)","v":0},"--- na ---","--- na ---","--- na ---","--- na ---","--- na ---","--- na ---","--- na ---","--- na ---","--- na ---","--- na ---","--- na ---"]
["CMANT_14281",{"$f":"+'Cover Sheet'!$C$28","v":0},"ENTITY_ID","--- na ---","W0",5,{"$f":"TEXT('Cover Sheet'!$C$26, \"yyyymmdd\")","v":"19000100"},5,"--- na ---",14281,"--- na ---",{"$f":"ROUND(+ANST01!G94,4)","v":0},"--- na ---","--- na ---","--- na ---","--- na ---","--- na ---","--- na ---","--- na ---","--- na ---","--- na ---","--- na ---","--- na ---"]
["CMANT_14280",{"$f":"+'Cover Sheet'!$C$28","v":0},"ENTITY_ID","--- na ---","MT",6,{"$f":"TEXT('Cover Sheet'!$C$26, \"yyyymmdd\")","v":"19000100"},1,"--- na ---",14280,"--- na ---",{"$f":"ROUND(+ANST01!C58,4)","v":0},"--- na ---","--- na ---","--- na ---","--- na ---","--- na ---","--- na ---","--- na ---","--- na ---","--- na ---","--- na ---","--- na ---"]
["CMANT_14280",{"$f":"+'Cover Sheet'!$C$28","v":0},"ENTITY_ID","--- na ---","MT",6,{"$f":"TEXT('Cover Sheet'!$C$26, \"yyyymmdd\")","v":"19000100"},2,"--- na ---",14280,"--- na ---",{"$f":"ROUND(+ANST01!C59,4)","v":0},"--- na ---","--- na ---","--- na ---","--- na ---","--- na ---","--- na ---","--- na ---","--- na ---","--- na ---","--- na ---","--- na ---"]
["CMANT_14280",{"$f":"+'Cover Sheet'!$C$28","v":0},"ENTITY_ID","--- na ---","MT",6,{"$f":"TEXT('Cover Sheet'!$C$26, \"yyyymmdd\")","v":"19000100"},3,"--- na ---",14280,"--- na ---",{"$f":"ROUND(+ANST01!C60,4)","v":0},"--- na ---","--- na ---","--- na ---","--- na ---","--- na ---","--- na ---","--- na ---","--- na ---","--- na ---","--- na ---","--- na ---"]
["CMANT_14280",{"$f":"+'Cover Sheet'!$C$28","v":0},"ENTITY_ID","--- na ---","MT",6,{"$f":"TEXT('Cover Sheet'!$C$26, \"yyyymmdd\")","v":"19000100"},4,"--- na ---",14280,"--- na ---",{"$f":"ROUND(+ANST01!C61,4)","v":0},"--- na ---","--- na ---","--- na ---","--- na ---","--- na ---","--- na ---","--- na ---","--- na ---","--- na ---","--- na ---","--- na ---"]
["CMANT_14280",{"$f":"+'Cover Sheet'!$C$28","v":0},"ENTITY_ID","--- na ---","MT",6,{"$f":"TEXT('Cover Sheet'!$C$26, \"yyyymmdd\")","v":"19000100"},5,"--- na ---",14280,"--- na ---",{"$f":"ROUND(+ANST01!C62,4)","v":0},"--- na ---","--- na ---","--- na ---","--- na ---","--- na ---","--- na ---","--- na ---","--- na ---","--- na ---","--- na ---","--- na ---"]
["CMANT_14280",{"$f":"+'Cover Sheet'!$C$28","v":0},"ENTITY_ID","--- na ---","W1",6,{"$f":"TEXT('Cover Sheet'!$C$26, \"yyyymmdd\")","v":"19000100"},1,"--- na ---",14280,"--- na ---",{"$f":"ROUND(+ANST01!E58,4)","v":0},"--- na ---","--- na ---","--- na ---","--- na ---","--- na ---","--- na ---","--- na ---","--- na ---","--- na ---","--- na ---","--- na ---"]
["CMANT_14280",{"$f":"+'Cover Sheet'!$C$28","v":0},"ENTITY_ID","--- na ---","W1",6,{"$f":"TEXT('Cover Sheet'!$C$26, \"yyyymmdd\")","v":"19000100"},2,"--- na ---",14280,"--- na ---",{"$f":"ROUND(+ANST01!E59,4)","v":0},"--- na ---","--- na ---","--- na ---","--- na ---","--- na ---","--- na ---","--- na ---","--- na ---","--- na ---","--- na ---","--- na ---"]
["CMANT_14280",{"$f":"+'Cover Sheet'!$C$28","v":0},"ENTITY_ID","--- na ---","W1",6,{"$f":"TEXT('Cover Sheet'!$C$26, \"yyyymmdd\")","v":"19000100"},3,"--- na ---",14280,"--- na ---",{"$f":"ROUND(+ANST01!E60,4)","v":0},"--- na ---","--- na ---","--- na ---","--- na ---","--- na ---","--- na ---","--- na ---","--- na ---","--- na ---","--- na ---","--- na ---"]
["CMANT_14280",{"$f":"+'Cover Sheet'!$C$28","v":0},"ENTITY_ID","--- na ---","W1",6,{"$f":"TEXT('Cover Sheet'!$C$26, \"yyyymmdd\")","v":"19000100"},4,"--- na ---",14280,"--- na ---",{"$f":"ROUND(+ANST01!E61,4)","v":0},"--- na ---","--- na ---","--- na ---","--- na ---","--- na ---","--- na ---","--- na ---","--- na ---","--- na ---","--- na ---","--- na ---"]
["CMANT_14280",{"$f":"+'Cover Sheet'!$C$28","v":0},"ENTITY_ID","--- na ---","W1",6,{"$f":"TEXT('Cover Sheet'!$C$26, \"yyyymmdd\")","v":"19000100"},5,"--- na ---",14280,"--- na ---",{"$f":"ROUND(+ANST01!E62,4)","v":0},"--- na ---","--- na ---","--- na ---","--- na ---","--- na ---","--- na ---","--- na ---","--- na ---","--- na ---","--- na ---","--- na ---"]
["CMANT_14281",{"$f":"+'Cover Sheet'!$C$28","v":0},"ENTITY_ID","--- na ---","W0",6,{"$f":"TEXT('Cover Sheet'!$C$26, \"yyyymmdd\")","v":"19000100"},1,"--- na ---",14281,"--- na ---",{"$f":"ROUND(+ANST01!G58,4)","v":0},"--- na ---","--- na ---","--- na ---","--- na ---","--- na ---","--- na ---","--- na ---","--- na ---","--- na ---","--- na ---","--- na ---"]
["CMANT_14281",{"$f":"+'Cover Sheet'!$C$28","v":0},"ENTITY_ID","--- na ---","W0",6,{"$f":"TEXT('Cover Sheet'!$C$26, \"yyyymmdd\")","v":"19000100"},2,"--- na ---",14281,"--- na ---",{"$f":"ROUND(+ANST01!G59,4)","v":0},"--- na ---","--- na ---","--- na ---","--- na ---","--- na ---","--- na ---","--- na ---","--- na ---","--- na ---","--- na ---","--- na ---"]
["CMANT_14281",{"$f":"+'Cover Sheet'!$C$28","v":0},"ENTITY_ID","--- na ---","W0",6,{"$f":"TEXT('Cover Sheet'!$C$26, \"yyyymmdd\")","v":"19000100"},3,"--- na ---",14281,"--- na ---",{"$f":"ROUND(+ANST01!G60,4)","v":0},"--- na ---","--- na ---","--- na ---","--- na ---","--- na ---","--- na ---","--- na ---","--- na ---","--- na ---","--- na ---","--- na ---"]
["CMANT_14281",{"$f":"+'Cover Sheet'!$C$28","v":0},"ENTITY_ID","--- na ---","W0",6,{"$f":"TEXT('Cover Sheet'!$C$26, \"yyyymmdd\")","v":"19000100"},4,"--- na ---",14281,"--- na ---",{"$f":"ROUND(+ANST01!G61,4)","v":0},"--- na ---","--- na ---","--- na ---","--- na ---","--- na ---","--- na ---","--- na ---","--- na ---","--- na ---","--- na ---","--- na ---"]
["CMANT_14281",{"$f":"+'Cover Sheet'!$C$28","v":0},"ENTITY_ID","--- na ---","W0",6,{"$f":"TEXT('Cover Sheet'!$C$26, \"yyyymmdd\")","v":"19000100"},5,"--- na ---",14281,"--- na ---",{"$f":"ROUND(+ANST01!G62,4)","v":0},"--- na ---","--- na ---","--- na ---","--- na ---","--- na ---","--- na ---","--- na ---","--- na ---","--- na ---","--- na ---","--- na ---"]
["CMANT_14280",{"$f":"+'Cover Sheet'!$C$28","v":0},"ENTITY_ID","--- na ---","MT",7,{"$f":"TEXT('Cover Sheet'!$C$26, \"yyyymmdd\")","v":"19000100"},1,"--- na ---",14280,"--- na ---",{"$f":"ROUND(+ANST01!C18,4)","v":0},"--- na ---","--- na ---","--- na ---","--- na ---","--- na ---","--- na ---","--- na ---","--- na ---","--- na ---","--- na ---","--- na ---"]
["CMANT_14280",{"$f":"+'Cover Sheet'!$C$28","v":0},"ENTITY_ID","--- na ---","MT",7,{"$f":"TEXT('Cover Sheet'!$C$26, \"yyyymmdd\")","v":"19000100"},2,"--- na ---",14280,"--- na ---",{"$f":"ROUND(+ANST01!C19,4)","v":0},"--- na ---","--- na ---","--- na ---","--- na ---","--- na ---","--- na ---","--- na ---","--- na ---","--- na ---","--- na ---","--- na ---"]
["CMANT_14280",{"$f":"+'Cover Sheet'!$C$28","v":0},"ENTITY_ID","--- na ---","MT",7,{"$f":"TEXT('Cover Sheet'!$C$26, \"yyyymmdd\")","v":"19000100"},3,"--- na ---",14280,"--- na ---",{"$f":"ROUND(+ANST01!C20,4)","v":0},"--- na ---","--- na ---","--- na ---","--- na ---","--- na ---","--- na ---","--- na ---","--- na ---","--- na ---","--- na ---","--- na ---"]
["CMANT_14280",{"$f":"+'Cover Sheet'!$C$28","v":0},"ENTITY_ID","--- na ---","MT",7,{"$f":"TEXT('Cover Sheet'!$C$26, \"yyyymmdd\")","v":"19000100"},4,"--- na ---",14280,"--- na ---",{"$f":"ROUND(+ANST01!C21,4)","v":0},"--- na ---","--- na ---","--- na ---","--- na ---","--- na ---","--- na ---","--- na ---","--- na ---","--- na ---","--- na ---","--- na ---"]
["CMANT_14280",{"$f":"+'Cover Sheet'!$C$28","v":0},"ENTITY_ID","--- na ---","MT",7,{"$f":"TEXT('Cover Sheet'!$C$26, \"yyyymmdd\")","v":"19000100"},5,"--- na ---",14280,"--- na ---",{"$f":"ROUND(+ANST01!C22,4)","v":0},"--- na ---","--- na ---","--- na ---","--- na ---","--- na ---","--- na ---","--- na ---","--- na ---","--- na ---","--- na ---","--- na ---"]
["CMANT_14280",{"$f":"+'Cover Sheet'!$C$28","v":0},"ENTITY_ID","--- na ---","W1",7,{"$f":"TEXT('Cover Sheet'!$C$26, \"yyyymmdd\")","v":"19000100"},1,"--- na ---",14280,"--- na ---",{"$f":"ROUND(+ANST01!E18,4)","v":0},"--- na ---","--- na ---","--- na ---","--- na ---","--- na ---","--- na ---","--- na ---","--- na ---","--- na ---","--- na ---","--- na ---"]
["CMANT_14280",{"$f":"+'Cover Sheet'!$C$28","v":0},"ENTITY_ID","--- na ---","W1",7,{"$f":"TEXT('Cover Sheet'!$C$26, \"yyyymmdd\")","v":"19000100"},2,"--- na ---",14280,"--- na ---",{"$f":"ROUND(+ANST01!E19,4)","v":0},"--- na ---","--- na ---","--- na ---","--- na ---","--- na ---","--- na ---","--- na ---","--- na ---","--- na ---","--- na ---","--- na ---"]
["CMANT_14280",{"$f":"+'Cover Sheet'!$C$28","v":0},"ENTITY_ID","--- na ---","W1",7,{"$f":"TEXT('Cover Sheet'!$C$26, \"yyyymmdd\")","v":"19000100"},3,"--- na ---",14280,"--- na ---",{"$f":"ROUND(+ANST01!E20,4)","v":0},"--- na ---","--- na ---","--- na ---","--- na ---","--- na ---","--- na ---","--- na ---","--- na ---","--- na ---","--- na ---","--- na ---"]
["CMANT_14280",{"$f":"+'Cover Sheet'!$C$28","v":0},"ENTITY_ID","--- na ---","W1",7,{"$f":"TEXT('Cover Sheet'!$C$26, \"yyyymmdd\")","v":"19000100"},4,"--- na ---",14280,"--- na ---",{"$f":"ROUND(+ANST01!E21,4)","v":0},"--- na ---","--- na ---","--- na ---","--- na ---","--- na ---","--- na ---","--- na ---","--- na ---","--- na ---","--- na ---","--- na ---"]
["CMANT_14280",{"$f":"+'Cover Sheet'!$C$28","v":0},"ENTITY_ID","--- na ---","W1",7,{"$f":"TEXT('Cover Sheet'!$C$26, \"yyyymmdd\")","v":"19000100"},5,"--- na ---",14280,"--- na ---",{"$f":"ROUND(+ANST01!E22,4)","v":0},"--- na ---","--- na ---","--- na ---","--- na ---","--- na ---","--- na ---","--- na ---","--- na ---","--- na ---","--- na ---","--- na ---"]
["CMANT_14281",{"$f":"+'Cover Sheet'!$C$28","v":0},"ENTITY_ID","--- na ---","W0",7,{"$f":"TEXT('Cover Sheet'!$C$26, \"yyyymmdd\")","v":"19000100"},1,"--- na ---",14281,"--- na ---",{"$f":"ROUND(+ANST01!G18,4)","v":0},"--- na ---","--- na ---","--- na ---","--- na ---","--- na ---","--- na ---","--- na ---","--- na ---","--- na ---","--- na ---","--- na ---"]
["CMANT_14281",{"$f":"+'Cover Sheet'!$C$28","v":0},"ENTITY_ID","--- na ---","W0",7,{"$f":"TEXT('Cover Sheet'!$C$26, \"yyyymmdd\")","v":"19000100"},2,"--- na ---",14281,"--- na ---",{"$f":"ROUND(+ANST01!G19,4)","v":0},"--- na ---","--- na ---","--- na ---","--- na ---","--- na ---","--- na ---","--- na ---","--- na ---","--- na ---","--- na ---","--- na ---"]
["CMANT_14281",{"$f":"+'Cover Sheet'!$C$28","v":0},"ENTITY_ID","--- na ---","W0",7,{"$f":"TEXT('Cover Sheet'!$C$26, \"yyyymmdd\")","v":"19000100"},3,"--- na ---",14281,"--- na ---",{"$f":"ROUND(+ANST01!G20,4)","v":0},"--- na ---","--- na ---","--- na ---","--- na ---","--- na ---","--- na ---","--- na ---","--- na ---","--- na ---","--- na ---","--- na ---"]
["CMANT_14281",{"$f":"+'Cover Sheet'!$C$28","v":0},"ENTITY_ID","--- na ---","W0",7,{"$f":"TEXT('Cover Sheet'!$C$26, \"yyyymmdd\")","v":"19000100"},4,"--- na ---",14281,"--- na ---",{"$f":"ROUND(+ANST01!G21,4)","v":0},"--- na ---","--- na ---","--- na ---","--- na ---","--- na ---","--- na ---","--- na ---","--- na ---","--- na ---","--- na ---","--- na ---"]
["CMANT_14281",{"$f":"+'Cover Sheet'!$C$28","v":0},"ENTITY_ID","--- na ---","W0",7,{"$f":"TEXT('Cover Sheet'!$C$26, \"yyyymmdd\")","v":"19000100"},5,"--- na ---",14281,"--- na ---",{"$f":"ROUND(+ANST01!G22,4)","v":0},"--- na ---","--- na ---","--- na ---","--- na ---","--- na ---","--- na ---","--- na ---","--- na ---","--- na ---","--- na ---","--- na ---"]
["CMANT_14280",{"$f":"+'Cover Sheet'!$C$28","v":0},"ENTITY_ID","--- na ---","MT",8,{"$f":"TEXT('Cover Sheet'!$C$26, \"yyyymmdd\")","v":"19000100"},1,"--- na ---",14280,"--- na ---",{"$f":"ROUND(+ANST01!C106,4)","v":0},"--- na ---","--- na ---","--- na ---","--- na ---","--- na ---","--- na ---","--- na ---","--- na ---","--- na ---","--- na ---","--- na ---"]
["CMANT_14280",{"$f":"+'Cover Sheet'!$C$28","v":0},"ENTITY_ID","--- na ---","MT",8,{"$f":"TEXT('Cover Sheet'!$C$26, \"yyyymmdd\")","v":"19000100"},2,"--- na ---",14280,"--- na ---",{"$f":"ROUND(+ANST01!C107,4)","v":0},"--- na ---","--- na ---","--- na ---","--- na ---","--- na ---","--- na ---","--- na ---","--- na ---","--- na ---","--- na ---","--- na ---"]
["CMANT_14280",{"$f":"+'Cover Sheet'!$C$28","v":0},"ENTITY_ID","--- na ---","MT",8,{"$f":"TEXT('Cover Sheet'!$C$26, \"yyyymmdd\")","v":"19000100"},3,"--- na ---",14280,"--- na ---",{"$f":"ROUND(+ANST01!C108,4)","v":0},"--- na ---","--- na ---","--- na ---","--- na ---","--- na ---","--- na ---","--- na ---","--- na ---","--- na ---","--- na ---","--- na ---"]
["CMANT_14280",{"$f":"+'Cover Sheet'!$C$28","v":0},"ENTITY_ID","--- na ---","MT",8,{"$f":"TEXT('Cover Sheet'!$C$26, \"yyyymmdd\")","v":"19000100"},4,"--- na ---",14280,"--- na ---",{"$f":"ROUND(+ANST01!C109,4)","v":0},"--- na ---","--- na ---","--- na ---","--- na ---","--- na ---","--- na ---","--- na ---","--- na ---","--- na ---","--- na ---","--- na ---"]
["CMANT_14280",{"$f":"+'Cover Sheet'!$C$28","v":0},"ENTITY_ID","--- na ---","MT",8,{"$f":"TEXT('Cover Sheet'!$C$26, \"yyyymmdd\")","v":"19000100"},5,"--- na ---",14280,"--- na ---",{"$f":"ROUND(+ANST01!C110,4)","v":0},"--- na ---","--- na ---","--- na ---","--- na ---","--- na ---","--- na ---","--- na ---","--- na ---","--- na ---","--- na ---","--- na ---"]
["CMANT_14280",{"$f":"+'Cover Sheet'!$C$28","v":0},"ENTITY_ID","--- na ---","W1",8,{"$f":"TEXT('Cover Sheet'!$C$26, \"yyyymmdd\")","v":"19000100"},1,"--- na ---",14280,"--- na ---",{"$f":"ROUND(+ANST01!E106,4)","v":0},"--- na ---","--- na ---","--- na ---","--- na ---","--- na ---","--- na ---","--- na ---","--- na ---","--- na ---","--- na ---","--- na ---"]
["CMANT_14280",{"$f":"+'Cover Sheet'!$C$28","v":0},"ENTITY_ID","--- na ---","W1",8,{"$f":"TEXT('Cover Sheet'!$C$26, \"yyyymmdd\")","v":"19000100"},2,"--- na ---",14280,"--- na ---",{"$f":"ROUND(+ANST01!E107,4)","v":0},"--- na ---","--- na ---","--- na ---","--- na ---","--- na ---","--- na ---","--- na ---","--- na ---","--- na ---","--- na ---","--- na ---"]
["CMANT_14280",{"$f":"+'Cover Sheet'!$C$28","v":0},"ENTITY_ID","--- na ---","W1",8,{"$f":"TEXT('Cover Sheet'!$C$26, \"yyyymmdd\")","v":"19000100"},3,"--- na ---",14280,"--- na ---",{"$f":"ROUND(+ANST01!E108,4)","v":0},"--- na ---","--- na ---","--- na ---","--- na ---","--- na ---","--- na ---","--- na ---","--- na ---","--- na ---","--- na ---","--- na ---"]
["CMANT_14280",{"$f":"+'Cover Sheet'!$C$28","v":0},"ENTITY_ID","--- na ---","W1",8,{"$f":"TEXT('Cover Sheet'!$C$26, \"yyyymmdd\")","v":"19000100"},4,"--- na ---",14280,"--- na ---",{"$f":"ROUND(+ANST01!E109,4)","v":0},"--- na ---","--- na ---","--- na ---","--- na ---","--- na ---","--- na ---","--- na ---","--- na ---","--- na ---","--- na ---","--- na ---"]
["CMANT_14280",{"$f":"+'Cover Sheet'!$C$28","v":0},"ENTITY_ID","--- na ---","W1",8,{"$f":"TEXT('Cover Sheet'!$C$26, \"yyyymmdd\")","v":"19000100"},5,"--- na ---",14280,"--- na ---",{"$f":"ROUND(+ANST01!E110,4)","v":0},"--- na ---","--- na ---","--- na ---","--- na ---","--- na ---","--- na ---","--- na ---","--- na ---","--- na ---","--- na ---","--- na ---"]
["CMANT_14281",{"$f":"+'Cover Sheet'!$C$28","v":0},"ENTITY_ID","--- na ---","W0",8,{"$f":"TEXT('Cover Sheet'!$C$26, \"yyyymmdd\")","v":"19000100"},1,"--- na ---",14281,"--- na ---",{"$f":"ROUND(+ANST01!G106,4)","v":0},"--- na ---","--- na ---","--- na ---","--- na ---","--- na ---","--- na ---","--- na ---","--- na ---","--- na ---","--- na ---","--- na ---"]
["CMANT_14281",{"$f":"+'Cover Sheet'!$C$28","v":0},"ENTITY_ID","--- na ---","W0",8,{"$f":"TEXT('Cover Sheet'!$C$26, \"yyyymmdd\")","v":"19000100"},2,"--- na ---",14281,"--- na ---",{"$f":"ROUND(+ANST01!G107,4)","v":0},"--- na ---","--- na ---","--- na ---","--- na ---","--- na ---","--- na ---","--- na ---","--- na ---","--- na ---","--- na ---","--- na ---"]
["CMANT_14281",{"$f":"+'Cover Sheet'!$C$28","v":0},"ENTITY_ID","--- na ---","W0",8,{"$f":"TEXT('Cover Sheet'!$C$26, \"yyyymmdd\")","v":"19000100"},3,"--- na ---",14281,"--- na ---",{"$f":"ROUND(+ANST01!G108,4)","v":0},"--- na ---","--- na ---","--- na ---","--- na ---","--- na ---","--- na ---","--- na ---","--- na ---","--- na ---","--- na ---","--- na ---"]
["CMANT_14281",{"$f":"+'Cover Sheet'!$C$28","v":0},"ENTITY_ID","--- na ---","W0",8,{"$f":"TEXT('Cover Sheet'!$C$26, \"yyyymmdd\")","v":"19000100"},4,"--- na ---",14281,"--- na ---",{"$f":"ROUND(+ANST01!G109,4)","v":0},"--- na ---","--- na ---","--- na ---","--- na ---","--- na ---","--- na ---","--- na ---","--- na ---","--- na ---","--- na ---","--- na ---"]
["CMANT_14281",{"$f":"+'Cover Sheet'!$C$28","v":0},"ENTITY_ID","--- na ---","W0",8,{"$f":"TEXT('Cover Sheet'!$C$26, \"yyyymmdd\")","v":"19000100"},5,"--- na ---",14281,"--- na ---",{"$f":"ROUND(+ANST01!G110,4)","v":0},"--- na ---","--- na ---","--- na ---","--- na ---","--- na ---","--- na ---","--- na ---","--- na ---","--- na ---","--- na ---","--- na ---"]
["CMANT_14280",{"$f":"+'Cover Sheet'!$C$28","v":0},"ENTITY_ID","--- na ---","MT",9,{"$f":"TEXT('Cover Sheet'!$C$26, \"yyyymmdd\")","v":"19000100"},1,"--- na ---",14280,"--- na ---",{"$f":"ROUND(+ANST01!C42,4)","v":0},"--- na ---","--- na ---","--- na ---","--- na ---","--- na ---","--- na ---","--- na ---","--- na ---","--- na ---","--- na ---","--- na ---"]
["CMANT_14280",{"$f":"+'Cover Sheet'!$C$28","v":0},"ENTITY_ID","--- na ---","MT",9,{"$f":"TEXT('Cover Sheet'!$C$26, \"yyyymmdd\")","v":"19000100"},2,"--- na ---",14280,"--- na ---",{"$f":"ROUND(+ANST01!C43,4)","v":0},"--- na ---","--- na ---","--- na ---","--- na ---","--- na ---","--- na ---","--- na ---","--- na ---","--- na ---","--- na ---","--- na ---"]
["CMANT_14280",{"$f":"+'Cover Sheet'!$C$28","v":0},"ENTITY_ID","--- na ---","MT",9,{"$f":"TEXT('Cover Sheet'!$C$26, \"yyyymmdd\")","v":"19000100"},3,"--- na ---",14280,"--- na ---",{"$f":"ROUND(+ANST01!C44,4)","v":0},"--- na ---","--- na ---","--- na ---","--- na ---","--- na ---","--- na ---","--- na ---","--- na ---","--- na ---","--- na ---","--- na ---"]
["CMANT_14280",{"$f":"+'Cover Sheet'!$C$28","v":0},"ENTITY_ID","--- na ---","MT",9,{"$f":"TEXT('Cover Sheet'!$C$26, \"yyyymmdd\")","v":"19000100"},4,"--- na ---",14280,"--- na ---",{"$f":"ROUND(+ANST01!C45,4)","v":0},"--- na ---","--- na ---","--- na ---","--- na ---","--- na ---","--- na ---","--- na ---","--- na ---","--- na ---","--- na ---","--- na ---"]
["CMANT_14280",{"$f":"+'Cover Sheet'!$C$28","v":0},"ENTITY_ID","--- na ---","MT",9,{"$f":"TEXT('Cover Sheet'!$C$26, \"yyyymmdd\")","v":"19000100"},5,"--- na ---",14280,"--- na ---",{"$f":"ROUND(+ANST01!C46,4)","v":0},"--- na ---","--- na ---","--- na ---","--- na ---","--- na ---","--- na ---","--- na ---","--- na ---","--- na ---","--- na ---","--- na ---"]
["CMANT_14280",{"$f":"+'Cover Sheet'!$C$28","v":0},"ENTITY_ID","--- na ---","W1",9,{"$f":"TEXT('Cover Sheet'!$C$26, \"yyyymmdd\")","v":"19000100"},1,"--- na ---",14280,"--- na ---",{"$f":"ROUND(+ANST01!E42,4)","v":0},"--- na ---","--- na ---","--- na ---","--- na ---","--- na ---","--- na ---","--- na ---","--- na ---","--- na ---","--- na ---","--- na ---"]
["CMANT_14280",{"$f":"+'Cover Sheet'!$C$28","v":0},"ENTITY_ID","--- na ---","W1",9,{"$f":"TEXT('Cover Sheet'!$C$26, \"yyyymmdd\")","v":"19000100"},2,"--- na ---",14280,"--- na ---",{"$f":"ROUND(+ANST01!E43,4)","v":0},"--- na ---","--- na ---","--- na ---","--- na ---","--- na ---","--- na ---","--- na ---","--- na ---","--- na ---","--- na ---","--- na ---"]
["CMANT_14280",{"$f":"+'Cover Sheet'!$C$28","v":0},"ENTITY_ID","--- na ---","W1",9,{"$f":"TEXT('Cover Sheet'!$C$26, \"yyyymmdd\")","v":"19000100"},3,"--- na ---",14280,"--- na ---",{"$f":"ROUND(+ANST01!E44,4)","v":0},"--- na ---","--- na ---","--- na ---","--- na ---","--- na ---","--- na ---","--- na ---","--- na ---","--- na ---","--- na ---","--- na ---"]
["CMANT_14280",{"$f":"+'Cover Sheet'!$C$28","v":0},"ENTITY_ID","--- na ---","W1",9,{"$f":"TEXT('Cover Sheet'!$C$26, \"yyyymmdd\")","v":"19000100"},4,"--- na ---",14280,"--- na ---",{"$f":"ROUND(+ANST01!E45,4)","v":0},"--- na ---","--- na ---","--- na ---","--- na ---","--- na ---","--- na ---","--- na ---","--- na ---","--- na ---","--- na ---","--- na ---"]
["CMANT_14280",{"$f":"+'Cover Sheet'!$C$28","v":0},"ENTITY_ID","--- na ---","W1",9,{"$f":"TEXT('Cover Sheet'!$C$26, \"yyyymmdd\")","v":"19000100"},5,"--- na ---",14280,"--- na ---",{"$f":"ROUND(+ANST01!E46,4)","v":0},"--- na ---","--- na ---","--- na ---","--- na ---","--- na ---","--- na ---","--- na ---","--- na ---","--- na ---","--- na ---","--- na ---"]
["CMANT_14281",{"$f":"+'Cover Sheet'!$C$28","v":0},"ENTITY_ID","--- na ---","W0",9,{"$f":"TEXT('Cover Sheet'!$C$26, \"yyyymmdd\")","v":"19000100"},1,"--- na ---",14281,"--- na ---",{"$f":"ROUND(+ANST01!G42,4)","v":0},"--- na ---","--- na ---","--- na ---","--- na ---","--- na ---","--- na ---","--- na ---","--- na ---","--- na ---","--- na ---","--- na ---"]
["CMANT_14281",{"$f":"+'Cover Sheet'!$C$28","v":0},"ENTITY_ID","--- na ---","W0",9,{"$f":"TEXT('Cover Sheet'!$C$26, \"yyyymmdd\")","v":"19000100"},2,"--- na ---",14281,"--- na ---",{"$f":"ROUND(+ANST01!G43,4)","v":0},"--- na ---","--- na ---","--- na ---","--- na ---","--- na ---","--- na ---","--- na ---","--- na ---","--- na ---","--- na ---","--- na ---"]
["CMANT_14281",{"$f":"+'Cover Sheet'!$C$28","v":0},"ENTITY_ID","--- na ---","W0",9,{"$f":"TEXT('Cover Sheet'!$C$26, \"yyyymmdd\")","v":"19000100"},3,"--- na ---",14281,"--- na ---",{"$f":"ROUND(+ANST01!G44,4)","v":0},"--- na ---","--- na ---","--- na ---","--- na ---","--- na ---","--- na ---","--- na ---","--- na ---","--- na ---","--- na ---","--- na ---"]
["CMANT_14281",{"$f":"+'Cover Sheet'!$C$28","v":0},"ENTITY_ID","--- na ---","W0",9,{"$f":"TEXT('Cover Sheet'!$C$26, \"yyyymmdd\")","v":"19000100"},4,"--- na ---",14281,"--- na ---",{"$f":"ROUND(+ANST01!G45,4)","v":0},"--- na ---","--- na ---","--- na ---","--- na ---","--- na ---","--- na ---","--- na ---","--- na ---","--- na ---","--- na ---","--- na ---"]
["CMANT_14281",{"$f":"+'Cover Sheet'!$C$28","v":0},"ENTITY_ID","--- na ---","W0",9,{"$f":"TEXT('Cover Sheet'!$C$26, \"yyyymmdd\")","v":"19000100"},5,"--- na ---",14281,"--- na ---",{"$f":"ROUND(+ANST01!G46,4)","v":0},"--- na ---","--- na ---","--- na ---","--- na ---","--- na ---","--- na ---","--- na ---","--- na ---","--- na ---","--- na ---","--- na ---"]
["CMANT_14281",{"$f":"+'Cover Sheet'!$C$28","v":0},"ENTITY_ID","--- na ---","W0",10,{"$f":"TEXT('Cover Sheet'!$C$26, \"yyyymmdd\")","v":"19000100"},1,"--- na ---",14281,"--- na ---",{"$f":"ROUND(+ANST01!G122,4)","v":0},"--- na ---","--- na ---","--- na ---","--- na ---","--- na ---","--- na ---","--- na ---","--- na ---","--- na ---","--- na ---","--- na ---"]
["CMANT_14281",{"$f":"+'Cover Sheet'!$C$28","v":0},"ENTITY_ID","--- na ---","W0",10,{"$f":"TEXT('Cover Sheet'!$C$26, \"yyyymmdd\")","v":"19000100"},2,"--- na ---",14281,"--- na ---",{"$f":"ROUND(+ANST01!G123,4)","v":0},"--- na ---","--- na ---","--- na ---","--- na ---","--- na ---","--- na ---","--- na ---","--- na ---","--- na ---","--- na ---","--- na ---"]
["CMANT_14281",{"$f":"+'Cover Sheet'!$C$28","v":0},"ENTITY_ID","--- na ---","W0",10,{"$f":"TEXT('Cover Sheet'!$C$26, \"yyyymmdd\")","v":"19000100"},3,"--- na ---",14281,"--- na ---",{"$f":"ROUND(+ANST01!G124,4)","v":0},"--- na ---","--- na ---","--- na ---","--- na ---","--- na ---","--- na ---","--- na ---","--- na ---","--- na ---","--- na ---","--- na ---"]
["CMANT_14281",{"$f":"+'Cover Sheet'!$C$28","v":0},"ENTITY_ID","--- na ---","W0",10,{"$f":"TEXT('Cover Sheet'!$C$26, \"yyyymmdd\")","v":"19000100"},4,"--- na ---",14281,"--- na ---",{"$f":"ROUND(+ANST01!G125,4)","v":0},"--- na ---","--- na ---","--- na ---","--- na ---","--- na ---","--- na ---","--- na ---","--- na ---","--- na ---","--- na ---","--- na ---"]
["CMANT_14281",{"$f":"+'Cover Sheet'!$C$28","v":0},"ENTITY_ID","--- na ---","W0",10,{"$f":"TEXT('Cover Sheet'!$C$26, \"yyyymmdd\")","v":"19000100"},5,"--- na ---",14281,"--- na ---",{"$f":"ROUND(+ANST01!G126,4)","v":0},"--- na ---","--- na ---","--- na ---","--- na ---","--- na ---","--- na ---","--- na ---","--- na ---","--- na ---","--- na ---","--- na ---"]
["CMANT_14281",{"$f":"+'Cover Sheet'!$C$28","v":0},"ENTITY_ID","--- na ---","W0",11,{"$f":"TEXT('Cover Sheet'!$C$26, \"yyyymmdd\")","v":"19000100"},1,"--- na ---",14281,"--- na ---",{"$f":"ROUND(+ANST01!G114,4)","v":0},"--- na ---","--- na ---","--- na ---","--- na ---","--- na ---","--- na ---","--- na ---","--- na ---","--- na ---","--- na ---","--- na ---"]
["CMANT_14281",{"$f":"+'Cover Sheet'!$C$28","v":0},"ENTITY_ID","--- na ---","W0",11,{"$f":"TEXT('Cover Sheet'!$C$26, \"yyyymmdd\")","v":"19000100"},2,"--- na ---",14281,"--- na ---",{"$f":"ROUND(+ANST01!G115,4)","v":0},"--- na ---","--- na ---","--- na ---","--- na ---","--- na ---","--- na ---","--- na ---","--- na ---","--- na ---","--- na ---","--- na ---"]
["CMANT_14281",{"$f":"+'Cover Sheet'!$C$28","v":0},"ENTITY_ID","--- na ---","W0",11,{"$f":"TEXT('Cover Sheet'!$C$26, \"yyyymmdd\")","v":"19000100"},3,"--- na ---",14281,"--- na ---",{"$f":"ROUND(+ANST01!G116,4)","v":0},"--- na ---","--- na ---","--- na ---","--- na ---","--- na ---","--- na ---","--- na ---","--- na ---","--- na ---","--- na ---","--- na ---"]
["CMANT_14281",{"$f":"+'Cover Sheet'!$C$28","v":0},"ENTITY_ID","--- na ---","W0",11,{"$f":"TEXT('Cover Sheet'!$C$26, \"yyyymmdd\")","v":"19000100"},4,"--- na ---",14281,"--- na ---",{"$f":"ROUND(+ANST01!G117,4)","v":0},"--- na ---","--- na ---","--- na ---","--- na ---","--- na ---","--- na ---","--- na ---","--- na ---","--- na ---","--- na ---","--- na ---"]
["CMANT_14281",{"$f":"+'Cover Sheet'!$C$28","v":0},"ENTITY_ID","--- na ---","W0",11,{"$f":"TEXT('Cover Sheet'!$C$26, \"yyyymmdd\")","v":"19000100"},5,"--- na ---",14281,"--- na ---",{"$f":"ROUND(+ANST01!G118,4)","v":0},"--- na ---","--- na ---","--- na ---","--- na ---","--- na ---","--- na ---","--- na ---","--- na ---","--- na ---","--- na ---","--- na ---"]
["CMANT_14281",{"$f":"+'Cover Sheet'!$C$28","v":0},"ENTITY_ID","--- na ---","W0",12,{"$f":"TEXT('Cover Sheet'!$C$26, \"yyyymmdd\")","v":"19000100"},1,"--- na ---",14281,"--- na ---",{"$f":"ROUND(+ANST01!G130,4)","v":0},"--- na ---","--- na ---","--- na ---","--- na ---","--- na ---","--- na ---","--- na ---","--- na ---","--- na ---","--- na ---","--- na ---"]
["CMANT_14281",{"$f":"+'Cover Sheet'!$C$28","v":0},"ENTITY_ID","--- na ---","W0",12,{"$f":"TEXT('Cover Sheet'!$C$26, \"yyyymmdd\")","v":"19000100"},2,"--- na ---",14281,"--- na ---",{"$f":"ROUND(+ANST01!G131,4)","v":0},"--- na ---","--- na ---","--- na ---","--- na ---","--- na ---","--- na ---","--- na ---","--- na ---","--- na ---","--- na ---","--- na ---"]
["CMANT_14281",{"$f":"+'Cover Sheet'!$C$28","v":0},"ENTITY_ID","--- na ---","W0",12,{"$f":"TEXT('Cover Sheet'!$C$26, \"yyyymmdd\")","v":"19000100"},3,"--- na ---",14281,"--- na ---",{"$f":"ROUND(+ANST01!G132,4)","v":0},"--- na ---","--- na ---","--- na ---","--- na ---","--- na ---","--- na ---","--- na ---","--- na ---","--- na ---","--- na ---","--- na ---"]
["CMANT_14281",{"$f":"+'Cover Sheet'!$C$28","v":0},"ENTITY_ID","--- na ---","W0",12,{"$f":"TEXT('Cover Sheet'!$C$26, \"yyyymmdd\")","v":"19000100"},4,"--- na ---",14281,"--- na ---",{"$f":"ROUND(+ANST01!G133,4)","v":0},"--- na ---","--- na ---","--- na ---","--- na ---","--- na ---","--- na ---","--- na ---","--- na ---","--- na ---","--- na ---","--- na ---"]
["CMANT_14281",{"$f":"+'Cover Sheet'!$C$28","v":0},"ENTITY_ID","--- na ---","W0",12,{"$f":"TEXT('Cover Sheet'!$C$26, \"yyyymmdd\")","v":"19000100"},5,"--- na ---",14281,"--- na ---",{"$f":"ROUND(+ANST01!G134,4)","v":0},"--- na ---","--- na ---","--- na ---","--- na ---","--- na ---","--- na ---","--- na ---","--- na ---","--- na ---","--- na ---","--- na ---"]
["CMANT_14281",{"$f":"+'Cover Sheet'!$C$28","v":0},"ENTITY_ID","--- na ---","W0",13,{"$f":"TEXT('Cover Sheet'!$C$26, \"yyyymmdd\")","v":"19000100"},1,"--- na ---",14281,"--- na ---",{"$f":"ROUND(+ANST01!G138,4)","v":0},"--- na ---","--- na ---","--- na ---","--- na ---","--- na ---","--- na ---","--- na ---","--- na ---","--- na ---","--- na ---","--- na ---"]
["CMANT_14281",{"$f":"+'Cover Sheet'!$C$28","v":0},"ENTITY_ID","--- na ---","W0",13,{"$f":"TEXT('Cover Sheet'!$C$26, \"yyyymmdd\")","v":"19000100"},2,"--- na ---",14281,"--- na ---",{"$f":"ROUND(+ANST01!G139,4)","v":0},"--- na ---","--- na ---","--- na ---","--- na ---","--- na ---","--- na ---","--- na ---","--- na ---","--- na ---","--- na ---","--- na ---"]
["CMANT_14281",{"$f":"+'Cover Sheet'!$C$28","v":0},"ENTITY_ID","--- na ---","W0",13,{"$f":"TEXT('Cover Sheet'!$C$26, \"yyyymmdd\")","v":"19000100"},3,"--- na ---",14281,"--- na ---",{"$f":"ROUND(+ANST01!G140,4)","v":0},"--- na ---","--- na ---","--- na ---","--- na ---","--- na ---","--- na ---","--- na ---","--- na ---","--- na ---","--- na ---","--- na ---"]
["CMANT_14281",{"$f":"+'Cover Sheet'!$C$28","v":0},"ENTITY_ID","--- na ---","W0",13,{"$f":"TEXT('Cover Sheet'!$C$26, \"yyyymmdd\")","v":"19000100"},4,"--- na ---",14281,"--- na ---",{"$f":"ROUND(+ANST01!G141,4)","v":0},"--- na ---","--- na ---","--- na ---","--- na ---","--- na ---","--- na ---","--- na ---","--- na ---","--- na ---","--- na ---","--- na ---"]
["CMANT_14281",{"$f":"+'Cover Sheet'!$C$28","v":0},"ENTITY_ID","--- na ---","W0",13,{"$f":"TEXT('Cover Sheet'!$C$26, \"yyyymmdd\")","v":"19000100"},5,"--- na ---",14281,"--- na ---",{"$f":"ROUND(+ANST01!G142,4)","v":0},"--- na ---","--- na ---","--- na ---","--- na ---","--- na ---","--- na ---","--- na ---","--- na ---","--- na ---","--- na ---","--- na ---"]
["CMANT_14280",{"$f":"+'Cover Sheet'!$C$28","v":0},"ENTITY_ID","--- na ---","MT",14,{"$f":"TEXT('Cover Sheet'!$C$26, \"yyyymmdd\")","v":"19000100"},1,"--- na ---",14280,"--- na ---",{"$f":"ROUND(+ANST01!C50,4)","v":0},"--- na ---","--- na ---","--- na ---","--- na ---","--- na ---","--- na ---","--- na ---","--- na ---","--- na ---","--- na ---","--- na ---"]
["CMANT_14280",{"$f":"+'Cover Sheet'!$C$28","v":0},"ENTITY_ID","--- na ---","MT",14,{"$f":"TEXT('Cover Sheet'!$C$26, \"yyyymmdd\")","v":"19000100"},2,"--- na ---",14280,"--- na ---",{"$f":"ROUND(+ANST01!C51,4)","v":0},"--- na ---","--- na ---","--- na ---","--- na ---","--- na ---","--- na ---","--- na ---","--- na ---","--- na ---","--- na ---","--- na ---"]
["CMANT_14280",{"$f":"+'Cover Sheet'!$C$28","v":0},"ENTITY_ID","--- na ---","MT",14,{"$f":"TEXT('Cover Sheet'!$C$26, \"yyyymmdd\")","v":"19000100"},3,"--- na ---",14280,"--- na ---",{"$f":"ROUND(+ANST01!C52,4)","v":0},"--- na ---","--- na ---","--- na ---","--- na ---","--- na ---","--- na ---","--- na ---","--- na ---","--- na ---","--- na ---","--- na ---"]
["CMANT_14280",{"$f":"+'Cover Sheet'!$C$28","v":0},"ENTITY_ID","--- na ---","MT",14,{"$f":"TEXT('Cover Sheet'!$C$26, \"yyyymmdd\")","v":"19000100"},4,"--- na ---",14280,"--- na ---",{"$f":"ROUND(+ANST01!C53,4)","v":0},"--- na ---","--- na ---","--- na ---","--- na ---","--- na ---","--- na ---","--- na ---","--- na ---","--- na ---","--- na ---","--- na ---"]
["CMANT_14280",{"$f":"+'Cover Sheet'!$C$28","v":0},"ENTITY_ID","--- na ---","MT",14,{"$f":"TEXT('Cover Sheet'!$C$26, \"yyyymmdd\")","v":"19000100"},5,"--- na ---",14280,"--- na ---",{"$f":"ROUND(+ANST01!C54,4)","v":0},"--- na ---","--- na ---","--- na ---","--- na ---","--- na ---","--- na ---","--- na ---","--- na ---","--- na ---","--- na ---","--- na ---"]
["CMANT_14280",{"$f":"+'Cover Sheet'!$C$28","v":0},"ENTITY_ID","--- na ---","W1",14,{"$f":"TEXT('Cover Sheet'!$C$26, \"yyyymmdd\")","v":"19000100"},1,"--- na ---",14280,"--- na ---",{"$f":"ROUND(+ANST01!E50,4)","v":0},"--- na ---","--- na ---","--- na ---","--- na ---","--- na ---","--- na ---","--- na ---","--- na ---","--- na ---","--- na ---","--- na ---"]
["CMANT_14280",{"$f":"+'Cover Sheet'!$C$28","v":0},"ENTITY_ID","--- na ---","W1",14,{"$f":"TEXT('Cover Sheet'!$C$26, \"yyyymmdd\")","v":"19000100"},2,"--- na ---",14280,"--- na ---",{"$f":"ROUND(+ANST01!E51,4)","v":0},"--- na ---","--- na ---","--- na ---","--- na ---","--- na ---","--- na ---","--- na ---","--- na ---","--- na ---","--- na ---","--- na ---"]
["CMANT_14280",{"$f":"+'Cover Sheet'!$C$28","v":0},"ENTITY_ID","--- na ---","W1",14,{"$f":"TEXT('Cover Sheet'!$C$26, \"yyyymmdd\")","v":"19000100"},3,"--- na ---",14280,"--- na ---",{"$f":"ROUND(+ANST01!E52,4)","v":0},"--- na ---","--- na ---","--- na ---","--- na ---","--- na ---","--- na ---","--- na ---","--- na ---","--- na ---","--- na ---","--- na ---"]
["CMANT_14280",{"$f":"+'Cover Sheet'!$C$28","v":0},"ENTITY_ID","--- na ---","W1",14,{"$f":"TEXT('Cover Sheet'!$C$26, \"yyyymmdd\")","v":"19000100"},4,"--- na ---",14280,"--- na ---",{"$f":"ROUND(+ANST01!E53,4)","v":0},"--- na ---","--- na ---","--- na ---","--- na ---","--- na ---","--- na ---","--- na ---","--- na ---","--- na ---","--- na ---","--- na ---"]
["CMANT_14280",{"$f":"+'Cover Sheet'!$C$28","v":0},"ENTITY_ID","--- na ---","W1",14,{"$f":"TEXT('Cover Sheet'!$C$26, \"yyyymmdd\")","v":"19000100"},5,"--- na ---",14280,"--- na ---",{"$f":"ROUND(+ANST01!E54,4)","v":0},"--- na ---","--- na ---","--- na ---","--- na ---","--- na ---","--- na ---","--- na ---","--- na ---","--- na ---","--- na ---","--- na ---"]
["CMANT_14281",{"$f":"+'Cover Sheet'!$C$28","v":0},"ENTITY_ID","--- na ---","W0",14,{"$f":"TEXT('Cover Sheet'!$C$26, \"yyyymmdd\")","v":"19000100"},1,"--- na ---",14281,"--- na ---",{"$f":"ROUND(+ANST01!G50,4)","v":0},"--- na ---","--- na ---","--- na ---","--- na ---","--- na ---","--- na ---","--- na ---","--- na ---","--- na ---","--- na ---","--- na ---"]
["CMANT_14281",{"$f":"+'Cover Sheet'!$C$28","v":0},"ENTITY_ID","--- na ---","W0",14,{"$f":"TEXT('Cover Sheet'!$C$26, \"yyyymmdd\")","v":"19000100"},2,"--- na ---",14281,"--- na ---",{"$f":"ROUND(+ANST01!G51,4)","v":0},"--- na ---","--- na ---","--- na ---","--- na ---","--- na ---","--- na ---","--- na ---","--- na ---","--- na ---","--- na ---","--- na ---"]
["CMANT_14281",{"$f":"+'Cover Sheet'!$C$28","v":0},"ENTITY_ID","--- na ---","W0",14,{"$f":"TEXT('Cover Sheet'!$C$26, \"yyyymmdd\")","v":"19000100"},3,"--- na ---",14281,"--- na ---",{"$f":"ROUND(+ANST01!G52,4)","v":0},"--- na ---","--- na ---","--- na ---","--- na ---","--- na ---","--- na ---","--- na ---","--- na ---","--- na ---","--- na ---","--- na ---"]
["CMANT_14281",{"$f":"+'Cover Sheet'!$C$28","v":0},"ENTITY_ID","--- na ---","W0",14,{"$f":"TEXT('Cover Sheet'!$C$26, \"yyyymmdd\")","v":"19000100"},4,"--- na ---",14281,"--- na ---",{"$f":"ROUND(+ANST01!G53,4)","v":0},"--- na ---","--- na ---","--- na ---","--- na ---","--- na ---","--- na ---","--- na ---","--- na ---","--- na ---","--- na ---","--- na ---"]
["CMANT_14281",{"$f":"+'Cover Sheet'!$C$28","v":0},"ENTITY_ID","--- na ---","W0",14,{"$f":"TEXT('Cover Sheet'!$C$26, \"yyyymmdd\")","v":"19000100"},5,"--- na ---",14281,"--- na ---",{"$f":"ROUND(+ANST01!G54,4)","v":0},"--- na ---","--- na ---","--- na ---","--- na ---","--- na ---","--- na ---","--- na ---","--- na ---","--- na ---","--- na ---","--- na ---"]
["CMANT_14280",{"$f":"+'Cover Sheet'!$C$28","v":0},"ENTITY_ID","--- na ---","MT",15,{"$f":"TEXT('Cover Sheet'!$C$26, \"yyyymmdd\")","v":"19000100"},1,"--- na ---",14280,"--- na ---",{"$f":"ROUND(+ANST01!C34,4)","v":0},"--- na ---","--- na ---","--- na ---","--- na ---","--- na ---","--- na ---","--- na ---","--- na ---","--- na ---","--- na ---","--- na ---"]
["CMANT_14280",{"$f":"+'Cover Sheet'!$C$28","v":0},"ENTITY_ID","--- na ---","MT",15,{"$f":"TEXT('Cover Sheet'!$C$26, \"yyyymmdd\")","v":"19000100"},2,"--- na ---",14280,"--- na ---",{"$f":"ROUND(+ANST01!C35,4)","v":0},"--- na ---","--- na ---","--- na ---","--- na ---","--- na ---","--- na ---","--- na ---","--- na ---","--- na ---","--- na ---","--- na ---"]
["CMANT_14280",{"$f":"+'Cover Sheet'!$C$28","v":0},"ENTITY_ID","--- na ---","MT",15,{"$f":"TEXT('Cover Sheet'!$C$26, \"yyyymmdd\")","v":"19000100"},3,"--- na ---",14280,"--- na ---",{"$f":"ROUND(+ANST01!C36,4)","v":0},"--- na ---","--- na ---","--- na ---","--- na ---","--- na ---","--- na ---","--- na ---","--- na ---","--- na ---","--- na ---","--- na ---"]
["CMANT_14280",{"$f":"+'Cover Sheet'!$C$28","v":0},"ENTITY_ID","--- na ---","MT",15,{"$f":"TEXT('Cover Sheet'!$C$26, \"yyyymmdd\")","v":"19000100"},4,"--- na ---",14280,"--- na ---",{"$f":"ROUND(+ANST01!C37,4)","v":0},"--- na ---","--- na ---","--- na ---","--- na ---","--- na ---","--- na ---","--- na ---","--- na ---","--- na ---","--- na ---","--- na ---"]
["CMANT_14280",{"$f":"+'Cover Sheet'!$C$28","v":0},"ENTITY_ID","--- na ---","MT",15,{"$f":"TEXT('Cover Sheet'!$C$26, \"yyyymmdd\")","v":"19000100"},5,"--- na ---",14280,"--- na ---",{"$f":"ROUND(+ANST01!C38,4)","v":0},"--- na ---","--- na ---","--- na ---","--- na ---","--- na ---","--- na ---","--- na ---","--- na ---","--- na ---","--- na ---","--- na ---"]
["CMANT_14280",{"$f":"+'Cover Sheet'!$C$28","v":0},"ENTITY_ID","--- na ---","W1",15,{"$f":"TEXT('Cover Sheet'!$C$26, \"yyyymmdd\")","v":"19000100"},1,"--- na ---",14280,"--- na ---",{"$f":"ROUND(+ANST01!E34,4)","v":0},"--- na ---","--- na ---","--- na ---","--- na ---","--- na ---","--- na ---","--- na ---","--- na ---","--- na ---","--- na ---","--- na ---"]
["CMANT_14280",{"$f":"+'Cover Sheet'!$C$28","v":0},"ENTITY_ID","--- na ---","W1",15,{"$f":"TEXT('Cover Sheet'!$C$26, \"yyyymmdd\")","v":"19000100"},2,"--- na ---",14280,"--- na ---",{"$f":"ROUND(+ANST01!E35,4)","v":0},"--- na ---","--- na ---","--- na ---","--- na ---","--- na ---","--- na ---","--- na ---","--- na ---","--- na ---","--- na ---","--- na ---"]
["CMANT_14280",{"$f":"+'Cover Sheet'!$C$28","v":0},"ENTITY_ID","--- na ---","W1",15,{"$f":"TEXT('Cover Sheet'!$C$26, \"yyyymmdd\")","v":"19000100"},3,"--- na ---",14280,"--- na ---",{"$f":"ROUND(+ANST01!E36,4)","v":0},"--- na ---","--- na ---","--- na ---","--- na ---","--- na ---","--- na ---","--- na ---","--- na ---","--- na ---","--- na ---","--- na ---"]
["CMANT_14280",{"$f":"+'Cover Sheet'!$C$28","v":0},"ENTITY_ID","--- na ---","W1",15,{"$f":"TEXT('Cover Sheet'!$C$26, \"yyyymmdd\")","v":"19000100"},4,"--- na ---",14280,"--- na ---",{"$f":"ROUND(+ANST01!E37,4)","v":0},"--- na ---","--- na ---","--- na ---","--- na ---","--- na ---","--- na ---","--- na ---","--- na ---","--- na ---","--- na ---","--- na ---"]
["CMANT_14280",{"$f":"+'Cover Sheet'!$C$28","v":0},"ENTITY_ID","--- na ---","W1",15,{"$f":"TEXT('Cover Sheet'!$C$26, \"yyyymmdd\")","v":"19000100"},5,"--- na ---",14280,"--- na ---",{"$f":"ROUND(+ANST01!E38,4)","v":0},"--- na ---","--- na ---","--- na ---","--- na ---","--- na ---","--- na ---","--- na ---","--- na ---","--- na ---","--- na ---","--- na ---"]
["CMANT_14281",{"$f":"+'Cover Sheet'!$C$28","v":0},"ENTITY_ID","--- na ---","W0",15,{"$f":"TEXT('Cover Sheet'!$C$26, \"yyyymmdd\")","v":"19000100"},1,"--- na ---",14281,"--- na ---",{"$f":"ROUND(+ANST01!G34,4)","v":0},"--- na ---","--- na ---","--- na ---","--- na ---","--- na ---","--- na ---","--- na ---","--- na ---","--- na ---","--- na ---","--- na ---"]
["CMANT_14281",{"$f":"+'Cover Sheet'!$C$28","v":0},"ENTITY_ID","--- na ---","W0",15,{"$f":"TEXT('Cover Sheet'!$C$26, \"yyyymmdd\")","v":"19000100"},2,"--- na ---",14281,"--- na ---",{"$f":"ROUND(+ANST01!G35,4)","v":0},"--- na ---","--- na ---","--- na ---","--- na ---","--- na ---","--- na ---","--- na ---","--- na ---","--- na ---","--- na ---","--- na ---"]
["CMANT_14281",{"$f":"+'Cover Sheet'!$C$28","v":0},"ENTITY_ID","--- na ---","W0",15,{"$f":"TEXT('Cover Sheet'!$C$26, \"yyyymmdd\")","v":"19000100"},3,"--- na ---",14281,"--- na ---",{"$f":"ROUND(+ANST01!G36,4)","v":0},"--- na ---","--- na ---","--- na ---","--- na ---","--- na ---","--- na ---","--- na ---","--- na ---","--- na ---","--- na ---","--- na ---"]
["CMANT_14281",{"$f":"+'Cover Sheet'!$C$28","v":0},"ENTITY_ID","--- na ---","W0",15,{"$f":"TEXT('Cover Sheet'!$C$26, \"yyyymmdd\")","v":"19000100"},4,"--- na ---",14281,"--- na ---",{"$f":"ROUND(+ANST01!G37,4)","v":0},"--- na ---","--- na ---","--- na ---","--- na ---","--- na ---","--- na ---","--- na ---","--- na ---","--- na ---","--- na ---","--- na ---"]
["CMANT_14281",{"$f":"+'Cover Sheet'!$C$28","v":0},"ENTITY_ID","--- na ---","W0",15,{"$f":"TEXT('Cover Sheet'!$C$26, \"yyyymmdd\")","v":"19000100"},5,"--- na ---",14281,"--- na ---",{"$f":"ROUND(+ANST01!G38,4)","v":0},"--- na ---","--- na ---","--- na ---","--- na ---","--- na ---","--- na ---","--- na ---","--- na ---","--- na ---","--- na ---","--- na ---"]
["CMANT_14280",{"$f":"+'Cover Sheet'!$C$28","v":0},"ENTITY_ID","--- na ---","MT",16,{"$f":"TEXT('Cover Sheet'!$C$26, \"yyyymmdd\")","v":"19000100"},1,"--- na ---",14280,"--- na ---",{"$f":"ROUND(+ANST01!C10,4)","v":0},"--- na ---","--- na ---","--- na ---","--- na ---","--- na ---","--- na ---","--- na ---","--- na ---","--- na ---","--- na ---","--- na ---"]
["CMANT_14280",{"$f":"+'Cover Sheet'!$C$28","v":0},"ENTITY_ID","--- na ---","MT",16,{"$f":"TEXT('Cover Sheet'!$C$26, \"yyyymmdd\")","v":"19000100"},2,"--- na ---",14280,"--- na ---",{"$f":"ROUND(+ANST01!C11,4)","v":0},"--- na ---","--- na ---","--- na ---","--- na ---","--- na ---","--- na ---","--- na ---","--- na ---","--- na ---","--- na ---","--- na ---"]
["CMANT_14280",{"$f":"+'Cover Sheet'!$C$28","v":0},"ENTITY_ID","--- na ---","MT",16,{"$f":"TEXT('Cover Sheet'!$C$26, \"yyyymmdd\")","v":"19000100"},3,"--- na ---",14280,"--- na ---",{"$f":"ROUND(+ANST01!C12,4)","v":0},"--- na ---","--- na ---","--- na ---","--- na ---","--- na ---","--- na ---","--- na ---","--- na ---","--- na ---","--- na ---","--- na ---"]
["CMANT_14280",{"$f":"+'Cover Sheet'!$C$28","v":0},"ENTITY_ID","--- na ---","MT",16,{"$f":"TEXT('Cover Sheet'!$C$26, \"yyyymmdd\")","v":"19000100"},4,"--- na ---",14280,"--- na ---",{"$f":"ROUND(+ANST01!C13,4)","v":0},"--- na ---","--- na ---","--- na ---","--- na ---","--- na ---","--- na ---","--- na ---","--- na ---","--- na ---","--- na ---","--- na ---"]
["CMANT_14280",{"$f":"+'Cover Sheet'!$C$28","v":0},"ENTITY_ID","--- na ---","MT",16,{"$f":"TEXT('Cover Sheet'!$C$26, \"yyyymmdd\")","v":"19000100"},5,"--- na ---",14280,"--- na ---",{"$f":"ROUND(+ANST01!C14,4)","v":0},"--- na ---","--- na ---","--- na ---","--- na ---","--- na ---","--- na ---","--- na ---","--- na ---","--- na ---","--- na ---","--- na ---"]
["CMANT_14280",{"$f":"+'Cover Sheet'!$C$28","v":0},"ENTITY_ID","--- na ---","W1",16,{"$f":"TEXT('Cover Sheet'!$C$26, \"yyyymmdd\")","v":"19000100"},1,"--- na ---",14280,"--- na ---",{"$f":"ROUND(+ANST01!E10,4)","v":0},"--- na ---","--- na ---","--- na ---","--- na ---","--- na ---","--- na ---","--- na ---","--- na ---","--- na ---","--- na ---","--- na ---"]
["CMANT_14280",{"$f":"+'Cover Sheet'!$C$28","v":0},"ENTITY_ID","--- na ---","W1",16,{"$f":"TEXT('Cover Sheet'!$C$26, \"yyyymmdd\")","v":"19000100"},2,"--- na ---",14280,"--- na ---",{"$f":"ROUND(+ANST01!E11,4)","v":0},"--- na ---","--- na ---","--- na ---","--- na ---","--- na ---","--- na ---","--- na ---","--- na ---","--- na ---","--- na ---","--- na ---"]
["CMANT_14280",{"$f":"+'Cover Sheet'!$C$28","v":0},"ENTITY_ID","--- na ---","W1",16,{"$f":"TEXT('Cover Sheet'!$C$26, \"yyyymmdd\")","v":"19000100"},3,"--- na ---",14280,"--- na ---",{"$f":"ROUND(+ANST01!E12,4)","v":0},"--- na ---","--- na ---","--- na ---","--- na ---","--- na ---","--- na ---","--- na ---","--- na ---","--- na ---","--- na ---","--- na ---"]
["CMANT_14280",{"$f":"+'Cover Sheet'!$C$28","v":0},"ENTITY_ID","--- na ---","W1",16,{"$f":"TEXT('Cover Sheet'!$C$26, \"yyyymmdd\")","v":"19000100"},4,"--- na ---",14280,"--- na ---",{"$f":"ROUND(+ANST01!E13,4)","v":0},"--- na ---","--- na ---","--- na ---","--- na ---","--- na ---","--- na ---","--- na ---","--- na ---","--- na ---","--- na ---","--- na ---"]
["CMANT_14280",{"$f":"+'Cover Sheet'!$C$28","v":0},"ENTITY_ID","--- na ---","W1",16,{"$f":"TEXT('Cover Sheet'!$C$26, \"yyyymmdd\")","v":"19000100"},5,"--- na ---",14280,"--- na ---",{"$f":"ROUND(+ANST01!E14,4)","v":0},"--- na ---","--- na ---","--- na ---","--- na ---","--- na ---","--- na ---","--- na ---","--- na ---","--- na ---","--- na ---","--- na ---"]
["CMANT_14281",{"$f":"+'Cover Sheet'!$C$28","v":0},"ENTITY_ID","--- na ---","W0",16,{"$f":"TEXT('Cover Sheet'!$C$26, \"yyyymmdd\")","v":"19000100"},1,"--- na ---",14281,"--- na ---",{"$f":"ROUND(+ANST01!G10,4)","v":0},"--- na ---","--- na ---","--- na ---","--- na ---","--- na ---","--- na ---","--- na ---","--- na ---","--- na ---","--- na ---","--- na ---"]
["CMANT_14281",{"$f":"+'Cover Sheet'!$C$28","v":0},"ENTITY_ID","--- na ---","W0",16,{"$f":"TEXT('Cover Sheet'!$C$26, \"yyyymmdd\")","v":"19000100"},2,"--- na ---",14281,"--- na ---",{"$f":"ROUND(+ANST01!G11,4)","v":0},"--- na ---","--- na ---","--- na ---","--- na ---","--- na ---","--- na ---","--- na ---","--- na ---","--- na ---","--- na ---","--- na ---"]
["CMANT_14281",{"$f":"+'Cover Sheet'!$C$28","v":0},"ENTITY_ID","--- na ---","W0",16,{"$f":"TEXT('Cover Sheet'!$C$26, \"yyyymmdd\")","v":"19000100"},3,"--- na ---",14281,"--- na ---",{"$f":"ROUND(+ANST01!G12,4)","v":0},"--- na ---","--- na ---","--- na ---","--- na ---","--- na ---","--- na ---","--- na ---","--- na ---","--- na ---","--- na ---","--- na ---"]
["CMANT_14281",{"$f":"+'Cover Sheet'!$C$28","v":0},"ENTITY_ID","--- na ---","W0",16,{"$f":"TEXT('Cover Sheet'!$C$26, \"yyyymmdd\")","v":"19000100"},4,"--- na ---",14281,"--- na ---",{"$f":"ROUND(+ANST01!G13,4)","v":0},"--- na ---","--- na ---","--- na ---","--- na ---","--- na ---","--- na ---","--- na ---","--- na ---","--- na ---","--- na ---","--- na ---"]
["CMANT_14281",{"$f":"+'Cover Sheet'!$C$28","v":0},"ENTITY_ID","--- na ---","W0",16,{"$f":"TEXT('Cover Sheet'!$C$26, \"yyyymmdd\")","v":"19000100"},5,"--- na ---",14281,"--- na ---",{"$f":"ROUND(+ANST01!G14,4)","v":0},"--- na ---","--- na ---","--- na ---","--- na ---","--- na ---","--- na ---","--- na ---","--- na ---","--- na ---","--- na ---","--- na ---"]
["CMANT_14280",{"$f":"+'Cover Sheet'!$C$28","v":0},"ENTITY_ID","--- na ---","MT",17,{"$f":"TEXT('Cover Sheet'!$C$26, \"yyyymmdd\")","v":"19000100"},1,"--- na ---",14280,"--- na ---",{"$f":"ROUND(+ANST01!C26,4)","v":0},"--- na ---","--- na ---","--- na ---","--- na ---","--- na ---","--- na ---","--- na ---","--- na ---","--- na ---","--- na ---","--- na ---"]
["CMANT_14280",{"$f":"+'Cover Sheet'!$C$28","v":0},"ENTITY_ID","--- na ---","MT",17,{"$f":"TEXT('Cover Sheet'!$C$26, \"yyyymmdd\")","v":"19000100"},2,"--- na ---",14280,"--- na ---",{"$f":"ROUND(+ANST01!C27,4)","v":0},"--- na ---","--- na ---","--- na ---","--- na ---","--- na ---","--- na ---","--- na ---","--- na ---","--- na ---","--- na ---","--- na ---"]
["CMANT_14280",{"$f":"+'Cover Sheet'!$C$28","v":0},"ENTITY_ID","--- na ---","MT",17,{"$f":"TEXT('Cover Sheet'!$C$26, \"yyyymmdd\")","v":"19000100"},3,"--- na ---",14280,"--- na ---",{"$f":"ROUND(+ANST01!C28,4)","v":0},"--- na ---","--- na ---","--- na ---","--- na ---","--- na ---","--- na ---","--- na ---","--- na ---","--- na ---","--- na ---","--- na ---"]
["CMANT_14280",{"$f":"+'Cover Sheet'!$C$28","v":0},"ENTITY_ID","--- na ---","MT",17,{"$f":"TEXT('Cover Sheet'!$C$26, \"yyyymmdd\")","v":"19000100"},4,"--- na ---",14280,"--- na ---",{"$f":"ROUND(+ANST01!C29,4)","v":0},"--- na ---","--- na ---","--- na ---","--- na ---","--- na ---","--- na ---","--- na ---","--- na ---","--- na ---","--- na ---","--- na ---"]
["CMANT_14280",{"$f":"+'Cover Sheet'!$C$28","v":0},"ENTITY_ID","--- na ---","MT",17,{"$f":"TEXT('Cover Sheet'!$C$26, \"yyyymmdd\")","v":"19000100"},5,"--- na ---",14280,"--- na ---",{"$f":"ROUND(+ANST01!C30,4)","v":0},"--- na ---","--- na ---","--- na ---","--- na ---","--- na ---","--- na ---","--- na ---","--- na ---","--- na ---","--- na ---","--- na ---"]
["CMANT_14280",{"$f":"+'Cover Sheet'!$C$28","v":0},"ENTITY_ID","--- na ---","W1",17,{"$f":"TEXT('Cover Sheet'!$C$26, \"yyyymmdd\")","v":"19000100"},1,"--- na ---",14280,"--- na ---",{"$f":"ROUND(+ANST01!E26,4)","v":0},"--- na ---","--- na ---","--- na ---","--- na ---","--- na ---","--- na ---","--- na ---","--- na ---","--- na ---","--- na ---","--- na ---"]
["CMANT_14280",{"$f":"+'Cover Sheet'!$C$28","v":0},"ENTITY_ID","--- na ---","W1",17,{"$f":"TEXT('Cover Sheet'!$C$26, \"yyyymmdd\")","v":"19000100"},2,"--- na ---",14280,"--- na ---",{"$f":"ROUND(+ANST01!E27,4)","v":0},"--- na ---","--- na ---","--- na ---","--- na ---","--- na ---","--- na ---","--- na ---","--- na ---","--- na ---","--- na ---","--- na ---"]
["CMANT_14280",{"$f":"+'Cover Sheet'!$C$28","v":0},"ENTITY_ID","--- na ---","W1",17,{"$f":"TEXT('Cover Sheet'!$C$26, \"yyyymmdd\")","v":"19000100"},3,"--- na ---",14280,"--- na ---",{"$f":"ROUND(+ANST01!E28,4)","v":0},"--- na ---","--- na ---","--- na ---","--- na ---","--- na ---","--- na ---","--- na ---","--- na ---","--- na ---","--- na ---","--- na ---"]
["CMANT_14280",{"$f":"+'Cover Sheet'!$C$28","v":0},"ENTITY_ID","--- na ---","W1",17,{"$f":"TEXT('Cover Sheet'!$C$26, \"yyyymmdd\")","v":"19000100"},4,"--- na ---",14280,"--- na ---",{"$f":"ROUND(+ANST01!E29,4)","v":0},"--- na ---","--- na ---","--- na ---","--- na ---","--- na ---","--- na ---","--- na ---","--- na ---","--- na ---","--- na ---","--- na ---"]
["CMANT_14280",{"$f":"+'Cover Sheet'!$C$28","v":0},"ENTITY_ID","--- na ---","W1",17,{"$f":"TEXT('Cover Sheet'!$C$26, \"yyyymmdd\")","v":"19000100"},5,"--- na ---",14280,"--- na ---",{"$f":"ROUND(+ANST01!E30,4)","v":0},"--- na ---","--- na ---","--- na ---","--- na ---","--- na ---","--- na ---","--- na ---","--- na ---","--- na ---","--- na ---","--- na ---"]
["CMANT_14281",{"$f":"+'Cover Sheet'!$C$28","v":0},"ENTITY_ID","--- na ---","W0",17,{"$f":"TEXT('Cover Sheet'!$C$26, \"yyyymmdd\")","v":"19000100"},1,"--- na ---",14281,"--- na ---",{"$f":"ROUND(+ANST01!G26,4)","v":0},"--- na ---","--- na ---","--- na ---","--- na ---","--- na ---","--- na ---","--- na ---","--- na ---","--- na ---","--- na ---","--- na ---"]
["CMANT_14281",{"$f":"+'Cover Sheet'!$C$28","v":0},"ENTITY_ID","--- na ---","W0",17,{"$f":"TEXT('Cover Sheet'!$C$26, \"yyyymmdd\")","v":"19000100"},2,"--- na ---",14281,"--- na ---",{"$f":"ROUND(+ANST01!G27,4)","v":0},"--- na ---","--- na ---","--- na ---","--- na ---","--- na ---","--- na ---","--- na ---","--- na ---","--- na ---","--- na ---","--- na ---"]
["CMANT_14281",{"$f":"+'Cover Sheet'!$C$28","v":0},"ENTITY_ID","--- na ---","W0",17,{"$f":"TEXT('Cover Sheet'!$C$26, \"yyyymmdd\")","v":"19000100"},3,"--- na ---",14281,"--- na ---",{"$f":"ROUND(+ANST01!G28,4)","v":0},"--- na ---","--- na ---","--- na ---","--- na ---","--- na ---","--- na ---","--- na ---","--- na ---","--- na ---","--- na ---","--- na ---"]
["CMANT_14281",{"$f":"+'Cover Sheet'!$C$28","v":0},"ENTITY_ID","--- na ---","W0",17,{"$f":"TEXT('Cover Sheet'!$C$26, \"yyyymmdd\")","v":"19000100"},4,"--- na ---",14281,"--- na ---",{"$f":"ROUND(+ANST01!G29,4)","v":0},"--- na ---","--- na ---","--- na ---","--- na ---","--- na ---","--- na ---","--- na ---","--- na ---","--- na ---","--- na ---","--- na ---"]
["CMANT_14281",{"$f":"+'Cover Sheet'!$C$28","v":0},"ENTITY_ID","--- na ---","W0",17,{"$f":"TEXT('Cover Sheet'!$C$26, \"yyyymmdd\")","v":"19000100"},5,"--- na ---",14281,"--- na ---",{"$f":"ROUND(+ANST01!G30,4)","v":0},"--- na ---","--- na ---","--- na ---","--- na ---","--- na ---","--- na ---","--- na ---","--- na ---","--- na ---","--- na ---","--- na ---"]
["CMANT_14290",{"$f":"+'Cover Sheet'!$C$28","v":0},"ENTITY_ID","--- na ---","MT",1,{"$f":"TEXT('Cover Sheet'!$C$26, \"yyyymmdd\")","v":"19000100"},1,"--- na ---",14290,"--- na ---",{"$f":"ROUND(+ANST01!D98,4)","v":0},"--- na ---","--- na ---","--- na ---","--- na ---","--- na ---","--- na ---","--- na ---","--- na ---","--- na ---","--- na ---","--- na ---"]
["CMANT_14290",{"$f":"+'Cover Sheet'!$C$28","v":0},"ENTITY_ID","--- na ---","MT",1,{"$f":"TEXT('Cover Sheet'!$C$26, \"yyyymmdd\")","v":"19000100"},2,"--- na ---",14290,"--- na ---",{"$f":"ROUND(+ANST01!D99,4)","v":0},"--- na ---","--- na ---","--- na ---","--- na ---","--- na ---","--- na ---","--- na ---","--- na ---","--- na ---","--- na ---","--- na ---"]
["CMANT_14290",{"$f":"+'Cover Sheet'!$C$28","v":0},"ENTITY_ID","--- na ---","MT",1,{"$f":"TEXT('Cover Sheet'!$C$26, \"yyyymmdd\")","v":"19000100"},3,"--- na ---",14290,"--- na ---",{"$f":"ROUND(+ANST01!D100,4)","v":0},"--- na ---","--- na ---","--- na ---","--- na ---","--- na ---","--- na ---","--- na ---","--- na ---","--- na ---","--- na ---","--- na ---"]
["CMANT_14290",{"$f":"+'Cover Sheet'!$C$28","v":0},"ENTITY_ID","--- na ---","MT",1,{"$f":"TEXT('Cover Sheet'!$C$26, \"yyyymmdd\")","v":"19000100"},4,"--- na ---",14290,"--- na ---",{"$f":"ROUND(+ANST01!D101,4)","v":0},"--- na ---","--- na ---","--- na ---","--- na ---","--- na ---","--- na ---","--- na ---","--- na ---","--- na ---","--- na ---","--- na ---"]
["CMANT_14290",{"$f":"+'Cover Sheet'!$C$28","v":0},"ENTITY_ID","--- na ---","MT",1,{"$f":"TEXT('Cover Sheet'!$C$26, \"yyyymmdd\")","v":"19000100"},5,"--- na ---",14290,"--- na ---",{"$f":"ROUND(+ANST01!D102,4)","v":0},"--- na ---","--- na ---","--- na ---","--- na ---","--- na ---","--- na ---","--- na ---","--- na ---","--- na ---","--- na ---","--- na ---"]
["CMANT_14290",{"$f":"+'Cover Sheet'!$C$28","v":0},"ENTITY_ID","--- na ---","W1",1,{"$f":"TEXT('Cover Sheet'!$C$26, \"yyyymmdd\")","v":"19000100"},1,"--- na ---",14290,"--- na ---",{"$f":"ROUND(+ANST01!F98,4)","v":0},"--- na ---","--- na ---","--- na ---","--- na ---","--- na ---","--- na ---","--- na ---","--- na ---","--- na ---","--- na ---","--- na ---"]
["CMANT_14290",{"$f":"+'Cover Sheet'!$C$28","v":0},"ENTITY_ID","--- na ---","W1",1,{"$f":"TEXT('Cover Sheet'!$C$26, \"yyyymmdd\")","v":"19000100"},2,"--- na ---",14290,"--- na ---",{"$f":"ROUND(+ANST01!F99,4)","v":0},"--- na ---","--- na ---","--- na ---","--- na ---","--- na ---","--- na ---","--- na ---","--- na ---","--- na ---","--- na ---","--- na ---"]
["CMANT_14290",{"$f":"+'Cover Sheet'!$C$28","v":0},"ENTITY_ID","--- na ---","W1",1,{"$f":"TEXT('Cover Sheet'!$C$26, \"yyyymmdd\")","v":"19000100"},3,"--- na ---",14290,"--- na ---",{"$f":"ROUND(+ANST01!F100,4)","v":0},"--- na ---","--- na ---","--- na ---","--- na ---","--- na ---","--- na ---","--- na ---","--- na ---","--- na ---","--- na ---","--- na ---"]
["CMANT_14290",{"$f":"+'Cover Sheet'!$C$28","v":0},"ENTITY_ID","--- na ---","W1",1,{"$f":"TEXT('Cover Sheet'!$C$26, \"yyyymmdd\")","v":"19000100"},4,"--- na ---",14290,"--- na ---",{"$f":"ROUND(+ANST01!F101,4)","v":0},"--- na ---","--- na ---","--- na ---","--- na ---","--- na ---","--- na ---","--- na ---","--- na ---","--- na ---","--- na ---","--- na ---"]
["CMANT_14290",{"$f":"+'Cover Sheet'!$C$28","v":0},"ENTITY_ID","--- na ---","W1",1,{"$f":"TEXT('Cover Sheet'!$C$26, \"yyyymmdd\")","v":"19000100"},5,"--- na ---",14290,"--- na ---",{"$f":"ROUND(+ANST01!F102,4)","v":0},"--- na ---","--- na ---","--- na ---","--- na ---","--- na ---","--- na ---","--- na ---","--- na ---","--- na ---","--- na ---","--- na ---"]
["CMANT_14290",{"$f":"+'Cover Sheet'!$C$28","v":0},"ENTITY_ID","--- na ---","MT",2,{"$f":"TEXT('Cover Sheet'!$C$26, \"yyyymmdd\")","v":"19000100"},1,"--- na ---",14290,"--- na ---",{"$f":"ROUND(+ANST01!D82,4)","v":0},"--- na ---","--- na ---","--- na ---","--- na ---","--- na ---","--- na ---","--- na ---","--- na ---","--- na ---","--- na ---","--- na ---"]
["CMANT_14290",{"$f":"+'Cover Sheet'!$C$28","v":0},"ENTITY_ID","--- na ---","MT",2,{"$f":"TEXT('Cover Sheet'!$C$26, \"yyyymmdd\")","v":"19000100"},2,"--- na ---",14290,"--- na ---",{"$f":"ROUND(+ANST01!D83,4)","v":0},"--- na ---","--- na ---","--- na ---","--- na ---","--- na ---","--- na ---","--- na ---","--- na ---","--- na ---","--- na ---","--- na ---"]
["CMANT_14290",{"$f":"+'Cover Sheet'!$C$28","v":0},"ENTITY_ID","--- na ---","MT",2,{"$f":"TEXT('Cover Sheet'!$C$26, \"yyyymmdd\")","v":"19000100"},3,"--- na ---",14290,"--- na ---",{"$f":"ROUND(+ANST01!D84,4)","v":0},"--- na ---","--- na ---","--- na ---","--- na ---","--- na ---","--- na ---","--- na ---","--- na ---","--- na ---","--- na ---","--- na ---"]
["CMANT_14290",{"$f":"+'Cover Sheet'!$C$28","v":0},"ENTITY_ID","--- na ---","MT",2,{"$f":"TEXT('Cover Sheet'!$C$26, \"yyyymmdd\")","v":"19000100"},4,"--- na ---",14290,"--- na ---",{"$f":"ROUND(+ANST01!D85,4)","v":0},"--- na ---","--- na ---","--- na ---","--- na ---","--- na ---","--- na ---","--- na ---","--- na ---","--- na ---","--- na ---","--- na ---"]
["CMANT_14290",{"$f":"+'Cover Sheet'!$C$28","v":0},"ENTITY_ID","--- na ---","MT",2,{"$f":"TEXT('Cover Sheet'!$C$26, \"yyyymmdd\")","v":"19000100"},5,"--- na ---",14290,"--- na ---",{"$f":"ROUND(+ANST01!D86,4)","v":0},"--- na ---","--- na ---","--- na ---","--- na ---","--- na ---","--- na ---","--- na ---","--- na ---","--- na ---","--- na ---","--- na ---"]
["CMANT_14290",{"$f":"+'Cover Sheet'!$C$28","v":0},"ENTITY_ID","--- na ---","W1",2,{"$f":"TEXT('Cover Sheet'!$C$26, \"yyyymmdd\")","v":"19000100"},1,"--- na ---",14290,"--- na ---",{"$f":"ROUND(+ANST01!F82,4)","v":0},"--- na ---","--- na ---","--- na ---","--- na ---","--- na ---","--- na ---","--- na ---","--- na ---","--- na ---","--- na ---","--- na ---"]
["CMANT_14290",{"$f":"+'Cover Sheet'!$C$28","v":0},"ENTITY_ID","--- na ---","W1",2,{"$f":"TEXT('Cover Sheet'!$C$26, \"yyyymmdd\")","v":"19000100"},2,"--- na ---",14290,"--- na ---",{"$f":"ROUND(+ANST01!F83,4)","v":0},"--- na ---","--- na ---","--- na ---","--- na ---","--- na ---","--- na ---","--- na ---","--- na ---","--- na ---","--- na ---","--- na ---"]
["CMANT_14290",{"$f":"+'Cover Sheet'!$C$28","v":0},"ENTITY_ID","--- na ---","W1",2,{"$f":"TEXT('Cover Sheet'!$C$26, \"yyyymmdd\")","v":"19000100"},3,"--- na ---",14290,"--- na ---",{"$f":"ROUND(+ANST01!F84,4)","v":0},"--- na ---","--- na ---","--- na ---","--- na ---","--- na ---","--- na ---","--- na ---","--- na ---","--- na ---","--- na ---","--- na ---"]
["CMANT_14290",{"$f":"+'Cover Sheet'!$C$28","v":0},"ENTITY_ID","--- na ---","W1",2,{"$f":"TEXT('Cover Sheet'!$C$26, \"yyyymmdd\")","v":"19000100"},4,"--- na ---",14290,"--- na ---",{"$f":"ROUND(+ANST01!F85,4)","v":0},"--- na ---","--- na ---","--- na ---","--- na ---","--- na ---","--- na ---","--- na ---","--- na ---","--- na ---","--- na ---","--- na ---"]
["CMANT_14290",{"$f":"+'Cover Sheet'!$C$28","v":0},"ENTITY_ID","--- na ---","W1",2,{"$f":"TEXT('Cover Sheet'!$C$26, \"yyyymmdd\")","v":"19000100"},5,"--- na ---",14290,"--- na ---",{"$f":"ROUND(+ANST01!F86,4)","v":0},"--- na ---","--- na ---","--- na ---","--- na ---","--- na ---","--- na ---","--- na ---","--- na ---","--- na ---","--- na ---","--- na ---"]
["CMANT_14290",{"$f":"+'Cover Sheet'!$C$28","v":0},"ENTITY_ID","--- na ---","MT",3,{"$f":"TEXT('Cover Sheet'!$C$26, \"yyyymmdd\")","v":"19000100"},1,"--- na ---",14290,"--- na ---",{"$f":"ROUND(+ANST01!D66,4)","v":0},"--- na ---","--- na ---","--- na ---","--- na ---","--- na ---","--- na ---","--- na ---","--- na ---","--- na ---","--- na ---","--- na ---"]
["CMANT_14290",{"$f":"+'Cover Sheet'!$C$28","v":0},"ENTITY_ID","--- na ---","MT",3,{"$f":"TEXT('Cover Sheet'!$C$26, \"yyyymmdd\")","v":"19000100"},2,"--- na ---",14290,"--- na ---",{"$f":"ROUND(+ANST01!D67,4)","v":0},"--- na ---","--- na ---","--- na ---","--- na ---","--- na ---","--- na ---","--- na ---","--- na ---","--- na ---","--- na ---","--- na ---"]
["CMANT_14290",{"$f":"+'Cover Sheet'!$C$28","v":0},"ENTITY_ID","--- na ---","MT",3,{"$f":"TEXT('Cover Sheet'!$C$26, \"yyyymmdd\")","v":"19000100"},3,"--- na ---",14290,"--- na ---",{"$f":"ROUND(+ANST01!D68,4)","v":0},"--- na ---","--- na ---","--- na ---","--- na ---","--- na ---","--- na ---","--- na ---","--- na ---","--- na ---","--- na ---","--- na ---"]
["CMANT_14290",{"$f":"+'Cover Sheet'!$C$28","v":0},"ENTITY_ID","--- na ---","MT",3,{"$f":"TEXT('Cover Sheet'!$C$26, \"yyyymmdd\")","v":"19000100"},4,"--- na ---",14290,"--- na ---",{"$f":"ROUND(+ANST01!D69,4)","v":0},"--- na ---","--- na ---","--- na ---","--- na ---","--- na ---","--- na ---","--- na ---","--- na ---","--- na ---","--- na ---","--- na ---"]
["CMANT_14290",{"$f":"+'Cover Sheet'!$C$28","v":0},"ENTITY_ID","--- na ---","MT",3,{"$f":"TEXT('Cover Sheet'!$C$26, \"yyyymmdd\")","v":"19000100"},5,"--- na ---",14290,"--- na ---",{"$f":"ROUND(+ANST01!D70,4)","v":0},"--- na ---","--- na ---","--- na ---","--- na ---","--- na ---","--- na ---","--- na ---","--- na ---","--- na ---","--- na ---","--- na ---"]
["CMANT_14290",{"$f":"+'Cover Sheet'!$C$28","v":0},"ENTITY_ID","--- na ---","W1",3,{"$f":"TEXT('Cover Sheet'!$C$26, \"yyyymmdd\")","v":"19000100"},1,"--- na ---",14290,"--- na ---",{"$f":"ROUND(+ANST01!F66,4)","v":0},"--- na ---","--- na ---","--- na ---","--- na ---","--- na ---","--- na ---","--- na ---","--- na ---","--- na ---","--- na ---","--- na ---"]
["CMANT_14290",{"$f":"+'Cover Sheet'!$C$28","v":0},"ENTITY_ID","--- na ---","W1",3,{"$f":"TEXT('Cover Sheet'!$C$26, \"yyyymmdd\")","v":"19000100"},2,"--- na ---",14290,"--- na ---",{"$f":"ROUND(+ANST01!F67,4)","v":0},"--- na ---","--- na ---","--- na ---","--- na ---","--- na ---","--- na ---","--- na ---","--- na ---","--- na ---","--- na ---","--- na ---"]
["CMANT_14290",{"$f":"+'Cover Sheet'!$C$28","v":0},"ENTITY_ID","--- na ---","W1",3,{"$f":"TEXT('Cover Sheet'!$C$26, \"yyyymmdd\")","v":"19000100"},3,"--- na ---",14290,"--- na ---",{"$f":"ROUND(+ANST01!F68,4)","v":0},"--- na ---","--- na ---","--- na ---","--- na ---","--- na ---","--- na ---","--- na ---","--- na ---","--- na ---","--- na ---","--- na ---"]
["CMANT_14290",{"$f":"+'Cover Sheet'!$C$28","v":0},"ENTITY_ID","--- na ---","W1",3,{"$f":"TEXT('Cover Sheet'!$C$26, \"yyyymmdd\")","v":"19000100"},4,"--- na ---",14290,"--- na ---",{"$f":"ROUND(+ANST01!F69,4)","v":0},"--- na ---","--- na ---","--- na ---","--- na ---","--- na ---","--- na ---","--- na ---","--- na ---","--- na ---","--- na ---","--- na ---"]
["CMANT_14290",{"$f":"+'Cover Sheet'!$C$28","v":0},"ENTITY_ID","--- na ---","W1",3,{"$f":"TEXT('Cover Sheet'!$C$26, \"yyyymmdd\")","v":"19000100"},5,"--- na ---",14290,"--- na ---",{"$f":"ROUND(+ANST01!F70,4)","v":0},"--- na ---","--- na ---","--- na ---","--- na ---","--- na ---","--- na ---","--- na ---","--- na ---","--- na ---","--- na ---","--- na ---"]
["CMANT_14290",{"$f":"+'Cover Sheet'!$C$28","v":0},"ENTITY_ID","--- na ---","MT",4,{"$f":"TEXT('Cover Sheet'!$C$26, \"yyyymmdd\")","v":"19000100"},1,"--- na ---",14290,"--- na ---",{"$f":"ROUND(+ANST01!D74,4)","v":0},"--- na ---","--- na ---","--- na ---","--- na ---","--- na ---","--- na ---","--- na ---","--- na ---","--- na ---","--- na ---","--- na ---"]
["CMANT_14290",{"$f":"+'Cover Sheet'!$C$28","v":0},"ENTITY_ID","--- na ---","MT",4,{"$f":"TEXT('Cover Sheet'!$C$26, \"yyyymmdd\")","v":"19000100"},2,"--- na ---",14290,"--- na ---",{"$f":"ROUND(+ANST01!D75,4)","v":0},"--- na ---","--- na ---","--- na ---","--- na ---","--- na ---","--- na ---","--- na ---","--- na ---","--- na ---","--- na ---","--- na ---"]
["CMANT_14290",{"$f":"+'Cover Sheet'!$C$28","v":0},"ENTITY_ID","--- na ---","MT",4,{"$f":"TEXT('Cover Sheet'!$C$26, \"yyyymmdd\")","v":"19000100"},3,"--- na ---",14290,"--- na ---",{"$f":"ROUND(+ANST01!D76,4)","v":0},"--- na ---","--- na ---","--- na ---","--- na ---","--- na ---","--- na ---","--- na ---","--- na ---","--- na ---","--- na ---","--- na ---"]
["CMANT_14290",{"$f":"+'Cover Sheet'!$C$28","v":0},"ENTITY_ID","--- na ---","MT",4,{"$f":"TEXT('Cover Sheet'!$C$26, \"yyyymmdd\")","v":"19000100"},4,"--- na ---",14290,"--- na ---",{"$f":"ROUND(+ANST01!D77,4)","v":0},"--- na ---","--- na ---","--- na ---","--- na ---","--- na ---","--- na ---","--- na ---","--- na ---","--- na ---","--- na ---","--- na ---"]
["CMANT_14290",{"$f":"+'Cover Sheet'!$C$28","v":0},"ENTITY_ID","--- na ---","MT",4,{"$f":"TEXT('Cover Sheet'!$C$26, \"yyyymmdd\")","v":"19000100"},5,"--- na ---",14290,"--- na ---",{"$f":"ROUND(+ANST01!D78,4)","v":0},"--- na ---","--- na ---","--- na ---","--- na ---","--- na ---","--- na ---","--- na ---","--- na ---","--- na ---","--- na ---","--- na ---"]
["CMANT_14290",{"$f":"+'Cover Sheet'!$C$28","v":0},"ENTITY_ID","--- na ---","W1",4,{"$f":"TEXT('Cover Sheet'!$C$26, \"yyyymmdd\")","v":"19000100"},1,"--- na ---",14290,"--- na ---",{"$f":"ROUND(+ANST01!F74,4)","v":0},"--- na ---","--- na ---","--- na ---","--- na ---","--- na ---","--- na ---","--- na ---","--- na ---","--- na ---","--- na ---","--- na ---"]
["CMANT_14290",{"$f":"+'Cover Sheet'!$C$28","v":0},"ENTITY_ID","--- na ---","W1",4,{"$f":"TEXT('Cover Sheet'!$C$26, \"yyyymmdd\")","v":"19000100"},2,"--- na ---",14290,"--- na ---",{"$f":"ROUND(+ANST01!F75,4)","v":0},"--- na ---","--- na ---","--- na ---","--- na ---","--- na ---","--- na ---","--- na ---","--- na ---","--- na ---","--- na ---","--- na ---"]
["CMANT_14290",{"$f":"+'Cover Sheet'!$C$28","v":0},"ENTITY_ID","--- na ---","W1",4,{"$f":"TEXT('Cover Sheet'!$C$26, \"yyyymmdd\")","v":"19000100"},3,"--- na ---",14290,"--- na ---",{"$f":"ROUND(+ANST01!F76,4)","v":0},"--- na ---","--- na ---","--- na ---","--- na ---","--- na ---","--- na ---","--- na ---","--- na ---","--- na ---","--- na ---","--- na ---"]
["CMANT_14290",{"$f":"+'Cover Sheet'!$C$28","v":0},"ENTITY_ID","--- na ---","W1",4,{"$f":"TEXT('Cover Sheet'!$C$26, \"yyyymmdd\")","v":"19000100"},4,"--- na ---",14290,"--- na ---",{"$f":"ROUND(+ANST01!F77,4)","v":0},"--- na ---","--- na ---","--- na ---","--- na ---","--- na ---","--- na ---","--- na ---","--- na ---","--- na ---","--- na ---","--- na ---"]
["CMANT_14290",{"$f":"+'Cover Sheet'!$C$28","v":0},"ENTITY_ID","--- na ---","W1",4,{"$f":"TEXT('Cover Sheet'!$C$26, \"yyyymmdd\")","v":"19000100"},5,"--- na ---",14290,"--- na ---",{"$f":"ROUND(+ANST01!F78,4)","v":0},"--- na ---","--- na ---","--- na ---","--- na ---","--- na ---","--- na ---","--- na ---","--- na ---","--- na ---","--- na ---","--- na ---"]
["CMANT_14290",{"$f":"+'Cover Sheet'!$C$28","v":0},"ENTITY_ID","--- na ---","MT",5,{"$f":"TEXT('Cover Sheet'!$C$26, \"yyyymmdd\")","v":"19000100"},1,"--- na ---",14290,"--- na ---",{"$f":"ROUND(+ANST01!D90,4)","v":0},"--- na ---","--- na ---","--- na ---","--- na ---","--- na ---","--- na ---","--- na ---","--- na ---","--- na ---","--- na ---","--- na ---"]
["CMANT_14290",{"$f":"+'Cover Sheet'!$C$28","v":0},"ENTITY_ID","--- na ---","MT",5,{"$f":"TEXT('Cover Sheet'!$C$26, \"yyyymmdd\")","v":"19000100"},2,"--- na ---",14290,"--- na ---",{"$f":"ROUND(+ANST01!D91,4)","v":0},"--- na ---","--- na ---","--- na ---","--- na ---","--- na ---","--- na ---","--- na ---","--- na ---","--- na ---","--- na ---","--- na ---"]
["CMANT_14290",{"$f":"+'Cover Sheet'!$C$28","v":0},"ENTITY_ID","--- na ---","MT",5,{"$f":"TEXT('Cover Sheet'!$C$26, \"yyyymmdd\")","v":"19000100"},3,"--- na ---",14290,"--- na ---",{"$f":"ROUND(+ANST01!D92,4)","v":0},"--- na ---","--- na ---","--- na ---","--- na ---","--- na ---","--- na ---","--- na ---","--- na ---","--- na ---","--- na ---","--- na ---"]
["CMANT_14290",{"$f":"+'Cover Sheet'!$C$28","v":0},"ENTITY_ID","--- na ---","MT",5,{"$f":"TEXT('Cover Sheet'!$C$26, \"yyyymmdd\")","v":"19000100"},4,"--- na ---",14290,"--- na ---",{"$f":"ROUND(+ANST01!D93,4)","v":0},"--- na ---","--- na ---","--- na ---","--- na ---","--- na ---","--- na ---","--- na ---","--- na ---","--- na ---","--- na ---","--- na ---"]
["CMANT_14290",{"$f":"+'Cover Sheet'!$C$28","v":0},"ENTITY_ID","--- na ---","MT",5,{"$f":"TEXT('Cover Sheet'!$C$26, \"yyyymmdd\")","v":"19000100"},5,"--- na ---",14290,"--- na ---",{"$f":"ROUND(+ANST01!D94,4)","v":0},"--- na ---","--- na ---","--- na ---","--- na ---","--- na ---","--- na ---","--- na ---","--- na ---","--- na ---","--- na ---","--- na ---"]
["CMANT_14290",{"$f":"+'Cover Sheet'!$C$28","v":0},"ENTITY_ID","--- na ---","W1",5,{"$f":"TEXT('Cover Sheet'!$C$26, \"yyyymmdd\")","v":"19000100"},1,"--- na ---",14290,"--- na ---",{"$f":"ROUND(+ANST01!F90,4)","v":0},"--- na ---","--- na ---","--- na ---","--- na ---","--- na ---","--- na ---","--- na ---","--- na ---","--- na ---","--- na ---","--- na ---"]
["CMANT_14290",{"$f":"+'Cover Sheet'!$C$28","v":0},"ENTITY_ID","--- na ---","W1",5,{"$f":"TEXT('Cover Sheet'!$C$26, \"yyyymmdd\")","v":"19000100"},2,"--- na ---",14290,"--- na ---",{"$f":"ROUND(+ANST01!F91,4)","v":0},"--- na ---","--- na ---","--- na ---","--- na ---","--- na ---","--- na ---","--- na ---","--- na ---","--- na ---","--- na ---","--- na ---"]
["CMANT_14290",{"$f":"+'Cover Sheet'!$C$28","v":0},"ENTITY_ID","--- na ---","W1",5,{"$f":"TEXT('Cover Sheet'!$C$26, \"yyyymmdd\")","v":"19000100"},3,"--- na ---",14290,"--- na ---",{"$f":"ROUND(+ANST01!F92,4)","v":0},"--- na ---","--- na ---","--- na ---","--- na ---","--- na ---","--- na ---","--- na ---","--- na ---","--- na ---","--- na ---","--- na ---"]
["CMANT_14290",{"$f":"+'Cover Sheet'!$C$28","v":0},"ENTITY_ID","--- na ---","W1",5,{"$f":"TEXT('Cover Sheet'!$C$26, \"yyyymmdd\")","v":"19000100"},4,"--- na ---",14290,"--- na ---",{"$f":"ROUND(+ANST01!F93,4)","v":0},"--- na ---","--- na ---","--- na ---","--- na ---","--- na ---","--- na ---","--- na ---","--- na ---","--- na ---","--- na ---","--- na ---"]
["CMANT_14290",{"$f":"+'Cover Sheet'!$C$28","v":0},"ENTITY_ID","--- na ---","W1",5,{"$f":"TEXT('Cover Sheet'!$C$26, \"yyyymmdd\")","v":"19000100"},5,"--- na ---",14290,"--- na ---",{"$f":"ROUND(+ANST01!F94,4)","v":0},"--- na ---","--- na ---","--- na ---","--- na ---","--- na ---","--- na ---","--- na ---","--- na ---","--- na ---","--- na ---","--- na ---"]
["CMANT_14290",{"$f":"+'Cover Sheet'!$C$28","v":0},"ENTITY_ID","--- na ---","MT",6,{"$f":"TEXT('Cover Sheet'!$C$26, \"yyyymmdd\")","v":"19000100"},1,"--- na ---",14290,"--- na ---",{"$f":"ROUND(+ANST01!D58,4)","v":0},"--- na ---","--- na ---","--- na ---","--- na ---","--- na ---","--- na ---","--- na ---","--- na ---","--- na ---","--- na ---","--- na ---"]
["CMANT_14290",{"$f":"+'Cover Sheet'!$C$28","v":0},"ENTITY_ID","--- na ---","MT",6,{"$f":"TEXT('Cover Sheet'!$C$26, \"yyyymmdd\")","v":"19000100"},2,"--- na ---",14290,"--- na ---",{"$f":"ROUND(+ANST01!D59,4)","v":0},"--- na ---","--- na ---","--- na ---","--- na ---","--- na ---","--- na ---","--- na ---","--- na ---","--- na ---","--- na ---","--- na ---"]
["CMANT_14290",{"$f":"+'Cover Sheet'!$C$28","v":0},"ENTITY_ID","--- na ---","MT",6,{"$f":"TEXT('Cover Sheet'!$C$26, \"yyyymmdd\")","v":"19000100"},3,"--- na ---",14290,"--- na ---",{"$f":"ROUND(+ANST01!D60,4)","v":0},"--- na ---","--- na ---","--- na ---","--- na ---","--- na ---","--- na ---","--- na ---","--- na ---","--- na ---","--- na ---","--- na ---"]
["CMANT_14290",{"$f":"+'Cover Sheet'!$C$28","v":0},"ENTITY_ID","--- na ---","MT",6,{"$f":"TEXT('Cover Sheet'!$C$26, \"yyyymmdd\")","v":"19000100"},4,"--- na ---",14290,"--- na ---",{"$f":"ROUND(+ANST01!D61,4)","v":0},"--- na ---","--- na ---","--- na ---","--- na ---","--- na ---","--- na ---","--- na ---","--- na ---","--- na ---","--- na ---","--- na ---"]
["CMANT_14290",{"$f":"+'Cover Sheet'!$C$28","v":0},"ENTITY_ID","--- na ---","MT",6,{"$f":"TEXT('Cover Sheet'!$C$26, \"yyyymmdd\")","v":"19000100"},5,"--- na ---",14290,"--- na ---",{"$f":"ROUND(+ANST01!D62,4)","v":0},"--- na ---","--- na ---","--- na ---","--- na ---","--- na ---","--- na ---","--- na ---","--- na ---","--- na ---","--- na ---","--- na ---"]
["CMANT_14290",{"$f":"+'Cover Sheet'!$C$28","v":0},"ENTITY_ID","--- na ---","W1",6,{"$f":"TEXT('Cover Sheet'!$C$26, \"yyyymmdd\")","v":"19000100"},1,"--- na ---",14290,"--- na ---",{"$f":"ROUND(+ANST01!F58,4)","v":0},"--- na ---","--- na ---","--- na ---","--- na ---","--- na ---","--- na ---","--- na ---","--- na ---","--- na ---","--- na ---","--- na ---"]
["CMANT_14290",{"$f":"+'Cover Sheet'!$C$28","v":0},"ENTITY_ID","--- na ---","W1",6,{"$f":"TEXT('Cover Sheet'!$C$26, \"yyyymmdd\")","v":"19000100"},2,"--- na ---",14290,"--- na ---",{"$f":"ROUND(+ANST01!F59,4)","v":0},"--- na ---","--- na ---","--- na ---","--- na ---","--- na ---","--- na ---","--- na ---","--- na ---","--- na ---","--- na ---","--- na ---"]
["CMANT_14290",{"$f":"+'Cover Sheet'!$C$28","v":0},"ENTITY_ID","--- na ---","W1",6,{"$f":"TEXT('Cover Sheet'!$C$26, \"yyyymmdd\")","v":"19000100"},3,"--- na ---",14290,"--- na ---",{"$f":"ROUND(+ANST01!F60,4)","v":0},"--- na ---","--- na ---","--- na ---","--- na ---","--- na ---","--- na ---","--- na ---","--- na ---","--- na ---","--- na ---","--- na ---"]
["CMANT_14290",{"$f":"+'Cover Sheet'!$C$28","v":0},"ENTITY_ID","--- na ---","W1",6,{"$f":"TEXT('Cover Sheet'!$C$26, \"yyyymmdd\")","v":"19000100"},4,"--- na ---",14290,"--- na ---",{"$f":"ROUND(+ANST01!F61,4)","v":0},"--- na ---","--- na ---","--- na ---","--- na ---","--- na ---","--- na ---","--- na ---","--- na ---","--- na ---","--- na ---","--- na ---"]
["CMANT_14290",{"$f":"+'Cover Sheet'!$C$28","v":0},"ENTITY_ID","--- na ---","W1",6,{"$f":"TEXT('Cover Sheet'!$C$26, \"yyyymmdd\")","v":"19000100"},5,"--- na ---",14290,"--- na ---",{"$f":"ROUND(+ANST01!F62,4)","v":0},"--- na ---","--- na ---","--- na ---","--- na ---","--- na ---","--- na ---","--- na ---","--- na ---","--- na ---","--- na ---","--- na ---"]
["CMANT_14290",{"$f":"+'Cover Sheet'!$C$28","v":0},"ENTITY_ID","--- na ---","MT",7,{"$f":"TEXT('Cover Sheet'!$C$26, \"yyyymmdd\")","v":"19000100"},1,"--- na ---",14290,"--- na ---",{"$f":"ROUND(+ANST01!D18,4)","v":0},"--- na ---","--- na ---","--- na ---","--- na ---","--- na ---","--- na ---","--- na ---","--- na ---","--- na ---","--- na ---","--- na ---"]
["CMANT_14290",{"$f":"+'Cover Sheet'!$C$28","v":0},"ENTITY_ID","--- na ---","MT",7,{"$f":"TEXT('Cover Sheet'!$C$26, \"yyyymmdd\")","v":"19000100"},2,"--- na ---",14290,"--- na ---",{"$f":"ROUND(+ANST01!D19,4)","v":0},"--- na ---","--- na ---","--- na ---","--- na ---","--- na ---","--- na ---","--- na ---","--- na ---","--- na ---","--- na ---","--- na ---"]
["CMANT_14290",{"$f":"+'Cover Sheet'!$C$28","v":0},"ENTITY_ID","--- na ---","MT",7,{"$f":"TEXT('Cover Sheet'!$C$26, \"yyyymmdd\")","v":"19000100"},3,"--- na ---",14290,"--- na ---",{"$f":"ROUND(+ANST01!D20,4)","v":0},"--- na ---","--- na ---","--- na ---","--- na ---","--- na ---","--- na ---","--- na ---","--- na ---","--- na ---","--- na ---","--- na ---"]
["CMANT_14290",{"$f":"+'Cover Sheet'!$C$28","v":0},"ENTITY_ID","--- na ---","MT",7,{"$f":"TEXT('Cover Sheet'!$C$26, \"yyyymmdd\")","v":"19000100"},4,"--- na ---",14290,"--- na ---",{"$f":"ROUND(+ANST01!D21,4)","v":0},"--- na ---","--- na ---","--- na ---","--- na ---","--- na ---","--- na ---","--- na ---","--- na ---","--- na ---","--- na ---","--- na ---"]
["CMANT_14290",{"$f":"+'Cover Sheet'!$C$28","v":0},"ENTITY_ID","--- na ---","MT",7,{"$f":"TEXT('Cover Sheet'!$C$26, \"yyyymmdd\")","v":"19000100"},5,"--- na ---",14290,"--- na ---",{"$f":"ROUND(+ANST01!D22,4)","v":0},"--- na ---","--- na ---","--- na ---","--- na ---","--- na ---","--- na ---","--- na ---","--- na ---","--- na ---","--- na ---","--- na ---"]
["CMANT_14290",{"$f":"+'Cover Sheet'!$C$28","v":0},"ENTITY_ID","--- na ---","W1",7,{"$f":"TEXT('Cover Sheet'!$C$26, \"yyyymmdd\")","v":"19000100"},1,"--- na ---",14290,"--- na ---",{"$f":"ROUND(+ANST01!F18,4)","v":0},"--- na ---","--- na ---","--- na ---","--- na ---","--- na ---","--- na ---","--- na ---","--- na ---","--- na ---","--- na ---","--- na ---"]
["CMANT_14290",{"$f":"+'Cover Sheet'!$C$28","v":0},"ENTITY_ID","--- na ---","W1",7,{"$f":"TEXT('Cover Sheet'!$C$26, \"yyyymmdd\")","v":"19000100"},2,"--- na ---",14290,"--- na ---",{"$f":"ROUND(+ANST01!F19,4)","v":0},"--- na ---","--- na ---","--- na ---","--- na ---","--- na ---","--- na ---","--- na ---","--- na ---","--- na ---","--- na ---","--- na ---"]
["CMANT_14290",{"$f":"+'Cover Sheet'!$C$28","v":0},"ENTITY_ID","--- na ---","W1",7,{"$f":"TEXT('Cover Sheet'!$C$26, \"yyyymmdd\")","v":"19000100"},3,"--- na ---",14290,"--- na ---",{"$f":"ROUND(+ANST01!F20,4)","v":0},"--- na ---","--- na ---","--- na ---","--- na ---","--- na ---","--- na ---","--- na ---","--- na ---","--- na ---","--- na ---","--- na ---"]
["CMANT_14290",{"$f":"+'Cover Sheet'!$C$28","v":0},"ENTITY_ID","--- na ---","W1",7,{"$f":"TEXT('Cover Sheet'!$C$26, \"yyyymmdd\")","v":"19000100"},4,"--- na ---",14290,"--- na ---",{"$f":"ROUND(+ANST01!F21,4)","v":0},"--- na ---","--- na ---","--- na ---","--- na ---","--- na ---","--- na ---","--- na ---","--- na ---","--- na ---","--- na ---","--- na ---"]
["CMANT_14290",{"$f":"+'Cover Sheet'!$C$28","v":0},"ENTITY_ID","--- na ---","W1",7,{"$f":"TEXT('Cover Sheet'!$C$26, \"yyyymmdd\")","v":"19000100"},5,"--- na ---",14290,"--- na ---",{"$f":"ROUND(+ANST01!F22,4)","v":0},"--- na ---","--- na ---","--- na ---","--- na ---","--- na ---","--- na ---","--- na ---","--- na ---","--- na ---","--- na ---","--- na ---"]
["CMANT_14290",{"$f":"+'Cover Sheet'!$C$28","v":0},"ENTITY_ID","--- na ---","MT",8,{"$f":"TEXT('Cover Sheet'!$C$26, \"yyyymmdd\")","v":"19000100"},1,"--- na ---",14290,"--- na ---",{"$f":"ROUND(+ANST01!D106,4)","v":0},"--- na ---","--- na ---","--- na ---","--- na ---","--- na ---","--- na ---","--- na ---","--- na ---","--- na ---","--- na ---","--- na ---"]
["CMANT_14290",{"$f":"+'Cover Sheet'!$C$28","v":0},"ENTITY_ID","--- na ---","MT",8,{"$f":"TEXT('Cover Sheet'!$C$26, \"yyyymmdd\")","v":"19000100"},2,"--- na ---",14290,"--- na ---",{"$f":"ROUND(+ANST01!D107,4)","v":0},"--- na ---","--- na ---","--- na ---","--- na ---","--- na ---","--- na ---","--- na ---","--- na ---","--- na ---","--- na ---","--- na ---"]
["CMANT_14290",{"$f":"+'Cover Sheet'!$C$28","v":0},"ENTITY_ID","--- na ---","MT",8,{"$f":"TEXT('Cover Sheet'!$C$26, \"yyyymmdd\")","v":"19000100"},3,"--- na ---",14290,"--- na ---",{"$f":"ROUND(+ANST01!D108,4)","v":0},"--- na ---","--- na ---","--- na ---","--- na ---","--- na ---","--- na ---","--- na ---","--- na ---","--- na ---","--- na ---","--- na ---"]
["CMANT_14290",{"$f":"+'Cover Sheet'!$C$28","v":0},"ENTITY_ID","--- na ---","MT",8,{"$f":"TEXT('Cover Sheet'!$C$26, \"yyyymmdd\")","v":"19000100"},4,"--- na ---",14290,"--- na ---",{"$f":"ROUND(+ANST01!D109,4)","v":0},"--- na ---","--- na ---","--- na ---","--- na ---","--- na ---","--- na ---","--- na ---","--- na ---","--- na ---","--- na ---","--- na ---"]
["CMANT_14290",{"$f":"+'Cover Sheet'!$C$28","v":0},"ENTITY_ID","--- na ---","MT",8,{"$f":"TEXT('Cover Sheet'!$C$26, \"yyyymmdd\")","v":"19000100"},5,"--- na ---",14290,"--- na ---",{"$f":"ROUND(+ANST01!D110,4)","v":0},"--- na ---","--- na ---","--- na ---","--- na ---","--- na ---","--- na ---","--- na ---","--- na ---","--- na ---","--- na ---","--- na ---"]
["CMANT_14290",{"$f":"+'Cover Sheet'!$C$28","v":0},"ENTITY_ID","--- na ---","W1",8,{"$f":"TEXT('Cover Sheet'!$C$26, \"yyyymmdd\")","v":"19000100"},1,"--- na ---",14290,"--- na ---",{"$f":"ROUND(+ANST01!F106,4)","v":0},"--- na ---","--- na ---","--- na ---","--- na ---","--- na ---","--- na ---","--- na ---","--- na ---","--- na ---","--- na ---","--- na ---"]
["CMANT_14290",{"$f":"+'Cover Sheet'!$C$28","v":0},"ENTITY_ID","--- na ---","W1",8,{"$f":"TEXT('Cover Sheet'!$C$26, \"yyyymmdd\")","v":"19000100"},2,"--- na ---",14290,"--- na ---",{"$f":"ROUND(+ANST01!F107,4)","v":0},"--- na ---","--- na ---","--- na ---","--- na ---","--- na ---","--- na ---","--- na ---","--- na ---","--- na ---","--- na ---","--- na ---"]
["CMANT_14290",{"$f":"+'Cover Sheet'!$C$28","v":0},"ENTITY_ID","--- na ---","W1",8,{"$f":"TEXT('Cover Sheet'!$C$26, \"yyyymmdd\")","v":"19000100"},3,"--- na ---",14290,"--- na ---",{"$f":"ROUND(+ANST01!F108,4)","v":0},"--- na ---","--- na ---","--- na ---","--- na ---","--- na ---","--- na ---","--- na ---","--- na ---","--- na ---","--- na ---","--- na ---"]
["CMANT_14290",{"$f":"+'Cover Sheet'!$C$28","v":0},"ENTITY_ID","--- na ---","W1",8,{"$f":"TEXT('Cover Sheet'!$C$26, \"yyyymmdd\")","v":"19000100"},4,"--- na ---",14290,"--- na ---",{"$f":"ROUND(+ANST01!F109,4)","v":0},"--- na ---","--- na ---","--- na ---","--- na ---","--- na ---","--- na ---","--- na ---","--- na ---","--- na ---","--- na ---","--- na ---"]
["CMANT_14290",{"$f":"+'Cover Sheet'!$C$28","v":0},"ENTITY_ID","--- na ---","W1",8,{"$f":"TEXT('Cover Sheet'!$C$26, \"yyyymmdd\")","v":"19000100"},5,"--- na ---",14290,"--- na ---",{"$f":"ROUND(+ANST01!F110,4)","v":0},"--- na ---","--- na ---","--- na ---","--- na ---","--- na ---","--- na ---","--- na ---","--- na ---","--- na ---","--- na ---","--- na ---"]
["CMANT_14290",{"$f":"+'Cover Sheet'!$C$28","v":0},"ENTITY_ID","--- na ---","MT",9,{"$f":"TEXT('Cover Sheet'!$C$26, \"yyyymmdd\")","v":"19000100"},1,"--- na ---",14290,"--- na ---",{"$f":"ROUND(+ANST01!D42,4)","v":0},"--- na ---","--- na ---","--- na ---","--- na ---","--- na ---","--- na ---","--- na ---","--- na ---","--- na ---","--- na ---","--- na ---"]
["CMANT_14290",{"$f":"+'Cover Sheet'!$C$28","v":0},"ENTITY_ID","--- na ---","MT",9,{"$f":"TEXT('Cover Sheet'!$C$26, \"yyyymmdd\")","v":"19000100"},2,"--- na ---",14290,"--- na ---",{"$f":"ROUND(+ANST01!D43,4)","v":0},"--- na ---","--- na ---","--- na ---","--- na ---","--- na ---","--- na ---","--- na ---","--- na ---","--- na ---","--- na ---","--- na ---"]
["CMANT_14290",{"$f":"+'Cover Sheet'!$C$28","v":0},"ENTITY_ID","--- na ---","MT",9,{"$f":"TEXT('Cover Sheet'!$C$26, \"yyyymmdd\")","v":"19000100"},3,"--- na ---",14290,"--- na ---",{"$f":"ROUND(+ANST01!D44,4)","v":0},"--- na ---","--- na ---","--- na ---","--- na ---","--- na ---","--- na ---","--- na ---","--- na ---","--- na ---","--- na ---","--- na ---"]
["CMANT_14290",{"$f":"+'Cover Sheet'!$C$28","v":0},"ENTITY_ID","--- na ---","MT",9,{"$f":"TEXT('Cover Sheet'!$C$26, \"yyyymmdd\")","v":"19000100"},4,"--- na ---",14290,"--- na ---",{"$f":"ROUND(+ANST01!D45,4)","v":0},"--- na ---","--- na ---","--- na ---","--- na ---","--- na ---","--- na ---","--- na ---","--- na ---","--- na ---","--- na ---","--- na ---"]
["CMANT_14290",{"$f":"+'Cover Sheet'!$C$28","v":0},"ENTITY_ID","--- na ---","MT",9,{"$f":"TEXT('Cover Sheet'!$C$26, \"yyyymmdd\")","v":"19000100"},5,"--- na ---",14290,"--- na ---",{"$f":"ROUND(+ANST01!D46,4)","v":0},"--- na ---","--- na ---","--- na ---","--- na ---","--- na ---","--- na ---","--- na ---","--- na ---","--- na ---","--- na ---","--- na ---"]
["CMANT_14290",{"$f":"+'Cover Sheet'!$C$28","v":0},"ENTITY_ID","--- na ---","W1",9,{"$f":"TEXT('Cover Sheet'!$C$26, \"yyyymmdd\")","v":"19000100"},1,"--- na ---",14290,"--- na ---",{"$f":"ROUND(+ANST01!F42,4)","v":0},"--- na ---","--- na ---","--- na ---","--- na ---","--- na ---","--- na ---","--- na ---","--- na ---","--- na ---","--- na ---","--- na ---"]
["CMANT_14290",{"$f":"+'Cover Sheet'!$C$28","v":0},"ENTITY_ID","--- na ---","W1",9,{"$f":"TEXT('Cover Sheet'!$C$26, \"yyyymmdd\")","v":"19000100"},2,"--- na ---",14290,"--- na ---",{"$f":"ROUND(+ANST01!F43,4)","v":0},"--- na ---","--- na ---","--- na ---","--- na ---","--- na ---","--- na ---","--- na ---","--- na ---","--- na ---","--- na ---","--- na ---"]
["CMANT_14290",{"$f":"+'Cover Sheet'!$C$28","v":0},"ENTITY_ID","--- na ---","W1",9,{"$f":"TEXT('Cover Sheet'!$C$26, \"yyyymmdd\")","v":"19000100"},3,"--- na ---",14290,"--- na ---",{"$f":"ROUND(+ANST01!F44,4)","v":0},"--- na ---","--- na ---","--- na ---","--- na ---","--- na ---","--- na ---","--- na ---","--- na ---","--- na ---","--- na ---","--- na ---"]
["CMANT_14290",{"$f":"+'Cover Sheet'!$C$28","v":0},"ENTITY_ID","--- na ---","W1",9,{"$f":"TEXT('Cover Sheet'!$C$26, \"yyyymmdd\")","v":"19000100"},4,"--- na ---",14290,"--- na ---",{"$f":"ROUND(+ANST01!F45,4)","v":0},"--- na ---","--- na ---","--- na ---","--- na ---","--- na ---","--- na ---","--- na ---","--- na ---","--- na ---","--- na ---","--- na ---"]
["CMANT_14290",{"$f":"+'Cover Sheet'!$C$28","v":0},"ENTITY_ID","--- na ---","W1",9,{"$f":"TEXT('Cover Sheet'!$C$26, \"yyyymmdd\")","v":"19000100"},5,"--- na ---",14290,"--- na ---",{"$f":"ROUND(+ANST01!F46,4)","v":0},"--- na ---","--- na ---","--- na ---","--- na ---","--- na ---","--- na ---","--- na ---","--- na ---","--- na ---","--- na ---","--- na ---"]
["CMANT_14290",{"$f":"+'Cover Sheet'!$C$28","v":0},"ENTITY_ID","--- na ---","MT",10,{"$f":"TEXT('Cover Sheet'!$C$26, \"yyyymmdd\")","v":"19000100"},1,"--- na ---",14290,"--- na ---",{"$f":"ROUND(+ANST01!D122,4)","v":0},"--- na ---","--- na ---","--- na ---","--- na ---","--- na ---","--- na ---","--- na ---","--- na ---","--- na ---","--- na ---","--- na ---"]
["CMANT_14290",{"$f":"+'Cover Sheet'!$C$28","v":0},"ENTITY_ID","--- na ---","MT",10,{"$f":"TEXT('Cover Sheet'!$C$26, \"yyyymmdd\")","v":"19000100"},2,"--- na ---",14290,"--- na ---",{"$f":"ROUND(+ANST01!D123,4)","v":0},"--- na ---","--- na ---","--- na ---","--- na ---","--- na ---","--- na ---","--- na ---","--- na ---","--- na ---","--- na ---","--- na ---"]
["CMANT_14290",{"$f":"+'Cover Sheet'!$C$28","v":0},"ENTITY_ID","--- na ---","MT",10,{"$f":"TEXT('Cover Sheet'!$C$26, \"yyyymmdd\")","v":"19000100"},3,"--- na ---",14290,"--- na ---",{"$f":"ROUND(+ANST01!D124,4)","v":0},"--- na ---","--- na ---","--- na ---","--- na ---","--- na ---","--- na ---","--- na ---","--- na ---","--- na ---","--- na ---","--- na ---"]
["CMANT_14290",{"$f":"+'Cover Sheet'!$C$28","v":0},"ENTITY_ID","--- na ---","MT",10,{"$f":"TEXT('Cover Sheet'!$C$26, \"yyyymmdd\")","v":"19000100"},4,"--- na ---",14290,"--- na ---",{"$f":"ROUND(+ANST01!D125,4)","v":0},"--- na ---","--- na ---","--- na ---","--- na ---","--- na ---","--- na ---","--- na ---","--- na ---","--- na ---","--- na ---","--- na ---"]
["CMANT_14290",{"$f":"+'Cover Sheet'!$C$28","v":0},"ENTITY_ID","--- na ---","MT",10,{"$f":"TEXT('Cover Sheet'!$C$26, \"yyyymmdd\")","v":"19000100"},5,"--- na ---",14290,"--- na ---",{"$f":"ROUND(+ANST01!D126,4)","v":0},"--- na ---","--- na ---","--- na ---","--- na ---","--- na ---","--- na ---","--- na ---","--- na ---","--- na ---","--- na ---","--- na ---"]
["CMANT_14290",{"$f":"+'Cover Sheet'!$C$28","v":0},"ENTITY_ID","--- na ---","W1",10,{"$f":"TEXT('Cover Sheet'!$C$26, \"yyyymmdd\")","v":"19000100"},1,"--- na ---",14290,"--- na ---",{"$f":"ROUND(+ANST01!F122,4)","v":0},"--- na ---","--- na ---","--- na ---","--- na ---","--- na ---","--- na ---","--- na ---","--- na ---","--- na ---","--- na ---","--- na ---"]
["CMANT_14290",{"$f":"+'Cover Sheet'!$C$28","v":0},"ENTITY_ID","--- na ---","W1",10,{"$f":"TEXT('Cover Sheet'!$C$26, \"yyyymmdd\")","v":"19000100"},2,"--- na ---",14290,"--- na ---",{"$f":"ROUND(+ANST01!F123,4)","v":0},"--- na ---","--- na ---","--- na ---","--- na ---","--- na ---","--- na ---","--- na ---","--- na ---","--- na ---","--- na ---","--- na ---"]
["CMANT_14290",{"$f":"+'Cover Sheet'!$C$28","v":0},"ENTITY_ID","--- na ---","W1",10,{"$f":"TEXT('Cover Sheet'!$C$26, \"yyyymmdd\")","v":"19000100"},3,"--- na ---",14290,"--- na ---",{"$f":"ROUND(+ANST01!F124,4)","v":0},"--- na ---","--- na ---","--- na ---","--- na ---","--- na ---","--- na ---","--- na ---","--- na ---","--- na ---","--- na ---","--- na ---"]
["CMANT_14290",{"$f":"+'Cover Sheet'!$C$28","v":0},"ENTITY_ID","--- na ---","W1",10,{"$f":"TEXT('Cover Sheet'!$C$26, \"yyyymmdd\")","v":"19000100"},4,"--- na ---",14290,"--- na ---",{"$f":"ROUND(+ANST01!F125,4)","v":0},"--- na ---","--- na ---","--- na ---","--- na ---","--- na ---","--- na ---","--- na ---","--- na ---","--- na ---","--- na ---","--- na ---"]
["CMANT_14290",{"$f":"+'Cover Sheet'!$C$28","v":0},"ENTITY_ID","--- na ---","W1",10,{"$f":"TEXT('Cover Sheet'!$C$26, \"yyyymmdd\")","v":"19000100"},5,"--- na ---",14290,"--- na ---",{"$f":"ROUND(+ANST01!F126,4)","v":0},"--- na ---","--- na ---","--- na ---","--- na ---","--- na ---","--- na ---","--- na ---","--- na ---","--- na ---","--- na ---","--- na ---"]
["CMANT_14290",{"$f":"+'Cover Sheet'!$C$28","v":0},"ENTITY_ID","--- na ---","MT",11,{"$f":"TEXT('Cover Sheet'!$C$26, \"yyyymmdd\")","v":"19000100"},1,"--- na ---",14290,"--- na ---",{"$f":"ROUND(+ANST01!D114,4)","v":0},"--- na ---","--- na ---","--- na ---","--- na ---","--- na ---","--- na ---","--- na ---","--- na ---","--- na ---","--- na ---","--- na ---"]
["CMANT_14290",{"$f":"+'Cover Sheet'!$C$28","v":0},"ENTITY_ID","--- na ---","MT",11,{"$f":"TEXT('Cover Sheet'!$C$26, \"yyyymmdd\")","v":"19000100"},2,"--- na ---",14290,"--- na ---",{"$f":"ROUND(+ANST01!D115,4)","v":0},"--- na ---","--- na ---","--- na ---","--- na ---","--- na ---","--- na ---","--- na ---","--- na ---","--- na ---","--- na ---","--- na ---"]
["CMANT_14290",{"$f":"+'Cover Sheet'!$C$28","v":0},"ENTITY_ID","--- na ---","MT",11,{"$f":"TEXT('Cover Sheet'!$C$26, \"yyyymmdd\")","v":"19000100"},3,"--- na ---",14290,"--- na ---",{"$f":"ROUND(+ANST01!D116,4)","v":0},"--- na ---","--- na ---","--- na ---","--- na ---","--- na ---","--- na ---","--- na ---","--- na ---","--- na ---","--- na ---","--- na ---"]
["CMANT_14290",{"$f":"+'Cover Sheet'!$C$28","v":0},"ENTITY_ID","--- na ---","MT",11,{"$f":"TEXT('Cover Sheet'!$C$26, \"yyyymmdd\")","v":"19000100"},4,"--- na ---",14290,"--- na ---",{"$f":"ROUND(+ANST01!D117,4)","v":0},"--- na ---","--- na ---","--- na ---","--- na ---","--- na ---","--- na ---","--- na ---","--- na ---","--- na ---","--- na ---","--- na ---"]
["CMANT_14290",{"$f":"+'Cover Sheet'!$C$28","v":0},"ENTITY_ID","--- na ---","MT",11,{"$f":"TEXT('Cover Sheet'!$C$26, \"yyyymmdd\")","v":"19000100"},5,"--- na ---",14290,"--- na ---",{"$f":"ROUND(+ANST01!D118,4)","v":0},"--- na ---","--- na ---","--- na ---","--- na ---","--- na ---","--- na ---","--- na ---","--- na ---","--- na ---","--- na ---","--- na ---"]
["CMANT_14290",{"$f":"+'Cover Sheet'!$C$28","v":0},"ENTITY_ID","--- na ---","W1",11,{"$f":"TEXT('Cover Sheet'!$C$26, \"yyyymmdd\")","v":"19000100"},1,"--- na ---",14290,"--- na ---",{"$f":"ROUND(+ANST01!F114,4)","v":0},"--- na ---","--- na ---","--- na ---","--- na ---","--- na ---","--- na ---","--- na ---","--- na ---","--- na ---","--- na ---","--- na ---"]
["CMANT_14290",{"$f":"+'Cover Sheet'!$C$28","v":0},"ENTITY_ID","--- na ---","W1",11,{"$f":"TEXT('Cover Sheet'!$C$26, \"yyyymmdd\")","v":"19000100"},2,"--- na ---",14290,"--- na ---",{"$f":"ROUND(+ANST01!F115,4)","v":0},"--- na ---","--- na ---","--- na ---","--- na ---","--- na ---","--- na ---","--- na ---","--- na ---","--- na ---","--- na ---","--- na ---"]
["CMANT_14290",{"$f":"+'Cover Sheet'!$C$28","v":0},"ENTITY_ID","--- na ---","W1",11,{"$f":"TEXT('Cover Sheet'!$C$26, \"yyyymmdd\")","v":"19000100"},3,"--- na ---",14290,"--- na ---",{"$f":"ROUND(+ANST01!F116,4)","v":0},"--- na ---","--- na ---","--- na ---","--- na ---","--- na ---","--- na ---","--- na ---","--- na ---","--- na ---","--- na ---","--- na ---"]
["CMANT_14290",{"$f":"+'Cover Sheet'!$C$28","v":0},"ENTITY_ID","--- na ---","W1",11,{"$f":"TEXT('Cover Sheet'!$C$26, \"yyyymmdd\")","v":"19000100"},4,"--- na ---",14290,"--- na ---",{"$f":"ROUND(+ANST01!F117,4)","v":0},"--- na ---","--- na ---","--- na ---","--- na ---","--- na ---","--- na ---","--- na ---","--- na ---","--- na ---","--- na ---","--- na ---"]
["CMANT_14290",{"$f":"+'Cover Sheet'!$C$28","v":0},"ENTITY_ID","--- na ---","W1",11,{"$f":"TEXT('Cover Sheet'!$C$26, \"yyyymmdd\")","v":"19000100"},5,"--- na ---",14290,"--- na ---",{"$f":"ROUND(+ANST01!F118,4)","v":0},"--- na ---","--- na ---","--- na ---","--- na ---","--- na ---","--- na ---","--- na ---","--- na ---","--- na ---","--- na ---","--- na ---"]
["CMANT_14290",{"$f":"+'Cover Sheet'!$C$28","v":0},"ENTITY_ID","--- na ---","MT",12,{"$f":"TEXT('Cover Sheet'!$C$26, \"yyyymmdd\")","v":"19000100"},1,"--- na ---",14290,"--- na ---",{"$f":"ROUND(+ANST01!D130,4)","v":0},"--- na ---","--- na ---","--- na ---","--- na ---","--- na ---","--- na ---","--- na ---","--- na ---","--- na ---","--- na ---","--- na ---"]
["CMANT_14290",{"$f":"+'Cover Sheet'!$C$28","v":0},"ENTITY_ID","--- na ---","MT",12,{"$f":"TEXT('Cover Sheet'!$C$26, \"yyyymmdd\")","v":"19000100"},2,"--- na ---",14290,"--- na ---",{"$f":"ROUND(+ANST01!D131,4)","v":0},"--- na ---","--- na ---","--- na ---","--- na ---","--- na ---","--- na ---","--- na ---","--- na ---","--- na ---","--- na ---","--- na ---"]
["CMANT_14290",{"$f":"+'Cover Sheet'!$C$28","v":0},"ENTITY_ID","--- na ---","MT",12,{"$f":"TEXT('Cover Sheet'!$C$26, \"yyyymmdd\")","v":"19000100"},3,"--- na ---",14290,"--- na ---",{"$f":"ROUND(+ANST01!D132,4)","v":0},"--- na ---","--- na ---","--- na ---","--- na ---","--- na ---","--- na ---","--- na ---","--- na ---","--- na ---","--- na ---","--- na ---"]
["CMANT_14290",{"$f":"+'Cover Sheet'!$C$28","v":0},"ENTITY_ID","--- na ---","MT",12,{"$f":"TEXT('Cover Sheet'!$C$26, \"yyyymmdd\")","v":"19000100"},4,"--- na ---",14290,"--- na ---",{"$f":"ROUND(+ANST01!D133,4)","v":0},"--- na ---","--- na ---","--- na ---","--- na ---","--- na ---","--- na ---","--- na ---","--- na ---","--- na ---","--- na ---","--- na ---"]
["CMANT_14290",{"$f":"+'Cover Sheet'!$C$28","v":0},"ENTITY_ID","--- na ---","MT",12,{"$f":"TEXT('Cover Sheet'!$C$26, \"yyyymmdd\")","v":"19000100"},5,"--- na ---",14290,"--- na ---",{"$f":"ROUND(+ANST01!D134,4)","v":0},"--- na ---","--- na ---","--- na ---","--- na ---","--- na ---","--- na ---","--- na ---","--- na ---","--- na ---","--- na ---","--- na ---"]
["CMANT_14290",{"$f":"+'Cover Sheet'!$C$28","v":0},"ENTITY_ID","--- na ---","W1",12,{"$f":"TEXT('Cover Sheet'!$C$26, \"yyyymmdd\")","v":"19000100"},1,"--- na ---",14290,"--- na ---",{"$f":"ROUND(+ANST01!F130,4)","v":0},"--- na ---","--- na ---","--- na ---","--- na ---","--- na ---","--- na ---","--- na ---","--- na ---","--- na ---","--- na ---","--- na ---"]
["CMANT_14290",{"$f":"+'Cover Sheet'!$C$28","v":0},"ENTITY_ID","--- na ---","W1",12,{"$f":"TEXT('Cover Sheet'!$C$26, \"yyyymmdd\")","v":"19000100"},2,"--- na ---",14290,"--- na ---",{"$f":"ROUND(+ANST01!F131,4)","v":0},"--- na ---","--- na ---","--- na ---","--- na ---","--- na ---","--- na ---","--- na ---","--- na ---","--- na ---","--- na ---","--- na ---"]
["CMANT_14290",{"$f":"+'Cover Sheet'!$C$28","v":0},"ENTITY_ID","--- na ---","W1",12,{"$f":"TEXT('Cover Sheet'!$C$26, \"yyyymmdd\")","v":"19000100"},3,"--- na ---",14290,"--- na ---",{"$f":"ROUND(+ANST01!F132,4)","v":0},"--- na ---","--- na ---","--- na ---","--- na ---","--- na ---","--- na ---","--- na ---","--- na ---","--- na ---","--- na ---","--- na ---"]
["CMANT_14290",{"$f":"+'Cover Sheet'!$C$28","v":0},"ENTITY_ID","--- na ---","W1",12,{"$f":"TEXT('Cover Sheet'!$C$26, \"yyyymmdd\")","v":"19000100"},4,"--- na ---",14290,"--- na ---",{"$f":"ROUND(+ANST01!F133,4)","v":0},"--- na ---","--- na ---","--- na ---","--- na ---","--- na ---","--- na ---","--- na ---","--- na ---","--- na ---","--- na ---","--- na ---"]
["CMANT_14290",{"$f":"+'Cover Sheet'!$C$28","v":0},"ENTITY_ID","--- na ---","W1",12,{"$f":"TEXT('Cover Sheet'!$C$26, \"yyyymmdd\")","v":"19000100"},5,"--- na ---",14290,"--- na ---",{"$f":"ROUND(+ANST01!F134,4)","v":0},"--- na ---","--- na ---","--- na ---","--- na ---","--- na ---","--- na ---","--- na ---","--- na ---","--- na ---","--- na ---","--- na ---"]
["CMANT_14290",{"$f":"+'Cover Sheet'!$C$28","v":0},"ENTITY_ID","--- na ---","MT",13,{"$f":"TEXT('Cover Sheet'!$C$26, \"yyyymmdd\")","v":"19000100"},1,"--- na ---",14290,"--- na ---",{"$f":"ROUND(+ANST01!D138,4)","v":0},"--- na ---","--- na ---","--- na ---","--- na ---","--- na ---","--- na ---","--- na ---","--- na ---","--- na ---","--- na ---","--- na ---"]
["CMANT_14290",{"$f":"+'Cover Sheet'!$C$28","v":0},"ENTITY_ID","--- na ---","MT",13,{"$f":"TEXT('Cover Sheet'!$C$26, \"yyyymmdd\")","v":"19000100"},2,"--- na ---",14290,"--- na ---",{"$f":"ROUND(+ANST01!D139,4)","v":0},"--- na ---","--- na ---","--- na ---","--- na ---","--- na ---","--- na ---","--- na ---","--- na ---","--- na ---","--- na ---","--- na ---"]
["CMANT_14290",{"$f":"+'Cover Sheet'!$C$28","v":0},"ENTITY_ID","--- na ---","MT",13,{"$f":"TEXT('Cover Sheet'!$C$26, \"yyyymmdd\")","v":"19000100"},3,"--- na ---",14290,"--- na ---",{"$f":"ROUND(+ANST01!D140,4)","v":0},"--- na ---","--- na ---","--- na ---","--- na ---","--- na ---","--- na ---","--- na ---","--- na ---","--- na ---","--- na ---","--- na ---"]
["CMANT_14290",{"$f":"+'Cover Sheet'!$C$28","v":0},"ENTITY_ID","--- na ---","MT",13,{"$f":"TEXT('Cover Sheet'!$C$26, \"yyyymmdd\")","v":"19000100"},4,"--- na ---",14290,"--- na ---",{"$f":"ROUND(+ANST01!D141,4)","v":0},"--- na ---","--- na ---","--- na ---","--- na ---","--- na ---","--- na ---","--- na ---","--- na ---","--- na ---","--- na ---","--- na ---"]
["CMANT_14290",{"$f":"+'Cover Sheet'!$C$28","v":0},"ENTITY_ID","--- na ---","MT",13,{"$f":"TEXT('Cover Sheet'!$C$26, \"yyyymmdd\")","v":"19000100"},5,"--- na ---",14290,"--- na ---",{"$f":"ROUND(+ANST01!D142,4)","v":0},"--- na ---","--- na ---","--- na ---","--- na ---","--- na ---","--- na ---","--- na ---","--- na ---","--- na ---","--- na ---","--- na ---"]
["CMANT_14290",{"$f":"+'Cover Sheet'!$C$28","v":0},"ENTITY_ID","--- na ---","W1",13,{"$f":"TEXT('Cover Sheet'!$C$26, \"yyyymmdd\")","v":"19000100"},1,"--- na ---",14290,"--- na ---",{"$f":"ROUND(+ANST01!F138,4)","v":0},"--- na ---","--- na ---","--- na ---","--- na ---","--- na ---","--- na ---","--- na ---","--- na ---","--- na ---","--- na ---","--- na ---"]
["CMANT_14290",{"$f":"+'Cover Sheet'!$C$28","v":0},"ENTITY_ID","--- na ---","W1",13,{"$f":"TEXT('Cover Sheet'!$C$26, \"yyyymmdd\")","v":"19000100"},2,"--- na ---",14290,"--- na ---",{"$f":"ROUND(+ANST01!F139,4)","v":0},"--- na ---","--- na ---","--- na ---","--- na ---","--- na ---","--- na ---","--- na ---","--- na ---","--- na ---","--- na ---","--- na ---"]
["CMANT_14290",{"$f":"+'Cover Sheet'!$C$28","v":0},"ENTITY_ID","--- na ---","W1",13,{"$f":"TEXT('Cover Sheet'!$C$26, \"yyyymmdd\")","v":"19000100"},3,"--- na ---",14290,"--- na ---",{"$f":"ROUND(+ANST01!F140,4)","v":0},"--- na ---","--- na ---","--- na ---","--- na ---","--- na ---","--- na ---","--- na ---","--- na ---","--- na ---","--- na ---","--- na ---"]
["CMANT_14290",{"$f":"+'Cover Sheet'!$C$28","v":0},"ENTITY_ID","--- na ---","W1",13,{"$f":"TEXT('Cover Sheet'!$C$26, \"yyyymmdd\")","v":"19000100"},4,"--- na ---",14290,"--- na ---",{"$f":"ROUND(+ANST01!F141,4)","v":0},"--- na ---","--- na ---","--- na ---","--- na ---","--- na ---","--- na ---","--- na ---","--- na ---","--- na ---","--- na ---","--- na ---"]
["CMANT_14290",{"$f":"+'Cover Sheet'!$C$28","v":0},"ENTITY_ID","--- na ---","W1",13,{"$f":"TEXT('Cover Sheet'!$C$26, \"yyyymmdd\")","v":"19000100"},5,"--- na ---",14290,"--- na ---",{"$f":"ROUND(+ANST01!F142,4)","v":0},"--- na ---","--- na ---","--- na ---","--- na ---","--- na ---","--- na ---","--- na ---","--- na ---","--- na ---","--- na ---","--- na ---"]
["CMANT_14290",{"$f":"+'Cover Sheet'!$C$28","v":0},"ENTITY_ID","--- na ---","MT",14,{"$f":"TEXT('Cover Sheet'!$C$26, \"yyyymmdd\")","v":"19000100"},1,"--- na ---",14290,"--- na ---",{"$f":"ROUND(+ANST01!D50,4)","v":0},"--- na ---","--- na ---","--- na ---","--- na ---","--- na ---","--- na ---","--- na ---","--- na ---","--- na ---","--- na ---","--- na ---"]
["CMANT_14290",{"$f":"+'Cover Sheet'!$C$28","v":0},"ENTITY_ID","--- na ---","MT",14,{"$f":"TEXT('Cover Sheet'!$C$26, \"yyyymmdd\")","v":"19000100"},2,"--- na ---",14290,"--- na ---",{"$f":"ROUND(+ANST01!D51,4)","v":0},"--- na ---","--- na ---","--- na ---","--- na ---","--- na ---","--- na ---","--- na ---","--- na ---","--- na ---","--- na ---","--- na ---"]
["CMANT_14290",{"$f":"+'Cover Sheet'!$C$28","v":0},"ENTITY_ID","--- na ---","MT",14,{"$f":"TEXT('Cover Sheet'!$C$26, \"yyyymmdd\")","v":"19000100"},3,"--- na ---",14290,"--- na ---",{"$f":"ROUND(+ANST01!D52,4)","v":0},"--- na ---","--- na ---","--- na ---","--- na ---","--- na ---","--- na ---","--- na ---","--- na ---","--- na ---","--- na ---","--- na ---"]
["CMANT_14290",{"$f":"+'Cover Sheet'!$C$28","v":0},"ENTITY_ID","--- na ---","MT",14,{"$f":"TEXT('Cover Sheet'!$C$26, \"yyyymmdd\")","v":"19000100"},4,"--- na ---",14290,"--- na ---",{"$f":"ROUND(+ANST01!D53,4)","v":0},"--- na ---","--- na ---","--- na ---","--- na ---","--- na ---","--- na ---","--- na ---","--- na ---","--- na ---","--- na ---","--- na ---"]
["CMANT_14290",{"$f":"+'Cover Sheet'!$C$28","v":0},"ENTITY_ID","--- na ---","MT",14,{"$f":"TEXT('Cover Sheet'!$C$26, \"yyyymmdd\")","v":"19000100"},5,"--- na ---",14290,"--- na ---",{"$f":"ROUND(+ANST01!D54,4)","v":0},"--- na ---","--- na ---","--- na ---","--- na ---","--- na ---","--- na ---","--- na ---","--- na ---","--- na ---","--- na ---","--- na ---"]
["CMANT_14290",{"$f":"+'Cover Sheet'!$C$28","v":0},"ENTITY_ID","--- na ---","W1",14,{"$f":"TEXT('Cover Sheet'!$C$26, \"yyyymmdd\")","v":"19000100"},1,"--- na ---",14290,"--- na ---",{"$f":"ROUND(+ANST01!F50,4)","v":0},"--- na ---","--- na ---","--- na ---","--- na ---","--- na ---","--- na ---","--- na ---","--- na ---","--- na ---","--- na ---","--- na ---"]
["CMANT_14290",{"$f":"+'Cover Sheet'!$C$28","v":0},"ENTITY_ID","--- na ---","W1",14,{"$f":"TEXT('Cover Sheet'!$C$26, \"yyyymmdd\")","v":"19000100"},2,"--- na ---",14290,"--- na ---",{"$f":"ROUND(+ANST01!F51,4)","v":0},"--- na ---","--- na ---","--- na ---","--- na ---","--- na ---","--- na ---","--- na ---","--- na ---","--- na ---","--- na ---","--- na ---"]
["CMANT_14290",{"$f":"+'Cover Sheet'!$C$28","v":0},"ENTITY_ID","--- na ---","W1",14,{"$f":"TEXT('Cover Sheet'!$C$26, \"yyyymmdd\")","v":"19000100"},3,"--- na ---",14290,"--- na ---",{"$f":"ROUND(+ANST01!F52,4)","v":0},"--- na ---","--- na ---","--- na ---","--- na ---","--- na ---","--- na ---","--- na ---","--- na ---","--- na ---","--- na ---","--- na ---"]
["CMANT_14290",{"$f":"+'Cover Sheet'!$C$28","v":0},"ENTITY_ID","--- na ---","W1",14,{"$f":"TEXT('Cover Sheet'!$C$26, \"yyyymmdd\")","v":"19000100"},4,"--- na ---",14290,"--- na ---",{"$f":"ROUND(+ANST01!F53,4)","v":0},"--- na ---","--- na ---","--- na ---","--- na ---","--- na ---","--- na ---","--- na ---","--- na ---","--- na ---","--- na ---","--- na ---"]
["CMANT_14290",{"$f":"+'Cover Sheet'!$C$28","v":0},"ENTITY_ID","--- na ---","W1",14,{"$f":"TEXT('Cover Sheet'!$C$26, \"yyyymmdd\")","v":"19000100"},5,"--- na ---",14290,"--- na ---",{"$f":"ROUND(+ANST01!F54,4)","v":0},"--- na ---","--- na ---","--- na ---","--- na ---","--- na ---","--- na ---","--- na ---","--- na ---","--- na ---","--- na ---","--- na ---"]
["CMANT_14290",{"$f":"+'Cover Sheet'!$C$28","v":0},"ENTITY_ID","--- na ---","MT",15,{"$f":"TEXT('Cover Sheet'!$C$26, \"yyyymmdd\")","v":"19000100"},1,"--- na ---",14290,"--- na ---",{"$f":"ROUND(+ANST01!D34,4)","v":0},"--- na ---","--- na ---","--- na ---","--- na ---","--- na ---","--- na ---","--- na ---","--- na ---","--- na ---","--- na ---","--- na ---"]
["CMANT_14290",{"$f":"+'Cover Sheet'!$C$28","v":0},"ENTITY_ID","--- na ---","MT",15,{"$f":"TEXT('Cover Sheet'!$C$26, \"yyyymmdd\")","v":"19000100"},2,"--- na ---",14290,"--- na ---",{"$f":"ROUND(+ANST01!D35,4)","v":0},"--- na ---","--- na ---","--- na ---","--- na ---","--- na ---","--- na ---","--- na ---","--- na ---","--- na ---","--- na ---","--- na ---"]
["CMANT_14290",{"$f":"+'Cover Sheet'!$C$28","v":0},"ENTITY_ID","--- na ---","MT",15,{"$f":"TEXT('Cover Sheet'!$C$26, \"yyyymmdd\")","v":"19000100"},3,"--- na ---",14290,"--- na ---",{"$f":"ROUND(+ANST01!D36,4)","v":0},"--- na ---","--- na ---","--- na ---","--- na ---","--- na ---","--- na ---","--- na ---","--- na ---","--- na ---","--- na ---","--- na ---"]
["CMANT_14290",{"$f":"+'Cover Sheet'!$C$28","v":0},"ENTITY_ID","--- na ---","MT",15,{"$f":"TEXT('Cover Sheet'!$C$26, \"yyyymmdd\")","v":"19000100"},4,"--- na ---",14290,"--- na ---",{"$f":"ROUND(+ANST01!D37,4)","v":0},"--- na ---","--- na ---","--- na ---","--- na ---","--- na ---","--- na ---","--- na ---","--- na ---","--- na ---","--- na ---","--- na ---"]
["CMANT_14290",{"$f":"+'Cover Sheet'!$C$28","v":0},"ENTITY_ID","--- na ---","MT",15,{"$f":"TEXT('Cover Sheet'!$C$26, \"yyyymmdd\")","v":"19000100"},5,"--- na ---",14290,"--- na ---",{"$f":"ROUND(+ANST01!D38,4)","v":0},"--- na ---","--- na ---","--- na ---","--- na ---","--- na ---","--- na ---","--- na ---","--- na ---","--- na ---","--- na ---","--- na ---"]
["CMANT_14290",{"$f":"+'Cover Sheet'!$C$28","v":0},"ENTITY_ID","--- na ---","W1",15,{"$f":"TEXT('Cover Sheet'!$C$26, \"yyyymmdd\")","v":"19000100"},1,"--- na ---",14290,"--- na ---",{"$f":"ROUND(+ANST01!F34,4)","v":0},"--- na ---","--- na ---","--- na ---","--- na ---","--- na ---","--- na ---","--- na ---","--- na ---","--- na ---","--- na ---","--- na ---"]
["CMANT_14290",{"$f":"+'Cover Sheet'!$C$28","v":0},"ENTITY_ID","--- na ---","W1",15,{"$f":"TEXT('Cover Sheet'!$C$26, \"yyyymmdd\")","v":"19000100"},2,"--- na ---",14290,"--- na ---",{"$f":"ROUND(+ANST01!F35,4)","v":0},"--- na ---","--- na ---","--- na ---","--- na ---","--- na ---","--- na ---","--- na ---","--- na ---","--- na ---","--- na ---","--- na ---"]
["CMANT_14290",{"$f":"+'Cover Sheet'!$C$28","v":0},"ENTITY_ID","--- na ---","W1",15,{"$f":"TEXT('Cover Sheet'!$C$26, \"yyyymmdd\")","v":"19000100"},3,"--- na ---",14290,"--- na ---",{"$f":"ROUND(+ANST01!F36,4)","v":0},"--- na ---","--- na ---","--- na ---","--- na ---","--- na ---","--- na ---","--- na ---","--- na ---","--- na ---","--- na ---","--- na ---"]
["CMANT_14290",{"$f":"+'Cover Sheet'!$C$28","v":0},"ENTITY_ID","--- na ---","W1",15,{"$f":"TEXT('Cover Sheet'!$C$26, \"yyyymmdd\")","v":"19000100"},4,"--- na ---",14290,"--- na ---",{"$f":"ROUND(+ANST01!F37,4)","v":0},"--- na ---","--- na ---","--- na ---","--- na ---","--- na ---","--- na ---","--- na ---","--- na ---","--- na ---","--- na ---","--- na ---"]
["CMANT_14290",{"$f":"+'Cover Sheet'!$C$28","v":0},"ENTITY_ID","--- na ---","W1",15,{"$f":"TEXT('Cover Sheet'!$C$26, \"yyyymmdd\")","v":"19000100"},5,"--- na ---",14290,"--- na ---",{"$f":"ROUND(+ANST01!F38,4)","v":0},"--- na ---","--- na ---","--- na ---","--- na ---","--- na ---","--- na ---","--- na ---","--- na ---","--- na ---","--- na ---","--- na ---"]
["CMANT_14290",{"$f":"+'Cover Sheet'!$C$28","v":0},"ENTITY_ID","--- na ---","MT",16,{"$f":"TEXT('Cover Sheet'!$C$26, \"yyyymmdd\")","v":"19000100"},1,"--- na ---",14290,"--- na ---",{"$f":"ROUND(+ANST01!D10,4)","v":0},"--- na ---","--- na ---","--- na ---","--- na ---","--- na ---","--- na ---","--- na ---","--- na ---","--- na ---","--- na ---","--- na ---"]
["CMANT_14290",{"$f":"+'Cover Sheet'!$C$28","v":0},"ENTITY_ID","--- na ---","MT",16,{"$f":"TEXT('Cover Sheet'!$C$26, \"yyyymmdd\")","v":"19000100"},2,"--- na ---",14290,"--- na ---",{"$f":"ROUND(+ANST01!D11,4)","v":0},"--- na ---","--- na ---","--- na ---","--- na ---","--- na ---","--- na ---","--- na ---","--- na ---","--- na ---","--- na ---","--- na ---"]
["CMANT_14290",{"$f":"+'Cover Sheet'!$C$28","v":0},"ENTITY_ID","--- na ---","MT",16,{"$f":"TEXT('Cover Sheet'!$C$26, \"yyyymmdd\")","v":"19000100"},3,"--- na ---",14290,"--- na ---",{"$f":"ROUND(+ANST01!D12,4)","v":0},"--- na ---","--- na ---","--- na ---","--- na ---","--- na ---","--- na ---","--- na ---","--- na ---","--- na ---","--- na ---","--- na ---"]
["CMANT_14290",{"$f":"+'Cover Sheet'!$C$28","v":0},"ENTITY_ID","--- na ---","MT",16,{"$f":"TEXT('Cover Sheet'!$C$26, \"yyyymmdd\")","v":"19000100"},4,"--- na ---",14290,"--- na ---",{"$f":"ROUND(+ANST01!D13,4)","v":0},"--- na ---","--- na ---","--- na ---","--- na ---","--- na ---","--- na ---","--- na ---","--- na ---","--- na ---","--- na ---","--- na ---"]
["CMANT_14290",{"$f":"+'Cover Sheet'!$C$28","v":0},"ENTITY_ID","--- na ---","MT",16,{"$f":"TEXT('Cover Sheet'!$C$26, \"yyyymmdd\")","v":"19000100"},5,"--- na ---",14290,"--- na ---",{"$f":"ROUND(+ANST01!D14,4)","v":0},"--- na ---","--- na ---","--- na ---","--- na ---","--- na ---","--- na ---","--- na ---","--- na ---","--- na ---","--- na ---","--- na ---"]
["CMANT_14290",{"$f":"+'Cover Sheet'!$C$28","v":0},"ENTITY_ID","--- na ---","W1",16,{"$f":"TEXT('Cover Sheet'!$C$26, \"yyyymmdd\")","v":"19000100"},1,"--- na ---",14290,"--- na ---",{"$f":"ROUND(+ANST01!F10,4)","v":0},"--- na ---","--- na ---","--- na ---","--- na ---","--- na ---","--- na ---","--- na ---","--- na ---","--- na ---","--- na ---","--- na ---"]
["CMANT_14290",{"$f":"+'Cover Sheet'!$C$28","v":0},"ENTITY_ID","--- na ---","W1",16,{"$f":"TEXT('Cover Sheet'!$C$26, \"yyyymmdd\")","v":"19000100"},2,"--- na ---",14290,"--- na ---",{"$f":"ROUND(+ANST01!F11,4)","v":0},"--- na ---","--- na ---","--- na ---","--- na ---","--- na ---","--- na ---","--- na ---","--- na ---","--- na ---","--- na ---","--- na ---"]
["CMANT_14290",{"$f":"+'Cover Sheet'!$C$28","v":0},"ENTITY_ID","--- na ---","W1",16,{"$f":"TEXT('Cover Sheet'!$C$26, \"yyyymmdd\")","v":"19000100"},3,"--- na ---",14290,"--- na ---",{"$f":"ROUND(+ANST01!F12,4)","v":0},"--- na ---","--- na ---","--- na ---","--- na ---","--- na ---","--- na ---","--- na ---","--- na ---","--- na ---","--- na ---","--- na ---"]
["CMANT_14290",{"$f":"+'Cover Sheet'!$C$28","v":0},"ENTITY_ID","--- na ---","W1",16,{"$f":"TEXT('Cover Sheet'!$C$26, \"yyyymmdd\")","v":"19000100"},4,"--- na ---",14290,"--- na ---",{"$f":"ROUND(+ANST01!F13,4)","v":0},"--- na ---","--- na ---","--- na ---","--- na ---","--- na ---","--- na ---","--- na ---","--- na ---","--- na ---","--- na ---","--- na ---"]
["CMANT_14290",{"$f":"+'Cover Sheet'!$C$28","v":0},"ENTITY_ID","--- na ---","W1",16,{"$f":"TEXT('Cover Sheet'!$C$26, \"yyyymmdd\")","v":"19000100"},5,"--- na ---",14290,"--- na ---",{"$f":"ROUND(+ANST01!F14,4)","v":0},"--- na ---","--- na ---","--- na ---","--- na ---","--- na ---","--- na ---","--- na ---","--- na ---","--- na ---","--- na ---","--- na ---"]
["CMANT_14290",{"$f":"+'Cover Sheet'!$C$28","v":0},"ENTITY_ID","--- na ---","MT",17,{"$f":"TEXT('Cover Sheet'!$C$26, \"yyyymmdd\")","v":"19000100"},1,"--- na ---",14290,"--- na ---",{"$f":"ROUND(+ANST01!D26,4)","v":0},"--- na ---","--- na ---","--- na ---","--- na ---","--- na ---","--- na ---","--- na ---","--- na ---","--- na ---","--- na ---","--- na ---"]
["CMANT_14290",{"$f":"+'Cover Sheet'!$C$28","v":0},"ENTITY_ID","--- na ---","MT",17,{"$f":"TEXT('Cover Sheet'!$C$26, \"yyyymmdd\")","v":"19000100"},2,"--- na ---",14290,"--- na ---",{"$f":"ROUND(+ANST01!D27,4)","v":0},"--- na ---","--- na ---","--- na ---","--- na ---","--- na ---","--- na ---","--- na ---","--- na ---","--- na ---","--- na ---","--- na ---"]
["CMANT_14290",{"$f":"+'Cover Sheet'!$C$28","v":0},"ENTITY_ID","--- na ---","MT",17,{"$f":"TEXT('Cover Sheet'!$C$26, \"yyyymmdd\")","v":"19000100"},3,"--- na ---",14290,"--- na ---",{"$f":"ROUND(+ANST01!D28,4)","v":0},"--- na ---","--- na ---","--- na ---","--- na ---","--- na ---","--- na ---","--- na ---","--- na ---","--- na ---","--- na ---","--- na ---"]
["CMANT_14290",{"$f":"+'Cover Sheet'!$C$28","v":0},"ENTITY_ID","--- na ---","MT",17,{"$f":"TEXT('Cover Sheet'!$C$26, \"yyyymmdd\")","v":"19000100"},4,"--- na ---",14290,"--- na ---",{"$f":"ROUND(+ANST01!D29,4)","v":0},"--- na ---","--- na ---","--- na ---","--- na ---","--- na ---","--- na ---","--- na ---","--- na ---","--- na ---","--- na ---","--- na ---"]
["CMANT_14290",{"$f":"+'Cover Sheet'!$C$28","v":0},"ENTITY_ID","--- na ---","MT",17,{"$f":"TEXT('Cover Sheet'!$C$26, \"yyyymmdd\")","v":"19000100"},5,"--- na ---",14290,"--- na ---",{"$f":"ROUND(+ANST01!D30,4)","v":0},"--- na ---","--- na ---","--- na ---","--- na ---","--- na ---","--- na ---","--- na ---","--- na ---","--- na ---","--- na ---","--- na ---"]
["CMANT_14290",{"$f":"+'Cover Sheet'!$C$28","v":0},"ENTITY_ID","--- na ---","W1",17,{"$f":"TEXT('Cover Sheet'!$C$26, \"yyyymmdd\")","v":"19000100"},1,"--- na ---",14290,"--- na ---",{"$f":"ROUND(+ANST01!F26,4)","v":0},"--- na ---","--- na ---","--- na ---","--- na ---","--- na ---","--- na ---","--- na ---","--- na ---","--- na ---","--- na ---","--- na ---"]
["CMANT_14290",{"$f":"+'Cover Sheet'!$C$28","v":0},"ENTITY_ID","--- na ---","W1",17,{"$f":"TEXT('Cover Sheet'!$C$26, \"yyyymmdd\")","v":"19000100"},2,"--- na ---",14290,"--- na ---",{"$f":"ROUND(+ANST01!F27,4)","v":0},"--- na ---","--- na ---","--- na ---","--- na ---","--- na ---","--- na ---","--- na ---","--- na ---","--- na ---","--- na ---","--- na ---"]
["CMANT_14290",{"$f":"+'Cover Sheet'!$C$28","v":0},"ENTITY_ID","--- na ---","W1",17,{"$f":"TEXT('Cover Sheet'!$C$26, \"yyyymmdd\")","v":"19000100"},3,"--- na ---",14290,"--- na ---",{"$f":"ROUND(+ANST01!F28,4)","v":0},"--- na ---","--- na ---","--- na ---","--- na ---","--- na ---","--- na ---","--- na ---","--- na ---","--- na ---","--- na ---","--- na ---"]
["CMANT_14290",{"$f":"+'Cover Sheet'!$C$28","v":0},"ENTITY_ID","--- na ---","W1",17,{"$f":"TEXT('Cover Sheet'!$C$26, \"yyyymmdd\")","v":"19000100"},4,"--- na ---",14290,"--- na ---",{"$f":"ROUND(+ANST01!F29,4)","v":0},"--- na ---","--- na ---","--- na ---","--- na ---","--- na ---","--- na ---","--- na ---","--- na ---","--- na ---","--- na ---","--- na ---"]
["CMANT_14290",{"$f":"+'Cover Sheet'!$C$28","v":0},"ENTITY_ID","--- na ---","W1",17,{"$f":"TEXT('Cover Sheet'!$C$26, \"yyyymmdd\")","v":"19000100"},5,"--- na ---",14290,"--- na ---",{"$f":"ROUND(+ANST01!F30,4)","v":0},"--- na ---","--- na ---","--- na ---","--- na ---","--- na ---","--- na ---","--- na ---","--- na ---","--- na ---","--- na ---","--- na ---"]
["CMANT_14300",{"$f":"+'Cover Sheet'!$C$28","v":0},"ENTITY_ID","MT","--- na ---","--- na ---",{"$f":"TEXT('Cover Sheet'!$C$26, \"yyyymmdd\")","v":"19000100"},1,"--- na ---",14300,"--- na ---",{"$f":"ROUND(+ANST02!C12,4)","v":0},"--- na ---","--- na ---","--- na ---","--- na ---","--- na ---","--- na ---","--- na ---","--- na ---","--- na ---","--- na ---","--- na ---"]
["CMANT_14300",{"$f":"+'Cover Sheet'!$C$28","v":0},"ENTITY_ID","MT","--- na ---","--- na ---",{"$f":"TEXT('Cover Sheet'!$C$26, \"yyyymmdd\")","v":"19000100"},2,"--- na ---",14300,"--- na ---",{"$f":"ROUND(+ANST02!C13,4)","v":0},"--- na ---","--- na ---","--- na ---","--- na ---","--- na ---","--- na ---","--- na ---","--- na ---","--- na ---","--- na ---","--- na ---"]
["CMANT_14300",{"$f":"+'Cover Sheet'!$C$28","v":0},"ENTITY_ID","MT","--- na ---","--- na ---",{"$f":"TEXT('Cover Sheet'!$C$26, \"yyyymmdd\")","v":"19000100"},3,"--- na ---",14300,"--- na ---",{"$f":"ROUND(+ANST02!C14,4)","v":0},"--- na ---","--- na ---","--- na ---","--- na ---","--- na ---","--- na ---","--- na ---","--- na ---","--- na ---","--- na ---","--- na ---"]
["CMANT_14300",{"$f":"+'Cover Sheet'!$C$28","v":0},"ENTITY_ID","MT","--- na ---","--- na ---",{"$f":"TEXT('Cover Sheet'!$C$26, \"yyyymmdd\")","v":"19000100"},4,"--- na ---",14300,"--- na ---",{"$f":"ROUND(+ANST02!C15,4)","v":0},"--- na ---","--- na ---","--- na ---","--- na ---","--- na ---","--- na ---","--- na ---","--- na ---","--- na ---","--- na ---","--- na ---"]
["CMANT_14300",{"$f":"+'Cover Sheet'!$C$28","v":0},"ENTITY_ID","MT","--- na ---","--- na ---",{"$f":"TEXT('Cover Sheet'!$C$26, \"yyyymmdd\")","v":"19000100"},5,"--- na ---",14300,"--- na ---",{"$f":"ROUND(+ANST02!C16,4)","v":0},"--- na ---","--- na ---","--- na ---","--- na ---","--- na ---","--- na ---","--- na ---","--- na ---","--- na ---","--- na ---","--- na ---"]
["CMANT_14300",{"$f":"+'Cover Sheet'!$C$28","v":0},"ENTITY_ID","W1","--- na ---","--- na ---",{"$f":"TEXT('Cover Sheet'!$C$26, \"yyyymmdd\")","v":"19000100"},1,"--- na ---",14300,"--- na ---",{"$f":"ROUND(+ANST02!E12,4)","v":0},"--- na ---","--- na ---","--- na ---","--- na ---","--- na ---","--- na ---","--- na ---","--- na ---","--- na ---","--- na ---","--- na ---"]
["CMANT_14300",{"$f":"+'Cover Sheet'!$C$28","v":0},"ENTITY_ID","W1","--- na ---","--- na ---",{"$f":"TEXT('Cover Sheet'!$C$26, \"yyyymmdd\")","v":"19000100"},2,"--- na ---",14300,"--- na ---",{"$f":"ROUND(+ANST02!E13,4)","v":0},"--- na ---","--- na ---","--- na ---","--- na ---","--- na ---","--- na ---","--- na ---","--- na ---","--- na ---","--- na ---","--- na ---"]
["CMANT_14300",{"$f":"+'Cover Sheet'!$C$28","v":0},"ENTITY_ID","W1","--- na ---","--- na ---",{"$f":"TEXT('Cover Sheet'!$C$26, \"yyyymmdd\")","v":"19000100"},3,"--- na ---",14300,"--- na ---",{"$f":"ROUND(+ANST02!E14,4)","v":0},"--- na ---","--- na ---","--- na ---","--- na ---","--- na ---","--- na ---","--- na ---","--- na ---","--- na ---","--- na ---","--- na ---"]
["CMANT_14300",{"$f":"+'Cover Sheet'!$C$28","v":0},"ENTITY_ID","W1","--- na ---","--- na ---",{"$f":"TEXT('Cover Sheet'!$C$26, \"yyyymmdd\")","v":"19000100"},4,"--- na ---",14300,"--- na ---",{"$f":"ROUND(+ANST02!E15,4)","v":0},"--- na ---","--- na ---","--- na ---","--- na ---","--- na ---","--- na ---","--- na ---","--- na ---","--- na ---","--- na ---","--- na ---"]
["CMANT_14300",{"$f":"+'Cover Sheet'!$C$28","v":0},"ENTITY_ID","W1","--- na ---","--- na ---",{"$f":"TEXT('Cover Sheet'!$C$26, \"yyyymmdd\")","v":"19000100"},5,"--- na ---",14300,"--- na ---",{"$f":"ROUND(+ANST02!E16,4)","v":0},"--- na ---","--- na ---","--- na ---","--- na ---","--- na ---","--- na ---","--- na ---","--- na ---","--- na ---","--- na ---","--- na ---"]
["CMANT_14301",{"$f":"+'Cover Sheet'!$C$28","v":0},"ENTITY_ID","W0","--- na ---","--- na ---",{"$f":"TEXT('Cover Sheet'!$C$26, \"yyyymmdd\")","v":"19000100"},1,"--- na ---",14301,"--- na ---",{"$f":"ROUND(+ANST02!G12,4)","v":0},"--- na ---","--- na ---","--- na ---","--- na ---","--- na ---","--- na ---","--- na ---","--- na ---","--- na ---","--- na ---","--- na ---"]
["CMANT_14301",{"$f":"+'Cover Sheet'!$C$28","v":0},"ENTITY_ID","W0","--- na ---","--- na ---",{"$f":"TEXT('Cover Sheet'!$C$26, \"yyyymmdd\")","v":"19000100"},2,"--- na ---",14301,"--- na ---",{"$f":"ROUND(+ANST02!G13,4)","v":0},"--- na ---","--- na ---","--- na ---","--- na ---","--- na ---","--- na ---","--- na ---","--- na ---","--- na ---","--- na ---","--- na ---"]
["CMANT_14301",{"$f":"+'Cover Sheet'!$C$28","v":0},"ENTITY_ID","W0","--- na ---","--- na ---",{"$f":"TEXT('Cover Sheet'!$C$26, \"yyyymmdd\")","v":"19000100"},3,"--- na ---",14301,"--- na ---",{"$f":"ROUND(+ANST02!G14,4)","v":0},"--- na ---","--- na ---","--- na ---","--- na ---","--- na ---","--- na ---","--- na ---","--- na ---","--- na ---","--- na ---","--- na ---"]
["CMANT_14301",{"$f":"+'Cover Sheet'!$C$28","v":0},"ENTITY_ID","W0","--- na ---","--- na ---",{"$f":"TEXT('Cover Sheet'!$C$26, \"yyyymmdd\")","v":"19000100"},4,"--- na ---",14301,"--- na ---",{"$f":"ROUND(+ANST02!G15,4)","v":0},"--- na ---","--- na ---","--- na ---","--- na ---","--- na ---","--- na ---","--- na ---","--- na ---","--- na ---","--- na ---","--- na ---"]
["CMANT_14301",{"$f":"+'Cover Sheet'!$C$28","v":0},"ENTITY_ID","W0","--- na ---","--- na ---",{"$f":"TEXT('Cover Sheet'!$C$26, \"yyyymmdd\")","v":"19000100"},5,"--- na ---",14301,"--- na ---",{"$f":"ROUND(+ANST02!G16,4)","v":0},"--- na ---","--- na ---","--- na ---","--- na ---","--- na ---","--- na ---","--- na ---","--- na ---","--- na ---","--- na ---","--- na ---"]
["CMANT_14310",{"$f":"+'Cover Sheet'!$C$28","v":0},"ENTITY_ID","MT","--- na ---","--- na ---",{"$f":"TEXT('Cover Sheet'!$C$26, \"yyyymmdd\")","v":"19000100"},1,"--- na ---",14310,"--- na ---",{"$f":"ROUND(+ANST02!D12,4)","v":0},"--- na ---","--- na ---","--- na ---","--- na ---","--- na ---","--- na ---","--- na ---","--- na ---","--- na ---","--- na ---","--- na ---"]
["CMANT_14310",{"$f":"+'Cover Sheet'!$C$28","v":0},"ENTITY_ID","MT","--- na ---","--- na ---",{"$f":"TEXT('Cover Sheet'!$C$26, \"yyyymmdd\")","v":"19000100"},2,"--- na ---",14310,"--- na ---",{"$f":"ROUND(+ANST02!D13,4)","v":0},"--- na ---","--- na ---","--- na ---","--- na ---","--- na ---","--- na ---","--- na ---","--- na ---","--- na ---","--- na ---","--- na ---"]
["CMANT_14310",{"$f":"+'Cover Sheet'!$C$28","v":0},"ENTITY_ID","MT","--- na ---","--- na ---",{"$f":"TEXT('Cover Sheet'!$C$26, \"yyyymmdd\")","v":"19000100"},3,"--- na ---",14310,"--- na ---",{"$f":"ROUND(+ANST02!D14,4)","v":0},"--- na ---","--- na ---","--- na ---","--- na ---","--- na ---","--- na ---","--- na ---","--- na ---","--- na ---","--- na ---","--- na ---"]
["CMANT_14310",{"$f":"+'Cover Sheet'!$C$28","v":0},"ENTITY_ID","MT","--- na ---","--- na ---",{"$f":"TEXT('Cover Sheet'!$C$26, \"yyyymmdd\")","v":"19000100"},4,"--- na ---",14310,"--- na ---",{"$f":"ROUND(+ANST02!D15,4)","v":0},"--- na ---","--- na ---","--- na ---","--- na ---","--- na ---","--- na ---","--- na ---","--- na ---","--- na ---","--- na ---","--- na ---"]
["CMANT_14310",{"$f":"+'Cover Sheet'!$C$28","v":0},"ENTITY_ID","MT","--- na ---","--- na ---",{"$f":"TEXT('Cover Sheet'!$C$26, \"yyyymmdd\")","v":"19000100"},5,"--- na ---",14310,"--- na ---",{"$f":"ROUND(+ANST02!D16,4)","v":0},"--- na ---","--- na ---","--- na ---","--- na ---","--- na ---","--- na ---","--- na ---","--- na ---","--- na ---","--- na ---","--- na ---"]
["CMANT_14310",{"$f":"+'Cover Sheet'!$C$28","v":0},"ENTITY_ID","W1","--- na ---","--- na ---",{"$f":"TEXT('Cover Sheet'!$C$26, \"yyyymmdd\")","v":"19000100"},1,"--- na ---",14310,"--- na ---",{"$f":"ROUND(+ANST02!F12,4)","v":0},"--- na ---","--- na ---","--- na ---","--- na ---","--- na ---","--- na ---","--- na ---","--- na ---","--- na ---","--- na ---","--- na ---"]
["CMANT_14310",{"$f":"+'Cover Sheet'!$C$28","v":0},"ENTITY_ID","W1","--- na ---","--- na ---",{"$f":"TEXT('Cover Sheet'!$C$26, \"yyyymmdd\")","v":"19000100"},2,"--- na ---",14310,"--- na ---",{"$f":"ROUND(+ANST02!F13,4)","v":0},"--- na ---","--- na ---","--- na ---","--- na ---","--- na ---","--- na ---","--- na ---","--- na ---","--- na ---","--- na ---","--- na ---"]
["CMANT_14310",{"$f":"+'Cover Sheet'!$C$28","v":0},"ENTITY_ID","W1","--- na ---","--- na ---",{"$f":"TEXT('Cover Sheet'!$C$26, \"yyyymmdd\")","v":"19000100"},3,"--- na ---",14310,"--- na ---",{"$f":"ROUND(+ANST02!F14,4)","v":0},"--- na ---","--- na ---","--- na ---","--- na ---","--- na ---","--- na ---","--- na ---","--- na ---","--- na ---","--- na ---","--- na ---"]
["CMANT_14310",{"$f":"+'Cover Sheet'!$C$28","v":0},"ENTITY_ID","W1","--- na ---","--- na ---",{"$f":"TEXT('Cover Sheet'!$C$26, \"yyyymmdd\")","v":"19000100"},4,"--- na ---",14310,"--- na ---",{"$f":"ROUND(+ANST02!F15,4)","v":0},"--- na ---","--- na ---","--- na ---","--- na ---","--- na ---","--- na ---","--- na ---","--- na ---","--- na ---","--- na ---","--- na ---"]
["CMANT_14310",{"$f":"+'Cover Sheet'!$C$28","v":0},"ENTITY_ID","W1","--- na ---","--- na ---",{"$f":"TEXT('Cover Sheet'!$C$26, \"yyyymmdd\")","v":"19000100"},5,"--- na ---",14310,"--- na ---",{"$f":"ROUND(+ANST02!F16,4)","v":0},"--- na ---","--- na ---","--- na ---","--- na ---","--- na ---","--- na ---","--- na ---","--- na ---","--- na ---","--- na ---","--- na ---"]
["CMANT_14320",{"$f":"+'Cover Sheet'!$C$28","v":0},"ENTITY_ID","MT","--- na ---","--- na ---",{"$f":"TEXT('Cover Sheet'!$C$26, \"yyyymmdd\")","v":"19000100"},"--- na ---","--- na ---",14320,1,"--- na ---",{"$f":"ROUND(+ANST03!$M$15,4)","v":0},{"$f":"IF(ISERROR(TRUNC(+ANST03!$M$22 *100,4))=TRUE, \"\",TRUNC(+ANST03!$M$22 *100,4))","v":""},{"$f":"ROUND(+ANST03!M21,4)","v":0},{"$f":"ROUND(+ANST03!M16,4)","v":0},{"$f":"ROUND(+ANST03!M19,4)","v":0},{"$f":"ROUND(+ANST03!M17,4)","v":0},{"$f":"ROUND(+ANST03!M20,4)","v":0},{"$f":"ROUND(+ANST03!M13,4)","v":0},"--- na ---",{"$f":"ROUND(+ANST03!M14,4)","v":0},{"$f":"ROUND(+ANST03!M18,4)","v":0}]
["CMANT_14320",{"$f":"+'Cover Sheet'!$C$28","v":0},"ENTITY_ID","W1","--- na ---","--- na ---",{"$f":"TEXT('Cover Sheet'!$C$26, \"yyyymmdd\")","v":"19000100"},"--- na ---","--- na ---",14320,1,"--- na ---",{"$f":"ROUND(+ANST03!N15,4)","v":0},{"$f":"IF(ISERROR(TRUNC(+ANST03!$N$22 *100,4))=TRUE, \"\",TRUNC(+ANST03!$N$22 *100,4))","v":""},{"$f":"ROUND(+ANST03!N21,4)","v":0},{"$f":"ROUND(+ANST03!N16,4)","v":0},{"$f":"ROUND(+ANST03!N19,4)","v":0},{"$f":"ROUND(+ANST03!N17,4)","v":0},{"$f":"ROUND(+ANST03!N20,4)","v":0},{"$f":"ROUND(+ANST03!N13,4)","v":0},"--- na ---",{"$f":"ROUND(+ANST03!N14,4)","v":0},{"$f":"ROUND(+ANST03!N18,4)","v":0}]
["CMANT_14320",{"$f":"+'Cover Sheet'!$C$28","v":0},"ENTITY_ID","W0","--- na ---","--- na ---",{"$f":"TEXT('Cover Sheet'!$C$26, \"yyyymmdd\")","v":"19000100"},"--- na ---","--- na ---",14320,1,"--- na ---",{"$f":"ROUND(+ANST03!O15,4)","v":0},{"$f":"IF(ISERROR(TRUNC(+ANST03!$O$22 *100,4))=TRUE, \"\",TRUNC(+ANST03!$O$22 *100,4))","v":""},{"$f":"ROUND(+ANST03!O21,4)","v":0},{"$f":"ROUND(+ANST03!O16,4)","v":0},{"$f":"ROUND(+ANST03!O19,4)","v":0},{"$f":"ROUND(+ANST03!O17,4)","v":0},{"$f":"ROUND(+ANST03!O20,4)","v":0},{"$f":"ROUND(+ANST03!O13,4)","v":0},"--- na ---",{"$f":"ROUND(+ANST03!O14,4)","v":0},{"$f":"ROUND(+ANST03!O18,4)","v":0}]
["CMANT_14320",{"$f":"+'Cover Sheet'!$C$28","v":0},"ENTITY_ID","MT","--- na ---","--- na ---",{"$f":"TEXT('Cover Sheet'!$C$26, \"yyyymmdd\")","v":"19000100"},"--- na ---","--- na ---",14320,2,"--- na ---",{"$f":"ROUND(+ANST03!$S$15,4)","v":0},{"$f":"IF(ISERROR(TRUNC(+ANST03!$S$22 *100,4))=TRUE, \"\",TRUNC(+ANST03!$S$22 *100,4))","v":""},{"$f":"ROUND(+ANST03!S21,4)","v":0},{"$f":"ROUND(+ANST03!S16,4)","v":0},{"$f":"ROUND(+ANST03!S19,4)","v":0},{"$f":"ROUND(+ANST03!S17,4)","v":0},{"$f":"ROUND(+ANST03!S20,4)","v":0},{"$f":"ROUND(+ANST03!S13,4)","v":0},"--- na ---",{"$f":"ROUND(+ANST03!S14,4)","v":0},{"$f":"ROUND(+ANST03!S18,4)","v":0}]
["CMANT_14320",{"$f":"+'Cover Sheet'!$C$28","v":0},"ENTITY_ID","W1","--- na ---","--- na ---",{"$f":"TEXT('Cover Sheet'!$C$26, \"yyyymmdd\")","v":"19000100"},"--- na ---","--- na ---",14320,2,"--- na ---",{"$f":"ROUND(+ANST03!T15,4)","v":0},{"$f":"IF(ISERROR(TRUNC(+ANST03!$T$22 *100,4))=TRUE, \"\",TRUNC(+ANST03!$T$22 *100,4))","v":""},{"$f":"ROUND(+ANST03!T21,4)","v":0},{"$f":"ROUND(+ANST03!T16,4)","v":0},{"$f":"ROUND(+ANST03!T19,4)","v":0},{"$f":"ROUND(+ANST03!T17,4)","v":0},{"$f":"ROUND(+ANST03!T20,4)","v":0},{"$f":"ROUND(+ANST03!T13,4)","v":0},"--- na ---",{"$f":"ROUND(+ANST03!T14,4)","v":0},{"$f":"ROUND(+ANST03!T18,4)","v":0}]
["CMANT_14320",{"$f":"+'Cover Sheet'!$C$28","v":0},"ENTITY_ID","W0","--- na ---","--- na ---",{"$f":"TEXT('Cover Sheet'!$C$26, \"yyyymmdd\")","v":"19000100"},"--- na ---","--- na ---",14320,2,"--- na ---",{"$f":"ROUND(+ANST03!U15,4)","v":0},{"$f":"IF(ISERROR(TRUNC(+ANST03!$U$22 *100,4))=TRUE, \"\",TRUNC(+ANST03!$U$22 *100,4))","v":""},{"$f":"ROUND(+ANST03!U21,4)","v":0},{"$f":"ROUND(+ANST03!U16,4)","v":0},{"$f":"ROUND(+ANST03!U19,4)","v":0},{"$f":"ROUND(+ANST03!U17,4)","v":0},{"$f":"ROUND(+ANST03!U20,4)","v":0},{"$f":"ROUND(+ANST03!U13,4)","v":0},"--- na ---",{"$f":"ROUND(+ANST03!U14,4)","v":0},{"$f":"ROUND(+ANST03!U18,4)","v":0}]
["CMANT_14320",{"$f":"+'Cover Sheet'!$C$28","v":0},"ENTITY_ID","MT","--- na ---","--- na ---",{"$f":"TEXT('Cover Sheet'!$C$26, \"yyyymmdd\")","v":"19000100"},"--- na ---","--- na ---",14320,3,"--- na ---",{"$f":"ROUND(+ANST03!$J$15,4)","v":0},{"$f":"IF(ISERROR(TRUNC(+ANST03!$J$22 *100,4))=TRUE, \"\",TRUNC(+ANST03!$J$22 *100,4))","v":""},{"$f":"ROUND(+ANST03!J21,4)","v":0},{"$f":"ROUND(+ANST03!J16,4)","v":0},{"$f":"ROUND(+ANST03!J19,4)","v":0},{"$f":"ROUND(+ANST03!J17,4)","v":0},{"$f":"ROUND(+ANST03!J20,4)","v":0},{"$f":"ROUND(+ANST03!J13,4)","v":0},"--- na ---",{"$f":"ROUND(+ANST03!J14,4)","v":0},{"$f":"ROUND(+ANST03!J18,4)","v":0}]
["CMANT_14320",{"$f":"+'Cover Sheet'!$C$28","v":0},"ENTITY_ID","W1","--- na ---","--- na ---",{"$f":"TEXT('Cover Sheet'!$C$26, \"yyyymmdd\")","v":"19000100"},"--- na ---","--- na ---",14320,3,"--- na ---",{"$f":"ROUND(+ANST03!K15,4)","v":0},{"$f":"IF(ISERROR(TRUNC(+ANST03!$K$22 *100,4))=TRUE, \"\",TRUNC(+ANST03!$K$22 *100,4))","v":""},{"$f":"ROUND(+ANST03!K21,4)","v":0},{"$f":"ROUND(+ANST03!K16,4)","v":0},{"$f":"ROUND(+ANST03!K19,4)","v":0},{"$f":"ROUND(+ANST03!K17,4)","v":0},{"$f":"ROUND(+ANST03!K20,4)","v":0},{"$f":"ROUND(+ANST03!K13,4)","v":0},"--- na ---",{"$f":"ROUND(+ANST03!K14,4)","v":0},{"$f":"ROUND(+ANST03!K18,4)","v":0}]
["CMANT_14320",{"$f":"+'Cover Sheet'!$C$28","v":0},"ENTITY_ID","W0","--- na ---","--- na ---",{"$f":"TEXT('Cover Sheet'!$C$26, \"yyyymmdd\")","v":"19000100"},"--- na ---","--- na ---",14320,3,"--- na ---",{"$f":"ROUND(+ANST03!L15,4)","v":0},{"$f":"IF(ISERROR(TRUNC(+ANST03!$L$22 *100,4))=TRUE, \"\",TRUNC(+ANST03!$L$22 *100,4))","v":""},{"$f":"ROUND(+ANST03!L21,4)","v":0},{"$f":"ROUND(+ANST03!L16,4)","v":0},{"$f":"ROUND(+ANST03!L19,4)","v":0},{"$f":"ROUND(+ANST03!L17,4)","v":0},{"$f":"ROUND(+ANST03!L20,4)","v":0},{"$f":"ROUND(+ANST03!L13,4)","v":0},"--- na ---",{"$f":"ROUND(+ANST03!L14,4)","v":0},{"$f":"ROUND(+ANST03!L18,4)","v":0}]
["CMANT_14320",{"$f":"+'Cover Sheet'!$C$28","v":0},"ENTITY_ID","MT","--- na ---","--- na ---",{"$f":"TEXT('Cover Sheet'!$C$26, \"yyyymmdd\")","v":"19000100"},"--- na ---","--- na ---",14320,4,"--- na ---",{"$f":"ROUND(+ANST03!$G$15,4)","v":0},{"$f":"IF(ISERROR(TRUNC(+ANST03!$G$22 *100,4))=TRUE, \"\",TRUNC(+ANST03!$G$22 *100,4))","v":""},{"$f":"ROUND(+ANST03!G21,4)","v":0},{"$f":"ROUND(+ANST03!G16,4)","v":0},{"$f":"ROUND(+ANST03!G19,4)","v":0},{"$f":"ROUND(+ANST03!G17,4)","v":0},{"$f":"ROUND(+ANST03!G20,4)","v":0},{"$f":"ROUND(+ANST03!G13,4)","v":0},"--- na ---",{"$f":"ROUND(+ANST03!G14,4)","v":0},{"$f":"ROUND(+ANST03!G18,4)","v":0}]
[]
[]
[]
[]
[]
[]
[]
[]
[]
[]
[]
[]
[]
[]
[]
[]
[]
[]
[]
[]
[]
[]
[]
[]
[]
[]
[]
[]
[]
[]
[]
[]
[]
[]
[]
[]
[]
[]
[]
[]
[]
[]
[]
[]
[]
[]
[]
[]
[]
[]
[]
[]
[]
[]
[]
[]
[]
[]
[]
[]
[]
[]
[]
[]
[]
[]
[]
[]
[]
[]
[]
[]
[]
[]
[]
[]
[]
[]
[]
[]
[]
[]
[]
[]
[]
[]
[]
[]
[]
[]
[]
[]
[]
[]
[]
[]
[]
[]
[]
[]
[]
[]
[]
[]
[]
[]
[]
[]
[]
[]
[]
[]
[]
[]
[]
[]
[]
[]
[]
[]
[]
[]
[]
[]
[]
[]
[]
[]
[]
[]
[]
[]
[]
[]
[]
[]
[]
[]
[]
[]
[]
[]
[]
[]
[]
[]
[]
[]
[]
[]
[]
[]
[]
[]
[]
[]
[]
[]
[]
[]
[]
[]
[]
[]
[]
[]
[]
[]
[]
[]
[]
[]
[]
[]
[]
[]
[]
[]
[]
[]
[]
[]
[]
[]
[]
[]
[]
[]
[]
[]
[]
[]
[]
[]
[]
[]
[]
[]
[]
[]
[]
[]
[]
[]
[]
[]
[]
[]
[]
[]
[]
[]
[]
[]
[]
[]
[]
[]
[]
[]
[]
[]
[]
[]
[]
[]
[]
[]
[]
[]
[]
[]
[]
[]
[]
[]
[]
[]
[]
[]
[]
[]
[]
[]
[]
[]
[]
[]
[]
[]
[]
[]
[]
[]
[]
[]
[]
[]
[]
[]
[]
[]
[]
[]
[]
[]
[]
[]
[]
[]
[]
[]
[]
[]
[]
[]
[]
[]
[]
[]
[]
[]
[]
[]
[]
[]
[]
[]
[]
[]
[]
[]
[]
[]
[]
[]
[]
[]
[]
[]
[]
[]
[]
[]
[]
[]
[]
[]
[]
[]
[]
[]
[]
[]
[]
[]
[]
[]
[]
[]
[]
[]
[]
[]
[]
[]
[]
[]
[]
[]
[]
[]
[]
[]
[]
[]
[]
[]
[]
[]
[]
[]
[]
[]
[]
[]
[]
[]
[]
[]
[]
[]
[]
[]
[]
[]
[]
[]
[]
[]
[]
[]
[]
[]
[]
[]
[]
[]
[]
[]
[]
[]
[]
[]
[]
[]
[]
[]
[]
[]
[]
[]
[]
[]
[]
[]
[]
[]
[]
[]
[]
[]
[]
[]
[]
[]
[]
[]
[]
[]
[]
[]
[]
[]
[]
[]
[]
[]
[]
[]
[]
[]
[]
[]
[]
[]
[]
[]
[]
[]
[]
[]
[]
[]
[]
[]
[]
[]
[]
[]
[]
[]
[]
[]
[]
[]
[]
[]
[]
[]
[]
[]
[]
[]
[]
[]
[]
[]
[]
[]
[]
[]
[]
[]
[]
[]
[]
[]
[]
[]
[]
[]
[]
[]
[]
[]
[]
[]
[]
[]
[]
[]
[]
[]
[]
[]
[]
[]
[]
[]
[]
[]
[]
[]
[]
[]
[]
[]
[]
[]
[]
[]
[]
[]
[]
[]
[]
[]
[]
[]
[]
[]
[]
[]
[]
[]
[]
[]
[]
[]
[]
[]
[]
[]
[]
[]
[]
[]
[]
[]
[]
[]
[]
[]
[]
[]
[]
[]
[]
[]
[]
[]
[]
[]
[]
[]
[]
[]
[]
[]
[]
[]
[]
[]
[]
[]
[]
[]
[]
[]
[]
[]
[]
[]
[]
[]
[]
[]
[]
[]
[]
[]
[]
[]
[]
[]
[]
[]
[]
[]
[]
[]
[]
[]
[]
[]
[]
[]
[]
[]
[]
[]
[]
[]
[]
[]
[]
[]
[]
[]
[]
[]
[]
[]
[]
[]
[]
[]
[]
[]
[]
[]
[]
[]
[]
[]
[]
[]
[]
[]
[]
[]
[]
[]
[]
[]
[]
[]
[]
[]
[null,null,null,null,null,null,null,null,null,null,null,null,null,null,null,null,null,null,null,null,null,null,null,null,null,null,null,null,null,null,null,null,null,null,null,null,null,null,null,null,null,null,null,null,null,null,null,null,null,null,null,null,null,null,null,null,null,null,null,null,null,null,null,null,null,null,null,null,null,null,null,null,null,null,null,null,null,null,null,null,null,null,null,null,null,null,null,null,null,null,null,null,null,null,null,null,null,null,null,null,null,null,null,null,null,null,null,null,null,null,null,null,null,null,null,null,null,null,null,null,null,null,null,null,null,null,null,null,null,null,null,null,null,null,null,null,null,null,null,null,null,null,null,null,null,null,null,null,null,null,null,null,null,null,null,null,null,null,null,null,null,null,null,null,null,null,null,null,null,null,null,null,null,null,null,null,null,null,null,null,null,null,null,null,null,null,null,null,null,null,null,null,null,null,null,null,null,null,null,null,null,null,null,null,null,null,null,null,null,null,null,null,null,null,null,null,null,null,null,null,null,null,null,null,null,null,null,null,null,null,null,null,null,null,null,null,null,null,null,null,null,null,null,null,null,null,null,null,null,null,null,null,null,null,null,null,null,null,null,null,null,null,null,null,null,null,null,null,null,null,null,null,null,null,null,null,null,null,null,null,null,null,null,null,null,null,null,null,null,null,null,null,null,null,null,null,null,null,null,null,null,null,null,null,null,null,null,null,null,null,null,null,null,null,null,null,null,null,null,null,null,null,null,null,null,null,null,null,null,null,null,null,null,null,null,null,null,null,null,null,null,null,null,null,null,null,null,null,null,null,null,null,null,null,null,null,null,null,null,null,null,null,null,null,null,null,null,null,null,null,null,null,null,null,null,null,null,null,null,null,null,null,null,null,null,null,null,null,null,null,null,null,null,null,null,null,null,null,null,null,null,null,null,null,null,null,null,null,null,null,null,null,null,null,null,null,null,null,null,null,null,null,null,null,null,null,null,null,null,null,null,null,null,null,null,null,null,null,null,null,null,null,null,null,null,null,null,null,null,null,null,null,null,null,null,null,null,null,null,null,null,null,null,null,null,null,null,null,null,null,null,null,null,null,null,null,null,null,null,null,null,null,null,null,null,null,null,null,null,null,null,null,null,null,null,null,null,null,null,null,null,null,null,null,null,null,null,null,null,null,null,null,null,null,null,null,null,null,null,null,null,null,null,null,null,null,null,null,null,null,null,null,null,null,null,null,null,null,null,null,null,null,null,null,null,null,null,null,null,null,null,null,null,null,null,null,null,null,null,null,null,null,null,null,null,null,null,null,null,null,null,null,null,null,null,null,null,null,null,null,null,null,null,null,null,null,null,null,null,null,null,null,null,null,null,null,null,null,null,null,null,null,null,null,null,null,null,null,null,null,null,null,null,null,null,null,null,null,null,null,null,null,null,null,null,null,null,null,null,null,null,null,null,null,null,null,null,null,null,null,null,null,null,null,null,null,null,null,null,null,null,null,null,null,null,null,null,null,null,null,null,null,null,null,null,null,null,null,null,null,null,null,null,null,null,null,null,null,null,null,null,null,null,null,null,null,null,null,null,null,null,null,null,null,null,null,null,null,null,null,null,null,null,null,null,null,null,null,null,null,null,null,null,null,null,null,null,null,null,null,null,null,null,null,null,null,null,null,null,null,null,null,null,null,null,null,null,null,null,null,null,null,null,null,null,null,null,null,null,null,null,null,null,null,null,null,null,null,null,null,null,null,null,null,null,null,null,null,null,null,null,null,null,null,null,null,null,null,null,null,null,null,null,null,null,null,null,null,null,null,null,null,null,null,null,null,null,null,null,null,null,null,null,null,null,null,null,null,null,null,null,null,null,null,null,null,null,null,null,null,null,null,null,null,null,null,null,null,null,null,null,null,null,null,null,null,null,null,null,null,null,null,null,null,null,null,null,null,null,null,null,null,null,null,null,null,null,null,null,null,null,null,null,null,null,null,null,null,null,null,null,null,null,null,null,null,null,null,null,null,null,null,null,null,null,null,null,null,null,null,null,null,null,null,null,null,null,null,null,null,null,null,null,null,null,null,null,null,null,null,null,null,null,null,null,null,null,null,null,null,null,null,null,null,null,null,null,null,null,null,null,null,null,null,null,null,null,null,null,null,null,null,null,null,null,null,null,null,null,null,null,null,null,null,null,null,null,null,null,null,null,null,null,null,null,null,null,null,null,null,null,null,null,null,null,null,null,null,null,null,null,null,null,null,null,null,null,null,null,null,null,null,null,null,null,null,null,null,null,null,null,null,null,null,null,null,null,null,null,null,null,null,null,null,null,null,null,null,null,null,null,null,null,null,null,null,null,null,null,null,null,null,null,null,null,null,null,null,null,null,null,null,null,null,null,null,null,null,null,null,null,null,null,null,null,null,null,null,null,null,null,null,null,null,null,null,null,null,null,null,null,null,null,null,null,null,null,null,null,null,null,null,null,null,null,null,null,null,null,null,null,null,null,null,null,null,null,null,null,null,null,null,null,null,null,null,null,null,null,null,null,null,null,null,null,null,null,null,null,null,null,null,null,null,null,null,null,null,null,null,null,null,null,null,null,null,null,null,null,null,null,null,null,null,null,null,null,null,null,null,null,null,null,null,null,null,null,null,null,null,null,null,null,null,null,null,null,null,null,null,null,null,null,null,null,null,null,null,null,null,null,null,null,null,null,null,null,null,null,null,null,null,null,null,null,null,null,null,null,null,null,null,null,null,null,null,null,null,null,null,null,null,null,null,null,null,null,null,null,null,null,null,null,null,null,null,null,null,null,null,null,null,null,null,null,null,null,null,null,null,null,null,null,null,null,null,null,null,null,null,null,null,null,null,null,null,null,null,null,null,null,null,null,null,null,null,null,null,null,null,null,null,null,null,null,null,null,null,null,null,null,null,null,null,null,null,null,null,null,null,null,null,null,null,null,null,null,null,null,null,null,null,null,null,null,null,null,null,null,null,null,null,null,null,null,null,null,null,null,null,null,null,null,null,null,null,null,null,null,null,null,null,null,null,null,null,null,null,null,null,null,null,null,null,null,null,null,null,null,null,null,null,null,null,null,null,null,null,null,null,null,null,null,null,null,null,null,null,null,null,null,null,null,null,null,null,null,null,null,null,null,null,null,null,null,null,null,null,null,null,null,null,null,null,null,null,null,null,null,null,null,null,null,null,null,null,null,null,null,null,null,null,null,null,null,null,null,null,null,null,null,null,null,null,null,null,null,null,null,null,null,null,null,null,null,null,null,null,null,null,null,null,null,null,null,null,null,null,null,null,null,null,null,null,null,null,null,null,null,null,null,null,null,null,null,null,null,null,null,null,null,null,null,null,null,null,null,null,null,null,null,null,null,null,null,null,null,null,null,null,null,null,null,null,null,null,null,null,null,null,null,null,null,null,null,null,null,null,null,null,null,null,null,null,null,null,null,null,null,null,null,null,null,null,null,null,null,null,null,null,null,null,null,null,null,null,null,null,null,null,null,null,null,null,null,null,null,null,null,null,null,null,null,null,null,null,null,null,null,null,null,null,null,null,null,null,null,null,null,null,null,null,null,null,null,null,null,null,null,null,null,null,null,null,null,null,null,null,null,null,null,null,null,null,null,null,null,null,null,null,null,null,null,null,null,null,null,null,null,null,null,null,null,null,null,null,null,null,null,null,null,null,null,null,null,null,null,null,null,null,null,null,null,null,null,null,null,null,null,null,null,null,null,null,null,null,null,null,null,null,null,null,null,null,null,null,null,null,null,null,null,null,null,null,null,null,null,null,null,null,null,null,null,null,null,null,null,null,null,null,null,null,null,null,null,null,null,null,null,null,null,null,null,null,null,null,null,null,null,null,null,null,null,null,null,null,null,null,null,null,null,null,null,null,null,null,null,null,null,null,null,null,null,null,null,null,null,null,null,null,null,null,null,null,null,null,null,null,null,null,null,null,null,null,null,null,null,null,null,null,null,null,null,null,null,null,null,null,null,null,null,null,null,null,null,null,null,null,null,null,null,null,null,null,null,null,null,null,null,null,null,null,null,null,null,null,null,null,null,null,null,null,null,null,null,null,null,null,null,null,null,null,null,null,null,null,null,null,null,null,null,null,null,null,null,null,null,null,null,null,null,null,null,null,null,null,null,null,null,null,null,null,null,null,null,null,null,null,null,null,null,null,null,null,null,null,null,null,null,null,null,null,null,null,null,null,null,null,null,null,null,null,null,null,null,null,null,null,null,null,null,null,null,null,null,null,null,null,null,null,null,null,null,null,null,null,null,null,null,null,null,null,null,null,null,null,null,null,null,null,null,null,null,null,null,null,null,null,null,null,null,null,null,null,null,null,null,null,null,null,null,null,null,null,null,null,null,null,null,null,null,null,null,null,null,null,null,null,null,null,null,null,null,null,null,null,null,null,null,null,null,null,null,null,null,null,null,null,null,null,null,null,null,null,null,null,null,null,null,null,null,null,null,null,null,null,null,null,null,null,null,null,null,null,null,null,null,null,null,null,null,null,null,null,null,null,null,null,null,null,null,null,null,null,null,null,null,null,null,null,null,null,null,null,null,null,null,null,null,null,null,null,null,null,null,null,null,null,null,null,null,null,null,null,null,null,null,null,null,null,null,null,null,null,null,null,null,null,null,null,null,null,null,null,null,null,null,null,null,null,null,null,null,null,null,null,null,null,null,null,null,null,null,null,null,null,null,null,null,null,null,null,null,null,null,null,null,null,null,null,null,null,null,null,null,null,null,null,null,null,null,null,null,null,null,null,null,null,null,null,null,null,null,null,null,null,null,null,null,null,null,null,null,null,null,null,null,null,null,null,null,null,null,null,null,null,null,null,null,null,null,null,null,null,null,null,null,null,null,null,null,null,null,null,null,null,null,null,null,null,null,null,null,null,null,null,null,null,null,null,null,null,null,null,null,null,null,null,null,null,null,null,null,null,null,null,null,null,null,null,null,null,null,null,null,null,null,null,null,null,null,null,null,null,null,null,null,null,null,null,null,null,null,null,null,null,null,null,null,null,null,null,null,null,null,null,null,null,null,null,null,null,null,null,null,null,null,null,null,null,null,null,null,null,null,null,null,null,null,null,null,null,null,null,null,null,null,null,null,null,null,null,null,null,null,null,null,null,null,null,null,null,null,null,null,null,null,null,null,null,null,null,null,null,null,null,null,null,null,null,null,null,null,null,null,null,null,null,null,null,null,null,null,null,null,null,null,null,null,null,null,null,null,null,null,null,null,null,null,null,null,null,null,null,null,null,null,null,null,null,null,null,null,null,null,null,null,null,null,null,null,null,null,null,null,null,null,null,null,null,null,null,null,null,null,null,null,null,null,null,null,null,null,null,null,null,null,null,null,null,null,null,null,null,null,null,null,null,null,null,null,null,null,null,null,null,null,null,null,null,null,null,null,null,null,null,null,null,null,null,null,null,null,null,null,null,null,null,null,null,null,null,null,null,null,null,null,null,null,null,null,null,null,null,null,null,null,null,null,null,null,null,null,null,null,null,null,null,null,null,null,null,null,null,null,null,null,null,null,null,null,null,null,null,null,null,null,null,null,null,null,null,null,null,null,null,null,null,null,null,null,null,null,null,null,null,null,null,null,null,null,null,null,null,null,null,null,null,null,null,null,null,null,null,null,null,null,null,null,null,null,null,null,null,null,null,null,null,null,null,null,null,null,null,null,null,null,null,null,null,null,null,null,null,null,null,null,null,null,null,null,null,null,null,null,null,null,null,null,null,null,null,null,null,null,null,null,null,null,null,null,null,null,null,null,null,null,null,null,null,null,null,null,null,null,null,null,null,null,null,null,null,null,null,null,null,null,null,null,null,null,null,null,null,null,null,null,null,null,null,null,null,null,null,null,null,null,null,null,null,null,null,null,null,null,null,null,null,null,null,null,null,null,null,null,null,null,null,null,null,null,null,null,null,null,null,null,null,null,null,null,null,null,null,null,null,null,null,null,null,null,null,null,null,null,null,null,null,null,null,null,null,null,null,null,null,null,null,null,null,null,null,null,null,null,null,null,null,null,null,null,null,null,null,null,null,null,null,null,null,null,null,null,null,null,null,null,null,null,null,null,null,null,null,null,null,null,null,null,null,null,null,null,null,null,null,null,null,null,null,null,null,null,null,null,null,null,null,null,null,null,null,null,null,null,null,null,null,null,null,null,null,null,null,null,null,null,null,null,null,null,null,null,null,null,null,null,null,null,null,null,null,null,null,null,null,null,null,null,null,null,null,null,null,null,null,null,null,null,null,null,null,null,null,null,null,null,null,null,null,null,null,null,null,null,null,null,null,null,null,null,null,null,null,null,null,null,null,null,null,null,null,null,null,null,null,null,null,null,null,null,null,null,null,null,null,null,null,null,null,null,null,null,null,null,null,null,null,null,null,null,null,null,null,null,null,null,null,null,null,null,null,null,null,null,null,null,null,null,null,null,null,null,null,null,null,null,null,null,null,null,null,null,null,null,null,null,null,null,null,null,null,null,null,null,null,null,null,null,null,null,null,null,null,null,null,null,null,null,null,null,null,null,null,null,null,null,null,null,null,null,null,null,null,null,null,null,null,null,null,null,null,null,null,null,null,null,null,null,null,null,null,null,null,null,null,null,null,null,null,null,null,null,null,null,null,null,null,null,null,null,null,null,null,null,null,null,null,null,null,null,null,null,null,null,null,null,null,null,null,null,null,null,null,null,null,null,null,null,null,null,null,null,null,null,null,null,null,null,null,null,null,null,null,null,null,null,null,null,null,null,null,null,null,null,null,null,null,null,null,null,null,null,null,null,null,null,null,null,null,null,null,null,null,null,null,null,null,null,null,null,null,null,null,null,null,null,null,null,null,null,null,null,null,null,null,null,null,null,null,null,null,null,null,null,null,null,null,null,null,null,null,null,null,null,null,null,null,null,null,null,null,null,null,null,null,null,null,null,null,null,null,null,null,null,null,null,null,null,null,null,null,null,null,null,null,null,null,null,null,null,null,null,null,null,null,null,null,null,null,null,null,null,null,null,null,null,null,null,null,null,null,null,null,null,null,null,null,null,null,null,null,null,null,null,null,null,null,null,null,null,null,null,null,null,null,null,null,null,null,null,null,null,null,null,null,null,null,null,null,null,null,null,null,null,null,null,null,null,null,null,null,null,null,null,null,null,null,null,null,null,null,null,null,null,null,null,null,null,null,null,null,null,null,null,null,null,null,null,null,null,null,null,null,null,null,null,null,null,null,null,null,null,null,null,null,null,null,null,null,null,null,null,null,null,null,null,null,null,null,null,null,null,null,null,null,null,null,null,null,null,null,null,null,null,null,null,null,null,null,null,null,null,null,null,null,null,null,null,null,null,null,null,null,null,null,null,null,null,null,null,null,null,null,null,null,null,null,null,null,null,null,null,null,null,null,null,null,null,null,null,null,null,null,null,null,null,null,null,null,null,null,null,null,null,null,null,null,null,null,null,null,null,null,null,null,null,null,null,null,null,null,null,null,null,null,null,null,null,null,null,null,null,null,null,null,null,null,null,null,null,null,null,null,null,null,null,null,null,null,null,null,null,null,null,null,null,null,null,null,null,null,null,null,null,null,null,null,null,null,null,null,null,null,null,null,null,null,null,null,null,null,null,null,null,null,null,null,null,null,null,null,null,null,null,null,null,null,null,null,null,null,null,null,null,null,null,null,null,null,null,null,null,null,null,null,null,null,null,null,null,null,null,null,null,null,null,null,null,null,null,null,null,null,null,null,null,null,null,null,null,null,null,null,null,null,null,null,null,null,null,null,null,null,null,null,null,null,null,null,null,null,null,null,null,null,null,null,null,null,null,null,null,null,null,null,null,null,null,null,null,null,null,null,null,null,null,null,null,null,null,null,null,null,null,null,null,null,null,null,null,null,null,null,null,null,null,null,null,null,null,null,null,null,null,null,null,null,null,null,null,null,null,null,null,null,null,null,null,null,null,null,null,null,null,null,null,null,null,null,null,null,null,null,null,null,null,null,null,null,null,null,null,null,null,null,null,null,null,null,null,null,null,null,null,null,null,null,null,null,null,null,null,null,null,null,null,null,null,null,null,null,null,null,null,null,null,null,null,null,null,null,null,null,null,null,null,null,null,null,null,null,null,null,null,null,null,null,null,null,null,null,null,null,null,null,null,null,null,null,null,null,null,null,null,null,null,null,null,null,null,null,null,null,null,null,null,null,null,null,null,null,null,null,null,null,null,null,null,null,null,null,null,null,null,null,null,null,null,null,null,null,null,null,null,null,null,null,null,null,null,null,null,null,null,null,null,null,null,null,null,null,null,null,null,null,null,null,null,null,null,null,null,null,null,null,null,null,null,null,null,null,null,null,null,null,null,null,null,null,null,null,null,null,null,null,null,null,null,null,null,null,null,null,null,null,null,null,null,null,null,null,null,null,null,null,null,null,null,null,null,null,null,null,null,null,null,null,null,null,null,null,null,null,null,null,null,null,null,null,null,null,null,null,null,null,null,null,null,null,null,null,null,null,null,null,null,null,null,null,null,null,null,null,null,null,null,null,null,null,null,null,null,null,null,null,null,null,null,null,null,null,null,null,null,null,null,null,null,null,null,null,null,null,null,null,null,null,null,null,null,null,null,null,null,null,null,null,null,null,null,null,null,null,null,null,null,null,null,null,null,null,null,null,null,null,null,null,null,null,null,null,null,null,null,null,null,null,null,null,null,null,null,null,null,null,null,null,null,null,null,null,null,null,null,null,null,null,null,null,null,null,null,null,null,null,null,null,null,null,null,null,null,null,null,null,null,null,null,null,null,null,null,null,null,null,null,null,null,null,null,null,null,null,null,null,null,null,null,null,null,null,null,null,null,null,null,null,null,null,null,null,null,null,null,null,null,null,null,null,null,null,null,null,null,null,null,null,null,null,null,null,null,null,null,null,null,null,null,null,null,null,null,null,null,null,null,null,null,null,null,null,null,null,null,null,null,null,null,null,null,null,null,null,null,null,null,null,null,null,null,null,null,null,null,null,null,null,null,null,null,null,null,null,null,null,null,null,null,null,null,null,null,null,null,null,null,null,null,null,null,null,null,null,null,null,null,null,null,null,null,null,null,null,null,null,null,null,null,null,null,null,null,null,null,null,null,null,null,null,null,null,null,null,null,null,null,null,null,null,null,null,null,null,null,null,null,null,null,null,null,null,null,null,null,null,null,null,null,null,null,null,null,null,null,null,null,null,null,null,null,null,null,null,null,null,null,null,null,null,null,null,null,null,null,null,null,null,null,null,null,null,null,null,null,null,null,null,null,null,null,null,null,null,null,null,null,null,null,null,null,null,null,null,null,null,null,null,null,null,null,null,null,null,null,null,null,null,null,null,null,null,null,null,null,null,null,null,null,null,null,null,null,null,null,null,null,null,null,null,null,null,null,null,null,null,null,null,null,null,null,null,null,null,null,null,null,null,null,null,null,null,null,null,null,null,null,null,null,null,null,null,null,null,null,null,null,null,null,null,null,null,null,null,null,null,null,null,null,null,null,null,null,null,null,null,null,null,null,null,null,null,null,null,null,null,null,null,null,null,null,null,null,null,null,null,null,null,null,null,null,null,null,null,null,null,null,null,null,null,null,null,null,null,null,null,null,null,null,null,null,null,null,null,null,null,null,null,null,null,null,null,null,null,null,null,null,null,null,null,null,null,null,null,null,null,null,null,null,null,null,null,null,null,null,null,null,null,null,null,null,null,null,null,null,null,null,null,null,null,null,null,null,null,null,null,null,null,null,null,null,null,null,null,null,null,null,null,null,null,null,null,null,null,null,null,null,null,null,null,null,null,null,null,null,null,null,null,null,null,null,null,null,null,null,null,null,null,null,null,null,null,null,null,null,null,null,null,null,null,null,null,null,null,null,null,null,null,null,null,null,null,null,null,null,null,null,null,null,null,null,null,null,null,null,null,null,null,null,null,null,null,null,null,null,null,null,null,null,null,null,null,null,null,null,null,null,null,null,null,null,null,null,null,null,null,null,null,null,null,null,null,null,null,null,null,null,null,null,null,null,null,null,null,null,null,null,null,null,null,null,null,null,null,null,null,null,null,null,null,null,null,null,null,null,null,null,null,null,null,null,null,null,null,null,null,null,null,null,null,null,null,null,null,null,null,null,null,null,null,null,null,null,null,null,null,null,null,null,null,null,null,null,null,null,null,null,null,null,null,null,null,null,null,null,null,null,null,null,null,null,null,null,null,null,null,null,null,null,null,null,null,null,null,null,null,null,null,null,null,null,null,null,null,null,null,null,null,null,null,null,null,null,null,null,null,null,null,null,null,null,null,null,null,null,null,null,null,null,null,null,null,null,null,null,null,null,null,null,null,null,null,null,null,null,null,null,null,null,null,null,null,null,null,null,null,null,null,null,null,null,null,null,null,null,null,null,null,null,null,null,null,null,null,null,null,null,null,null,null,null,null,null,null,null,null,null,null,null,null,null,null,null,null,null,null,null,null,null,null,null,null,null,null,null,null,null,null,null,null,null,null,null,null,null,null,null,null,null,null,null,null,null,null,null,null,null,null,null,null,null,null,null,null,null,null,null,null,null,null,null,null,null,null,null,null,null,null,null,null,null,null,null,null,null,null,null,null,null,null,null,null,null,null,null,null,null,null,null,null,null,null,null,null,null,null,null,null,null,null,null,null,null,null,null,null,null,null,null,null,null,null,null,null,null,null,null,null,null,null,null,null,null,null,null,null,null,null,null,null,null,null,null,null,null,null,null,null,null,null,null,null,null,null,null,null,null,null,null,null,null,null,null,null,null,null,null,null,null,null,null,null,null,null,null,null,null,null,null,null,null,null,null,null,null,null,null,null,null,null,null,null,null,null,null,null,null,null,null,null,null,null,null,null,null,null,null,null,null,null,null,null,null,null,null,null,null,null,null,null,null,null,null,null,null,null,null,null,null,null,null,null,null,null,null,null,null,null,null,null,null,null,null,null,null,null,null,null,null,null,null,null,null,null,null,null,null,null,null,null,null,null,null,null,null,null,null,null,null,null,null,null,null,null,null,null,null,null,null,null,null,null,null,null,null,null,null,null,null,null,null,null,null,null,null,null,null,null,null,null,null,null,null,null,null,null,null,null,null,null,null,null,null,null,null,null,null,null,null,null,null,null,null,null,null,null,null,null,null,null,null,null,null,null,null,null,null,null,null,null,null,null,null,null,null,null,null,null,null,null,null,null,null,null,null,null,null,null,null,null,null,null,null,null,null,null,null,null,null,null,null,null,null,null,null,null,null,null,null,null,null,null,null,null,null,null,null,null,null,null,null,null,null,null,null,null,null,null,null,null,null,null,null,null,null,null,null,null,null,null,null,null,null,null,null,null,null,null,null,null,null,null,null,null,null,null,null,null,null,null,null,null,null,null,null,null,null,null,null,null,null,null,null,null,null,null,null,null,null,null,null,null,null,null,null,null,null,null,null,null,null,null,null,null,null,null,null,null,null,null,null,null,null,null,null,null,null,null,null,null,null,null,null,null,null,null,null,null,null,null,null,null,null,null,null,null,null,null,null,null,null,null,null,null,null,null,null,null,null,null,null,null,null,null,null,null,null,null,null,null,null,null,null,null,null,null,null,null,null,null,null,null,null,null,null,null,null,null,null,null,null,null,null,null,null,null,null,null,null,null,null,null,null,null,null,null,null,null,null,null,null,null,null,null,null,null,null,null,null,null,null,null,null,null,null,null,null,null,null,null,null,null,null,null,null,null,null,null,null,null,null,null,null,null,null,null,null,null,null,null,null,null,null,null,null,null,null,null,null,null,null,null,null,null,null,null,null,null,null,null,null,null,null,null,null,null,null,null,null,null,null,null,null,null,null,null,null,null,null,null,null,null,null,null,null,null,null,null,null,null,null,null,null,null,null,null,null,null,null,null,null,null,null,null,null,null,null,null,null,null,null,null,null,null,null,null,null,null,null,null,null,null,null,null,null,null,null,null,null,null,null,null,null,null,null,null,null,null,null,null,null,null,null,null,null,null,null,null,null,null,null,null,null,null,null,null,null,null,null,null,null,null,null,null,null,null,null,null,null,null,null,null,null,null,null,null,null,null,null,null,null,null,null,null,null,null,null,null,null,null,null,null,null,null,null,null,null,null,null,null,null,null,null,null,null,null,null,null,null,null,null,null,null,null,null,null,null,null,null,null,null,null,null,null,null,null,null,null,null,null,null,null,null,null,null,null,null,null,null,null,null,null,null,null,null,null,null,null,null,null,null,null,null,null,null,null,null,null,null,null,null,null,null,null,null,null,null,null,null,null,null,null,null,null,null,null,null,null,null,null,null,null,null,null,null,null,null,null,null,null,null,null,null,null,null,null,null,null,null,null,null,null,null,null,null,null,null,null,null,null,null,null,null,null,null,null,null,null,null,null,null,null,null,null,null,null,null,null,null,null,null,null,null,null,null,null,null,null,null,null,null,null,null,null,null,null,null,null,null,null,null,null,null,null,null,null,null,null,null,null,null,null,null,null,null,null,null,null,null,null,null,null,null,null,null,null,null,null,null,null,null,null,null,null,null,null,null,null,null,null,null,null,null,null,null,null,null,null,null,null,null,null,null,null,null,null,null,null,null,null,null,null,null,null,null,null,null,null,null,null,null,null,null,null,null,null,null,null,null,null,null,null,null,null,null,null,null,null,null,null,null,null,null,null,null,null,null,null,null,null,null,null,null,null,null,null,null,null,null,null,null,null,null,null,null,null,null,null,null,null,null,null,null,null,null,null,null,null,null,null,null,null,null,null,null,null,null,null,null,null,null,null,null,null,null,null,null,null,null,null,null,null,null,null,null,null,null,null,null,null,null,null,null,null,null,null,null,null,null,null,null,null,null,null,null,null,null,null,null,null,null,null,null,null,null,null,null,null,null,null,null,null,null,null,null,null,null,null,null,null,null,null,null,null,null,null,null,null,null,null,null,null,null,null,null,null,null,null,null,null,null,null,null,null,null,null,null,null,null,null,null,null,null,null,null,null,null,null,null,null,null,null,null,null,null,null,null,null,null,null,null,null,null,null,null,null,null,null,null,null,null,null,null,null,null,null,null,null,null,null,null,null,null,null,null,null,null,null,null,null,null,null,null,null,null,null,null,null,null,null,null,null,null,null,null,null,null,null,null,null,null,null,null,null,null,null,null,null,null,null,null,null,null,null,null,null,null,null,null,null,null,null,null,null,null,null,null,null,null,null,null,null,null,null,null,null,null,null,null,null,null,null,null,null,null,null,null,null,null,null,null,null,null,null,null,null,null,null,null,null,null,null,null,null,null,null,null,null,null,null,null,null,null,null,null,null,null,null,null,null,null,null,null,null,null,null,null,null,null,null,null,null,null,null,null,null,null,null,null,null,null,null,null,null,null,null,null,null,null,null,null,null,null,null,null,null,null,null,null,null,null,null,null,null,null,null,null,null,null,null,null,null,null,null,null,null,null,null,null,null,null,null,null,null,null,null,null,null,null,null,null,null,null,null,null,null,null,null,null,null,null,null,null,null,null,null,null,null,null,null,null,null,null,null,null,null,null,null,null,null,null,null,null,null,null,null,null,null,null,null,null,null,null,null,null,null,null,null,null,null,null,null,null,null,null,null,null,null,null,null,null,null,null,null,null,null,null,null,null,null,null,null,null,null,null,null,null,null,null,null,null,null,null,null,null,null,null,null,null,null,null,null,null,null,null,null,null,null,null,null,null,null,null,null,null,null,null,null,null,null,null,null,null,null,null,null,null,null,null,null,null,null,null,null,null,null,null,null,null,null,null,null,null,null,null,null,null,null,null,null,null,null,null,null,null,null,null,null,null,null,null,null,null,null,null,null,null,null,null,null,null,null,null,null,null,null,null,null,null,null,null,null,null,null,null,null,null,null,null,null,null,null,null,null,null,null,null,null,null,null,null,null,null,null,null,null,null,null,null,null,null,null,null,null,null,null,null,null,null,null,null,null,null,null,null,null,null,null,null,null,null,null,null,null,null,null,null,null,null,null,null,null,null,null,null,null,null,null,null,null,null,null,null,null,null,null,null,null,null,null,null,null,null,null,null,null,null,null,null,null,null,null,null,null,null,null,null,null,null,null,null,null,null,null,null,null,null,null,null,null,null,null,null,null,null,null,null,null,null,null,null,null,null,null,null,null,null,null,null,null,null,null,null,null,null,null,null,null,null,null,null,null,null,null,null,null,null,null,null,null,null,null,null,null,null,null,null,null,null,null,null,null,null,null,null,null,null,null,null,null,null,null,null,null,null,null,null,null,null,null,null,null,null,null,null,null,null,null,null,null,null,null,null,null,null,null,null,null,null,null,null,null,null,null,null,null,null,null,null,null,null,null,null,null,null,null,null,null,null,null,null,null,null,null,null,null,null,null,null,null,null,null,null,null,null,null,null,null,null,null,null,null,null,null,null,null,null,null,null,null,null,null,null,null,null,null,null,null,null,null,null,null,null,null,null,null,null,null,null,null,null,null,null,null,null,null,null,null,null,null,null,null,null,null,null,null,null,null,null,null,null,null,null,null,null,null,null,null,null,null,null,null,null,null,null,null,null,null,null,null,null,null,null,null,null,null,null,null,null,null,null,null,null,null,null,null,null,null,null,null,null,null,null,null,null,null,null,null,null,null,null,null,null,null,null,null,null,null,null,null,null,null,null,null,null,null,null,null,null,null,null,null,null,null,null,null,null,null,null,null,null,null,null,null,null,null,null,null,null,null,null,null,null,null,null,null,null,null,null,null,null,null,null,null,null,null,null,null,null,null,null,null,null,null,null,null,null,null,null,null,null,null,null,null,null,null,null,null,null,null,null,null,null,null,null,null,null,null,null,null,null,null,null,null,null,null,null,null,null,null,null,null,null,null,null,null,null,null,null,null,null,null,null,null,null,null,null,null,null,null,null,null,null,null,null,null,null,null,null,null,null,null,null,null,null,null,null,null,null,null,null,null,null,null,null,null,null,null,null,null,null,null,null,null,null,null,null,null,null,null,null,null,null,null,null,null,null,null,null,null,null,null,null,null,null,null,null,null,null,null,null,null,null,null,null,null,null,null,null,null,null,null,null,null,null,null,null,null,null,null,null,null,null,null,null,null,null,null,null,null,null,null,null,null,null,null,null,null,null,null,null,null,null,null,null,null,null,null,null,null,null,null,null,null,null,null,null,null,null,null,null,null,null,null,null,null,null,null,null,null,null,null,null,null,null,null,null,null,null,null,null,null,null,null,null,null,null,null,null,null,null,null,null,null,null,null,null,null,null,null,null,null,null,null,null,null,null,null,null,null,null,null,null,null,null,null,null,null,null,null,null,null,null,null,null,null,null,null,null,null,null,null,null,null,null,null,null,null,null,null,null,null,null,null,null,null,null,null,null,null,null,null,null,null,null,null,null,null,null,null,null,null,null,null,null,null,null,null,null,null,null,null,null,null,null,null,null,null,null,null,null,null,null,null,null,null,null,null,null,null,null,null,null,null,null,null,null,null,null,null,null,null,null,null,null,null,null,null,null,null,null,null,null,null,null,null,null,null,null,null,null,null,null,null,null,null,null,null,null,null,null,null,null,null,null,null,null,null,null,null,null,null,null,null,null,null,null,null,null,null,null,null,null,null,null,null,null,null,null,null,null,null,null,null,null,null,null,null,null,null,null,null,null,null,null,null,null,null,null,null,null,null,null,null,null,null,null,null,null,null,null,null,null,null,null,null,null,null,null,null,null,null,null,null,null,null,null,null,null,null,null,null,null,null,null,null,null,null,null,null,null,null,null,null,null,null,null,null,null,null,null,null,null,null,null,null,null,null,null,null,null,null,null,null,null,null,null,null,null,null,null,null,null,null,null,null,null,null,null,null,null,null,null,null,null,null,null,null,null,null,null,null,null,null,null,null,null,null,null,null,null,null,null,null,null,null,null,null,null,null,null,null,null,null,null,null,null,null,null,null,null,null,null,null,null,null,null,null,null,null,null,null,null,null,null,null,null,null,null,null,null,null,null,null,null,null,null,null,null,null,null,null,null,null,null,null,null,null,null,null,null,null,null,null,null,null,null,null,null,null,null,null,null,null,null,null,null,null,null,null,null,null,null,null,null,null,null,null,null,null,null,null,null,null,null,null,null,null,null,null,null,null,null,null,null,null,null,null,null,null,null,null,null,null,null,null,null,null,null,null,null,null,null,null,null,null,null,null,null,null,null,null,null,null,null,null,null,null,null,null,null,null,null,null,null,null,null,null,null,null,null,null,null,null,null,null,null,null,null,null,null,null,null,null,null,null,null,null,null,null,null,null,null,null,null,null,null,null,null,null,null,null,null,null,null,null,null,null,null,null,null,null,null,null,null,null,null,null,null,null,null,null,null,null,null,null,null,null,null,null,null,null,null,null,null,null,null,null,null,null,null,null,null,null,null,null,null,null,null,null,null,null,null,null,null,null,null,null,null,null,null,null,null,null,null,null,null,null,null,null,null,null,null,null,null,null,null,null,null,null,null,null,null,null,null,null,null,null,null,null,null,null,null,null,null,null,null,null,null,null,null,null,null,null,null,null,null,null,null,null,null,null,null,null,null,null,null,null,null,null,null,null,null,null,null,null,null,null,null,null,null,null,null,null,null,null,null,null,null,null,null,null,null,null,null,null,null,null,null,null,null,null,null,null,null,null,null,null,null,null,null,null,null,null,null,null,null,null,null,null,null,null,null,null,null,null,null,null,null,null,null,null,null,null,null,null,null,null,null,null,null,null,null,null,null,null,null,null,null,null,null,null,null,null,null,null,null,null,null,null,null,null,null,null,null,null,null,null,null,null,null,null,null,null,null,null,null,null,null,null,null,null,null,null,null,null,null,null,null,null,null,null,null,null,null,null,null,null,null,null,null,null,null,null,null,null,null,null,null,null,null,null,null,null,null,null,null,null,null,null,null,null,null,null,null,null,null,null,null,null,null,null,null,null,null,null,null,null,null,null,null,null,null,null,null,null,null,null,null,null,null,null,null,null,null,null,null,null,null,null,null,null,null,null,null,null,null,null,null,null,null,null,null,null,null,null,null,null,null,null,null,null,null,null,null,null,null,null,null,null,null,null,null,null,null,null,null,null,null,null,null,null,null,null,null,null,null,null,null,null,null,null,null,null,null,null,null,null,null,null,null,null,null,null,null,null,null,null,null,null,null,null,null,null,null,null,null,null,null,null,null,null,null,null,null,null,null,null,null,null,null,null,null,null,null,null,null,null,null,null,null,null,null,null,null,null,null,null,null,null,null,null,null,null,null,null,null,null,null,null,null,null,null,null,null,null,null,null,null,null,null,null,null,null,null,null,null,null,null,null,null,null,null,null,null,null,null,null,null,null,null,null,null,null,null,null,null,null,null,null,null,null,null,null,null,null,null,null,null,null,null,null,null,null,null,null,null,null,null,null,null,null,null,null,null,null,null,null,null,null,null,null,null,null,null,null,null,null,null,null,null,null,null,null,null,null,null,null,null,null,null,null,null,null,null,null,null,null,null,null,null,null,null,null,null,null,null,null,null,null,null,null,null,null,null,null,null,null,null,null,null,null,null,null,null,null,null,null,null,null,null,null,null,null,null,null,null,null,null,null,null,null,null,null,null,null,null,null,null,null,null,null,null,null,null,null,null,null,null,null,null,null,null,null,null,null,null,null,null,null,null,null,null,null,null,null,null,null,null,null,null,null,null,null,null,null,null,null,null,null,null,null,null,null,null,null,null,null,null,null,null,null,null,null,null,null,null,null,null,null,null,null,null,null,null,null,null,null,null,null,null,null,null,null,null,null,null,null,null,null,null,null,null,null,null,null,null,null,null,null,null,null,null,null,null,null,null,null,null,null,null,null,null,null,null,null,null,null,null,null,null,null,null,null,null,null,null,null,null,null,null,null,null,null,null,null,null,null,null,null,null,null,null,null,null,null,null,null,null,null,null,null,null,null,null,null,null,null,null,null,null,null,null,null,null,null,null,null,null,null,null,null,null,null,null,null,null,null,null,null,null,null,null,null,null,null,null,null,null,null,null,null,null,null,null,null,null,null,null,null,null,null,null,null,null,null,null,null,null,null,null,null,null,null,null,null,null,null,null,null,null,null,null,null,null,null,null,null,null,null,null,null,null,null,null,null,null,null,null,null,null,null,null,null,null,null,null,null,null,null,null,null,null,null,null,null,null,null,null,null,null,null,null,null,null,null,null,null,null,null,null,null,null,null,null,null,null,null,null,null,null,null,null,null,null,null,null,null,null,null,null,null,null,null,null,null,null,null,null,null,null,null,null,null,null,null,null,null,null,null,null,null,null,null,null,null,null,null,null,null,null,null,null,null,null,null,null,null,null,null,null,null,null,null,null,null,null,null,null,null,null,null,null,null,null,null,null,null,null,null,null,null,null,null,null,null,null,null,null,null,null,null,null,null,null,null,null,null,null,null,null,null,null,null,null,null,null,null,null,null,null,null,null,null,null,null,null,null,null,null,null,null,null,null,null,null,null,null,null,null,null,null,null,null,null,null,null,null,null,null,null,null,null,null,null,null,null,null,null,null,null,null,null,null,null,null,null,null,null,null,null,null,null,null,null,null,null,null,null,null,null,null,null,null,null,null,null,null,null,null,null,null,null,null,null,null,null,null,null,null,null,null,null,null,null,null,null,null,null,null,null,null,null,null,null,null,null,null,null,null,null,null,null,null,null,null,null,null,null,null,null,null,null,null,null,null,null,null,null,null,null,null,null,null,null,null,null,null,null,null,null,null,null,null,null,null,null,null,null,null,null,null,null,null,null,null,null,null,null,null,null,null,null,null,null,null,null,null,null,null,null,null,null,null,null,null,null,null,null,null,null,null,null,null,null,null,null,null,null,null,null,null,null,null,null,null,null,null,null,null,null,null,null,null,null,null,null,null,null,null,null,null,null,null,null,null,null,null,null,null,null,null,null,null,null,null,null,null,null,null,null,null,null,null,null,null,null,null,null,null,null,null,null,null,null,null,null,null,null,null,null,null,null,null,null,null,null,null,null,null,null,null,null,null,null,null,null,null,null,null,null,null,null,null,null,null,null,null,null,null,null,null,null,null,null,null,null,null,null,null,null,null,null,null,null,null,null,null,null,null,null,null,null,null,null,null,null,null,null,null,null,null,null,null,null,null,null,null,null,null,null,null,null,null,null,null,null,null,null,null,null,null,null,null,null,null,null,null,null,null,null,null,null,null,null,null,null,null,null,null,null,null,null,null,null,null,null,null,null,null,null,null,null,null,null,null,null,null,null,null,null,null,null,null,null,null,null,null,null,null,null,null,null,null,null,null,null,null,null,null,null,null,null,null,null,null,null,null,null,null,null,null,null,null,null,null,null,null,null,null,null,null,null,null,null,null,null,null,null,null,null,null,null,null,null,null,null,null,null,null,null,null,null,null,null,null,null,null,null,null,null,null,null,null,null,null,null,null,null,null,null,null,null,null,null,null,null,null,null,null,null,null,null,null,null,null,null,null,null,null,null,null,null,null,null,null,null,null,null,null,null,null,null,null,null,null,null,null,null,null,null,null,null,null,null,null,null,null,null,null,null,null,null,null,null,null,null,null,null,null,null,null,null,null,null,null,null,null,null,null,null,null,null,null,null,null,null,null,null,null,null,null,null,null,null,null,null,null,null,null,null,null,null,null,null,null,null,null,null,null,null,null,null,null,null,null,null,null,null,null,null,null,null,null,null,null,null,null,null,null,null,null,null,null,null,null,null,null,null,null,null,null,null,null,null,null,null,null,null,null,null,null,null,null,null,null,null,null,null,null,null,null,null,null,null,null,null,null,null,null,null,null,null,null,null,null,null,null,null,null,null,null,null,null,null,null,null,null,null,null,null,null,null,null,null,null,null,null,null,null,null,null,null,null,null,null,null,null,null,null,null,null,null,null,null,null,null,null,null,null,null,null,null,null,null,null,null,null,null,null,null,null,null,null,null,null,null,null,null,null,null,null,null,null,null,null,null,null,null,null,null,null,null,null,null,null,null,null,null,null,null,null,null,null,null,null,null,null,null,null,null,null,null,null,null,null,null,null,null,null,null,null,null,null,null,null,null,null,null,null,null,null,null,null,null,null,null,null,null,null,null,null,null,null,null,null,null,null,null,null,null,null,null,null,null,null,null,null,null,null,null,null,null,null,null,null,null,null,null,null,null,null,null,null,null,null,null,null,null,null,null,null,null,null,null,null,null,null,null,null,null,null,null,null,null,null,null,null,null,null,null,null,null,null,null,null,null,null,null,null,null,null,null,null,null,null,null,null,null,null,null,null,null,null,null,null,null,null,null,null,null,null,null,null,null,null,null,null,null,null,null,null,null,null,null,null,null,null,null,null,null,null,null,null,null,null,null,null,null,null,null,null,null,null,null,null,null,null,null,null,null,null,null,null,null,null,null,null,null,null,null,null,null,null,null,null,null,null,null,null,null,null,null,null,null,null,null,null,null,null,null,null,null,null,null,null,null,null,null,null,null,null,null,null,null,null,null,null,null,null,null,null,null,null,null,null,null,null,null,null,null,null,null,null,null,null,null,null,null,null,null,null,null,null,null,null,null,null,null,null,null,null,null,null,null,null,null,null,null,null,null,null,null,null,null,null,null,null,null,null,null,null,null,null,null,null,null,null,null,null,null,null,null,null,null,null,null,null,null,null,null,null,null,null,null,null,null,null,null,null,null,null,null,null,null,null,null,null,null,null,null,null,null,null,null,null,null,null,null,null,null,null,null,null,null,null,null,null,null,null,null,null,null,null,null,null,null,null,null,null,null,null,null,null,null,null,null,null,null,null,null,null,null,null,null,null,null,null,null,null,null,null,null,null,null,null,null,null,null,null,null,null,null,null,null,null,null,null,null,null,null,null,null,null,null,null,null,null,null,null,null,null,null,null,null,null,null,null,null,null,null,null,null,null,null,null,null,null,null,null,null,null,null,null,null,null,null,null,null,null,null,null,null,null,null,null,null,null,null,null,null,null,null,null,null,null,null,null,null,null,null,null,null,null,null,null,null,null,null,null,null,null,null,null,null,null,null,null,null,null,null,null,null,null,null,null,null,null,null,null,null,null,null,null,null,null,null,null,null,null,null,null,null,null,null,null,null,null,null,null,null,null,null,null,null,null,null,null,null,null,null,null,null,null,null,null,null,null,null,null,null,null,null,null,null,null,null,null,null,null,null,null,null,null,null,null,null,null,null,null,null,null,null,null,null,null,null,null,null,null,null,null,null,null,null,null,null,null,null,null,null,null,null,null,null,null,null,null,null,null,null,null,null,null,null,null,null,null,null,null,null,null,null,null,null,null,null,null,null,null,null,null,null,null,null,null,null,null,null,null,null,null,null,null,null,null,null,null,null,null,null,null,null,null,null,null,null,null,null,null,null,null,null,null,null,null,null,null,null,null,null,null,null,null,null,null,null,null,null,null,null,null,null,null,null,null,null,null,null,null,null,null,null,null,null,null,null,null,null,null,null,null,null,null,null,null,null,null,null,null,null,null,null,null,null,null,null,null,null,null,null,null,null,null,null,null,null,null,null,null,null,null,null,null,null,null,null,null,null,null,null,null,null,null,null,null,null,null,null,null,null,null,null,null,null,null,null,null,null,null,null,null,null,null,null,null,null,null,null,null,null,null,null,null,null,null,null,null,null,null,null,null,null,null,null,null,null,null,null,null,null,null,null,null,null,null,null,null,null,null,null,null,null,null,null,null,null,null,null,null,null,null,null,null,null,null,null,null,null,null,null,null,null,null,null,null,null,null,null,null,null,null,null,null,null,null,null,null,null,null,null,null,null,null,null,null,null,null,null,null,null,null,null,null,null,null,null,null,null,null,null,null,null,null,null,null,null,null,null,null,null,null,null,null,null,null,null,null,null,null,null,null,null,null,null,null,null,null,null,null,null,null,null,null,null,null,null,null,null,null,null,null,null,null,null,null,null,null,null,null,null,null,null,null,null,null,null,null,null,null,null,null,null,null,null,null,null,null,null,null,null,null,null,null,null,null,null,null,null,null,null,null,null,null,null,null,null,null,null,null,null,null,null,null,null,null,null,null,null,null,null,null,null,null,null,null,null,null,null,null,null,null,null,null,null,null,null,null,null,null,null,null,null,null,null,null,null,null,null,null,null,null,null,null,null,null,null,null,null,null,null,null,null,null,null,null,null,null,null,null,null,null,null,null,null,null,null,null,null,null,null,null,null,null,null,null,null,null,null,null,null,null,null,null,null,null,null,null,null,null,null,null,null,null,null,null,null,null,null,null,null,null,null,null,null,null,null,null,null,null,null,null,null,null,null,null,null,null,null,null,null,null,null,null,null,null,null,null,null,null,null,null,null,null,null,null,null,null,null,null,null,null,null,null,null,null,null,null,null,null,null,null,null,null,null,null,null,null,null,null,null,null,null,null,null,null,null,null,null,null,null,null,null,null,null,null,null,null,null,null,null,null,null,null,null,null,null,null,null,null,null,null,null,null,null,null,null,null,null,null,null,null,null,null,null,null,null,null,null,null,null,null,null,null,null,null,null,null,null,null,null,null,null,null,null,null,null,null,null,null,null,null,null,null,null,null,null,null,null,null,null,null,null,null,null,null,null,null,null,null,null,null,null,null,null,null,null,null,null,null,null,null,null,null,null,null,null,null,null,null,null,null,null,null,null,null,null,null,null,null,null,null,null,null,null,null,null,null,null,null,null,null,null,null,null,null,null,null,null,null,null,null,null,null,null,null,null,null,null,null,null,null,null,null,null,null,null,null,null,null,null,null,null,null,null,null,null,null,null,null,null,null,null,null,null,null,null,null,null,null,null,null,null,null,null,null,null,null,null,null,null,null,null,null,null,null,null,null,null,null,null,null,null,null,null,null,null,null,null,null,null,null,null,null,null,null,null,null,null,null,null,null,null,null,null,null,null,null,null,null,null,null,null,null,null,null,null,null,null,null,null,null,null,null,null,null,null,null,null,null,null,null,null,null,null,null,null,null,null,null,null,null,null,null,null,null,null,null,null,null,null,null,null,null,null,null,null,null,null,null,null,null,null,null,null,null,null,null,null,null,null,null,null,null,null,null,null,null,null,null,null,null,null,null,null,null,null,null,null,null,null,null,null,null,null,null,null,null,null,null,null,null,null,null,null,null,null,null,null,null,null,null,null,null,null,null,null,null,null,null,null,null,null,null,null,null,null,null,null,null,null,null,null,null,null,null,null,null,null,null,null,null,null,null,null,null,null,null,null,null,null,null,null,null,null,null,null,null,null,null,null,null,null,null,null,null,null,null,null,null,null,null,null,null,null,null,null,null,null,null,null,null,null,null,null,null,null,null,null,null,null,null,null,null,null,null,null,null,null,null,null,null,null,null,null,null,null,null,null,null,null,null,null,null,null,null,null,null,null,null,null,null,null,null,null,null,null,null,null,null,null,null,null,null,null,null,null,null,null,null,null,null,null,null,null,null,null,null,null,null,null,null,null,null,null,null,null,null,null,null,null,null,null,null,null,null,null,null,null,null,null,null,null,null,null,null,null,null,null,null,null,null,null,null,null,null,null,null,null,null,null,null,null,null,null,null,null,null,null,null,null,null,null,null,null,null,null,null,null,null,null,null,null,null,null,null,null,null,null,null,null,null,null,null,null,null,null,null,null,null,null,null,null,null,null,null,null,null,null,null,null,null,null,null,null,null,null,null,null,null,null,null,null,null,null,null,null,null,null,null,null,null,null,null,null,null,null,null,null,null,null,null,null,null,null,null,null,null,null,null,null,null,null,null,null,null,null,null,null,null,null,null,null,null,null,null,null,null,null,null,null,null,null,null,null,null,null,null,null,null,null,null,null,null,null,null,null,null,null,null,null,null,null,null,null,null,null,null,null,null,null,null,null,null,null,null,null,null,null,null,null,null,null,null,null,null,null,null,null,null,null,null,null,null,null,null,null,null,null,null,null,null,null,null,null,null,null,null,null,null,null,null,null,null,null,null,null,null,null,null,null,null,null,null,null,null,null,null,null,null,null,null,null,null,null,null,null,null,null,null,null,null,null,null,null,null,null,null,null,null,null,null,null,null,null,null,null,null,null,null,null,null,null,null,null,null,null,null,null,null,null,null,null,null,null,null,null,null,null,null,null,null,null,null,null,null,null,null,null,null,null,null,null,null,null,null,null,null,null,null,null,null,null,null,null,null,null,null,null,null,null,null,null,null,null,null,null,null,null,null,null,null,null,null,null,null,null,null,null,null,null,null,null,null,null,null,null,null,null,null,null,null,null,null,null,null,null,null,null,null,null,null,null,null,null,null,null,null,null,null,null,null,null,null,null,null,null,null,null,null,null,null,null,null,null,null,null,null,null,null,null,null,null,null,null,null,null,null,null,null,null,null,null,null,null,null,null,null,null,null,null,null,null,null,null,null,null,null,null,null,null,null,null,null,null,null,null,null,null,null,null,null,null,null,null,null,null,null,null,null,null,null,null,null,null,null,null,null,null,null,null,null,null,null,null,null,null,null,null,null,null,null,null,null,null,null,null,null,null,null,null,null,null,null,null,null,null,null,null,null,null,null,null,null,null,null,null,null,null,null,null,null,null,null,null,null,null,null,null,null,null,null,null,null,null,null,null,null,null,null,null,null,null,null,null,null,null,null,null,null,null,null,null,null,null,null,null,null,null,null,null,null,null,null,null,null,null,null,null,null,null,null,null,null,null,null,null,null,null,null,null,null,null,null,null,null,null,null,null,null,null,null,null,null,null,null,null,null,null,null,null,null,null,null,null,null,null,null,null,null,null,null,null,null,null,null,null,null,null,null,null,null,null,null,null,null,null,null,null,null,null,null,null,null,null,null,null,null,null,null,null,null,null,null,null,null,null,null,null,null,null,null,null,null,null,null,null,null,null,null,null,null,null,null,null,null,null,null,null,null,null,null,null,null,null,null,null,null,null,null,null,null,null,null,null,null,null,null,null,null,null,null,null,null,null,null,null,null,null,null,null,null,null,null,null,null,null,null,null,null,null,null,null,null,null,null,null,null,null,null,null,null,null,null,null,null,null,null,null,null,null,null,null,null,null,null,null,null,null,null,null,null,null,null,null,null,null,null,null,null,null,null,null,null,null,null,null,null,null,null,null,null,null,null,null,null,null,null,null,null,null,null,null,null,null,null,null,null,null,null,null,null,null,null,null,null,null,null,null,null,null,null,null,null,null,null,null,null,null,null,null,null,null,null,null,null,null,null,null,null,null,null,null,null,null,null,null,null,null,null,null,null,null,null,null,null,null,null,null,null,null,null,null,null,null,null,null,null,null,null,null,null,null,null,null,null,null,null,null,null,null,null,null,null,null,null,null,null,null,null,null,null,null,null,null,null,null,null,null,null,null,null,null,null,null,null,null,null,null,null,null,null,null,null,null,null,null,null,null,null,null,null,null,null,null,null,null,null,null,null,null,null,null,null,null,null,null,null,null,null,null,null,null,null,null,null,null,null,null,null,null,null,null,null,null,null,null,null,null,null,null,null,null,null,null,null,null,null,null,null,null,null,null,null,null,null,null,null,null,null,null,null,null,null,null,null,null,null,null,null,null,null,null,null,null,null,null,null,null,null,null,null,null,null,null,null,null,null,null,null,null,null,null,null,null,null,null,null,null,null,null,null,null,null,null,null,null,null,null,null,null,null,null,null,null,null,null,null,null,null,null,null,null,null,null,null,null,null,null,null,null,null,null,null,null,null,null,null,null,null,null,null,null,null,null,null,null,null,null,null,null,null,null,null,null,null,null,null,null,null,null,null,null,null,null,null,null,null,null,null,null,null,null,null,null,null,null,null,null,null,null,null,null,null,null,null,null,null,null,null,null,null,null,null,null,null,null,null,null,null,null,null,null,null,null,null,null,null,null,null,null,null,null,null,null,null,null,null,null,null,null,null,null,null,null,null,null,null,null,null,null,null,null,null,null,null,null,null,null,null,null,null,null,null,null,null,null,null,null,null,null,null,null,null,null,null,null,null,null,null,null,null,null,null,null,null,null,null,null,null,null,null,null,null,null,null,null,null,null,null,null,null,null,null,null,null,null,null,null,null,null,null,null,null,null,null,null,null,null,null,null,null,null,null,null,null,null,null,null,null,null,null,null,null,null,null,null,null,null,null,null,null,null,null,null,null,null,null,null,null,null,null,null,null,null,null,null,null,null,null,null,null,null,null,null,null,null,null,null,null,null,null,null,null,null,null,null,null,null,null,null,null,null,null,null,null,null,null,null,null,null,null,null,null,null,null,null,null,null,null,null,null,null,null,null,null,null,null,null,null,null,null,null,null,null,null,null,null,null,null,null,null,null,null,null,null,null,null,null,null,null,null,null,null,null,null,null,null,null,null,null,null,null,null,null,null,null,null,null,null,null,null,null,null,null,null,null,null,null,null,null,null,null,null,null,null,null,null,null,null,null,null,null,null,null,null,null,null,null,null,null,null,null,null,null,null,null,null,null,null,null,null,null,null,null,null,null,null,null,null,null,null,null,null,null,null,null,null,null,null,null,null,null,null,null,null,null,null,null,null,null,null,null,null,null,null,null,null,null,null,null,null,null,null,null,null,null,null,null,null,null,null,null,null,null,null,null,null,null,null,null,null,null,null,null,null,null,null,null,null,null,null,null,null,null,null,null,null,null,null,null,null,null,null,null,null,null,null,null,null,null,null,null,null,null,null,null,null,null,null,null,null,null,null,null,null,null,null,null,null,null,null,null,null,null,null,null,null,null,null,null,null,null,null,null,null,null,null,null,null,null,null,null,null,null,null,null,null,null,null,null,null,null,null,null,null,null,null,null,null,null,null,null,null,null,null,null,null,null,null,null,null,null,null,null,null,null,null,null,null,null,null,null,null,null,null,null,null,null,null,null,null,null,null,null,null,null,null,null,null,null,null,null,null,null,null,null,null,null,null,null,null,null,null,null,null,null,null,null,null,null,null,null,null,null,null,null,null,null,null,null,null,null,null,null,null,null,null,null,null,null,null,null,null,null,null,null,null,null,null,null,null,null,null,null,null,null,null,null,null,null,null,null,null,null,null,null,null,null,null,null,null,null,null,null,null,null,null,null,null,null,null,null,null,null,null,null,null,null,null,null,null,null,null,null,null,null,null,null,null,null,null,null,null,null,null,null,null,null,null,null,null,null,null,null,null,null,null,null,null,null,null,null,null,null,null,null,null,null,null,null,null,null,null,null,null,null,null,null,null,null,null,null,null,null,null,null,null,null,null,null,null,null,null,null,null,null,null,null,null,null,null,null,null,null,null,null,null,null,null,null,null,null,null,null,null,null,null,null,null,null,null,null,null,null,null,null,null,null,null,null,null,null,null,null,null,null,null,null,null,null,null,null,null,null,null,null,null,null,null,null,null,null,null,null,null,null,null,null,null,null,null,null,null,null,null,null,null,null,null,null,null,null,null,null,null,null,null,null,null,null,null,null,null,null,null,null,null,null,null,null,null,null,null,null,null,null,null,null,null,null,null,null,null,null,null,null,null,null,null,null,null,null,null,null,null,null,null,null,null,null,null,null,null,null,null,null,null,null,null,null,null,null,null,null,null,null,null,null,null,null,null,null,null,null,null,null,null,null,null,null,null,null,null,null,null,null,null,null,null,null,null,null,null,null,null,null,null,null,null,null,null,null,null,null,null,null,null,null,null,null,null,null,null,null,null,null,null,null,null,null,null,null,null,null,null,null,null,null,null,null,null,null,null,null,null,null,null,null,null,null,null,null,null,null,null,null,null,null,null,null,null,null,null,null,null,null,null,null,null,null,null,null,null,null,null,null,null,null,null,null,null,null,null,null,null,null,null,null,null,null,null,null,null,null,null,null,null,null,null,null,null,null,null,null,null,null,null,null,null,null,null,null,null,null,null,null,null,null,null,null,null,null,null,null,null,null,null,null,null,null,null,null,null,null,null,null,null,null,null,null,null,null,null,null,null,null,null,null,null,null,null,null,null,null,null,null,null,null,null,null,null,null,null,null,null,null,null,null,null,null,null,null,null,null,null,null,null,null,null,null,null,null,null,null,null,null,null,null,null,null,null,null,null,null,null,null,null,null,null,null,null,null,null,null,null,null,null,null,null,null,null,null,null,null,null,null,null,null,null,null,null,null,null,null,null,null,null,null,null,null,null,null,null,null,null,null,null,null,null,null,null,null,null,null,null,null,null,null,null,null,null,null,null,null,null,null,null,null,null,null,null,null,null,null,null,null,null,null,null,null,null,null,null,null,null,null,null,null,null,null,null,null,null,null,null,null,null,null,null,null,null,null,null,null,null,null,null,null,null,null,null,null,null,null,null,null,null,null,null,null,null,null,null,null,null,null,null,null,null,null,null,null,null,null,null,null,null,null,null,null,null,null,null,null,null,null,null,null,null,null,null,null,null,null,null,null,null,null,null,null,null,null,null,null,null,null,null,null,null,null,null,null,null,null,null,null,null,null,null,null,null,null,null,null,null,null,null,null,null,null,null,null,null,null,null,null,null,null,null,null,null,null,null,null,null,null,null,null,null,null,null,null,null,null,null,null,null,null,null,null,null,null,null,null,null,null,null,null,null,null,null,null,null,null,null,null,null,null,null,null,null,null,null,null,null,null,null,null,null,null,null,null,null,null,null,null,null,null,null,null,null,null,null,null,null,null,null,null,null,null,null,null,null,null,null,null,null,null,null,null,null,null,null,null,null,null,null,null,null,null,null,null,null,null,null,null,null,null,null,null,null,null,null,null,null,null,null,null,null,null,null,null,null,null,null,null,null,null,null,null,null,null,null,null,null,null,null,null,null,null,null,null,null,null,null,null,null,null,null,null,null,null,null,null,null,null,null,null,null,null,null,null,null,null,null,null,null,null,null,null,null,null,null,null,null,null,null,null,null,null,null,null,null,null,null,null,null,null,null,null,null,null,null,null,null,null,null,null,null,null,null,null,null,null,null,null,null,null,null,null,null,null,null,null,null,null,null,null,null,null,null,null,null,null,null,null,null,null,null,null,null,null,null,null,null,null,null,null,null,null,null,null,null,null,null,null,null,null,null,null,null,null,null,null,null,null,null,null,null,null,null,null,null,null,null,null,null,null,null,null,null,null,null,null,null,null,null,null,null,null,null,null,null,null,null,null,null,null,null,null,null,null,null,null,null,null,null,null,null,null,null,null,null,null,null,null,null,null,null,null,null,null,null,null,null,null,null,null,null,null,null,null,null,null,null,null,null,null,null,null,null,null,null,null,null,null,null,null,null,null,null,null,null,null,null,null,null,null,null,null,null,null,null,null,null,null,null,null,null,null,null,null,null,null,null,null,null,null,null,null,null,null,null,null,null,null,null,null,null,null,null,null,null,null,null,null,null,null,null,null,null,null,null,null,null,null,null,null,null,null,null,null,null,null,null,null,null,null,null,null,null,null,null,null,null,null,null,null,null,null,null,null,null,null,null,null,null,null,null,null,null,null,null,null,null,null,null,null,null,null,null,null,null,null,null,null,null,null,null,null,null,null,null,null,null,null,null,null,null,null,null,null,null,null,null,null,null,null,null,null,null,null,null,null,null,null,null,null,null,null,null,null,null,null,null,null,null,null,null,null,null,null,null,null,null,null,null,null,null,null,null,null,null,null,null,null,null,null,null,null,null,null,null,null,null,null,null,null,null,null,null,null,null,null,null,null,null,null,null,null,null,null,null,null,null,null,null,null,null,null,null,null,null,null,null,null,null,null,null,null,null,null,null,null,null,null,null,null,null,null,null,null,null,null,null,null,null,null,null,null,null,null,null,null,null,null,null,null,null,null,null,null,null,null,null,null,null,null,null,null,null,null,null,null,null,null,null,null,null,null,null,null,null,null,null,null,null,null,null,null,null,null,null,null,null,null,null,null,null,null,null,null,null,null,null,null,null,null,null,null,null,null,null,null,null,null,null,null,null,null,null,null,null,null,null,null,null,null,null,null,null,null,null,null,null,null,null,null,null,null,null,null,null,null,null,null,null,null,null,null,null,null,null,null,null,null,null,null,null,null,null,null,null,null,null,null,null,null,null,null,null,null,null,null,null,null,null,null,null,null,null,null,null,null,null,null,null,null,null,null,null,null,null,null,null,null,null,null,null,null,null,null,null,null,null,null,null,null,null,null,null,null,null,null,null,null,null,null,null,null,null,null,null,null,null,null,null,null,null,null,null,null,null,null,null,null,null,null,null,null,null,null,null,null,null,null,null,null,null,null,null,null,null,null,null,null,null,null,null,null,null,null,null,null,null,null,null,null,null,null,null,null,null,null,null,null,null,null,null,null,null,null,null,null,null,null,null,null,null,null,null,null,null,null,null,null,null,null,null,null,null,null,null,null,null,null,null,null,null,null,null,null,null,null,null,null,null,null,null,null,null,null,null,null,null,null,null,null,null,null,null,null,null,null,null,null,null,null,null,null,null,null,null,null,null,null,null,null,null,null,null,null,null,null,null,null,null,null,null,null,null,null,null,null,null,null,null,null,null,null,null,null,null,null,null,null,null,null,null,null,null,null,null,null,null,null,null,null,null,null,null,null,null,null,null,null,null,null,null,null,null,null,null,null,null,null,null,null,null,null,null,null,null,null,null,null,null,null,null,null,null,null,null,null,null,null,null,null,null,null,null,null,null,null,null,null,null,null,null,null,null,null,null,null,null,null,null,null,null,null,null,null,null,null,null,null,null,null,null,null,null,null,null,null,null,null,null,null,null,null,null,null,null,null,null,null,null,null,null,null,null,null,null,null,null,null,null,null,null,null,null,null,null,null,null,null,null,null,null,null,null,null,null,null,null,null,null,null,null,null,null,null,null,null,null,null,null,null,null,null,null,null,null,null,null,null,null,null,null,null,null,null,null,null,null,null,null,null,null,null,null,null,null,null,null,null,null,null,null,null,null,null,null,null,null,null,null,null,null,null,null,null,null,null,null,null,null,null,null,null,null,null,null,null,null,null,null,null,null,null,null,null,null,null,null,null,null,null,null,null,null,null,null,null,null,null,null,null,null,null,null,null,null,null,null,null,null,null,null,null,null,null,null,null,null,null,null,null,null,null,null,null,null,null,null,null,null,null,null,null,null,null,null,null,null,null,null,null,null,null,null,null,null,null,null,null,null,null,null,null,null,null,null,null,null,null,null,null,null,null,null,null,null,null,null,null,null,null,null,null,null,null,null,null,null,null,null,null,null,null,null,null,null,null,null,null,null,null,null,null,null,null,null,null,null,null,null,null,null,null,null,null,null,null,null,null,null,null,null,null,null,null,null,null,null,null,null,null,null,null,null,null,null,null,null,null,null,null,null,null,null,null,null,null,null,null,null,null,null,null,null,null,null,null,null,null,null,null,null,null,null,null,null,null,null,null,null,null,null,null,null,null,null,null,null,null,null,null,null,null,null,null,null,null,null,null,null,null,null,null,null,null,null,null,null,null,null,null,null,null,null,null,null,null,null,null,null,null,null,null,null,null,null,null,null,null,null,null,null,null,null,null,null,null,null,null,null,null,null,null,null,null,null,null,null,null,null,null,null,null,null,null,null,null,null,null,null,null,null,null,null,null,null,null,null,null,null,null,null,null,null,null,null,null,null,null,null,null,null,null,null,null,null,null,null,null,null,null,null,null,null,null,null,null,null,null,null,null,null,null,null,null,null,null,null,null,null,null,null,null,null,null,null,null,null,null,null,null,null,null,null,null,null,null,null,null,null,null,null,null,null,null,null,null,null,null,null,null,null,null,null,null,null,null,null,null,null,null,null,null,null,null,null,null,null,null,null,null,null,null,null,null,null,null,null,null,null,null,null,null,null,null,null,null,null,null,null,null,null,null,null,null,null,null,null,null,null,null,null,null,null,null,null,null,null,null,null,null,null,null,null,null,null,null,null,null,null,null,null,null,null,null,null,null,null,null,null,null,null,null,null,null,null,null,null,null,null,null,null,null,null,null,null,null,null,null,null,null,null,null,null,null,null,null,null,null,null,null,null,null,null,null,null,null,null,null,null,null,null,null,null,null,null,null,null,null,null,null,null,null,null,null,null,null,null,null,null,null,null,null,null,null,null,null,null,null,null,null,null,null,null,null,null,null,null,null,null,null,null,null,null,null,null,null,null,null,null,null,null,null,null,null,null,null,null,null,null,null,null,null,null,null,null,null,null,null,null,null,null,null,null,null,null,null,null,null,null,null,null,null,null,null,null,null,null,null,null,null,null,null,null,null,null,null,null,null,null,null,null,null,null,null,null,null,null,null,null,null,null,null,null,null,null,null,null,null,null,null,null,null,null,null,null,null,null,null,null,null,null,null,null,null,null,null,null,null,null,null,null,null,null,null,null,null,null,null,null,null,null,null,null,null,null,null,null,null,null,null,null,null,null,null,null,null,null,null,null,null,null,null,null,null,null,null,null,null,null,null,null,null,null,null,null,null,null,null,null,null,null,null,null,null,null,null,null,null,null,null,null,null,null,null,null,null,null,null,null,null,null,null,null,null,null,null,null,null,null,null,null,null,null,null,null,null,null,null,null,null,null,null,null,null,null,null,null,null,null,null,null,null,null,null,null,null,null,null,null,null,null,null,null,null,null,null,null,null,null,null,null,null,null,null,null,null,null,null,null,null,null,null,null,null,null,null,null,null,null,null,null,null,null,null,null,null,null,null,null,null,null,null,null,null,null,null,null,null,null,null,null,null,null,null,null,null,null,null,null,null,null,null,null,null,null,null,null,null,null,null,null,null,null,null,null,null,null,null,null,null,null,null,null,null,null,null,null,null,null,null,null,null,null,null,null,null,null,null,null,null,null,null,null,null,null,null,null,null,null,null,null,null,null,null,null,null,null,null,null,null,null,null,null,null,null,null,null,null,null,null,null,null,null,null,null,null,null,null,null,null,null,null,null,null,null,null,null,null,null,null,null,null,null,null,null,null,null,null,null,null,null,null,null,null,null,null,null,null,null,null,null,null,null,null,null,null,null,null,null,null,null,null,null,null,null,null,null,null,null,null,null,null,null,null,null,null,null,null,null,null,null,null,null,null,null,null,null,null,null,null,null,null,null,null,null,null,null,null,null,null,null,null,null,null,null,null,null,null,null,null,null,null,null,null,null,null,null,null,null,null,null,null,null,null,null,null,null,null,null,null,null,null,null,null,null,null,null,null,null,null,null,null,null,null,null,null,null,null,null,null,null,null,null,null,null,null,null,null,null,null,null,null,null,null,null,null,null,null,null,null,null,null,null,null,null,null,null,null,null,null,null,null,null,null,null,null,null,null,null,null,null,null,null,null,null,null,null,null,null,null,null,null,null,null,null,null,null,null,null,null,null,null,null,null,null,null,null,null,null,null,null,null,null,null,null,null,null,null,null,null,null,null,null,null,null,null,null,null,null,null,null,null,null,null,null,null,null,null,null,null,null,null,null,null,null,null,null,null,null,null,null,null,null,null,null,null,null,null,null,null,null,null,null,null,null,null,null,null,null,null,null,null,null,null,null,null,null,null,null,null,null,null,null,null,null,null,null,null,null,null,null,null,null,null,null,null,null,null,null,null,null,null,null,null,null,null,null,null,null,null,null,null,null,null,null,null,null,null,null,null,null,null,null,null,null,null,null,null,null,null,null,null,null,null,null,null,null,null,null,null,null,null,null,null,null,null,null,null,null,null,null,null,null,null,null,null,null,null,null,null,null,null,null,null,null,null,null,null,null,null,null,null,null,null,null,null,null,null,null,null,null,null,null,null,null,null,null,null,null,null,null,null,null,null,null,null,null,null,null,null,null,null,null,null,null,null,null,null,null,null,null,null,null,null,null,null,null,null,null,null,null,null,null,null,null,null,null,null,null,null,null,null,null,null,null,null,null,null,null,null,null,null,null,null,null,null,null,null,null,null,null,null,null,null,null,null,null,null,null,null,null,null,null,null,null,null,null,null,null,null,null,null,null,null,null,null,null,null,null,null,null,null,null,null,null,null,null,null,null,null,null,null,null,null,null,null,null,null,null,null,null,null,null,null,null,null,null,null,null,null,null,null,null,null,null,null,null,null,null,null,null,null,null,null,null,null,null,null,null,null,null,null,null,null,null,null,null,null,null,null,null,null,null,null,null,null,null,null,null,null,null,null,null,null,null,null,null,null,null,null,null,null,null,null,null,null,null,null,null,null,null,null,null,null,null,null,null,null,null,null,null,null,null,null,null,null,null,null,null,null,null,null,null,null,null,null,null,null,null,null,null,null,null,null,null,null,null,null,null,null,null,null,null,null,null,null,null,null,null,null,null,null,null,null,null,null,null,null,null,null,null,null,null,null,null,null,null,null,null,null,null,null,null,null,null,null,null,null,null,null,null,null,null,null,null,null,null,null,null,null,null,null,null,null,null,null,null,null,null,null,null,null,null,null,null,null,null,null,null,null,null,null,null,null,null,null,null,null,null,null,null,null,null,null,null,null,null,null,null,null,null,null,null,null,null,null,null,null,null,null,null,null,null,null,null,null,null,null,null,null,null,null,null,null,null,null,null,null,null,null,null,null,null,null,null,null,null,null,null,null,null,null,null,null,null,null,null,null,null,null,null,null,null,null,null,null,null,null,null,null,null,null,null,null,null,null,null,null,null,null,null,null,null,null,null,null,null,null,null,null,null,null,null,null,null,null,null,null,null,null,null,null,null,null,null,null,null,null,null,null,null,null,null,null,null,null,null,null,null,null,null,null,null,null,null,null,null,null,null,null,null,null,null,null,null,null,null,null,null,null,null,null,null,null,null,null,null,null,null,null,null,null,null,null,null,null,null,null,null,null,null,null,null,null,null,null,null,null,null,null,null,null,null,null,null,null,null,null,null,null,null,null,null,null,null,null,null,null,null,null,null,null,null,null,null,null,null,null,null,null,null,null,null,null,null,null,null,null,null,null,null,null,null,null,null,null,null,null,null,null,null,null,null,null,null,null,null,null,null,null,null,null,null,null,null,null,null,null,null,null,null,null,null,null,null,null,null,null,null,null,null,null,null,null,null,null,null,null,null,null,null,null,null,null,null,null,null,null,null,null,null,null,null,null,null,null,null,null,null,null,null,null,null,null,null,null,null,null,null,null,null,null,null,null,null,null,null,null,null,null,null,null,null,null,null,null,null,null,null,null,null,null,null,null,null,null,null,null,null,null,null,null,null,null,null,null,null,null,null,null,null,null,null,null,null,null,null,null,null,null,null,null,null,null,null,null,null,null,null,null,null,null,null,null,null,null,null,null,null,null,null,null,null,null,null,null,null,null,null,null,null,null,null,null,null,null,null,null,null,null,null,null,null,null,null,null,null,null,null,null,null,null,null,null,null,null,null,null,null,null,null,null,null,null,null,null,null,null,null,null,null,null,null,null,null,null,null,null,null,null,null,null,null,null,null,null,null,null,null,null,null,null,null,null,null,null,null,null,null,null,null,null,null,null,null,null,null,null,null,null,null,null,null,null,null,null,null,null,null,null,null,null,null,null,null,null,null,null,null,null,null,null,null,null,null,null,null,null,null,null,null,null,null,null,null,null,null,null,null,null,null,null,null,null,null,null,null,null,null,null,null,null,null,null,null,null,null,null,null,null,null,null,null,null,null,null,null,null,null,null,null,null,null,null,null,null,null,null,null,null,null,null,null,null,null,null,null,null,null,null,null,null,null,null,null,null,null,null,null,null,null,null,null,null,null,null,null,null,null,null,null,null,null,null,null,null,null,null,null,null,null,null,null,null,null,null,null,null,null,null,null,null,null,null,null,null,null,null,null,null,null,null,null,null,null,null,null,null,null,null,null,null,null,null,null,null,null,null,null,null,null,null,null,null,null,null,null,null,null,null,null,null,null,null,null,null,null,null,null,null,null,null,null,null,null,null,null,null,null,null,null,null,null,null,null,null,null,null,null,null,null,null,null,null,null,null,null,null,null,null,null,null,null,null,null,null,null,null,null,null,null,null,null,null,null,null,null,null,null,null,null,null,null,null,null,null,null,null,null,null,null,null,null,null,null,null,null,null,null,null,null,null,null,null,null,null,null,null,null,null,null,null,null,null,null,null,null,null,null,null,null,null,null,null,null,null,null,null,null,null,null,null,null,null,null,null,null,null,null,null,null,null,null,null,null,null,null,null,null,null,null,null,null,null,null,null,null,null,null,null,null,null,null,null,null,null,null,null,null,null,null,null,null,null,null,null,null,null,null,null,null,null,null,null,null,null,null,null,null,null,null,null,null,null,null,null,null,null,null,null,null,null,null,null,null,null,null,null,null,null,null,null,null,null,null,null,null,null,null,null,null,null,null,null,null,null,null,null,null,null,null,null,null,null,null,null,null,null,null,null,null,null,null,null,null,null,null,null,null,null,null,null,null,null,null,null,null,null,null,null,null,null,null,null,null,null,null,null,null,null,null,null,null,null,null,null,null,null,null,null,null,null,null,null,null,null,null,null,null,null,null,null,null,null,null,null,null,null,null,null,null,null,null,null,null,null,null,null,null,null,null,null,null,null,null,null,null,null,null,null,null,null,null,null,null,null,null,null,null,null,null,null,null,null,null,null,null,null,null,null,null,null,null,null,null,null,null,null,null,null,null,null,null,null,null,null,null,null,null,null,null,null,null,null,null,null,null,null,null,null,null,null,null,null,null,null,null,null,null,null,null,null,null,null,null,null,null,null,null,null,null,null,null,null,null,null,null,null,null,null,null,null,null,null,null,null,null,null,null,null,null,null,null,null,null,null,null,null,null,null,null,null,null,null,null,null,null,null,null,null,null,null,null,null,null,null,null,null,null,null,null,null,null,null,null,null,null,null,null,null,null,null,null,null,null,null,null,null,null,null,null,null,null,null,null,null,null,null,null,null,null,null,null,null,null,null,null,null,null,null,null,null,null,null,null,null,null,null,null,null,null,null,null,null,null,null,null,null,null,null,null,null,null,null,null,null,null,null,null,null,null,null,null,null,null,null,null,null,null,null,null,null,null,null,null,null,null,null,null,null,null,null,null,null,null,null,null,null,"Survey Name ",null,"CMANT"]
[null,null,null,null,null,null,null,null,null,null,null,null,null,null,null,null,null,null,null,null,null,null,null,null,null,null,null,null,null,null,null,null,null,null,null,null,null,null,null,null,null,null,null,null,null,null,null,null,null,null,null,null,null,null,null,null,null,null,null,null,null,null,null,null,null,null,null,null,null,null,null,null,null,null,null,null,null,null,null,null,null,null,null,null,null,null,null,null,null,null,null,null,null,null,null,null,null,null,null,null,null,null,null,null,null,null,null,null,null,null,null,null,null,null,null,null,null,null,null,null,null,null,null,null,null,null,null,null,null,null,null,null,null,null,null,null,null,null,null,null,null,null,null,null,null,null,null,null,null,null,null,null,null,null,null,null,null,null,null,null,null,null,null,null,null,null,null,null,null,null,null,null,null,null,null,null,null,null,null,null,null,null,null,null,null,null,null,null,null,null,null,null,null,null,null,null,null,null,null,null,null,null,null,null,null,null,null,null,null,null,null,null,null,null,null,null,null,null,null,null,null,null,null,null,null,null,null,null,null,null,null,null,null,null,null,null,null,null,null,null,null,null,null,null,null,null,null,null,null,null,null,null,null,null,null,null,null,null,null,null,null,null,null,null,null,null,null,null,null,null,null,null,null,null,null,null,null,null,null,null,null,null,null,null,null,null,null,null,null,null,null,null,null,null,null,null,null,null,null,null,null,null,null,null,null,null,null,null,null,null,null,null,null,null,null,null,null,null,null,null,null,null,null,null,null,null,null,null,null,null,null,null,null,null,null,null,null,null,null,null,null,null,null,null,null,null,null,null,null,null,null,null,null,null,null,null,null,null,null,null,null,null,null,null,null,null,null,null,null,null,null,null,null,null,null,null,null,null,null,null,null,null,null,null,null,null,null,null,null,null,null,null,null,null,null,null,null,null,null,null,null,null,null,null,null,null,null,null,null,null,null,null,null,null,null,null,null,null,null,null,null,null,null,null,null,null,null,null,null,null,null,null,null,null,null,null,null,null,null,null,null,null,null,null,null,null,null,null,null,null,null,null,null,null,null,null,null,null,null,null,null,null,null,null,null,null,null,null,null,null,null,null,null,null,null,null,null,null,null,null,null,null,null,null,null,null,null,null,null,null,null,null,null,null,null,null,null,null,null,null,null,null,null,null,null,null,null,null,null,null,null,null,null,null,null,null,null,null,null,null,null,null,null,null,null,null,null,null,null,null,null,null,null,null,null,null,null,null,null,null,null,null,null,null,null,null,null,null,null,null,null,null,null,null,null,null,null,null,null,null,null,null,null,null,null,null,null,null,null,null,null,null,null,null,null,null,null,null,null,null,null,null,null,null,null,null,null,null,null,null,null,null,null,null,null,null,null,null,null,null,null,null,null,null,null,null,null,null,null,null,null,null,null,null,null,null,null,null,null,null,null,null,null,null,null,null,null,null,null,null,null,null,null,null,null,null,null,null,null,null,null,null,null,null,null,null,null,null,null,null,null,null,null,null,null,null,null,null,null,null,null,null,null,null,null,null,null,null,null,null,null,null,null,null,null,null,null,null,null,null,null,null,null,null,null,null,null,null,null,null,null,null,null,null,null,null,null,null,null,null,null,null,null,null,null,null,null,null,null,null,null,null,null,null,null,null,null,null,null,null,null,null,null,null,null,null,null,null,null,null,null,null,null,null,null,null,null,null,null,null,null,null,null,null,null,null,null,null,null,null,null,null,null,null,null,null,null,null,null,null,null,null,null,null,null,null,null,null,null,null,null,null,null,null,null,null,null,null,null,null,null,null,null,null,null,null,null,null,null,null,null,null,null,null,null,null,null,null,null,null,null,null,null,null,null,null,null,null,null,null,null,null,null,null,null,null,null,null,null,null,null,null,null,null,null,null,null,null,null,null,null,null,null,null,null,null,null,null,null,null,null,null,null,null,null,null,null,null,null,null,null,null,null,null,null,null,null,null,null,null,null,null,null,null,null,null,null,null,null,null,null,null,null,null,null,null,null,null,null,null,null,null,null,null,null,null,null,null,null,null,null,null,null,null,null,null,null,null,null,null,null,null,null,null,null,null,null,null,null,null,null,null,null,null,null,null,null,null,null,null,null,null,null,null,null,null,null,null,null,null,null,null,null,null,null,null,null,null,null,null,null,null,null,null,null,null,null,null,null,null,null,null,null,null,null,null,null,null,null,null,null,null,null,null,null,null,null,null,null,null,null,null,null,null,null,null,null,null,null,null,null,null,null,null,null,null,null,null,null,null,null,null,null,null,null,null,null,null,null,null,null,null,null,null,null,null,null,null,null,null,null,null,null,null,null,null,null,null,null,null,null,null,null,null,null,null,null,null,null,null,null,null,null,null,null,null,null,null,null,null,null,null,null,null,null,null,null,null,null,null,null,null,null,null,null,null,null,null,null,null,null,null,null,null,null,null,null,null,null,null,null,null,null,null,null,null,null,null,null,null,null,null,null,null,null,null,null,null,null,null,null,null,null,null,null,null,null,null,null,null,null,null,null,null,null,null,null,null,null,null,null,null,null,null,null,null,null,null,null,null,null,null,null,null,null,null,null,null,null,null,null,null,null,null,null,null,null,null,null,null,null,null,null,null,null,null,null,null,null,null,null,null,null,null,null,null,null,null,null,null,null,null,null,null,null,null,null,null,null,null,null,null,null,null,null,null,null,null,null,null,null,null,null,null,null,null,null,null,null,null,null,null,null,null,null,null,null,null,null,null,null,null,null,null,null,null,null,null,null,null,null,null,null,null,null,null,null,null,null,null,null,null,null,null,null,null,null,null,null,null,null,null,null,null,null,null,null,null,null,null,null,null,null,null,null,null,null,null,null,null,null,null,null,null,null,null,null,null,null,null,null,null,null,null,null,null,null,null,null,null,null,null,null,null,null,null,null,null,null,null,null,null,null,null,null,null,null,null,null,null,null,null,null,null,null,null,null,null,null,null,null,null,null,null,null,null,null,null,null,null,null,null,null,null,null,null,null,null,null,null,null,null,null,null,null,null,null,null,null,null,null,null,null,null,null,null,null,null,null,null,null,null,null,null,null,null,null,null,null,null,null,null,null,null,null,null,null,null,null,null,null,null,null,null,null,null,null,null,null,null,null,null,null,null,null,null,null,null,null,null,null,null,null,null,null,null,null,null,null,null,null,null,null,null,null,null,null,null,null,null,null,null,null,null,null,null,null,null,null,null,null,null,null,null,null,null,null,null,null,null,null,null,null,null,null,null,null,null,null,null,null,null,null,null,null,null,null,null,null,null,null,null,null,null,null,null,null,null,null,null,null,null,null,null,null,null,null,null,null,null,null,null,null,null,null,null,null,null,null,null,null,null,null,null,null,null,null,null,null,null,null,null,null,null,null,null,null,null,null,null,null,null,null,null,null,null,null,null,null,null,null,null,null,null,null,null,null,null,null,null,null,null,null,null,null,null,null,null,null,null,null,null,null,null,null,null,null,null,null,null,null,null,null,null,null,null,null,null,null,null,null,null,null,null,null,null,null,null,null,null,null,null,null,null,null,null,null,null,null,null,null,null,null,null,null,null,null,null,null,null,null,null,null,null,null,null,null,null,null,null,null,null,null,null,null,null,null,null,null,null,null,null,null,null,null,null,null,null,null,null,null,null,null,null,null,null,null,null,null,null,null,null,null,null,null,null,null,null,null,null,null,null,null,null,null,null,null,null,null,null,null,null,null,null,null,null,null,null,null,null,null,null,null,null,null,null,null,null,null,null,null,null,null,null,null,null,null,null,null,null,null,null,null,null,null,null,null,null,null,null,null,null,null,null,null,null,null,null,null,null,null,null,null,null,null,null,null,null,null,null,null,null,null,null,null,null,null,null,null,null,null,null,null,null,null,null,null,null,null,null,null,null,null,null,null,null,null,null,null,null,null,null,null,null,null,null,null,null,null,null,null,null,null,null,null,null,null,null,null,null,null,null,null,null,null,null,null,null,null,null,null,null,null,null,null,null,null,null,null,null,null,null,null,null,null,null,null,null,null,null,null,null,null,null,null,null,null,null,null,null,null,null,null,null,null,null,null,null,null,null,null,null,null,null,null,null,null,null,null,null,null,null,null,null,null,null,null,null,null,null,null,null,null,null,null,null,null,null,null,null,null,null,null,null,null,null,null,null,null,null,null,null,null,null,null,null,null,null,null,null,null,null,null,null,null,null,null,null,null,null,null,null,null,null,null,null,null,null,null,null,null,null,null,null,null,null,null,null,null,null,null,null,null,null,null,null,null,null,null,null,null,null,null,null,null,null,null,null,null,null,null,null,null,null,null,null,null,null,null,null,null,null,null,null,null,null,null,null,null,null,null,null,null,null,null,null,null,null,null,null,null,null,null,null,null,null,null,null,null,null,null,null,null,null,null,null,null,null,null,null,null,null,null,null,null,null,null,null,null,null,null,null,null,null,null,null,null,null,null,null,null,null,null,null,null,null,null,null,null,null,null,null,null,null,null,null,null,null,null,null,null,null,null,null,null,null,null,null,null,null,null,null,null,null,null,null,null,null,null,null,null,null,null,null,null,null,null,null,null,null,null,null,null,null,null,null,null,null,null,null,null,null,null,null,null,null,null,null,null,null,null,null,null,null,null,null,null,null,null,null,null,null,null,null,null,null,null,null,null,null,null,null,null,null,null,null,null,null,null,null,null,null,null,null,null,null,null,null,null,null,null,null,null,null,null,null,null,null,null,null,null,null,null,null,null,null,null,null,null,null,null,null,null,null,null,null,null,null,null,null,null,null,null,null,null,null,null,null,null,null,null,null,null,null,null,null,null,null,null,null,null,null,null,null,null,null,null,null,null,null,null,null,null,null,null,null,null,null,null,null,null,null,null,null,null,null,null,null,null,null,null,null,null,null,null,null,null,null,null,null,null,null,null,null,null,null,null,null,null,null,null,null,null,null,null,null,null,null,null,null,null,null,null,null,null,null,null,null,null,null,null,null,null,null,null,null,null,null,null,null,null,null,null,null,null,null,null,null,null,null,null,null,null,null,null,null,null,null,null,null,null,null,null,null,null,null,null,null,null,null,null,null,null,null,null,null,null,null,null,null,null,null,null,null,null,null,null,null,null,null,null,null,null,null,null,null,null,null,null,null,null,null,null,null,null,null,null,null,null,null,null,null,null,null,null,null,null,null,null,null,null,null,null,null,null,null,null,null,null,null,null,null,null,null,null,null,null,null,null,null,null,null,null,null,null,null,null,null,null,null,null,null,null,null,null,null,null,null,null,null,null,null,null,null,null,null,null,null,null,null,null,null,null,null,null,null,null,null,null,null,null,null,null,null,null,null,null,null,null,null,null,null,null,null,null,null,null,null,null,null,null,null,null,null,null,null,null,null,null,null,null,null,null,null,null,null,null,null,null,null,null,null,null,null,null,null,null,null,null,null,null,null,null,null,null,null,null,null,null,null,null,null,null,null,null,null,null,null,null,null,null,null,null,null,null,null,null,null,null,null,null,null,null,null,null,null,null,null,null,null,null,null,null,null,null,null,null,null,null,null,null,null,null,null,null,null,null,null,null,null,null,null,null,null,null,null,null,null,null,null,null,null,null,null,null,null,null,null,null,null,null,null,null,null,null,null,null,null,null,null,null,null,null,null,null,null,null,null,null,null,null,null,null,null,null,null,null,null,null,null,null,null,null,null,null,null,null,null,null,null,null,null,null,null,null,null,null,null,null,null,null,null,null,null,null,null,null,null,null,null,null,null,null,null,null,null,null,null,null,null,null,null,null,null,null,null,null,null,null,null,null,null,null,null,null,null,null,null,null,null,null,null,null,null,null,null,null,null,null,null,null,null,null,null,null,null,null,null,null,null,null,null,null,null,null,null,null,null,null,null,null,null,null,null,null,null,null,null,null,null,null,null,null,null,null,null,null,null,null,null,null,null,null,null,null,null,null,null,null,null,null,null,null,null,null,null,null,null,null,null,null,null,null,null,null,null,null,null,null,null,null,null,null,null,null,null,null,null,null,null,null,null,null,null,null,null,null,null,null,null,null,null,null,null,null,null,null,null,null,null,null,null,null,null,null,null,null,null,null,null,null,null,null,null,null,null,null,null,null,null,null,null,null,null,null,null,null,null,null,null,null,null,null,null,null,null,null,null,null,null,null,null,null,null,null,null,null,null,null,null,null,null,null,null,null,null,null,null,null,null,null,null,null,null,null,null,null,null,null,null,null,null,null,null,null,null,null,null,null,null,null,null,null,null,null,null,null,null,null,null,null,null,null,null,null,null,null,null,null,null,null,null,null,null,null,null,null,null,null,null,null,null,null,null,null,null,null,null,null,null,null,null,null,null,null,null,null,null,null,null,null,null,null,null,null,null,null,null,null,null,null,null,null,null,null,null,null,null,null,null,null,null,null,null,null,null,null,null,null,null,null,null,null,null,null,null,null,null,null,null,null,null,null,null,null,null,null,null,null,null,null,null,null,null,null,null,null,null,null,null,null,null,null,null,null,null,null,null,null,null,null,null,null,null,null,null,null,null,null,null,null,null,null,null,null,null,null,null,null,null,null,null,null,null,null,null,null,null,null,null,null,null,null,null,null,null,null,null,null,null,null,null,null,null,null,null,null,null,null,null,null,null,null,null,null,null,null,null,null,null,null,null,null,null,null,null,null,null,null,null,null,null,null,null,null,null,null,null,null,null,null,null,null,null,null,null,null,null,null,null,null,null,null,null,null,null,null,null,null,null,null,null,null,null,null,null,null,null,null,null,null,null,null,null,null,null,null,null,null,null,null,null,null,null,null,null,null,null,null,null,null,null,null,null,null,null,null,null,null,null,null,null,null,null,null,null,null,null,null,null,null,null,null,null,null,null,null,null,null,null,null,null,null,null,null,null,null,null,null,null,null,null,null,null,null,null,null,null,null,null,null,null,null,null,null,null,null,null,null,null,null,null,null,null,null,null,null,null,null,null,null,null,null,null,null,null,null,null,null,null,null,null,null,null,null,null,null,null,null,null,null,null,null,null,null,null,null,null,null,null,null,null,null,null,null,null,null,null,null,null,null,null,null,null,null,null,null,null,null,null,null,null,null,null,null,null,null,null,null,null,null,null,null,null,null,null,null,null,null,null,null,null,null,null,null,null,null,null,null,null,null,null,null,null,null,null,null,null,null,null,null,null,null,null,null,null,null,null,null,null,null,null,null,null,null,null,null,null,null,null,null,null,null,null,null,null,null,null,null,null,null,null,null,null,null,null,null,null,null,null,null,null,null,null,null,null,null,null,null,null,null,null,null,null,null,null,null,null,null,null,null,null,null,null,null,null,null,null,null,null,null,null,null,null,null,null,null,null,null,null,null,null,null,null,null,null,null,null,null,null,null,null,null,null,null,null,null,null,null,null,null,null,null,null,null,null,null,null,null,null,null,null,null,null,null,null,null,null,null,null,null,null,null,null,null,null,null,null,null,null,null,null,null,null,null,null,null,null,null,null,null,null,null,null,null,null,null,null,null,null,null,null,null,null,null,null,null,null,null,null,null,null,null,null,null,null,null,null,null,null,null,null,null,null,null,null,null,null,null,null,null,null,null,null,null,null,null,null,null,null,null,null,null,null,null,null,null,null,null,null,null,null,null,null,null,null,null,null,null,null,null,null,null,null,null,null,null,null,null,null,null,null,null,null,null,null,null,null,null,null,null,null,null,null,null,null,null,null,null,null,null,null,null,null,null,null,null,null,null,null,null,null,null,null,null,null,null,null,null,null,null,null,null,null,null,null,null,null,null,null,null,null,null,null,null,null,null,null,null,null,null,null,null,null,null,null,null,null,null,null,null,null,null,null,null,null,null,null,null,null,null,null,null,null,null,null,null,null,null,null,null,null,null,null,null,null,null,null,null,null,null,null,null,null,null,null,null,null,null,null,null,null,null,null,null,null,null,null,null,null,null,null,null,null,null,null,null,null,null,null,null,null,null,null,null,null,null,null,null,null,null,null,null,null,null,null,null,null,null,null,null,null,null,null,null,null,null,null,null,null,null,null,null,null,null,null,null,null,null,null,null,null,null,null,null,null,null,null,null,null,null,null,null,null,null,null,null,null,null,null,null,null,null,null,null,null,null,null,null,null,null,null,null,null,null,null,null,null,null,null,null,null,null,null,null,null,null,null,null,null,null,null,null,null,null,null,null,null,null,null,null,null,null,null,null,null,null,null,null,null,null,null,null,null,null,null,null,null,null,null,null,null,null,null,null,null,null,null,null,null,null,null,null,null,null,null,null,null,null,null,null,null,null,null,null,null,null,null,null,null,null,null,null,null,null,null,null,null,null,null,null,null,null,null,null,null,null,null,null,null,null,null,null,null,null,null,null,null,null,null,null,null,null,null,null,null,null,null,null,null,null,null,null,null,null,null,null,null,null,null,null,null,null,null,null,null,null,null,null,null,null,null,null,null,null,null,null,null,null,null,null,null,null,null,null,null,null,null,null,null,null,null,null,null,null,null,null,null,null,null,null,null,null,null,null,null,null,null,null,null,null,null,null,null,null,null,null,null,null,null,null,null,null,null,null,null,null,null,null,null,null,null,null,null,null,null,null,null,null,null,null,null,null,null,null,null,null,null,null,null,null,null,null,null,null,null,null,null,null,null,null,null,null,null,null,null,null,null,null,null,null,null,null,null,null,null,null,null,null,null,null,null,null,null,null,null,null,null,null,null,null,null,null,null,null,null,null,null,null,null,null,null,null,null,null,null,null,null,null,null,null,null,null,null,null,null,null,null,null,null,null,null,null,null,null,null,null,null,null,null,null,null,null,null,null,null,null,null,null,null,null,null,null,null,null,null,null,null,null,null,null,null,null,null,null,null,null,null,null,null,null,null,null,null,null,null,null,null,null,null,null,null,null,null,null,null,null,null,null,null,null,null,null,null,null,null,null,null,null,null,null,null,null,null,null,null,null,null,null,null,null,null,null,null,null,null,null,null,null,null,null,null,null,null,null,null,null,null,null,null,null,null,null,null,null,null,null,null,null,null,null,null,null,null,null,null,null,null,null,null,null,null,null,null,null,null,null,null,null,null,null,null,null,null,null,null,null,null,null,null,null,null,null,null,null,null,null,null,null,null,null,null,null,null,null,null,null,null,null,null,null,null,null,null,null,null,null,null,null,null,null,null,null,null,null,null,null,null,null,null,null,null,null,null,null,null,null,null,null,null,null,null,null,null,null,null,null,null,null,null,null,null,null,null,null,null,null,null,null,null,null,null,null,null,null,null,null,null,null,null,null,null,null,null,null,null,null,null,null,null,null,null,null,null,null,null,null,null,null,null,null,null,null,null,null,null,null,null,null,null,null,null,null,null,null,null,null,null,null,null,null,null,null,null,null,null,null,null,null,null,null,null,null,null,null,null,null,null,null,null,null,null,null,null,null,null,null,null,null,null,null,null,null,null,null,null,null,null,null,null,null,null,null,null,null,null,null,null,null,null,null,null,null,null,null,null,null,null,null,null,null,null,null,null,null,null,null,null,null,null,null,null,null,null,null,null,null,null,null,null,null,null,null,null,null,null,null,null,null,null,null,null,null,null,null,null,null,null,null,null,null,null,null,null,null,null,null,null,null,null,null,null,null,null,null,null,null,null,null,null,null,null,null,null,null,null,null,null,null,null,null,null,null,null,null,null,null,null,null,null,null,null,null,null,null,null,null,null,null,null,null,null,null,null,null,null,null,null,null,null,null,null,null,null,null,null,null,null,null,null,null,null,null,null,null,null,null,null,null,null,null,null,null,null,null,null,null,null,null,null,null,null,null,null,null,null,null,null,null,null,null,null,null,null,null,null,null,null,null,null,null,null,null,null,null,null,null,null,null,null,null,null,null,null,null,null,null,null,null,null,null,null,null,null,null,null,null,null,null,null,null,null,null,null,null,null,null,null,null,null,null,null,null,null,null,null,null,null,null,null,null,null,null,null,null,null,null,null,null,null,null,null,null,null,null,null,null,null,null,null,null,null,null,null,null,null,null,null,null,null,null,null,null,null,null,null,null,null,null,null,null,null,null,null,null,null,null,null,null,null,null,null,null,null,null,null,null,null,null,null,null,null,null,null,null,null,null,null,null,null,null,null,null,null,null,null,null,null,null,null,null,null,null,null,null,null,null,null,null,null,null,null,null,null,null,null,null,null,null,null,null,null,null,null,null,null,null,null,null,null,null,null,null,null,null,null,null,null,null,null,null,null,null,null,null,null,null,null,null,null,null,null,null,null,null,null,null,null,null,null,null,null,null,null,null,null,null,null,null,null,null,null,null,null,null,null,null,null,null,null,null,null,null,null,null,null,null,null,null,null,null,null,null,null,null,null,null,null,null,null,null,null,null,null,null,null,null,null,null,null,null,null,null,null,null,null,null,null,null,null,null,null,null,null,null,null,null,null,null,null,null,null,null,null,null,null,null,null,null,null,null,null,null,null,null,null,null,null,null,null,null,null,null,null,null,null,null,null,null,null,null,null,null,null,null,null,null,null,null,null,null,null,null,null,null,null,null,null,null,null,null,null,null,null,null,null,null,null,null,null,null,null,null,null,null,null,null,null,null,null,null,null,null,null,null,null,null,null,null,null,null,null,null,null,null,null,null,null,null,null,null,null,null,null,null,null,null,null,null,null,null,null,null,null,null,null,null,null,null,null,null,null,null,null,null,null,null,null,null,null,null,null,null,null,null,null,null,null,null,null,null,null,null,null,null,null,null,null,null,null,null,null,null,null,null,null,null,null,null,null,null,null,null,null,null,null,null,null,null,null,null,null,null,null,null,null,null,null,null,null,null,null,null,null,null,null,null,null,null,null,null,null,null,null,null,null,null,null,null,null,null,null,null,null,null,null,null,null,null,null,null,null,null,null,null,null,null,null,null,null,null,null,null,null,null,null,null,null,null,null,null,null,null,null,null,null,null,null,null,null,null,null,null,null,null,null,null,null,null,null,null,null,null,null,null,null,null,null,null,null,null,null,null,null,null,null,null,null,null,null,null,null,null,null,null,null,null,null,null,null,null,null,null,null,null,null,null,null,null,null,null,null,null,null,null,null,null,null,null,null,null,null,null,null,null,null,null,null,null,null,null,null,null,null,null,null,null,null,null,null,null,null,null,null,null,null,null,null,null,null,null,null,null,null,null,null,null,null,null,null,null,null,null,null,null,null,null,null,null,null,null,null,null,null,null,null,null,null,null,null,null,null,null,null,null,null,null,null,null,null,null,null,null,null,null,null,null,null,null,null,null,null,null,null,null,null,null,null,null,null,null,null,null,null,null,null,null,null,null,null,null,null,null,null,null,null,null,null,null,null,null,null,null,null,null,null,null,null,null,null,null,null,null,null,null,null,null,null,null,null,null,null,null,null,null,null,null,null,null,null,null,null,null,null,null,null,null,null,null,null,null,null,null,null,null,null,null,null,null,null,null,null,null,null,null,null,null,null,null,null,null,null,null,null,null,null,null,null,null,null,null,null,null,null,null,null,null,null,null,null,null,null,null,null,null,null,null,null,null,null,null,null,null,null,null,null,null,null,null,null,null,null,null,null,null,null,null,null,null,null,null,null,null,null,null,null,null,null,null,null,null,null,null,null,null,null,null,null,null,null,null,null,null,null,null,null,null,null,null,null,null,null,null,null,null,null,null,null,null,null,null,null,null,null,null,null,null,null,null,null,null,null,null,null,null,null,null,null,null,null,null,null,null,null,null,null,null,null,null,null,null,null,null,null,null,null,null,null,null,null,null,null,null,null,null,null,null,null,null,null,null,null,null,null,null,null,null,null,null,null,null,null,null,null,null,null,null,null,null,null,null,null,null,null,null,null,null,null,null,null,null,null,null,null,null,null,null,null,null,null,null,null,null,null,null,null,null,null,null,null,null,null,null,null,null,null,null,null,null,null,null,null,null,null,null,null,null,null,null,null,null,null,null,null,null,null,null,null,null,null,null,null,null,null,null,null,null,null,null,null,null,null,null,null,null,null,null,null,null,null,null,null,null,null,null,null,null,null,null,null,null,null,null,null,null,null,null,null,null,null,null,null,null,null,null,null,null,null,null,null,null,null,null,null,null,null,null,null,null,null,null,null,null,null,null,null,null,null,null,null,null,null,null,null,null,null,null,null,null,null,null,null,null,null,null,null,null,null,null,null,null,null,null,null,null,null,null,null,null,null,null,null,null,null,null,null,null,null,null,null,null,null,null,null,null,null,null,null,null,null,null,null,null,null,null,null,null,null,null,null,null,null,null,null,null,null,null,null,null,null,null,null,null,null,null,null,null,null,null,null,null,null,null,null,null,null,null,null,null,null,null,null,null,null,null,null,null,null,null,null,null,null,null,null,null,null,null,null,null,null,null,null,null,null,null,null,null,null,null,null,null,null,null,null,null,null,null,null,null,null,null,null,null,null,null,null,null,null,null,null,null,null,null,null,null,null,null,null,null,null,null,null,null,null,null,null,null,null,null,null,null,null,null,null,null,null,null,null,null,null,null,null,null,null,null,null,null,null,null,null,null,null,null,null,null,null,null,null,null,null,null,null,null,null,null,null,null,null,null,null,null,null,null,null,null,null,null,null,null,null,null,null,null,null,null,null,null,null,null,null,null,null,null,null,null,null,null,null,null,null,null,null,null,null,null,null,null,null,null,null,null,null,null,null,null,null,null,null,null,null,null,null,null,null,null,null,null,null,null,null,null,null,null,null,null,null,null,null,null,null,null,null,null,null,null,null,null,null,null,null,null,null,null,null,null,null,null,null,null,null,null,null,null,null,null,null,null,null,null,null,null,null,null,null,null,null,null,null,null,null,null,null,null,null,null,null,null,null,null,null,null,null,null,null,null,null,null,null,null,null,null,null,null,null,null,null,null,null,null,null,null,null,null,null,null,null,null,null,null,null,null,null,null,null,null,null,null,null,null,null,null,null,null,null,null,null,null,null,null,null,null,null,null,null,null,null,null,null,null,null,null,null,null,null,null,null,null,null,null,null,null,null,null,null,null,null,null,null,null,null,null,null,null,null,null,null,null,null,null,null,null,null,null,null,null,null,null,null,null,null,null,null,null,null,null,null,null,null,null,null,null,null,null,null,null,null,null,null,null,null,null,null,null,null,null,null,null,null,null,null,null,null,null,null,null,null,null,null,null,null,null,null,null,null,null,null,null,null,null,null,null,null,null,null,null,null,null,null,null,null,null,null,null,null,null,null,null,null,null,null,null,null,null,null,null,null,null,null,null,null,null,null,null,null,null,null,null,null,null,null,null,null,null,null,null,null,null,null,null,null,null,null,null,null,null,null,null,null,null,null,null,null,null,null,null,null,null,null,null,null,null,null,null,null,null,null,null,null,null,null,null,null,null,null,null,null,null,null,null,null,null,null,null,null,null,null,null,null,null,null,null,null,null,null,null,null,null,null,null,null,null,null,null,null,null,null,null,null,null,null,null,null,null,null,null,null,null,null,null,null,null,null,null,null,null,null,null,null,null,null,null,null,null,null,null,null,null,null,null,null,null,null,null,null,null,null,null,null,null,null,null,null,null,null,null,null,null,null,null,null,null,null,null,null,null,null,null,null,null,null,null,null,null,null,null,null,null,null,null,null,null,null,null,null,null,null,null,null,null,null,null,null,null,null,null,null,null,null,null,null,null,null,null,null,null,null,null,null,null,null,null,null,null,null,null,null,null,null,null,null,null,null,null,null,null,null,null,null,null,null,null,null,null,null,null,null,null,null,null,null,null,null,null,null,null,null,null,null,null,null,null,null,null,null,null,null,null,null,null,null,null,null,null,null,null,null,null,null,null,null,null,null,null,null,null,null,null,null,null,null,null,null,null,null,null,null,null,null,null,null,null,null,null,null,null,null,null,null,null,null,null,null,null,null,null,null,null,null,null,null,null,null,null,null,null,null,null,null,null,null,null,null,null,null,null,null,null,null,null,null,null,null,null,null,null,null,null,null,null,null,null,null,null,null,null,null,null,null,null,null,null,null,null,null,null,null,null,null,null,null,null,null,null,null,null,null,null,null,null,null,null,null,null,null,null,null,null,null,null,null,null,null,null,null,null,null,null,null,null,null,null,null,null,null,null,null,null,null,null,null,null,null,null,null,null,null,null,null,null,null,null,null,null,null,null,null,null,null,null,null,null,null,null,null,null,null,null,null,null,null,null,null,null,null,null,null,null,null,null,null,null,null,null,null,null,null,null,null,null,null,null,null,null,null,null,null,null,null,null,null,null,null,null,null,null,null,null,null,null,null,null,null,null,null,null,null,null,null,null,null,null,null,null,null,null,null,null,null,null,null,null,null,null,null,null,null,null,null,null,null,null,null,null,null,null,null,null,null,null,null,null,null,null,null,null,null,null,null,null,null,null,null,null,null,null,null,null,null,null,null,null,null,null,null,null,null,null,null,null,null,null,null,null,null,null,null,null,null,null,null,null,null,null,null,null,null,null,null,null,null,null,null,null,null,null,null,null,null,null,null,null,null,null,null,null,null,null,null,null,null,null,null,null,null,null,null,null,null,null,null,null,null,null,null,null,null,null,null,null,null,null,null,null,null,null,null,null,null,null,null,null,null,null,null,null,null,null,null,null,null,null,null,null,null,null,null,null,null,null,null,null,null,null,null,null,null,null,null,null,null,null,null,null,null,null,null,null,null,null,null,null,null,null,null,null,null,null,null,null,null,null,null,null,null,null,null,null,null,null,null,null,null,null,null,null,null,null,null,null,null,null,null,null,null,null,null,null,null,null,null,null,null,null,null,null,null,null,null,null,null,null,null,null,null,null,null,null,null,null,null,null,null,null,null,null,null,null,null,null,null,null,null,null,null,null,null,null,null,null,null,null,null,null,null,null,null,null,null,null,null,null,null,null,null,null,null,null,null,null,null,null,null,null,null,null,null,null,null,null,null,null,null,null,null,null,null,null,null,null,null,null,null,null,null,null,null,null,null,null,null,null,null,null,null,null,null,null,null,null,null,null,null,null,null,null,null,null,null,null,null,null,null,null,null,null,null,null,null,null,null,null,null,null,null,null,null,null,null,null,null,null,null,null,null,null,null,null,null,null,null,null,null,null,null,null,null,null,null,null,null,null,null,null,null,null,null,null,null,null,null,null,null,null,null,null,null,null,null,null,null,null,null,null,null,null,null,null,null,null,null,null,null,null,null,null,null,null,null,null,null,null,null,null,null,null,null,null,null,null,null,null,null,null,null,null,null,null,null,null,null,null,null,null,null,null,null,null,null,null,null,null,null,null,null,null,null,null,null,null,null,null,null,null,null,null,null,null,null,null,null,null,null,null,null,null,null,null,null,null,null,null,null,null,null,null,null,null,null,null,null,null,null,null,null,null,null,null,null,null,null,null,null,null,null,null,null,null,null,null,null,null,null,null,null,null,null,null,null,null,null,null,null,null,null,null,null,null,null,null,null,null,null,null,null,null,null,null,null,null,null,null,null,null,null,null,null,null,null,null,null,null,null,null,null,null,null,null,null,null,null,null,null,null,null,null,null,null,null,null,null,null,null,null,null,null,null,null,null,null,null,null,null,null,null,null,null,null,null,null,null,null,null,null,null,null,null,null,null,null,null,null,null,null,null,null,null,null,null,null,null,null,null,null,null,null,null,null,null,null,null,null,null,null,null,null,null,null,null,null,null,null,null,null,null,null,null,null,null,null,null,null,null,null,null,null,null,null,null,null,null,null,null,null,null,null,null,null,null,null,null,null,null,null,null,null,null,null,null,null,null,null,null,null,null,null,null,null,null,null,null,null,null,null,null,null,null,null,null,null,null,null,null,null,null,null,null,null,null,null,null,null,null,null,null,null,null,null,null,null,null,null,null,null,null,null,null,null,null,null,null,null,null,null,null,null,null,null,null,null,null,null,null,null,null,null,null,null,null,null,null,null,null,null,null,null,null,null,null,null,null,null,null,null,null,null,null,null,null,null,null,null,null,null,null,null,null,null,null,null,null,null,null,null,null,null,null,null,null,null,null,null,null,null,null,null,null,null,null,null,null,null,null,null,null,null,null,null,null,null,null,null,null,null,null,null,null,null,null,null,null,null,null,null,null,null,null,null,null,null,null,null,null,null,null,null,null,null,null,null,null,null,null,null,null,null,null,null,null,null,null,null,null,null,null,null,null,null,null,null,null,null,null,null,null,null,null,null,null,null,null,null,null,null,null,null,null,null,null,null,null,null,null,null,null,null,null,null,null,null,null,null,null,null,null,null,null,null,null,null,null,null,null,null,null,null,null,null,null,null,null,null,null,null,null,null,null,null,null,null,null,null,null,null,null,null,null,null,null,null,null,null,null,null,null,null,null,null,null,null,null,null,null,null,null,null,null,null,null,null,null,null,null,null,null,null,null,null,null,null,null,null,null,null,null,null,null,null,null,null,null,null,null,null,null,null,null,null,null,null,null,null,null,null,null,null,null,null,null,null,null,null,null,null,null,null,null,null,null,null,null,null,null,null,null,null,null,null,null,null,null,null,null,null,null,null,null,null,null,null,null,null,null,null,null,null,null,null,null,null,null,null,null,null,null,null,null,null,null,null,null,null,null,null,null,null,null,null,null,null,null,null,null,null,null,null,null,null,null,null,null,null,null,null,null,null,null,null,null,null,null,null,null,null,null,null,null,null,null,null,null,null,null,null,null,null,null,null,null,null,null,null,null,null,null,null,null,null,null,null,null,null,null,null,null,null,null,null,null,null,null,null,null,null,null,null,null,null,null,null,null,null,null,null,null,null,null,null,null,null,null,null,null,null,null,null,null,null,null,null,null,null,null,null,null,null,null,null,null,null,null,null,null,null,null,null,null,null,null,null,null,null,null,null,null,null,null,null,null,null,null,null,null,null,null,null,null,null,null,null,null,null,null,null,null,null,null,null,null,null,null,null,null,null,null,null,null,null,null,null,null,null,null,null,null,null,null,null,null,null,null,null,null,null,null,null,null,null,null,null,null,null,null,null,null,null,null,null,null,null,null,null,null,null,null,null,null,null,null,null,null,null,null,null,null,null,null,null,null,null,null,null,null,null,null,null,null,null,null,null,null,null,null,null,null,null,null,null,null,null,null,null,null,null,null,null,null,null,null,null,null,null,null,null,null,null,null,null,null,null,null,null,null,null,null,null,null,null,null,null,null,null,null,null,null,null,null,null,null,null,null,null,null,null,null,null,null,null,null,null,null,null,null,null,null,null,null,null,null,null,null,null,null,null,null,null,null,null,null,null,null,null,null,null,null,null,null,null,null,null,null,null,null,null,null,null,null,null,null,null,null,null,null,null,null,null,null,null,null,null,null,null,null,null,null,null,null,null,null,null,null,null,null,null,null,null,null,null,null,null,null,null,null,null,null,null,null,null,null,null,null,null,null,null,null,null,null,null,null,null,null,null,null,null,null,null,null,null,null,null,null,null,null,null,null,null,null,null,null,null,null,null,null,null,null,null,null,null,null,null,null,null,null,null,null,null,null,null,null,null,null,null,null,null,null,null,null,null,null,null,null,null,null,null,null,null,null,null,null,null,null,null,null,null,null,null,null,null,null,null,null,null,null,null,null,null,null,null,null,null,null,null,null,null,null,null,null,null,null,null,null,null,null,null,null,null,null,null,null,null,null,null,null,null,null,null,null,null,null,null,null,null,null,null,null,null,null,null,null,null,null,null,null,null,null,null,null,null,null,null,null,null,null,null,null,null,null,null,null,null,null,null,null,null,null,null,null,null,null,null,null,null,null,null,null,null,null,null,null,null,null,null,null,null,null,null,null,null,null,null,null,null,null,null,null,null,null,null,null,null,null,null,null,null,null,null,null,null,null,null,null,null,null,null,null,null,null,null,null,null,null,null,null,null,null,null,null,null,null,null,null,null,null,null,null,null,null,null,null,null,null,null,null,null,null,null,null,null,null,null,null,null,null,null,null,null,null,null,null,null,null,null,null,null,null,null,null,null,null,null,null,null,null,null,null,null,null,null,null,null,null,null,null,null,null,null,null,null,null,null,null,null,null,null,null,null,null,null,null,null,null,null,null,null,null,null,null,null,null,null,null,null,null,null,null,null,null,null,null,null,null,null,null,null,null,null,null,null,null,null,null,null,null,null,null,null,null,null,null,null,null,null,null,null,null,null,null,null,null,null,null,null,null,null,null,null,null,null,null,null,null,null,null,null,null,null,null,null,null,null,null,null,null,null,null,null,null,null,null,null,null,null,null,null,null,null,null,null,null,null,null,null,null,null,null,null,null,null,null,null,null,null,null,null,null,null,null,null,null,null,null,null,null,null,null,null,null,null,null,null,null,null,null,null,null,null,null,null,null,null,null,null,null,null,null,null,null,null,null,null,null,null,null,null,null,null,null,null,null,null,null,null,null,null,null,null,null,null,null,null,null,null,null,null,null,null,null,null,null,null,null,null,null,null,null,null,null,null,null,null,null,null,null,null,null,null,null,null,null,null,null,null,null,null,null,null,null,null,null,null,null,null,null,null,null,null,null,null,null,null,null,null,null,null,null,null,null,null,null,null,null,null,null,null,null,null,null,null,null,null,null,null,null,null,null,null,null,null,null,null,null,null,null,null,null,null,null,null,null,null,null,null,null,null,null,null,null,null,null,null,null,null,null,null,null,null,null,null,null,null,null,null,null,null,null,null,null,null,null,null,null,null,null,null,null,null,null,null,null,null,null,null,null,null,null,null,null,null,null,null,null,null,null,null,null,null,null,null,null,null,null,null,null,null,null,null,null,null,null,null,null,null,null,null,null,null,null,null,null,null,null,null,null,null,null,null,null,null,null,null,null,null,null,null,null,null,null,null,null,null,null,null,null,null,null,null,null,null,null,null,null,null,null,null,null,null,null,null,null,null,null,null,null,null,null,null,null,null,null,null,null,null,null,null,null,null,null,null,null,null,null,null,null,null,null,null,null,null,null,null,null,null,null,null,null,null,null,null,null,null,null,null,null,null,null,null,null,null,null,null,null,null,null,null,null,null,null,null,null,null,null,null,null,null,null,null,null,null,null,null,null,null,null,null,null,null,null,null,null,null,null,null,null,null,null,null,null,null,null,null,null,null,null,null,null,null,null,null,null,null,null,null,null,null,null,null,null,null,null,null,null,null,null,null,null,null,null,null,null,null,null,null,null,null,null,null,null,null,null,null,null,null,null,null,null,null,null,null,null,null,null,null,null,null,null,null,null,null,null,null,null,null,null,null,null,null,null,null,null,null,null,null,null,null,null,null,null,null,null,null,null,null,null,null,null,null,null,null,null,null,null,null,null,null,null,null,null,null,null,null,null,null,null,null,null,null,null,null,null,null,null,null,null,null,null,null,null,null,null,null,null,null,null,null,null,null,null,null,null,null,null,null,null,null,null,null,null,null,null,null,null,null,null,null,null,null,null,null,null,null,null,null,null,null,null,null,null,null,null,null,null,null,null,null,null,null,null,null,null,null,null,null,null,null,null,null,null,null,null,null,null,null,null,null,null,null,null,null,null,null,null,null,null,null,null,null,null,null,null,null,null,null,null,null,null,null,null,null,null,null,null,null,null,null,null,null,null,null,null,null,null,null,null,null,null,null,null,null,null,null,null,null,null,null,null,null,null,null,null,null,null,null,null,null,null,null,null,null,null,null,null,null,null,null,null,null,null,null,null,null,null,null,null,null,null,null,null,null,null,null,null,null,null,null,null,null,null,null,null,null,null,null,null,null,null,null,null,null,null,null,null,null,null,null,null,null,null,null,null,null,null,null,null,null,null,null,null,null,null,null,null,null,null,null,null,null,null,null,null,null,null,null,null,null,null,null,null,null,null,null,null,null,null,null,null,null,null,null,null,null,null,null,null,null,null,null,null,null,null,null,null,null,null,null,null,null,null,null,null,null,null,null,null,null,null,null,null,null,null,null,null,null,null,null,null,null,null,null,null,null,null,null,null,null,null,null,null,null,null,null,null,null,null,null,null,null,null,null,null,null,null,null,null,null,null,null,null,null,null,null,null,null,null,null,null,null,null,null,null,null,null,null,null,null,null,null,null,null,null,null,null,null,null,null,null,null,null,null,null,null,null,null,null,null,null,null,null,null,null,null,null,null,null,null,null,null,null,null,null,null,null,null,null,null,null,null,null,null,null,null,null,null,null,null,null,null,null,null,null,null,null,null,null,null,null,null,null,null,null,null,null,null,null,null,null,null,null,null,null,null,null,null,null,null,null,null,null,null,null,null,null,null,null,null,null,null,null,null,null,null,null,null,null,null,null,null,null,null,null,null,null,null,null,null,null,null,null,null,null,null,null,null,null,null,null,null,null,null,null,null,null,null,null,null,null,null,null,null,null,null,null,null,null,null,null,null,null,null,null,null,null,null,null,null,null,null,null,null,null,null,null,null,null,null,null,null,null,null,null,null,null,null,null,null,null,null,null,null,null,null,null,null,null,null,null,null,null,null,null,null,null,null,null,null,null,null,null,null,null,null,null,null,null,null,null,null,null,null,null,null,null,null,null,null,null,null,null,null,null,null,null,null,null,null,null,null,null,null,null,null,null,null,null,null,null,null,null,null,null,null,null,null,null,null,null,null,null,null,null,null,null,null,null,null,null,null,null,null,null,null,null,null,null,null,null,null,null,null,null,null,null,null,null,null,null,null,null,null,null,null,null,null,null,null,null,null,null,null,null,null,null,null,null,null,null,null,null,null,null,null,null,null,null,null,null,null,null,null,null,null,null,null,null,null,null,null,null,null,null,null,null,null,null,null,null,null,null,null,null,null,null,null,null,null,null,null,null,null,null,null,null,null,null,null,null,null,null,null,null,null,null,null,null,null,null,null,null,null,null,null,null,null,null,null,null,null,null,null,null,null,null,null,null,null,null,null,null,null,null,null,null,null,null,null,null,null,null,null,null,null,null,null,null,null,null,null,null,null,null,null,null,null,null,null,null,null,null,null,null,null,null,null,null,null,null,null,null,null,null,null,null,null,null,null,null,null,null,null,null,null,null,null,null,null,null,null,null,null,null,null,null,null,null,null,null,null,null,null,null,null,null,null,null,null,null,null,null,null,null,null,null,null,null,null,null,null,null,null,null,null,null,null,null,null,null,null,null,null,null,null,null,null,null,null,null,null,null,null,null,null,null,null,null,null,null,null,null,null,null,null,null,null,null,null,null,null,null,null,null,null,null,null,null,null,null,null,null,null,null,null,null,null,null,null,null,null,null,null,null,null,null,null,null,null,null,null,null,null,null,null,null,null,null,null,null,null,null,null,null,null,null,null,null,null,null,null,null,null,null,null,null,null,null,null,null,null,null,null,null,null,null,null,null,null,null,null,null,null,null,null,null,null,null,null,null,null,null,null,null,null,null,null,null,null,null,null,null,null,null,null,null,null,null,null,null,null,null,null,null,null,null,null,null,null,null,null,null,null,null,null,null,null,null,null,null,null,null,null,null,null,null,null,null,null,null,null,null,null,null,null,null,null,null,null,null,null,null,null,null,null,null,null,null,null,null,null,null,null,null,null,null,null,null,null,null,null,null,null,null,null,null,null,null,null,null,null,null,null,null,null,null,null,null,null,null,null,null,null,null,null,null,null,null,null,null,null,null,null,null,null,null,null,null,null,null,null,null,null,null,null,null,null,null,null,null,null,null,null,null,null,null,null,null,null,null,null,null,null,null,null,null,null,null,null,null,null,null,null,null,null,null,null,null,null,null,null,null,null,null,null,null,null,null,null,null,null,null,null,null,null,null,null,null,null,null,null,null,null,null,null,null,null,null,null,null,null,null,null,null,null,null,null,null,null,null,null,null,null,null,null,null,null,null,null,null,null,null,null,null,null,null,null,null,null,null,null,null,null,null,null,null,null,null,null,null,null,null,null,null,null,null,null,null,null,null,null,null,null,null,null,null,null,null,null,null,null,null,null,null,null,null,null,null,null,null,null,null,null,null,null,null,null,null,null,null,null,null,null,null,null,null,null,null,null,null,null,null,null,null,null,null,null,null,null,null,null,null,null,null,null,null,null,null,null,null,null,null,null,null,null,null,null,null,null,null,null,null,null,null,null,null,null,null,null,null,null,null,null,null,null,null,null,null,null,null,null,null,null,null,null,null,null,null,null,null,null,null,null,null,null,null,null,null,null,null,null,null,null,null,null,null,null,null,null,null,null,null,null,null,null,null,null,null,null,null,null,null,null,null,null,null,null,null,null,null,null,null,null,null,null,null,null,null,null,null,null,null,null,null,null,null,null,null,null,null,null,null,null,null,null,null,null,null,null,null,null,null,null,null,null,null,null,null,null,null,null,null,null,null,null,null,null,null,null,null,null,null,null,null,null,null,null,null,null,null,null,null,null,null,null,null,null,null,null,null,null,null,null,null,null,null,null,null,null,null,null,null,null,null,null,null,null,null,null,null,null,null,null,null,null,null,null,null,null,null,null,null,null,null,null,null,null,null,null,null,null,null,null,null,null,null,null,null,null,null,null,null,null,null,null,null,null,null,null,null,null,null,null,null,null,null,null,null,null,null,null,null,null,null,null,null,null,null,null,null,null,null,null,null,null,null,null,null,null,null,null,null,null,null,null,null,null,null,null,null,null,null,null,null,null,null,null,null,null,null,null,null,null,null,null,null,null,null,null,null,null,null,null,null,null,null,null,null,null,null,null,null,null,null,null,null,null,null,null,null,null,null,null,null,null,null,null,null,null,null,null,null,null,null,null,null,null,null,null,null,null,null,null,null,null,null,null,null,null,null,null,null,null,null,null,null,null,null,null,null,null,null,null,null,null,null,null,null,null,null,null,null,null,null,null,null,null,null,null,null,null,null,null,null,null,null,null,null,null,null,null,null,null,null,null,null,null,null,null,null,null,null,null,null,null,null,null,null,null,null,null,null,null,null,null,null,null,null,null,null,null,null,null,null,null,null,null,null,null,null,null,null,null,null,null,null,null,null,null,null,null,null,null,null,null,null,null,null,null,null,null,null,null,null,null,null,null,null,null,null,null,null,null,null,null,null,null,null,null,null,null,null,null,null,null,null,null,null,null,null,null,null,null,null,null,null,null,null,null,null,null,null,null,null,null,null,null,null,null,null,null,null,null,null,null,null,null,null,null,null,null,null,null,null,null,null,null,null,null,null,null,null,null,null,null,null,null,null,null,null,null,null,null,null,null,null,null,null,null,null,null,null,null,null,null,null,null,null,null,null,null,null,null,null,null,null,null,null,null,null,null,null,null,null,null,null,null,null,null,null,null,null,null,null,null,null,null,null,null,null,null,null,null,null,null,null,null,null,null,null,null,null,null,null,null,null,null,null,null,null,null,null,null,null,null,null,null,null,null,null,null,null,null,null,null,null,null,null,null,null,null,null,null,null,null,null,null,null,null,null,null,null,null,null,null,null,null,null,null,null,null,null,null,null,null,null,null,null,null,null,null,null,null,null,null,null,null,null,null,null,null,null,null,null,null,null,null,null,null,null,null,null,null,null,null,null,null,null,null,null,null,null,null,null,null,null,null,null,null,null,null,null,null,null,null,null,null,null,null,null,null,null,null,null,null,null,null,null,null,null,null,null,null,null,null,null,null,null,null,null,null,null,null,null,null,null,null,null,null,null,null,null,null,null,null,null,null,null,null,null,null,null,null,null,null,null,null,null,null,null,null,null,null,null,null,null,null,null,null,null,null,null,null,null,null,null,null,null,null,null,null,null,null,null,null,null,null,null,null,null,null,null,null,null,null,null,null,null,null,null,null,null,null,null,null,null,null,null,null,null,null,null,null,null,null,null,null,null,null,null,null,null,null,null,null,null,null,null,null,null,null,null,null,null,null,null,null,null,null,null,null,null,null,null,null,null,null,null,null,null,null,null,null,null,null,null,null,null,null,null,null,null,null,null,null,null,null,null,null,null,null,null,null,null,null,null,null,null,null,null,null,null,null,null,null,null,null,null,null,null,null,null,null,null,null,null,null,null,null,null,null,null,null,null,null,null,null,null,null,null,null,null,null,null,null,null,null,null,null,null,null,null,null,null,null,null,null,null,null,null,null,null,null,null,null,null,null,null,null,null,null,null,null,null,null,null,null,null,null,null,null,null,null,null,null,null,null,null,null,null,null,null,null,null,null,null,null,null,null,null,null,null,null,null,null,null,null,null,null,null,null,null,null,null,null,null,null,null,null,null,null,null,null,null,null,null,null,null,null,null,null,null,null,null,null,null,null,null,null,null,null,null,null,null,null,null,null,null,null,null,null,null,null,null,null,null,null,null,null,null,null,null,null,null,null,null,null,null,null,null,null,null,null,null,null,null,null,null,null,null,null,null,null,null,null,null,null,null,null,null,null,null,null,null,null,null,null,null,null,null,null,null,null,null,null,null,null,null,null,null,null,null,null,null,null,null,null,null,null,null,null,null,null,null,null,null,null,null,null,null,null,null,null,null,null,null,null,null,null,null,null,null,null,null,null,null,null,null,null,null,null,null,null,null,null,null,null,null,null,null,null,null,null,null,null,null,null,null,null,null,null,null,null,null,null,null,null,null,null,null,null,null,null,null,null,null,null,null,null,null,null,null,null,null,null,null,null,null,null,null,null,null,null,null,null,null,null,null,null,null,null,null,null,null,null,null,null,null,null,null,null,null,null,null,null,null,null,null,null,null,null,null,null,null,null,null,null,null,null,null,null,null,null,null,null,null,null,null,null,null,null,null,null,null,null,null,null,null,null,null,null,null,null,null,null,null,null,null,null,null,null,null,null,null,null,null,null,null,null,null,null,null,null,null,null,null,null,null,null,null,null,null,null,null,null,null,null,null,null,null,null,null,null,null,null,null,null,null,null,null,null,null,null,null,null,null,null,null,null,null,null,null,null,null,null,null,null,null,null,null,null,null,null,null,null,null,null,null,null,null,null,null,null,null,null,null,null,null,null,null,null,null,null,null,null,null,null,null,null,null,null,null,null,null,null,null,null,null,null,null,null,null,null,null,null,null,null,null,null,null,null,null,null,null,null,null,null,null,null,null,null,null,null,null,null,null,null,null,null,null,null,null,null,null,null,null,null,null,null,null,null,null,null,null,null,null,null,null,null,null,null,null,null,null,null,null,null,null,null,null,null,null,null,null,null,null,null,null,null,null,null,null,null,null,null,null,null,null,null,null,null,null,null,null,null,null,null,null,null,null,null,null,null,null,null,null,null,null,null,null,null,null,null,null,null,null,null,null,null,null,null,null,null,null,null,null,null,null,null,null,null,null,null,null,null,null,null,null,null,null,null,null,null,null,null,null,null,null,null,null,null,null,null,null,null,null,null,null,null,null,null,null,null,null,null,null,null,null,null,null,null,null,null,null,null,null,null,null,null,null,null,null,null,null,null,null,null,null,null,null,null,null,null,null,null,null,null,null,null,null,null,null,null,null,null,null,null,null,null,null,null,null,null,null,null,null,null,null,null,null,null,null,null,null,null,null,null,null,null,null,null,null,null,null,null,null,null,null,null,null,null,null,null,null,null,null,null,null,null,null,null,null,null,null,null,null,null,null,null,null,null,null,null,null,null,null,null,null,null,null,null,null,null,null,null,null,null,null,null,null,null,null,null,null,null,null,null,null,null,null,null,null,null,null,null,null,null,null,null,null,null,null,null,null,null,null,null,null,null,null,null,null,null,null,null,null,null,null,null,null,null,null,null,null,null,null,null,null,null,null,null,null,null,null,null,null,null,null,null,null,null,null,null,null,null,null,null,null,null,null,null,null,null,null,null,null,null,null,null,null,null,null,null,null,null,null,null,null,null,null,null,null,null,null,null,null,null,null,null,null,null,null,null,null,null,null,null,null,null,null,null,null,null,null,null,null,null,null,null,null,null,null,null,null,null,null,null,null,null,null,null,null,null,null,null,null,null,null,null,null,null,null,null,null,null,null,null,null,null,null,null,null,null,null,null,null,null,null,null,null,null,null,null,null,null,null,null,null,null,null,null,null,null,null,null,null,null,null,null,null,null,null,null,null,null,null,null,null,null,null,null,null,null,null,null,null,null,null,null,null,null,null,null,null,null,null,null,null,null,null,null,null,null,null,null,null,null,null,null,null,null,null,null,null,null,null,null,null,null,null,null,null,null,null,null,null,null,null,null,null,null,null,null,null,null,null,null,null,null,null,null,null,null,null,null,null,null,null,null,null,null,null,null,null,null,null,null,null,null,null,null,null,null,null,null,null,null,null,null,null,null,null,null,null,null,null,null,null,null,null,null,null,null,null,null,null,null,null,null,null,null,null,null,null,null,null,null,null,null,null,null,null,null,null,null,null,null,null,null,null,null,null,null,null,null,null,null,null,null,null,null,null,null,null,null,null,null,null,null,null,null,null,null,null,null,null,null,null,null,null,null,null,null,null,null,null,null,null,null,null,null,null,null,null,null,null,null,null,null,null,null,null,null,null,null,null,null,null,null,null,null,null,null,null,null,null,null,null,null,null,null,null,null,null,null,null,null,null,null,null,null,null,null,null,null,null,null,null,null,null,null,null,null,null,null,null,null,null,null,null,null,null,null,null,null,null,null,null,null,null,null,null,null,null,null,null,null,null,null,null,null,null,null,null,null,null,null,null,null,null,null,null,null,null,null,null,null,null,null,null,null,null,null,null,null,null,null,null,null,null,null,null,null,null,null,null,null,null,null,null,null,null,null,null,null,null,null,null,null,null,null,null,null,null,null,null,null,null,null,null,null,null,null,null,null,null,null,null,null,null,null,null,null,null,null,null,null,null,null,null,null,null,null,null,null,null,null,null,null,null,null,null,null,null,null,null,null,null,null,null,null,null,null,null,null,null,null,null,null,null,null,null,null,null,null,null,null,null,null,null,null,null,null,null,null,null,null,null,null,null,null,null,null,null,null,null,null,null,null,null,null,null,null,null,null,null,null,null,null,null,null,null,null,null,null,null,null,null,null,null,null,null,null,null,null,null,null,null,null,null,null,null,null,null,null,null,null,null,null,null,null,null,null,null,null,null,null,null,null,null,null,null,null,null,null,null,null,null,null,null,null,null,null,null,null,null,null,null,null,null,null,null,null,null,null,null,null,null,null,null,null,null,null,null,null,null,null,null,null,null,null,null,null,null,null,null,null,null,null,null,null,null,null,null,null,null,null,null,null,null,null,null,null,null,null,null,null,null,null,null,null,null,null,null,null,null,null,null,null,null,null,null,null,null,null,null,null,null,null,null,null,null,null,null,null,null,null,null,null,null,null,null,null,null,null,null,null,null,null,null,null,null,null,null,null,null,null,null,null,null,null,null,null,null,null,null,null,null,null,null,null,null,null,null,null,null,null,null,null,null,null,null,null,null,null,null,null,null,null,null,null,null,null,null,null,null,null,null,null,null,null,null,null,null,null,null,null,null,null,null,null,null,null,null,null,null,null,null,null,null,null,null,null,null,null,null,null,null,null,null,null,null,null,null,null,null,null,null,null,null,null,null,null,null,null,null,null,null,null,null,null,null,null,null,null,null,null,null,null,null,null,null,null,null,null,null,null,null,null,null,null,null,null,null,null,null,null,null,null,null,null,null,null,null,null,null,null,null,null,null,null,null,null,null,null,null,null,null,null,null,null,null,null,null,null,null,null,null,null,null,null,null,null,null,null,null,null,null,null,null,null,null,null,null,null,null,null,null,null,null,null,null,null,null,null,null,null,null,null,null,null,null,null,null,null,null,null,null,null,null,null,null,null,null,null,null,null,null,null,null,null,null,null,null,null,null,null,null,null,null,null,null,null,null,null,null,null,null,null,null,null,null,null,null,null,null,null,null,null,null,null,null,null,null,null,null,null,null,null,null,null,null,null,null,null,null,null,null,null,null,null,null,null,null,null,null,null,null,null,null,null,null,null,null,null,null,null,null,null,null,null,null,null,null,null,null,null,null,null,null,null,null,null,null,null,null,null,null,null,null,null,null,null,null,null,null,null,null,null,null,null,null,null,null,null,null,null,null,null,null,null,null,null,null,null,null,null,null,null,null,null,null,null,null,null,null,null,null,null,null,null,null,null,null,null,null,null,null,null,null,null,null,null,null,null,null,null,null,null,null,null,null,null,null,null,null,null,null,null,null,null,null,null,null,null,null,null,null,null,null,null,null,null,null,null,null,null,null,null,null,null,null,null,null,null,null,null,null,null,null,null,null,null,null,null,null,null,null,null,null,null,null,null,null,null,null,null,null,null,null,null,null,null,null,null,null,null,null,null,null,null,null,null,null,null,null,null,null,null,null,null,null,null,null,null,null,null,null,null,null,null,null,null,null,null,null,null,null,null,null,null,null,null,null,null,null,null,null,null,null,null,null,null,null,null,null,null,null,null,null,null,null,null,null,null,null,null,null,null,null,null,null,null,null,null,null,null,null,null,null,null,null,null,null,null,null,null,null,null,null,null,null,null,null,null,null,null,null,null,null,null,null,null,null,null,null,null,null,null,null,null,null,null,null,null,null,null,null,null,null,null,null,null,null,null,null,null,null,null,null,null,null,null,null,null,null,null,null,null,null,null,null,null,null,null,null,null,null,null,null,null,null,null,null,null,null,null,null,null,null,null,null,null,null,null,null,null,null,null,null,null,null,null,null,null,null,null,null,null,null,null,null,null,null,null,null,null,null,null,null,null,null,null,null,null,null,null,null,null,null,null,null,null,null,null,null,null,null,null,null,null,null,null,null,null,null,null,null,null,null,null,null,null,null,null,null,null,null,null,null,null,null,null,null,null,null,null,null,null,null,null,null,null,null,null,null,null,null,null,null,null,null,null,null,null,null,null,null,null,null,null,null,null,null,null,null,null,null,null,null,null,null,null,null,null,null,null,null,null,null,null,null,null,null,null,null,null,null,null,null,null,null,null,null,null,null,null,null,null,null,null,null,null,null,null,null,null,null,null,null,null,null,null,null,null,null,null,null,null,null,null,null,null,null,null,null,null,null,null,null,null,null,null,null,null,null,null,null,null,null,null,null,null,null,null,null,null,null,null,null,null,null,null,null,null,null,null,null,null,null,null,null,null,null,null,null,null,null,null,null,null,null,null,null,null,null,null,null,null,null,null,null,null,null,null,null,null,null,null,null,null,null,null,null,null,null,null,null,null,null,null,null,null,null,null,null,null,null,null,null,null,null,null,null,null,null,null,null,null,null,null,null,null,null,null,null,null,null,null,null,null,null,null,null,null,null,null,null,null,null,null,null,null,null,null,null,null,null,null,null,null,null,null,null,null,null,null,null,null,null,null,null,null,null,null,null,null,null,null,null,null,null,null,null,null,null,null,null,null,null,null,null,null,null,null,null,null,null,null,null,null,null,null,null,null,null,null,null,null,null,null,null,null,null,null,null,null,null,null,null,null,null,null,null,null,null,null,null,null,null,null,null,null,null,null,null,null,null,null,null,null,null,null,null,null,null,null,null,null,null,null,null,null,null,null,null,null,null,null,null,null,null,null,null,null,null,null,null,null,null,null,null,null,null,null,null,null,null,null,null,null,null,null,null,null,null,null,null,null,null,null,null,null,null,null,null,null,null,null,null,null,null,null,null,null,null,null,null,null,null,null,null,null,null,null,null,null,null,null,null,null,null,null,null,null,null,null,null,null,null,null,null,null,null,null,null,null,null,null,null,null,null,null,null,null,null,null,null,null,null,null,null,null,null,null,null,null,null,null,null,null,null,null,null,null,null,null,null,null,null,null,null,null,null,null,null,null,null,null,null,null,null,null,null,null,null,null,null,null,null,null,null,null,null,null,null,null,null,null,null,null,null,null,null,null,null,null,null,null,null,null,null,null,null,null,null,null,null,null,null,null,null,null,null,null,null,null,null,null,null,null,null,null,null,null,null,null,null,null,null,null,null,null,null,null,null,null,null,null,null,null,null,null,null,null,null,null,null,null,null,null,null,null,null,null,null,null,null,null,null,null,null,null,null,null,null,null,null,null,null,null,null,null,null,null,null,null,null,null,null,null,null,null,null,null,null,null,null,null,null,null,null,null,null,null,null,null,null,null,null,null,null,null,null,null,null,null,null,null,null,null,null,null,null,null,null,null,null,null,null,null,null,null,null,null,null,null,null,null,null,null,null,null,null,null,null,null,null,null,null,null,null,null,null,null,null,null,null,null,null,null,null,null,null,null,null,null,null,null,null,null,null,null,null,null,null,null,null,null,null,null,null,null,null,null,null,null,null,null,null,null,null,null,null,null,null,null,null,null,null,null,null,null,null,null,null,null,null,null,null,null,null,null,null,null,null,null,null,null,null,null,null,null,null,null,null,null,null,null,null,null,null,null,null,null,null,null,null,null,null,null,null,null,null,null,null,null,null,null,null,null,null,null,null,null,null,null,null,null,null,null,null,null,null,null,null,null,null,null,null,null,null,null,null,null,null,null,null,null,null,null,null,null,null,null,null,null,null,null,null,null,null,null,null,null,null,null,null,null,null,null,null,null,null,null,null,null,null,null,null,null,null,null,null,null,null,null,null,null,null,null,null,null,null,null,null,null,null,null,null,null,null,null,null,null,null,null,null,null,null,null,null,null,null,null,null,null,null,null,null,null,null,null,null,null,null,null,null,null,null,null,null,null,null,null,null,null,null,null,null,null,null,null,null,null,null,null,null,null,null,null,null,null,null,null,null,null,null,null,null,null,null,null,null,null,null,null,null,null,null,null,null,null,null,null,null,null,null,null,null,null,null,null,null,null,null,null,null,null,null,null,null,null,null,null,null,null,null,null,null,null,null,null,null,null,null,null,null,null,null,null,null,null,null,null,null,null,null,null,null,null,null,null,null,null,null,null,null,null,null,null,null,null,null,null,null,null,null,null,null,null,null,null,null,null,null,null,null,null,null,null,null,null,null,null,null,null,null,null,null,null,null,null,null,null,null,null,null,null,null,null,null,null,null,null,null,null,null,null,null,null,null,null,null,null,null,null,null,null,null,null,null,null,null,null,null,null,null,null,null,null,null,null,null,null,null,null,null,null,null,null,null,null,null,null,null,null,null,null,null,null,null,null,null,null,null,null,null,null,null,null,null,null,null,null,null,null,null,null,null,null,null,null,null,null,null,null,null,null,null,null,null,null,null,null,null,null,null,null,null,null,null,null,null,null,null,null,null,null,null,null,null,null,null,null,null,null,null,null,null,null,null,null,null,null,null,null,null,null,null,null,null,null,null,null,null,null,null,null,null,null,null,null,null,null,null,null,null,null,null,null,null,null,null,null,null,null,null,null,null,null,null,null,null,null,null,null,null,null,null,null,null,null,null,null,null,null,null,null,null,null,null,null,null,null,null,null,null,null,null,null,null,null,null,null,null,null,null,null,null,null,null,null,null,null,null,null,null,null,null,null,null,null,null,null,null,null,null,null,null,null,null,null,null,null,null,null,null,null,null,null,null,null,null,null,null,null,null,null,null,null,null,null,null,null,null,null,null,null,null,null,null,null,null,null,null,null,null,null,null,null,null,null,null,null,null,null,null,null,null,null,null,null,null,null,null,null,null,null,null,null,null,null,null,null,null,null,null,null,null,null,null,null,null,null,null,null,null,null,null,null,null,null,null,null,null,null,null,null,null,null,null,null,null,null,null,null,null,null,null,null,null,null,null,null,null,null,null,null,null,null,null,null,null,null,null,null,null,null,null,null,null,null,null,null,null,null,null,null,null,null,null,null,null,null,null,null,null,null,null,null,null,null,null,null,null,null,null,null,null,null,null,null,null,null,null,null,null,null,null,null,null,null,null,null,null,null,null,null,null,null,null,null,null,null,null,null,null,null,null,null,null,null,null,null,null,null,null,null,null,null,null,null,null,null,null,null,null,null,null,null,null,null,null,null,null,null,null,null,null,null,null,null,null,null,null,null,null,null,null,null,null,null,null,null,null,null,null,null,null,null,null,null,null,null,null,null,null,null,null,null,null,null,null,null,null,null,null,null,null,null,null,null,null,null,null,null,null,null,null,null,null,null,null,null,null,null,null,null,null,null,null,null,null,null,null,null,null,null,null,null,null,null,null,null,null,null,null,null,null,null,null,null,null,null,null,null,null,null,null,null,null,null,null,null,null,null,null,null,null,null,null,null,null,null,null,null,null,null,null,null,null,null,null,null,null,null,null,null,null,null,null,null,null,null,null,null,null,null,null,null,null,null,null,null,null,null,null,null,null,null,null,null,null,null,null,null,null,null,null,null,null,null,null,null,null,null,null,null,null,null,null,null,null,null,null,null,null,null,null,null,null,null,null,null,null,null,null,null,null,null,null,null,null,null,null,null,null,null,null,null,null,null,null,null,null,null,null,null,null,null,null,null,null,null,null,null,null,null,null,null,null,null,null,null,null,null,null,null,null,null,null,null,null,null,null,null,null,null,null,null,null,null,null,null,null,null,null,null,null,null,null,null,null,null,null,null,null,null,null,null,null,null,null,null,null,null,null,null,null,null,null,null,null,null,null,null,null,null,null,null,null,null,null,null,null,null,null,null,null,null,null,null,null,null,null,null,null,null,null,null,null,null,null,null,null,null,null,null,null,null,null,null,null,null,null,null,null,null,null,null,null,null,null,null,null,null,null,null,null,null,null,null,null,null,null,null,null,null,null,null,null,null,null,null,null,null,null,null,null,null,null,null,null,null,null,null,null,null,null,null,null,null,null,null,null,null,null,null,null,null,null,null,null,null,null,null,null,null,null,null,null,null,null,null,null,null,null,null,null,null,null,null,null,null,null,null,null,null,null,null,null,null,null,null,null,null,null,null,null,null,null,null,null,null,null,null,null,null,null,null,null,null,null,null,null,null,null,null,null,null,null,null,null,null,null,null,null,null,null,null,null,null,null,null,null,null,null,null,null,null,null,null,null,null,null,null,null,null,null,null,null,null,null,null,null,null,null,null,null,null,null,null,null,null,null,null,null,null,null,null,null,null,null,null,null,null,null,null,null,null,null,null,null,null,null,null,null,null,null,null,null,null,null,null,null,null,null,null,null,null,null,null,null,null,null,null,null,null,null,null,null,null,null,null,null,null,null,null,null,null,null,null,null,null,null,null,null,null,null,null,null,null,null,null,null,null,null,null,null,null,null,null,null,null,null,null,null,null,null,null,null,null,null,null,null,null,null,null,null,null,null,null,null,null,null,null,null,null,null,null,null,null,null,null,null,null,null,null,null,null,null,null,null,null,null,null,null,null,null,null,null,null,null,null,null,null,null,null,null,null,null,null,null,null,null,null,null,null,null,null,null,null,null,null,null,null,null,null,null,null,null,null,null,null,null,null,null,null,null,null,null,null,null,null,null,null,null,null,null,null,null,null,null,null,null,null,null,null,null,null,null,null,null,null,null,null,null,null,null,null,null,null,null,null,null,null,null,null,null,null,null,null,null,null,null,null,null,null,null,null,null,null,null,null,null,null,null,null,null,null,null,null,null,null,null,null,null,null,null,null,null,null,null,null,null,null,null,null,null,null,null,null,null,null,null,null,null,null,null,null,null,null,null,null,null,null,null,null,null,null,null,null,null,null,null,null,null,null,null,null,null,null,null,null,null,null,null,null,null,null,null,null,null,null,null,null,null,null,null,null,null,null,null,null,null,null,null,null,null,null,null,null,null,null,null,null,null,null,null,null,null,null,null,null,null,null,null,null,null,null,null,null,null,null,null,null,null,null,null,null,null,null,null,null,null,null,null,null,null,null,null,null,null,null,null,null,null,null,null,null,null,null,null,null,null,null,null,null,null,null,null,null,null,null,null,null,null,null,null,null,null,null,null,null,null,null,null,null,null,null,null,null,null,null,null,null,null,null,null,null,null,null,null,null,null,null,null,null,null,null,null,null,null,null,null,null,null,null,null,null,null,null,null,null,null,null,null,null,null,null,null,null,null,null,null,null,null,null,null,null,null,null,null,null,null,null,null,null,null,null,null,null,null,null,null,null,null,null,null,null,null,null,null,null,null,null,null,null,null,null,null,null,null,null,null,null,null,null,null,null,null,null,null,null,null,null,null,null,null,null,null,null,null,null,null,null,null,null,null,null,null,null,null,null,null,null,null,null,null,null,null,null,null,null,null,null,null,null,null,null,null,null,null,null,null,null,null,null,null,null,null,null,null,null,null,null,null,null,null,null,null,null,null,null,null,null,null,null,null,null,null,null,null,null,null,null,null,null,null,null,null,null,null,null,null,null,null,null,null,null,null,null,null,null,null,null,null,null,null,null,null,null,null,null,null,null,null,null,null,null,null,null,null,null,null,null,null,null,null,null,null,null,null,null,null,null,null,null,null,null,null,null,null,null,null,null,null,null,null,null,null,null,null,null,null,null,null,null,null,null,null,null,null,null,null,null,null,null,null,null,null,null,null,null,null,null,null,null,null,null,null,null,null,null,null,null,null,null,null,null,null,null,null,null,null,null,null,null,null,null,null,null,null,null,null,null,null,null,null,null,null,null,null,null,null,null,null,null,null,null,null,null,null,null,null,null,null,null,null,null,null,null,null,null,null,null,null,null,null,null,null,null,null,null,null,null,null,null,null,null,null,null,null,null,null,null,null,null,null,null,null,null,null,null,null,null,null,null,null,null,null,null,null,null,null,null,null,null,null,null,null,null,null,null,null,null,null,null,null,null,null,null,null,null,null,null,null,null,null,null,null,null,null,null,null,null,null,null,null,null,null,null,null,null,null,null,null,null,null,null,null,null,null,null,null,null,null,null,null,null,null,null,null,null,null,null,null,null,null,null,null,null,null,null,null,null,null,null,null,null,null,null,null,null,null,null,null,null,null,null,null,null,null,null,null,null,null,null,null,null,null,null,null,null,null,null,null,null,null,null,null,null,null,null,null,null,null,null,null,null,null,null,null,null,null,null,null,null,null,null,null,null,null,null,null,null,null,null,null,null,null,null,null,null,null,null,null,null,null,null,null,null,null,null,null,null,null,null,null,null,null,null,null,null,null,null,null,null,null,null,null,null,null,null,null,null,null,null,null,null,null,null,null,null,null,null,null,null,null,null,null,null,null,null,null,null,null,null,null,null,null,null,null,null,null,null,null,null,null,null,null,null,null,null,null,null,null,null,null,null,null,null,null,null,null,null,null,null,null,null,null,null,null,null,null,null,null,null,null,null,null,null,null,null,null,null,null,null,null,null,null,null,null,null,null,null,null,null,null,null,null,null,null,null,null,null,null,null,null,null,null,null,null,null,null,null,null,null,null,null,null,null,null,null,null,null,null,null,null,null,null,null,null,null,null,null,null,null,null,null,null,null,null,null,null,null,null,null,null,null,null,null,null,null,null,null,null,null,null,null,null,null,null,null,null,null,null,null,null,null,null,null,null,null,null,null,null,null,null,null,null,null,null,null,null,null,null,null,null,null,null,null,null,null,null,null,null,null,null,null,null,null,null,null,null,null,null,null,null,null,null,null,null,null,null,null,null,null,null,null,null,null,null,null,null,null,null,null,null,null,null,null,null,null,null,null,null,null,null,null,null,null,null,null,null,null,null,null,null,null,null,null,null,null,null,null,null,null,null,null,null,null,null,null,null,null,null,null,null,null,null,null,null,null,null,null,null,null,null,null,null,null,null,null,null,null,null,null,null,null,null,null,null,null,null,null,null,null,null,null,null,null,null,null,null,null,null,null,null,null,null,null,null,null,null,null,null,null,null,null,null,null,null,null,null,null,null,null,null,null,null,null,null,null,null,null,null,null,null,null,null,null,null,null,null,null,null,null,null,null,null,null,null,null,null,null,null,null,null,null,null,null,null,null,null,null,null,null,null,null,null,null,null,null,null,null,null,null,null,null,null,null,null,null,null,null,null,null,null,null,null,null,null,null,null,null,null,null,null,null,null,null,null,null,null,null,null,null,null,null,null,null,null,null,null,null,null,null,null,null,null,null,null,null,null,null,null,null,null,null,null,null,null,null,null,null,null,null,null,null,null,null,null,null,null,null,null,null,null,null,null,null,null,null,null,null,null,null,null,null,null,null,null,null,null,null,null,null,null,null,null,null,null,null,null,null,null,null,null,null,null,null,null,null,null,null,null,null,null,null,null,null,null,null,null,null,null,null,null,null,null,null,null,null,null,null,null,null,null,null,null,null,null,null,null,null,null,null,null,null,null,null,null,null,null,null,null,null,null,null,null,null,null,null,null,null,null,null,null,null,null,null,null,null,null,null,null,null,null,null,null,null,null,null,null,null,null,null,null,null,null,null,null,null,null,null,null,null,null,null,null,null,null,null,null,null,null,null,null,null,null,null,null,null,null,null,null,null,null,null,null,null,null,null,null,null,null,null,null,null,null,null,null,null,null,null,null,null,null,null,null,null,null,null,null,null,null,null,null,null,null,null,null,null,null,null,null,null,null,null,null,null,null,null,null,null,null,null,null,null,null,null,null,null,null,null,null,null,null,null,null,null,null,null,null,null,null,null,null,null,null,null,null,null,null,null,null,null,null,null,null,null,null,null,null,null,null,null,null,null,null,null,null,null,null,null,null,null,null,null,null,null,null,null,null,null,null,null,null,null,null,null,null,null,null,null,null,null,null,null,null,null,null,null,null,null,null,null,null,null,null,null,null,null,null,null,null,null,null,null,null,null,null,null,null,null,null,null,null,null,null,null,null,null,null,null,null,null,null,null,null,null,null,null,null,null,null,null,null,null,null,null,null,null,null,null,null,null,null,null,null,null,null,null,null,null,null,null,null,null,null,null,null,null,null,null,null,null,null,null,null,null,null,null,null,null,null,null,null,null,null,null,null,null,null,null,null,null,null,null,null,null,null,null,null,null,null,null,null,null,null,null,null,null,null,null,null,null,null,null,null,null,null,null,null,null,null,null,null,null,null,null,null,null,null,null,null,null,null,null,null,null,null,null,null,null,null,null,null,null,null,null,null,null,null,null,null,null,null,null,null,null,null,null,null,null,null,null,null,null,null,null,null,null,null,null,null,null,null,null,null,null,null,null,null,null,null,null,null,null,null,null,null,null,null,null,null,null,null,null,null,null,null,null,null,null,null,null,null,null,null,null,null,null,null,null,null,null,null,null,null,null,null,null,null,null,null,null,null,null,null,null,"Partner ID",null,"56465456465464yyt"]
[null,null,null,null,null,null,null,null,null,null,null,null,null,null,null,null,null,null,null,null,null,null,null,null,null,null,null,null,null,null,null,null,null,null,null,null,null,null,null,null,null,null,null,null,null,null,null,null,null,null,null,null,null,null,null,null,null,null,null,null,null,null,null,null,null,null,null,null,null,null,null,null,null,null,null,null,null,null,null,null,null,null,null,null,null,null,null,null,null,null,null,null,null,null,null,null,null,null,null,null,null,null,null,null,null,null,null,null,null,null,null,null,null,null,null,null,null,null,null,null,null,null,null,null,null,null,null,null,null,null,null,null,null,null,null,null,null,null,null,null,null,null,null,null,null,null,null,null,null,null,null,null,null,null,null,null,null,null,null,null,null,null,null,null,null,null,null,null,null,null,null,null,null,null,null,null,null,null,null,null,null,null,null,null,null,null,null,null,null,null,null,null,null,null,null,null,null,null,null,null,null,null,null,null,null,null,null,null,null,null,null,null,null,null,null,null,null,null,null,null,null,null,null,null,null,null,null,null,null,null,null,null,null,null,null,null,null,null,null,null,null,null,null,null,null,null,null,null,null,null,null,null,null,null,null,null,null,null,null,null,null,null,null,null,null,null,null,null,null,null,null,null,null,null,null,null,null,null,null,null,null,null,null,null,null,null,null,null,null,null,null,null,null,null,null,null,null,null,null,null,null,null,null,null,null,null,null,null,null,null,null,null,null,null,null,null,null,null,null,null,null,null,null,null,null,null,null,null,null,null,null,null,null,null,null,null,null,null,null,null,null,null,null,null,null,null,null,null,null,null,null,null,null,null,null,null,null,null,null,null,null,null,null,null,null,null,null,null,null,null,null,null,null,null,null,null,null,null,null,null,null,null,null,null,null,null,null,null,null,null,null,null,null,null,null,null,null,null,null,null,null,null,null,null,null,null,null,null,null,null,null,null,null,null,null,null,null,null,null,null,null,null,null,null,null,null,null,null,null,null,null,null,null,null,null,null,null,null,null,null,null,null,null,null,null,null,null,null,null,null,null,null,null,null,null,null,null,null,null,null,null,null,null,null,null,null,null,null,null,null,null,null,null,null,null,null,null,null,null,null,null,null,null,null,null,null,null,null,null,null,null,null,null,null,null,null,null,null,null,null,null,null,null,null,null,null,null,null,null,null,null,null,null,null,null,null,null,null,null,null,null,null,null,null,null,null,null,null,null,null,null,null,null,null,null,null,null,null,null,null,null,null,null,null,null,null,null,null,null,null,null,null,null,null,null,null,null,null,null,null,null,null,null,null,null,null,null,null,null,null,null,null,null,null,null,null,null,null,null,null,null,null,null,null,null,null,null,null,null,null,null,null,null,null,null,null,null,null,null,null,null,null,null,null,null,null,null,null,null,null,null,null,null,null,null,null,null,null,null,null,null,null,null,null,null,null,null,null,null,null,null,null,null,null,null,null,null,null,null,null,null,null,null,null,null,null,null,null,null,null,null,null,null,null,null,null,null,null,null,null,null,null,null,null,null,null,null,null,null,null,null,null,null,null,null,null,null,null,null,null,null,null,null,null,null,null,null,null,null,null,null,null,null,null,null,null,null,null,null,null,null,null,null,null,null,null,null,null,null,null,null,null,null,null,null,null,null,null,null,null,null,null,null,null,null,null,null,null,null,null,null,null,null,null,null,null,null,null,null,null,null,null,null,null,null,null,null,null,null,null,null,null,null,null,null,null,null,null,null,null,null,null,null,null,null,null,null,null,null,null,null,null,null,null,null,null,null,null,null,null,null,null,null,null,null,null,null,null,null,null,null,null,null,null,null,null,null,null,null,null,null,null,null,null,null,null,null,null,null,null,null,null,null,null,null,null,null,null,null,null,null,null,null,null,null,null,null,null,null,null,null,null,null,null,null,null,null,null,null,null,null,null,null,null,null,null,null,null,null,null,null,null,null,null,null,null,null,null,null,null,null,null,null,null,null,null,null,null,null,null,null,null,null,null,null,null,null,null,null,null,null,null,null,null,null,null,null,null,null,null,null,null,null,null,null,null,null,null,null,null,null,null,null,null,null,null,null,null,null,null,null,null,null,null,null,null,null,null,null,null,null,null,null,null,null,null,null,null,null,null,null,null,null,null,null,null,null,null,null,null,null,null,null,null,null,null,null,null,null,null,null,null,null,null,null,null,null,null,null,null,null,null,null,null,null,null,null,null,null,null,null,null,null,null,null,null,null,null,null,null,null,null,null,null,null,null,null,null,null,null,null,null,null,null,null,null,null,null,null,null,null,null,null,null,null,null,null,null,null,null,null,null,null,null,null,null,null,null,null,null,null,null,null,null,null,null,null,null,null,null,null,null,null,null,null,null,null,null,null,null,null,null,null,null,null,null,null,null,null,null,null,null,null,null,null,null,null,null,null,null,null,null,null,null,null,null,null,null,null,null,null,null,null,null,null,null,null,null,null,null,null,null,null,null,null,null,null,null,null,null,null,null,null,null,null,null,null,null,null,null,null,null,null,null,null,null,null,null,null,null,null,null,null,null,null,null,null,null,null,null,null,null,null,null,null,null,null,null,null,null,null,null,null,null,null,null,null,null,null,null,null,null,null,null,null,null,null,null,null,null,null,null,null,null,null,null,null,null,null,null,null,null,null,null,null,null,null,null,null,null,null,null,null,null,null,null,null,null,null,null,null,null,null,null,null,null,null,null,null,null,null,null,null,null,null,null,null,null,null,null,null,null,null,null,null,null,null,null,null,null,null,null,null,null,null,null,null,null,null,null,null,null,null,null,null,null,null,null,null,null,null,null,null,null,null,null,null,null,null,null,null,null,null,null,null,null,null,null,null,null,null,null,null,null,null,null,null,null,null,null,null,null,null,null,null,null,null,null,null,null,null,null,null,null,null,null,null,null,null,null,null,null,null,null,null,null,null,null,null,null,null,null,null,null,null,null,null,null,null,null,null,null,null,null,null,null,null,null,null,null,null,null,null,null,null,null,null,null,null,null,null,null,null,null,null,null,null,null,null,null,null,null,null,null,null,null,null,null,null,null,null,null,null,null,null,null,null,null,null,null,null,null,null,null,null,null,null,null,null,null,null,null,null,null,null,null,null,null,null,null,null,null,null,null,null,null,null,null,null,null,null,null,null,null,null,null,null,null,null,null,null,null,null,null,null,null,null,null,null,null,null,null,null,null,null,null,null,null,null,null,null,null,null,null,null,null,null,null,null,null,null,null,null,null,null,null,null,null,null,null,null,null,null,null,null,null,null,null,null,null,null,null,null,null,null,null,null,null,null,null,null,null,null,null,null,null,null,null,null,null,null,null,null,null,null,null,null,null,null,null,null,null,null,null,null,null,null,null,null,null,null,null,null,null,null,null,null,null,null,null,null,null,null,null,null,null,null,null,null,null,null,null,null,null,null,null,null,null,null,null,null,null,null,null,null,null,null,null,null,null,null,null,null,null,null,null,null,null,null,null,null,null,null,null,null,null,null,null,null,null,null,null,null,null,null,null,null,null,null,null,null,null,null,null,null,null,null,null,null,null,null,null,null,null,null,null,null,null,null,null,null,null,null,null,null,null,null,null,null,null,null,null,null,null,null,null,null,null,null,null,null,null,null,null,null,null,null,null,null,null,null,null,null,null,null,null,null,null,null,null,null,null,null,null,null,null,null,null,null,null,null,null,null,null,null,null,null,null,null,null,null,null,null,null,null,null,null,null,null,null,null,null,null,null,null,null,null,null,null,null,null,null,null,null,null,null,null,null,null,null,null,null,null,null,null,null,null,null,null,null,null,null,null,null,null,null,null,null,null,null,null,null,null,null,null,null,null,null,null,null,null,null,null,null,null,null,null,null,null,null,null,null,null,null,null,null,null,null,null,null,null,null,null,null,null,null,null,null,null,null,null,null,null,null,null,null,null,null,null,null,null,null,null,null,null,null,null,null,null,null,null,null,null,null,null,null,null,null,null,null,null,null,null,null,null,null,null,null,null,null,null,null,null,null,null,null,null,null,null,null,null,null,null,null,null,null,null,null,null,null,null,null,null,null,null,null,null,null,null,null,null,null,null,null,null,null,null,null,null,null,null,null,null,null,null,null,null,null,null,null,null,null,null,null,null,null,null,null,null,null,null,null,null,null,null,null,null,null,null,null,null,null,null,null,null,null,null,null,null,null,null,null,null,null,null,null,null,null,null,null,null,null,null,null,null,null,null,null,null,null,null,null,null,null,null,null,null,null,null,null,null,null,null,null,null,null,null,null,null,null,null,null,null,null,null,null,null,null,null,null,null,null,null,null,null,null,null,null,null,null,null,null,null,null,null,null,null,null,null,null,null,null,null,null,null,null,null,null,null,null,null,null,null,null,null,null,null,null,null,null,null,null,null,null,null,null,null,null,null,null,null,null,null,null,null,null,null,null,null,null,null,null,null,null,null,null,null,null,null,null,null,null,null,null,null,null,null,null,null,null,null,null,null,null,null,null,null,null,null,null,null,null,null,null,null,null,null,null,null,null,null,null,null,null,null,null,null,null,null,null,null,null,null,null,null,null,null,null,null,null,null,null,null,null,null,null,null,null,null,null,null,null,null,null,null,null,null,null,null,null,null,null,null,null,null,null,null,null,null,null,null,null,null,null,null,null,null,null,null,null,null,null,null,null,null,null,null,null,null,null,null,null,null,null,null,null,null,null,null,null,null,null,null,null,null,null,null,null,null,null,null,null,null,null,null,null,null,null,null,null,null,null,null,null,null,null,null,null,null,null,null,null,null,null,null,null,null,null,null,null,null,null,null,null,null,null,null,null,null,null,null,null,null,null,null,null,null,null,null,null,null,null,null,null,null,null,null,null,null,null,null,null,null,null,null,null,null,null,null,null,null,null,null,null,null,null,null,null,null,null,null,null,null,null,null,null,null,null,null,null,null,null,null,null,null,null,null,null,null,null,null,null,null,null,null,null,null,null,null,null,null,null,null,null,null,null,null,null,null,null,null,null,null,null,null,null,null,null,null,null,null,null,null,null,null,null,null,null,null,null,null,null,null,null,null,null,null,null,null,null,null,null,null,null,null,null,null,null,null,null,null,null,null,null,null,null,null,null,null,null,null,null,null,null,null,null,null,null,null,null,null,null,null,null,null,null,null,null,null,null,null,null,null,null,null,null,null,null,null,null,null,null,null,null,null,null,null,null,null,null,null,null,null,null,null,null,null,null,null,null,null,null,null,null,null,null,null,null,null,null,null,null,null,null,null,null,null,null,null,null,null,null,null,null,null,null,null,null,null,null,null,null,null,null,null,null,null,null,null,null,null,null,null,null,null,null,null,null,null,null,null,null,null,null,null,null,null,null,null,null,null,null,null,null,null,null,null,null,null,null,null,null,null,null,null,null,null,null,null,null,null,null,null,null,null,null,null,null,null,null,null,null,null,null,null,null,null,null,null,null,null,null,null,null,null,null,null,null,null,null,null,null,null,null,null,null,null,null,null,null,null,null,null,null,null,null,null,null,null,null,null,null,null,null,null,null,null,null,null,null,null,null,null,null,null,null,null,null,null,null,null,null,null,null,null,null,null,null,null,null,null,null,null,null,null,null,null,null,null,null,null,null,null,null,null,null,null,null,null,null,null,null,null,null,null,null,null,null,null,null,null,null,null,null,null,null,null,null,null,null,null,null,null,null,null,null,null,null,null,null,null,null,null,null,null,null,null,null,null,null,null,null,null,null,null,null,null,null,null,null,null,null,null,null,null,null,null,null,null,null,null,null,null,null,null,null,null,null,null,null,null,null,null,null,null,null,null,null,null,null,null,null,null,null,null,null,null,null,null,null,null,null,null,null,null,null,null,null,null,null,null,null,null,null,null,null,null,null,null,null,null,null,null,null,null,null,null,null,null,null,null,null,null,null,null,null,null,null,null,null,null,null,null,null,null,null,null,null,null,null,null,null,null,null,null,null,null,null,null,null,null,null,null,null,null,null,null,null,null,null,null,null,null,null,null,null,null,null,null,null,null,null,null,null,null,null,null,null,null,null,null,null,null,null,null,null,null,null,null,null,null,null,null,null,null,null,null,null,null,null,null,null,null,null,null,null,null,null,null,null,null,null,null,null,null,null,null,null,null,null,null,null,null,null,null,null,null,null,null,null,null,null,null,null,null,null,null,null,null,null,null,null,null,null,null,null,null,null,null,null,null,null,null,null,null,null,null,null,null,null,null,null,null,null,null,null,null,null,null,null,null,null,null,null,null,null,null,null,null,null,null,null,null,null,null,null,null,null,null,null,null,null,null,null,null,null,null,null,null,null,null,null,null,null,null,null,null,null,null,null,null,null,null,null,null,null,null,null,null,null,null,null,null,null,null,null,null,null,null,null,null,null,null,null,null,null,null,null,null,null,null,null,null,null,null,null,null,null,null,null,null,null,null,null,null,null,null,null,null,null,null,null,null,null,null,null,null,null,null,null,null,null,null,null,null,null,null,null,null,null,null,null,null,null,null,null,null,null,null,null,null,null,null,null,null,null,null,null,null,null,null,null,null,null,null,null,null,null,null,null,null,null,null,null,null,null,null,null,null,null,null,null,null,null,null,null,null,null,null,null,null,null,null,null,null,null,null,null,null,null,null,null,null,null,null,null,null,null,null,null,null,null,null,null,null,null,null,null,null,null,null,null,null,null,null,null,null,null,null,null,null,null,null,null,null,null,null,null,null,null,null,null,null,null,null,null,null,null,null,null,null,null,null,null,null,null,null,null,null,null,null,null,null,null,null,null,null,null,null,null,null,null,null,null,null,null,null,null,null,null,null,null,null,null,null,null,null,null,null,null,null,null,null,null,null,null,null,null,null,null,null,null,null,null,null,null,null,null,null,null,null,null,null,null,null,null,null,null,null,null,null,null,null,null,null,null,null,null,null,null,null,null,null,null,null,null,null,null,null,null,null,null,null,null,null,null,null,null,null,null,null,null,null,null,null,null,null,null,null,null,null,null,null,null,null,null,null,null,null,null,null,null,null,null,null,null,null,null,null,null,null,null,null,null,null,null,null,null,null,null,null,null,null,null,null,null,null,null,null,null,null,null,null,null,null,null,null,null,null,null,null,null,null,null,null,null,null,null,null,null,null,null,null,null,null,null,null,null,null,null,null,null,null,null,null,null,null,null,null,null,null,null,null,null,null,null,null,null,null,null,null,null,null,null,null,null,null,null,null,null,null,null,null,null,null,null,null,null,null,null,null,null,null,null,null,null,null,null,null,null,null,null,null,null,null,null,null,null,null,null,null,null,null,null,null,null,null,null,null,null,null,null,null,null,null,null,null,null,null,null,null,null,null,null,null,null,null,null,null,null,null,null,null,null,null,null,null,null,null,null,null,null,null,null,null,null,null,null,null,null,null,null,null,null,null,null,null,null,null,null,null,null,null,null,null,null,null,null,null,null,null,null,null,null,null,null,null,null,null,null,null,null,null,null,null,null,null,null,null,null,null,null,null,null,null,null,null,null,null,null,null,null,null,null,null,null,null,null,null,null,null,null,null,null,null,null,null,null,null,null,null,null,null,null,null,null,null,null,null,null,null,null,null,null,null,null,null,null,null,null,null,null,null,null,null,null,null,null,null,null,null,null,null,null,null,null,null,null,null,null,null,null,null,null,null,null,null,null,null,null,null,null,null,null,null,null,null,null,null,null,null,null,null,null,null,null,null,null,null,null,null,null,null,null,null,null,null,null,null,null,null,null,null,null,null,null,null,null,null,null,null,null,null,null,null,null,null,null,null,null,null,null,null,null,null,null,null,null,null,null,null,null,null,null,null,null,null,null,null,null,null,null,null,null,null,null,null,null,null,null,null,null,null,null,null,null,null,null,null,null,null,null,null,null,null,null,null,null,null,null,null,null,null,null,null,null,null,null,null,null,null,null,null,null,null,null,null,null,null,null,null,null,null,null,null,null,null,null,null,null,null,null,null,null,null,null,null,null,null,null,null,null,null,null,null,null,null,null,null,null,null,null,null,null,null,null,null,null,null,null,null,null,null,null,null,null,null,null,null,null,null,null,null,null,null,null,null,null,null,null,null,null,null,null,null,null,null,null,null,null,null,null,null,null,null,null,null,null,null,null,null,null,null,null,null,null,null,null,null,null,null,null,null,null,null,null,null,null,null,null,null,null,null,null,null,null,null,null,null,null,null,null,null,null,null,null,null,null,null,null,null,null,null,null,null,null,null,null,null,null,null,null,null,null,null,null,null,null,null,null,null,null,null,null,null,null,null,null,null,null,null,null,null,null,null,null,null,null,null,null,null,null,null,null,null,null,null,null,null,null,null,null,null,null,null,null,null,null,null,null,null,null,null,null,null,null,null,null,null,null,null,null,null,null,null,null,null,null,null,null,null,null,null,null,null,null,null,null,null,null,null,null,null,null,null,null,null,null,null,null,null,null,null,null,null,null,null,null,null,null,null,null,null,null,null,null,null,null,null,null,null,null,null,null,null,null,null,null,null,null,null,null,null,null,null,null,null,null,null,null,null,null,null,null,null,null,null,null,null,null,null,null,null,null,null,null,null,null,null,null,null,null,null,null,null,null,null,null,null,null,null,null,null,null,null,null,null,null,null,null,null,null,null,null,null,null,null,null,null,null,null,null,null,null,null,null,null,null,null,null,null,null,null,null,null,null,null,null,null,null,null,null,null,null,null,null,null,null,null,null,null,null,null,null,null,null,null,null,null,null,null,null,null,null,null,null,null,null,null,null,null,null,null,null,null,null,null,null,null,null,null,null,null,null,null,null,null,null,null,null,null,null,null,null,null,null,null,null,null,null,null,null,null,null,null,null,null,null,null,null,null,null,null,null,null,null,null,null,null,null,null,null,null,null,null,null,null,null,null,null,null,null,null,null,null,null,null,null,null,null,null,null,null,null,null,null,null,null,null,null,null,null,null,null,null,null,null,null,null,null,null,null,null,null,null,null,null,null,null,null,null,null,null,null,null,null,null,null,null,null,null,null,null,null,null,null,null,null,null,null,null,null,null,null,null,null,null,null,null,null,null,null,null,null,null,null,null,null,null,null,null,null,null,null,null,null,null,null,null,null,null,null,null,null,null,null,null,null,null,null,null,null,null,null,null,null,null,null,null,null,null,null,null,null,null,null,null,null,null,null,null,null,null,null,null,null,null,null,null,null,null,null,null,null,null,null,null,null,null,null,null,null,null,null,null,null,null,null,null,null,null,null,null,null,null,null,null,null,null,null,null,null,null,null,null,null,null,null,null,null,null,null,null,null,null,null,null,null,null,null,null,null,null,null,null,null,null,null,null,null,null,null,null,null,null,null,null,null,null,null,null,null,null,null,null,null,null,null,null,null,null,null,null,null,null,null,null,null,null,null,null,null,null,null,null,null,null,null,null,null,null,null,null,null,null,null,null,null,null,null,null,null,null,null,null,null,null,null,null,null,null,null,null,null,null,null,null,null,null,null,null,null,null,null,null,null,null,null,null,null,null,null,null,null,null,null,null,null,null,null,null,null,null,null,null,null,null,null,null,null,null,null,null,null,null,null,null,null,null,null,null,null,null,null,null,null,null,null,null,null,null,null,null,null,null,null,null,null,null,null,null,null,null,null,null,null,null,null,null,null,null,null,null,null,null,null,null,null,null,null,null,null,null,null,null,null,null,null,null,null,null,null,null,null,null,null,null,null,null,null,null,null,null,null,null,null,null,null,null,null,null,null,null,null,null,null,null,null,null,null,null,null,null,null,null,null,null,null,null,null,null,null,null,null,null,null,null,null,null,null,null,null,null,null,null,null,null,null,null,null,null,null,null,null,null,null,null,null,null,null,null,null,null,null,null,null,null,null,null,null,null,null,null,null,null,null,null,null,null,null,null,null,null,null,null,null,null,null,null,null,null,null,null,null,null,null,null,null,null,null,null,null,null,null,null,null,null,null,null,null,null,null,null,null,null,null,null,null,null,null,null,null,null,null,null,null,null,null,null,null,null,null,null,null,null,null,null,null,null,null,null,null,null,null,null,null,null,null,null,null,null,null,null,null,null,null,null,null,null,null,null,null,null,null,null,null,null,null,null,null,null,null,null,null,null,null,null,null,null,null,null,null,null,null,null,null,null,null,null,null,null,null,null,null,null,null,null,null,null,null,null,null,null,null,null,null,null,null,null,null,null,null,null,null,null,null,null,null,null,null,null,null,null,null,null,null,null,null,null,null,null,null,null,null,null,null,null,null,null,null,null,null,null,null,null,null,null,null,null,null,null,null,null,null,null,null,null,null,null,null,null,null,null,null,null,null,null,null,null,null,null,null,null,null,null,null,null,null,null,null,null,null,null,null,null,null,null,null,null,null,null,null,null,null,null,null,null,null,null,null,null,null,null,null,null,null,null,null,null,null,null,null,null,null,null,null,null,null,null,null,null,null,null,null,null,null,null,null,null,null,null,null,null,null,null,null,null,null,null,null,null,null,null,null,null,null,null,null,null,null,null,null,null,null,null,null,null,null,null,null,null,null,null,null,null,null,null,null,null,null,null,null,null,null,null,null,null,null,null,null,null,null,null,null,null,null,null,null,null,null,null,null,null,null,null,null,null,null,null,null,null,null,null,null,null,null,null,null,null,null,null,null,null,null,null,null,null,null,null,null,null,null,null,null,null,null,null,null,null,null,null,null,null,null,null,null,null,null,null,null,null,null,null,null,null,null,null,null,null,null,null,null,null,null,null,null,null,null,null,null,null,null,null,null,null,null,null,null,null,null,null,null,null,null,null,null,null,null,null,null,null,null,null,null,null,null,null,null,null,null,null,null,null,null,null,null,null,null,null,null,null,null,null,null,null,null,null,null,null,null,null,null,null,null,null,null,null,null,null,null,null,null,null,null,null,null,null,null,null,null,null,null,null,null,null,null,null,null,null,null,null,null,null,null,null,null,null,null,null,null,null,null,null,null,null,null,null,null,null,null,null,null,null,null,null,null,null,null,null,null,null,null,null,null,null,null,null,null,null,null,null,null,null,null,null,null,null,null,null,null,null,null,null,null,null,null,null,null,null,null,null,null,null,null,null,null,null,null,null,null,null,null,null,null,null,null,null,null,null,null,null,null,null,null,null,null,null,null,null,null,null,null,null,null,null,null,null,null,null,null,null,null,null,null,null,null,null,null,null,null,null,null,null,null,null,null,null,null,null,null,null,null,null,null,null,null,null,null,null,null,null,null,null,null,null,null,null,null,null,null,null,null,null,null,null,null,null,null,null,null,null,null,null,null,null,null,null,null,null,null,null,null,null,null,null,null,null,null,null,null,null,null,null,null,null,null,null,null,null,null,null,null,null,null,null,null,null,null,null,null,null,null,null,null,null,null,null,null,null,null,null,null,null,null,null,null,null,null,null,null,null,null,null,null,null,null,null,null,null,null,null,null,null,null,null,null,null,null,null,null,null,null,null,null,null,null,null,null,null,null,null,null,null,null,null,null,null,null,null,null,null,null,null,null,null,null,null,null,null,null,null,null,null,null,null,null,null,null,null,null,null,null,null,null,null,null,null,null,null,null,null,null,null,null,null,null,null,null,null,null,null,null,null,null,null,null,null,null,null,null,null,null,null,null,null,null,null,null,null,null,null,null,null,null,null,null,null,null,null,null,null,null,null,null,null,null,null,null,null,null,null,null,null,null,null,null,null,null,null,null,null,null,null,null,null,null,null,null,null,null,null,null,null,null,null,null,null,null,null,null,null,null,null,null,null,null,null,null,null,null,null,null,null,null,null,null,null,null,null,null,null,null,null,null,null,null,null,null,null,null,null,null,null,null,null,null,null,null,null,null,null,null,null,null,null,null,null,null,null,null,null,null,null,null,null,null,null,null,null,null,null,null,null,null,null,null,null,null,null,null,null,null,null,null,null,null,null,null,null,null,null,null,null,null,null,null,null,null,null,null,null,null,null,null,null,null,null,null,null,null,null,null,null,null,null,null,null,null,null,null,null,null,null,null,null,null,null,null,null,null,null,null,null,null,null,null,null,null,null,null,null,null,null,null,null,null,null,null,null,null,null,null,null,null,null,null,null,null,null,null,null,null,null,null,null,null,null,null,null,null,null,null,null,null,null,null,null,null,null,null,null,null,null,null,null,null,null,null,null,null,null,null,null,null,null,null,null,null,null,null,null,null,null,null,null,null,null,null,null,null,null,null,null,null,null,null,null,null,null,null,null,null,null,null,null,null,null,null,null,null,null,null,null,null,null,null,null,null,null,null,null,null,null,null,null,null,null,null,null,null,null,null,null,null,null,null,null,null,null,null,null,null,null,null,null,null,null,null,null,null,null,null,null,null,null,null,null,null,null,null,null,null,null,null,null,null,null,null,null,null,null,null,null,null,null,null,null,null,null,null,null,null,null,null,null,null,null,null,null,null,null,null,null,null,null,null,null,null,null,null,null,null,null,null,null,null,null,null,null,null,null,null,null,null,null,null,null,null,null,null,null,null,null,null,null,null,null,null,null,null,null,null,null,null,null,null,null,null,null,null,null,null,null,null,null,null,null,null,null,null,null,null,null,null,null,null,null,null,null,null,null,null,null,null,null,null,null,null,null,null,null,null,null,null,null,null,null,null,null,null,null,null,null,null,null,null,null,null,null,null,null,null,null,null,null,null,null,null,null,null,null,null,null,null,null,null,null,null,null,null,null,null,null,null,null,null,null,null,null,null,null,null,null,null,null,null,null,null,null,null,null,null,null,null,null,null,null,null,null,null,null,null,null,null,null,null,null,null,null,null,null,null,null,null,null,null,null,null,null,null,null,null,null,null,null,null,null,null,null,null,null,null,null,null,null,null,null,null,null,null,null,null,null,null,null,null,null,null,null,null,null,null,null,null,null,null,null,null,null,null,null,null,null,null,null,null,null,null,null,null,null,null,null,null,null,null,null,null,null,null,null,null,null,null,null,null,null,null,null,null,null,null,null,null,null,null,null,null,null,null,null,null,null,null,null,null,null,null,null,null,null,null,null,null,null,null,null,null,null,null,null,null,null,null,null,null,null,null,null,null,null,null,null,null,null,null,null,null,null,null,null,null,null,null,null,null,null,null,null,null,null,null,null,null,null,null,null,null,null,null,null,null,null,null,null,null,null,null,null,null,null,null,null,null,null,null,null,null,null,null,null,null,null,null,null,null,null,null,null,null,null,null,null,null,null,null,null,null,null,null,null,null,null,null,null,null,null,null,null,null,null,null,null,null,null,null,null,null,null,null,null,null,null,null,null,null,null,null,null,null,null,null,null,null,null,null,null,null,null,null,null,null,null,null,null,null,null,null,null,null,null,null,null,null,null,null,null,null,null,null,null,null,null,null,null,null,null,null,null,null,null,null,null,null,null,null,null,null,null,null,null,null,null,null,null,null,null,null,null,null,null,null,null,null,null,null,null,null,null,null,null,null,null,null,null,null,null,null,null,null,null,null,null,null,null,null,null,null,null,null,null,null,null,null,null,null,null,null,null,null,null,null,null,null,null,null,null,null,null,null,null,null,null,null,null,null,null,null,null,null,null,null,null,null,null,null,null,null,null,null,null,null,null,null,null,null,null,null,null,null,null,null,null,null,null,null,null,null,null,null,null,null,null,null,null,null,null,null,null,null,null,null,null,null,null,null,null,null,null,null,null,null,null,null,null,null,null,null,null,null,null,null,null,null,null,null,null,null,null,null,null,null,null,null,null,null,null,null,null,null,null,null,null,null,null,null,null,null,null,null,null,null,null,null,null,null,null,null,null,null,null,null,null,null,null,null,null,null,null,null,null,null,null,null,null,null,null,null,null,null,null,null,null,null,null,null,null,null,null,null,null,null,null,null,null,null,null,null,null,null,null,null,null,null,null,null,null,null,null,null,null,null,null,null,null,null,null,null,null,null,null,null,null,null,null,null,null,null,null,null,null,null,null,null,null,null,null,null,null,null,null,null,null,null,null,null,null,null,null,null,null,null,null,null,null,null,null,null,null,null,null,null,null,null,null,null,null,null,null,null,null,null,null,null,null,null,null,null,null,null,null,null,null,null,null,null,null,null,null,null,null,null,null,null,null,null,null,null,null,null,null,null,null,null,null,null,null,null,null,null,null,null,null,null,null,null,null,null,null,null,null,null,null,null,null,null,null,null,null,null,null,null,null,null,null,null,null,null,null,null,null,null,null,null,null,null,null,null,null,null,null,null,null,null,null,null,null,null,null,null,null,null,null,null,null,null,null,null,null,null,null,null,null,null,null,null,null,null,null,null,null,null,null,null,null,null,null,null,null,null,null,null,null,null,null,null,null,null,null,null,null,null,null,null,null,null,null,null,null,null,null,null,null,null,null,null,null,null,null,null,null,null,null,null,null,null,null,null,null,null,null,null,null,null,null,null,null,null,null,null,null,null,null,null,null,null,null,null,null,null,null,null,null,null,null,null,null,null,null,null,null,null,null,null,null,null,null,null,null,null,null,null,null,null,null,null,null,null,null,null,null,null,null,null,null,null,null,null,null,null,null,null,null,null,null,null,null,null,null,null,null,null,null,null,null,null,null,null,null,null,null,null,null,null,null,null,null,null,null,null,null,null,null,null,null,null,null,null,null,null,null,null,null,null,null,null,null,null,null,null,null,null,null,null,null,null,null,null,null,null,null,null,null,null,null,null,null,null,null,null,null,null,null,null,null,null,null,null,null,null,null,null,null,null,null,null,null,null,null,null,null,null,null,null,null,null,null,null,null,null,null,null,null,null,null,null,null,null,null,null,null,null,null,null,null,null,null,null,null,null,null,null,null,null,null,null,null,null,null,null,null,null,null,null,null,null,null,null,null,null,null,null,null,null,null,null,null,null,null,null,null,null,null,null,null,null,null,null,null,null,null,null,null,null,null,null,null,null,null,null,null,null,null,null,null,null,null,null,null,null,null,null,null,null,null,null,null,null,null,null,null,null,null,null,null,null,null,null,null,null,null,null,null,null,null,null,null,null,null,null,null,null,null,null,null,null,null,null,null,null,null,null,null,null,null,null,null,null,null,null,null,null,null,null,null,null,null,null,null,null,null,null,null,null,null,null,null,null,null,null,null,null,null,null,null,null,null,null,null,null,null,null,null,null,null,null,null,null,null,null,null,null,null,null,null,null,null,null,null,null,null,null,null,null,null,null,null,null,null,null,null,null,null,null,null,null,null,null,null,null,null,null,null,null,null,null,null,null,null,null,null,null,null,null,null,null,null,null,null,null,null,null,null,null,null,null,null,null,null,null,null,null,null,null,null,null,null,null,null,null,null,null,null,null,null,null,null,null,null,null,null,null,null,null,null,null,null,null,null,null,null,null,null,null,null,null,null,null,null,null,null,null,null,null,null,null,null,null,null,null,null,null,null,null,null,null,null,null,null,null,null,null,null,null,null,null,null,null,null,null,null,null,null,null,null,null,null,null,null,null,null,null,null,null,null,null,null,null,null,null,null,null,null,null,null,null,null,null,null,null,null,null,null,null,null,null,null,null,null,null,null,null,null,null,null,null,null,null,null,null,null,null,null,null,null,null,null,null,null,null,null,null,null,null,null,null,null,null,null,null,null,null,null,null,null,null,null,null,null,null,null,null,null,null,null,null,null,null,null,null,null,null,null,null,null,null,null,null,null,null,null,null,null,null,null,null,null,null,null,null,null,null,null,null,null,null,null,null,null,null,null,null,null,null,null,null,null,null,null,null,null,null,null,null,null,null,null,null,null,null,null,null,null,null,null,null,null,null,null,null,null,null,null,null,null,null,null,null,null,null,null,null,null,null,null,null,null,null,null,null,null,null,null,null,null,null,null,null,null,null,null,null,null,null,null,null,null,null,null,null,null,null,null,null,null,null,null,null,null,null,null,null,null,null,null,null,null,null,null,null,null,null,null,null,null,null,null,null,null,null,null,null,null,null,null,null,null,null,null,null,null,null,null,null,null,null,null,null,null,null,null,null,null,null,null,null,null,null,null,null,null,null,null,null,null,null,null,null,null,null,null,null,null,null,null,null,null,null,null,null,null,null,null,null,null,null,null,null,null,null,null,null,null,null,null,null,null,null,null,null,null,null,null,null,null,null,null,null,null,null,null,null,null,null,null,null,null,null,null,null,null,null,null,null,null,null,null,null,null,null,null,null,null,null,null,null,null,null,null,null,null,null,null,null,null,null,null,null,null,null,null,null,null,null,null,null,null,null,null,null,null,null,null,null,null,null,null,null,null,null,null,null,null,null,null,null,null,null,null,null,null,null,null,null,null,null,null,null,null,null,null,null,null,null,null,null,null,null,null,null,null,null,null,null,null,null,null,null,null,null,null,null,null,null,null,null,null,null,null,null,null,null,null,null,null,null,null,null,null,null,null,null,null,null,null,null,null,null,null,null,null,null,null,null,null,null,null,null,null,null,null,null,null,null,null,null,null,null,null,null,null,null,null,null,null,null,null,null,null,null,null,null,null,null,null,null,null,null,null,null,null,null,null,null,null,null,null,null,null,null,null,null,null,null,null,null,null,null,null,null,null,null,null,null,null,null,null,null,null,null,null,null,null,null,null,null,null,null,null,null,null,null,null,null,null,null,null,null,null,null,null,null,null,null,null,null,null,null,null,null,null,null,null,null,null,null,null,null,null,null,null,null,null,null,null,null,null,null,null,null,null,null,null,null,null,null,null,null,null,null,null,null,null,null,null,null,null,null,null,null,null,null,null,null,null,null,null,null,null,null,null,null,null,null,null,null,null,null,null,null,null,null,null,null,null,null,null,null,null,null,null,null,null,null,null,null,null,null,null,null,null,null,null,null,null,null,null,null,null,null,null,null,null,null,null,null,null,null,null,null,null,null,null,null,null,null,null,null,null,null,null,null,null,null,null,null,null,null,null,null,null,null,null,null,null,null,null,null,null,null,null,null,null,null,null,null,null,null,null,null,null,null,null,null,null,null,null,null,null,null,null,null,null,null,null,null,null,null,null,null,null,null,null,null,null,null,null,null,null,null,null,null,null,null,null,null,null,null,null,null,null,null,null,null,null,null,null,null,null,null,null,null,null,null,null,null,null,null,null,null,null,null,null,null,null,null,null,null,null,null,null,null,null,null,null,null,null,null,null,null,null,null,null,null,null,null,null,null,null,null,null,null,null,null,null,null,null,null,null,null,null,null,null,null,null,null,null,null,null,null,null,null,null,null,null,null,null,null,null,null,null,null,null,null,null,null,null,null,null,null,null,null,null,null,null,null,null,null,null,null,null,null,null,null,null,null,null,null,null,null,null,null,null,null,null,null,null,null,null,null,null,null,null,null,null,null,null,null,null,null,null,null,null,null,null,null,null,null,null,null,null,null,null,null,null,null,null,null,null,null,null,null,null,null,null,null,null,null,null,null,null,null,null,null,null,null,null,null,null,null,null,null,null,null,null,null,null,null,null,null,null,null,null,null,null,null,null,null,null,null,null,null,null,null,null,null,null,null,null,null,null,null,null,null,null,null,null,null,null,null,null,null,null,null,null,null,null,null,null,null,null,null,null,null,null,null,null,null,null,null,null,null,null,null,null,null,null,null,null,null,null,null,null,null,null,null,null,null,null,null,null,null,null,null,null,null,null,null,null,null,null,null,null,null,null,null,null,null,null,null,null,null,null,null,null,null,null,null,null,null,null,null,null,null,null,null,null,null,null,null,null,null,null,null,null,null,null,null,null,null,null,null,null,null,null,null,null,null,null,null,null,null,null,null,null,null,null,null,null,null,null,null,null,null,null,null,null,null,null,null,null,null,null,null,null,null,null,null,null,null,null,null,null,null,null,null,null,null,null,null,null,null,null,null,null,null,null,null,null,null,null,null,null,null,null,null,null,null,null,null,null,null,null,null,null,null,null,null,null,null,null,null,null,null,null,null,null,null,null,null,null,null,null,null,null,null,null,null,null,null,null,null,null,null,null,null,null,null,null,null,null,null,null,null,null,null,null,null,null,null,null,null,null,null,null,null,null,null,null,null,null,null,null,null,null,null,null,null,null,null,null,null,null,null,null,null,null,null,null,null,null,null,null,null,null,null,null,null,null,null,null,null,null,null,null,null,null,null,null,null,null,null,null,null,null,null,null,null,null,null,null,null,null,null,null,null,null,null,null,null,null,null,null,null,null,null,null,null,null,null,null,null,null,null,null,null,null,null,null,null,null,null,null,null,null,null,null,null,null,null,null,null,null,null,null,null,null,null,null,null,null,null,null,null,null,null,null,null,null,null,null,null,null,null,null,null,null,null,null,null,null,null,null,null,null,null,null,null,null,null,null,null,null,null,null,null,null,null,null,null,null,null,null,null,null,null,null,null,null,null,null,null,null,null,null,null,null,null,null,null,null,null,null,null,null,null,null,null,null,null,null,null,null,null,null,null,null,null,null,null,null,null,null,null,null,null,null,null,null,null,null,null,null,null,null,null,null,null,null,null,null,null,null,null,null,null,null,null,null,null,null,null,null,null,null,null,null,null,null,null,null,null,null,null,null,null,null,null,null,null,null,null,null,null,null,null,null,null,null,null,null,null,null,null,null,null,null,null,null,null,null,null,null,null,null,null,null,null,null,null,null,null,null,null,null,null,null,null,null,null,null,null,null,null,null,null,null,null,null,null,null,null,null,null,null,null,null,null,null,null,null,null,null,null,null,null,null,null,null,null,null,null,null,null,null,null,null,null,null,null,null,null,null,null,null,null,null,null,null,null,null,null,null,null,null,null,null,null,null,null,null,null,null,null,null,null,null,null,null,null,null,null,null,null,null,null,null,null,null,null,null,null,null,null,null,null,null,null,null,null,null,null,null,null,null,null,null,null,null,null,null,null,null,null,null,null,null,null,null,null,null,null,null,null,null,null,null,null,null,null,null,null,null,null,null,null,null,null,null,null,null,null,null,null,null,null,null,null,null,null,null,null,null,null,null,null,null,null,null,null,null,null,null,null,null,null,null,null,null,null,null,null,null,null,null,null,null,null,null,null,null,null,null,null,null,null,null,null,null,null,null,null,null,null,null,null,null,null,null,null,null,null,null,null,null,null,null,null,null,null,null,null,null,null,null,null,null,null,null,null,null,null,null,null,null,null,null,null,null,null,null,null,null,null,null,null,null,null,null,null,null,null,null,null,null,null,null,null,null,null,null,null,null,null,null,null,null,null,null,null,null,null,null,null,null,null,null,null,null,null,null,null,null,null,null,null,null,null,null,null,null,null,null,null,null,null,null,null,null,null,null,null,null,null,null,null,null,null,null,null,null,null,null,null,null,null,null,null,null,null,null,null,null,null,null,null,null,null,null,null,null,null,null,null,null,null,null,null,null,null,null,null,null,null,null,null,null,null,null,null,null,null,null,null,null,null,null,null,null,null,null,null,null,null,null,null,null,null,null,null,null,null,null,null,null,null,null,null,null,null,null,null,null,null,null,null,null,null,null,null,null,null,null,null,null,null,null,null,null,null,null,null,null,null,null,null,null,null,null,null,null,null,null,null,null,null,null,null,null,null,null,null,null,null,null,null,null,null,null,null,null,null,null,null,null,null,null,null,null,null,null,null,null,null,null,null,null,null,null,null,null,null,null,null,null,null,null,null,null,null,null,null,null,null,null,null,null,null,null,null,null,null,null,null,null,null,null,null,null,null,null,null,null,null,null,null,null,null,null,null,null,null,null,null,null,null,null,null,null,null,null,null,null,null,null,null,null,null,null,null,null,null,null,null,null,null,null,null,null,null,null,null,null,null,null,null,null,null,null,null,null,null,null,null,null,null,null,null,null,null,null,null,null,null,null,null,null,null,null,null,null,null,null,null,null,null,null,null,null,null,null,null,null,null,null,null,null,null,null,null,null,null,null,null,null,null,null,null,null,null,null,null,null,null,null,null,null,null,null,null,null,null,null,null,null,null,null,null,null,null,null,null,null,null,null,null,null,null,null,null,null,null,null,null,null,null,null,null,null,null,null,null,null,null,null,null,null,null,null,null,null,null,null,null,null,null,null,null,null,null,null,null,null,null,null,null,null,null,null,null,null,null,null,null,null,null,null,null,null,null,null,null,null,null,null,null,null,null,null,null,null,null,null,null,null,null,null,null,null,null,null,null,null,null,null,null,null,null,null,null,null,null,null,null,null,null,null,null,null,null,null,null,null,null,null,null,null,null,null,null,null,null,null,null,null,null,null,null,null,null,null,null,null,null,null,null,null,null,null,null,null,null,null,null,null,null,null,null,null,null,null,null,null,null,null,null,null,null,null,null,null,null,null,null,null,null,null,null,null,null,null,null,null,null,null,null,null,null,null,null,null,null,null,null,null,null,null,null,null,null,null,null,null,null,null,null,null,null,null,null,null,null,null,null,null,null,null,null,null,null,null,null,null,null,null,null,null,null,null,null,null,null,null,null,null,null,null,null,null,null,null,null,null,null,null,null,null,null,null,null,null,null,null,null,null,null,null,null,null,null,null,null,null,null,null,null,null,null,null,null,null,null,null,null,null,null,null,null,null,null,null,null,null,null,null,null,null,null,null,null,null,null,null,null,null,null,null,null,null,null,null,null,null,null,null,null,null,null,null,null,null,null,null,null,null,null,null,null,null,null,null,null,null,null,null,null,null,null,null,null,null,null,null,null,null,null,null,null,null,null,null,null,null,null,null,null,null,null,null,null,null,null,null,null,null,null,null,null,null,null,null,null,null,null,null,null,null,null,null,null,null,null,null,null,null,null,null,null,null,null,null,null,null,null,null,null,null,null,null,null,null,null,null,null,null,null,null,null,null,null,null,null,null,null,null,null,null,null,null,null,null,null,null,null,null,null,null,null,null,null,null,null,null,null,null,null,null,null,null,null,null,null,null,null,null,null,null,null,null,null,null,null,null,null,null,null,null,null,null,null,null,null,null,null,null,null,null,null,null,null,null,null,null,null,null,null,null,null,null,null,null,null,null,null,null,null,null,null,null,null,null,null,null,null,null,null,null,null,null,null,null,null,null,null,null,null,null,null,null,null,null,null,null,null,null,null,null,null,null,null,null,null,null,null,null,null,null,null,null,null,null,null,null,null,null,null,null,null,null,null,null,null,null,null,null,null,null,null,null,null,null,null,null,null,null,null,null,null,null,null,null,null,null,null,null,null,null,null,null,null,null,null,null,null,null,null,null,null,null,null,null,null,null,null,null,null,null,null,null,null,null,null,null,null,null,null,null,null,null,null,null,null,null,null,null,null,null,null,null,null,null,null,null,null,null,null,null,null,null,null,null,null,null,null,null,null,null,null,null,null,null,null,null,null,null,null,null,null,null,null,null,null,null,null,null,null,null,null,null,null,null,null,null,null,null,null,null,null,null,null,null,null,null,null,null,null,null,null,null,null,null,null,null,null,null,null,null,null,null,null,null,null,null,null,null,null,null,null,null,null,null,null,null,null,null,null,null,null,null,null,null,null,null,null,null,null,null,null,null,null,null,null,null,null,null,null,null,null,null,null,null,null,null,null,null,null,null,null,null,null,null,null,null,null,null,null,null,null,null,null,null,null,null,null,null,null,null,null,null,null,null,null,null,null,null,null,null,null,null,null,null,null,null,null,null,null,null,null,null,null,null,null,null,null,null,null,null,null,null,null,null,null,null,null,null,null,null,null,null,null,null,null,null,null,null,null,null,null,null,null,null,null,null,null,null,null,null,null,null,null,null,null,null,null,null,null,null,null,null,null,null,null,null,null,null,null,null,null,null,null,null,null,null,null,null,null,null,null,null,null,null,null,null,null,null,null,null,null,null,null,null,null,null,null,null,null,null,null,null,null,null,null,null,null,null,null,null,null,null,null,null,null,null,null,null,null,null,null,null,null,null,null,null,null,null,null,null,null,null,null,null,null,null,null,null,null,null,null,null,null,null,null,null,null,null,null,null,null,null,null,null,null,null,null,null,null,null,null,null,null,null,null,null,null,null,null,null,null,null,null,null,null,null,null,null,null,null,null,null,null,null,null,null,null,null,null,null,null,null,null,null,null,null,null,null,null,null,null,null,null,null,null,null,null,null,null,null,null,null,null,null,null,null,null,null,null,null,null,null,null,null,null,null,null,null,null,null,null,null,null,null,null,null,null,null,null,null,null,null,null,null,null,null,null,null,null,null,null,null,null,null,null,null,null,null,null,null,null,null,null,null,null,null,null,null,null,null,null,null,null,null,null,null,null,null,null,null,null,null,null,null,null,null,null,null,null,null,null,null,null,null,null,null,null,null,null,null,null,null,null,null,null,null,null,null,null,null,null,null,null,null,null,null,null,null,null,null,null,null,null,null,null,null,null,null,null,null,null,null,null,null,null,null,null,null,null,null,null,null,null,null,null,null,null,null,null,null,null,null,null,null,null,null,null,null,null,null,null,null,null,null,null,null,null,null,null,null,null,null,null,null,null,null,null,null,null,null,null,null,null,null,null,null,null,null,null,null,null,null,null,null,null,null,null,null,null,null,null,null,null,null,null,null,null,null,null,null,null,null,null,null,null,null,null,null,null,null,null,null,null,null,null,null,null,null,null,null,null,null,null,null,null,null,null,null,null,null,null,null,null,null,null,null,null,null,null,null,null,null,null,null,null,null,null,null,null,null,null,null,null,null,null,null,null,null,null,null,null,null,null,null,null,null,null,null,null,null,null,null,null,null,null,null,null,null,null,null,null,null,null,null,null,null,null,null,null,null,null,null,null,null,null,null,null,null,null,null,null,null,null,null,null,null,null,null,null,null,null,null,null,null,null,null,null,null,null,null,null,null,null,null,null,null,null,null,null,null,null,null,null,null,null,null,null,null,null,null,null,null,null,null,null,null,null,null,null,null,null,null,null,null,null,null,null,null,null,null,null,null,null,null,null,null,null,null,null,null,null,null,null,null,null,null,null,null,null,null,null,null,null,null,null,null,null,null,null,null,null,null,null,null,null,null,null,null,null,null,null,null,null,null,null,null,null,null,null,null,null,null,null,null,null,null,null,null,null,null,null,null,null,null,null,null,null,null,null,null,null,null,null,null,null,null,null,null,null,null,null,null,null,null,null,null,null,null,null,null,null,null,null,null,null,null,null,null,null,null,null,null,null,null,null,null,null,null,null,null,null,null,null,null,null,null,null,null,null,null,null,null,null,null,null,null,null,null,null,null,null,null,null,null,null,null,null,null,null,null,null,null,null,null,null,null,null,null,null,null,null,null,null,null,null,null,null,null,null,null,null,null,null,null,null,null,null,null,null,null,null,null,null,null,null,null,null,null,null,null,null,null,null,null,null,null,null,null,null,null,null,null,null,null,null,null,null,null,null,null,null,null,null,null,null,null,null,null,null,null,null,null,null,null,null,null,null,null,null,null,null,null,null,null,null,null,null,null,null,null,null,null,null,null,null,null,null,null,null,null,null,null,null,null,null,null,null,null,null,null,null,null,null,null,null,null,null,null,null,null,null,null,null,null,null,null,null,null,null,null,null,null,null,null,null,null,null,null,null,null,null,null,null,null,null,null,null,null,null,null,null,null,null,null,null,null,null,null,null,null,null,null,null,null,null,null,null,null,null,null,null,null,null,null,null,null,null,null,null,null,null,null,null,null,null,null,null,null,null,null,null,null,null,null,null,null,null,null,null,null,null,null,null,null,null,null,null,null,null,null,null,null,null,null,null,null,null,null,null,null,null,null,null,null,null,null,null,null,null,null,null,null,null,null,null,null,null,null,null,null,null,null,null,null,null,null,null,null,null,null,null,null,null,null,null,null,null,null,null,null,null,null,null,null,null,null,null,null,null,null,null,null,null,null,null,null,null,null,null,null,null,null,null,null,null,null,null,null,null,null,null,null,null,null,null,null,null,null,null,null,null,null,null,null,null,null,null,null,null,null,null,null,null,null,null,null,null,null,null,null,null,null,null,null,null,null,null,null,null,null,null,null,null,null,null,null,null,null,null,null,null,null,null,null,null,null,null,null,null,null,null,null,null,null,null,null,null,null,null,null,null,null,null,null,null,null,null,null,null,null,null,null,null,null,null,null,null,null,null,null,null,null,null,null,null,null,null,null,null,null,null,null,null,null,null,null,null,null,null,null,null,null,null,null,null,null,null,null,null,null,null,null,null,null,null,null,null,null,null,null,null,null,null,null,null,null,null,null,null,null,null,null,null,null,null,null,null,null,null,null,null,null,null,null,null,null,null,null,null,null,null,null,null,null,null,null,null,null,null,null,null,null,null,null,null,null,null,null,null,null,null,null,null,null,null,null,null,null,null,null,null,null,null,null,null,null,null,null,null,null,null,null,null,null,null,null,null,null,null,null,null,null,null,null,null,null,null,null,null,null,null,null,null,null,null,null,null,null,null,null,null,null,null,null,null,null,null,null,null,null,null,null,null,null,null,null,null,null,null,null,null,null,null,null,null,null,null,null,null,null,null,null,null,null,null,null,null,null,null,null,null,null,null,null,null,null,null,null,null,null,null,null,null,null,null,null,null,null,null,null,null,null,null,null,null,null,null,null,null,null,null,null,null,null,null,null,null,null,null,null,null,null,null,null,null,null,null,null,null,null,null,null,null,null,null,null,null,null,null,null,null,null,null,null,null,null,null,null,null,null,null,null,null,null,null,null,null,null,null,null,null,null,null,null,null,null,null,null,null,null,null,null,null,null,null,null,null,null,null,null,null,null,null,null,null,null,null,null,null,null,null,null,null,null,null,null,null,null,null,null,null,null,null,null,null,null,null,null,null,null,null,null,null,null,null,null,null,null,null,null,null,null,null,null,null,null,null,null,null,null,null,null,null,null,null,null,null,null,null,null,null,null,null,null,null,null,null,null,null,null,null,null,null,null,null,null,null,null,null,null,null,null,null,null,null,null,null,null,null,null,null,null,null,null,null,null,null,null,null,null,null,null,null,null,null,null,null,null,null,null,null,null,null,null,null,null,null,null,null,null,null,null,null,null,null,null,null,null,null,null,null,null,null,null,null,null,null,null,null,null,null,null,null,null,null,null,null,null,null,null,null,null,null,null,null,null,null,null,null,null,null,null,null,null,null,null,null,null,null,null,null,null,null,null,null,null,null,null,null,null,null,null,null,null,null,null,null,null,null,null,null,null,null,null,null,null,null,null,null,null,null,null,null,null,null,null,null,null,null,null,null,null,null,null,null,null,null,null,null,null,null,null,null,null,null,null,null,null,null,null,null,null,null,null,null,null,null,null,null,null,null,null,null,null,null,null,null,null,null,null,null,null,null,null,null,null,null,null,null,null,null,null,null,null,null,null,null,null,null,null,null,null,null,null,null,null,null,null,null,null,null,null,null,null,null,null,null,null,null,null,null,null,null,null,null,null,null,null,null,null,null,null,null,null,null,null,null,null,null,null,null,null,null,null,null,null,null,null,null,null,null,null,null,null,null,null,null,null,null,null,null,null,null,null,null,null,null,null,null,null,null,null,null,null,null,null,null,null,null,null,null,null,null,null,null,null,null,null,null,null,null,null,null,null,null,null,null,null,null,null,null,null,null,null,null,null,null,null,null,null,null,null,null,null,null,null,null,null,null,null,null,null,null,null,null,null,null,null,null,null,null,null,null,null,null,null,null,null,null,null,null,null,null,null,null,null,null,null,null,null,null,null,null,null,null,null,null,null,null,null,null,null,null,null,null,null,null,null,null,null,null,null,null,null,null,null,null,null,null,null,null,null,null,null,null,null,null,null,null,null,null,null,null,null,null,null,null,null,null,null,null,null,null,null,null,null,null,null,null,null,null,null,null,null,null,null,null,null,null,null,null,null,null,null,null,null,null,null,null,null,null,null,null,null,null,null,null,null,null,null,null,null,null,null,null,null,null,null,null,null,null,null,null,null,null,null,null,null,null,null,null,null,null,null,null,null,null,null,null,null,null,null,null,null,null,null,null,null,null,null,null,null,null,null,null,null,null,null,null,null,null,null,null,null,null,null,null,null,null,null,null,null,null,null,null,null,null,null,null,null,null,null,null,null,null,null,null,null,null,null,null,null,null,null,null,null,null,null,null,null,null,null,null,null,null,null,null,null,null,null,null,null,null,null,null,null,null,null,null,null,null,null,null,null,null,null,null,null,null,null,null,null,null,null,null,null,null,null,null,null,null,null,null,null,null,null,null,null,null,null,null,null,null,null,null,null,null,null,null,null,null,null,null,null,null,null,null,null,null,null,null,null,null,null,null,null,null,null,null,null,null,null,null,null,null,null,null,null,null,null,null,null,null,null,null,null,null,null,null,null,null,null,null,null,null,null,null,null,null,null,null,null,null,null,null,null,null,null,null,null,null,null,null,null,null,null,null,null,null,null,null,null,null,null,null,null,null,null,null,null,null,null,null,null,null,null,null,null,null,null,null,null,null,null,null,null,null,null,null,null,null,null,null,null,null,null,null,null,null,null,null,null,null,null,null,null,null,null,null,null,null,null,null,null,null,null,null,null,null,null,null,null,null,null,null,null,null,null,null,null,null,null,null,null,null,null,null,null,null,null,null,null,null,null,null,null,null,null,null,null,null,null,null,null,null,null,null,null,null,null,null,null,null,null,null,null,null,null,null,null,null,null,null,null,null,null,null,null,null,null,null,null,null,null,null,null,null,null,null,null,null,null,null,null,null,null,null,null,null,null,null,null,null,null,null,null,null,null,null,null,null,null,null,null,null,null,null,null,null,null,null,null,null,null,null,null,null,null,null,null,null,null,null,null,null,null,null,null,null,null,null,null,null,null,null,null,null,null,null,null,null,null,null,null,null,null,null,null,null,null,null,null,null,null,null,null,null,null,null,null,null,null,null,null,null,null,null,null,null,null,null,null,null,null,null,null,null,null,null,null,null,null,null,null,null,null,null,null,null,null,null,null,null,null,null,null,null,null,null,null,null,null,null,null,null,null,null,null,null,null,null,null,null,null,null,null,null,null,null,null,null,null,null,null,null,null,null,null,null,null,null,null,null,null,null,null,null,null,null,null,null,null,null,null,null,null,null,null,null,null,null,null,null,null,null,null,null,null,null,null,null,null,null,null,null,null,null,null,null,null,null,null,null,null,null,null,null,null,null,null,null,null,null,null,null,null,null,null,null,null,null,null,null,null,null,null,null,null,null,null,null,null,null,null,null,null,null,null,null,null,null,null,null,null,null,null,null,null,null,null,null,null,null,null,null,null,null,null,null,null,null,null,null,null,null,null,null,null,null,null,null,null,null,null,null,null,null,null,null,null,null,null,null,null,null,null,null,null,null,null,null,null,null,null,null,null,null,null,null,null,null,null,null,null,null,null,null,null,null,null,null,null,null,null,null,null,null,null,null,null,null,null,null,null,null,null,null,null,null,null,null,null,null,null,null,null,null,null,null,null,null,null,null,null,null,null,null,null,null,null,null,null,null,null,null,null,null,null,null,null,null,null,null,null,null,null,null,null,null,null,null,null,null,null,null,null,null,null,null,null,null,null,null,null,null,null,null,null,null,null,null,null,null,null,null,null,null,null,null,null,null,null,null,null,null,null,null,null,null,null,null,null,null,null,null,null,null,null,null,null,null,null,null,null,null,null,null,null,null,null,null,null,null,null,null,null,null,null,null,null,null,null,null,null,null,null,null,null,null,null,null,null,null,null,null,null,null,null,null,null,null,null,null,null,null,null,null,null,null,null,null,null,null,null,null,null,null,null,null,null,null,null,null,null,null,null,null,null,null,null,null,null,null,null,null,null,null,null,null,null,null,null,null,null,null,null,null,null,null,null,null,null,null,null,null,null,null,null,null,null,null,null,null,null,null,null,null,null,null,null,null,null,null,null,null,null,null,null,null,null,null,null,null,null,null,null,null,null,null,null,null,null,null,null,null,null,null,null,null,null,null,null,null,null,null,null,null,null,null,null,null,null,null,null,null,null,null,null,null,null,null,null,null,null,null,null,null,null,null,null,null,null,null,null,null,null,null,null,null,null,null,null,null,null,null,null,null,null,null,null,null,null,null,null,null,null,null,null,null,null,null,null,null,null,null,null,null,null,null,null,null,null,null,null,null,null,null,null,null,null,null,null,null,null,null,null,null,null,null,null,null,null,null,null,null,null,null,null,null,null,null,null,null,null,null,null,null,null,null,null,null,null,null,null,null,null,null,null,null,null,null,null,null,null,null,null,null,null,null,null,null,null,null,null,null,null,null,null,null,null,null,null,null,null,null,null,null,null,null,null,null,null,null,null,null,null,null,null,null,null,null,null,null,null,null,null,null,null,null,null,null,null,null,null,null,null,null,null,null,null,null,null,null,null,null,null,null,null,null,null,null,null,null,null,null,null,null,null,null,null,null,null,null,null,null,null,null,null,null,null,null,null,null,null,null,null,null,null,null,null,null,null,null,null,null,null,null,null,null,null,null,null,null,null,null,null,null,null,null,null,null,null,null,null,null,null,null,null,null,null,null,null,null,null,null,null,null,null,null,null,null,null,null,null,null,null,null,null,null,null,null,null,null,null,null,null,null,null,null,null,null,null,null,null,null,null,null,null,null,null,null,null,null,null,null,null,null,null,null,null,null,null,null,null,null,null,null,null,null,null,null,null,null,null,null,null,null,null,null,null,null,null,null,null,null,null,null,null,null,null,null,null,null,null,null,null,null,null,null,null,null,null,null,null,null,null,null,null,null,null,null,null,null,null,null,null,null,null,null,null,null,null,null,null,null,null,null,null,null,null,null,null,null,null,null,null,null,null,null,null,null,null,null,null,null,null,null,null,null,null,null,null,null,null,null,null,null,null,null,null,null,null,null,null,null,null,null,null,null,null,null,null,null,null,null,null,null,null,null,null,null,null,null,null,null,null,null,null,null,null,null,null,null,null,null,null,null,null,null,null,null,null,null,null,null,null,null,null,null,null,null,null,null,null,null,null,null,null,null,null,null,null,null,null,null,null,null,null,null,null,null,null,null,null,null,null,null,null,null,null,null,null,null,null,null,null,null,null,null,null,null,null,null,null,null,null,null,null,null,null,null,null,null,null,null,null,null,null,null,null,null,null,null,null,null,null,null,null,null,null,null,null,null,null,null,null,null,null,null,null,null,null,null,null,null,null,null,null,null,null,null,null,null,null,null,null,null,null,null,null,null,null,null,null,null,null,null,null,null,null,null,null,null,null,null,null,null,null,null,null,null,null,null,null,null,null,null,null,null,null,null,null,null,null,null,null,null,null,null,null,null,null,null,null,null,null,null,null,null,null,null,null,null,null,null,null,null,null,null,null,null,null,null,null,null,null,null,null,null,null,null,null,null,null,null,null,null,null,null,null,null,null,null,null,null,null,null,null,null,null,null,null,null,null,null,null,null,null,null,null,null,null,null,null,null,null,null,null,null,null,null,null,null,null,null,null,null,null,null,null,null,null,null,null,null,null,null,null,null,null,null,null,null,null,null,null,null,null,null,null,null,null,null,null,null,null,null,null,null,null,null,null,null,null,null,null,null,null,null,null,null,null,null,null,null,null,null,null,null,null,null,null,null,null,null,null,null,null,null,null,null,null,null,null,null,null,null,null,null,null,null,null,null,null,null,null,null,null,null,null,null,null,null,null,null,null,null,null,null,null,null,null,null,null,null,null,null,null,null,null,null,null,null,null,null,null,null,null,null,null,null,null,null,null,null,null,null,null,null,null,null,null,null,null,null,null,null,null,null,null,null,null,null,null,null,null,null,null,null,null,null,null,null,null,null,null,null,null,null,null,null,null,null,null,null,null,null,null,null,null,null,null,null,null,null,null,null,null,null,null,null,null,null,null,null,null,null,null,null,null,null,null,null,null,null,null,null,null,null,null,null,null,null,null,null,null,null,null,null,null,null,null,null,null,null,null,null,null,null,null,null,null,null,null,null,null,null,null,null,null,null,null,null,null,null,null,null,null,null,null,null,null,null,null,null,null,null,null,null,null,null,null,null,null,null,null,null,null,null,null,null,null,null,null,null,null,null,null,null,null,null,null,null,null,null,null,null,null,null,null,null,null,null,null,null,null,null,null,null,null,null,null,null,null,null,null,null,null,null,null,null,null,null,null,null,null,null,null,null,null,null,null,null,null,null,null,null,null,null,null,null,null,null,null,null,null,null,null,null,null,null,null,null,null,null,null,null,null,null,null,null,null,null,null,null,null,null,null,null,null,null,null,null,null,null,null,null,null,null,null,null,null,null,null,null,null,null,null,null,null,null,null,null,null,null,null,null,null,null,null,null,null,null,null,null,null,null,null,null,null,null,null,null,null,null,null,null,null,null,null,null,null,null,null,null,null,null,null,null,null,null,null,null,null,null,null,null,null,null,null,null,null,null,null,null,null,null,null,null,null,null,null,null,null,null,null,null,null,null,null,null,null,null,null,null,null,null,null,null,null,null,null,null,null,null,null,null,null,null,null,null,null,null,null,null,null,null,null,null,null,null,null,null,null,null,null,null,null,null,null,null,null,null,null,null,null,null,null,null,null,null,null,null,null,null,null,null,null,null,null,null,null,null,null,null,null,null,null,null,null,null,null,null,null,null,null,null,null,null,null,null,null,null,null,null,null,null,null,null,null,null,null,null,null,null,null,null,null,null,null,null,null,null,null,null,null,null,null,null,null,null,null,null,null,null,null,null,null,null,null,null,null,null,null,null,null,null,null,null,null,null,null,null,null,null,null,null,null,null,null,null,null,null,null,null,null,null,null,null,null,null,null,null,null,null,null,null,null,null,null,null,null,null,null,null,null,null,null,null,null,null,null,null,null,null,null,null,null,null,null,null,null,null,null,null,null,null,null,null,null,null,null,null,null,null,null,null,null,null,null,null,null,null,null,null,null,null,null,null,null,null,null,null,null,null,null,null,null,null,null,null,null,null,null,null,null,null,null,null,null,null,null,null,null,null,null,null,null,null,null,null,null,null,null,null,null,null,null,null,null,null,null,null,null,null,null,null,null,null,null,null,null,null,null,null,null,null,null,null,null,null,null,null,null,null,null,null,null,null,null,null,null,null,null,null,null,null,null,null,null,null,null,null,null,null,null,null,null,null,null,null,null,null,null,null,null,null,null,null,null,null,null,null,null,null,null,null,null,null,null,null,null,null,null,null,null,null,null,null,null,null,null,null,null,null,null,null,null,null,null,null,null,null,null,null,null,null,null,null,null,null,null,null,null,null,null,null,null,null,null,null,null,null,null,null,null,null,null,null,null,null,null,null,null,null,null,null,null,null,null,null,null,null,null,null,null,null,null,null,null,null,null,null,null,null,null,null,null,null,null,null,null,null,null,null,null,null,null,null,null,null,null,null,null,null,null,null,null,null,null,null,null,null,null,null,null,null,null,null,null,null,null,null,null,null,null,null,null,null,null,null,null,null,null,null,null,null,null,null,null,null,null,null,null,null,null,null,null,null,null,null,null,null,null,null,null,null,null,null,null,null,null,null,null,null,null,null,null,null,null,null,null,null,null,null,null,null,null,null,null,null,null,null,null,null,null,null,null,null,null,null,null,null,null,null,null,null,null,null,null,null,null,null,null,null,null,null,null,null,null,null,null,null,null,null,null,null,null,null,null,null,null,null,null,null,null,null,null,null,null,null,null,null,null,null,null,null,null,null,null,null,null,null,null,null,null,null,null,null,null,null,null,null,null,null,null,null,null,null,null,null,null,null,null,null,null,null,null,null,null,null,null,null,null,null,null,null,null,null,null,null,null,null,null,null,null,null,null,null,null,null,null,null,null,null,null,null,null,null,null,null,null,null,null,null,null,null,null,null,null,null,null,null,null,null,null,null,null,null,null,null,null,null,null,null,null,null,null,null,null,null,null,null,null,null,null,null,null,null,null,null,null,null,null,null,null,null,null,null,null,null,null,null,null,null,null,null,null,null,null,null,null,null,null,null,null,null,null,null,null,null,null,null,null,null,null,null,null,null,null,null,null,null,null,null,null,null,null,null,null,null,null,null,null,null,null,null,null,null,null,null,null,null,null,null,null,null,null,null,null,null,null,null,null,null,null,null,null,null,null,null,null,null,null,null,null,null,null,null,null,null,null,null,null,null,null,null,null,null,null,null,null,null,null,null,null,null,null,null,null,null,null,null,null,null,null,null,null,null,null,null,null,null,null,null,null,null,null,null,null,null,null,null,null,null,null,null,null,null,null,null,null,null,null,null,null,null,null,null,null,null,null,null,null,null,null,null,null,null,null,null,null,null,null,null,null,null,null,null,null,null,null,null,null,null,null,null,null,null,null,null,null,null,null,null,null,null,null,null,null,null,null,null,null,null,null,null,null,null,null,null,null,null,null,null,null,null,null,null,null,null,null,null,null,null,null,null,null,null,null,null,null,null,null,null,null,null,null,null,null,null,null,null,null,null,null,null,null,null,null,null,null,null,null,null,null,null,null,null,null,null,null,null,null,null,null,null,null,null,null,null,null,null,null,null,null,null,null,null,null,null,null,null,null,null,null,null,null,null,null,null,null,null,null,null,null,null,null,null,null,null,null,null,null,null,null,null,null,null,null,null,null,null,null,null,null,null,null,null,null,null,null,null,null,null,null,null,null,null,null,null,null,null,null,null,null,null,null,null,null,null,null,null,null,null,null,null,null,null,null,null,null,null,null,null,null,null,null,null,null,null,null,null,null,null,null,null,null,null,null,null,null,null,null,null,null,null,null,null,null,null,null,null,null,null,null,null,null,null,null,null,null,null,null,null,null,null,null,null,null,null,null,null,null,null,null,null,null,null,null,null,null,null,null,null,null,null,null,null,null,null,null,null,null,null,null,null,null,null,null,null,null,null,null,null,null,null,null,null,null,null,null,null,null,null,null,null,null,null,null,null,null,null,null,null,null,null,null,null,null,null,null,null,null,null,null,null,null,null,null,null,null,null,null,null,null,null,null,null,null,null,null,null,null,null,null,null,null,null,null,null,null,null,null,null,null,null,null,null,null,null,null,null,null,null,null,null,null,null,null,null,null,null,null,null,null,null,null,null,null,null,null,null,null,null,null,null,null,null,null,null,null,null,null,null,null,null,null,null,null,null,null,null,null,null,null,null,null,null,null,null,null,null,null,null,null,null,null,null,null,null,null,null,null,null,null,null,null,null,null,null,null,null,null,null,null,null,null,null,null,null,null,null,null,null,null,null,null,null,null,null,null,null,null,null,null,null,null,null,null,null,null,null,null,null,null,null,null,null,null,null,null,null,null,null,null,null,null,null,null,null,null,null,null,null,null,null,null,null,null,null,null,null,null,null,null,null,null,null,null,null,null,null,null,null,null,null,null,null,null,null,null,null,null,null,null,null,null,null,null,null,null,null,null,null,null,null,null,null,null,null,null,null,null,null,null,null,null,null,null,null,null,null,null,null,null,null,null,null,null,null,null,null,null,null,null,null,null,null,null,null,null,null,null,null,null,null,null,null,null,null,null,null,null,null,null,null,null,null,null,null,null,null,null,null,null,null,null,null,null,null,null,null,null,null,null,null,null,null,null,null,null,null,null,null,null,null,null,null,null,null,null,null,null,null,null,null,null,null,null,null,null,null,null,null,null,null,null,null,null,null,null,null,null,null,null,null,null,null,null,null,null,null,null,null,null,null,null,null,null,null,null,null,null,null,null,null,null,null,null,null,null,null,null,null,null,null,null,null,null,null,null,null,null,null,null,null,null,null,null,null,null,null,null,null,null,null,null,null,null,null,null,null,null,null,null,null,null,null,null,null,null,null,null,null,null,null,null,null,null,null,null,null,null,null,null,null,null,null,null,null,null,null,null,null,null,null,null,null,null,null,null,null,null,null,null,null,null,null,null,null,null,null,null,null,null,null,null,null,null,null,null,null,null,null,null,null,null,null,null,null,null,null,null,null,null,null,null,null,null,null,null,null,null,null,null,null,null,null,null,null,null,null,null,null,null,null,null,null,null,null,null,null,null,null,null,null,null,null,null,null,null,null,null,null,null,null,null,null,null,null,null,null,null,null,null,null,null,null,null,null,null,null,null,null,null,null,null,null,null,null,null,null,null,null,null,null,null,null,null,null,null,null,null,null,null,null,null,null,null,null,null,null,null,null,null,null,null,null,null,null,null,null,null,null,null,null,null,null,null,null,null,null,null,null,null,null,null,null,null,null,null,null,null,null,null,null,null,null,null,null,null,null,null,null,null,null,null,null,null,null,null,null,null,null,null,null,null,null,null,null,null,null,null,null,null,null,null,null,null,null,null,null,null,null,null,null,null,null,null,null,null,null,null,null,null,null,null,null,null,null,null,null,null,null,null,null,null,null,null,null,null,null,null,null,null,null,null,null,null,null,null,null,null,null,null,null,null,null,null,null,null,null,null,null,null,null,null,null,null,null,null,null,null,null,null,null,null,null,null,null,null,null,null,null,null,null,null,null,null,null,null,null,null,null,null,null,null,null,null,null,null,null,null,null,null,null,null,null,null,null,null,null,null,null,null,null,null,null,null,null,null,null,null,null,null,null,null,null,null,null,null,null,null,null,null,null,null,null,null,null,null,null,null,null,null,null,null,null,null,null,null,null,null,null,null,null,null,null,null,null,null,null,null,null,null,null,null,null,null,null,null,null,null,null,null,null,null,null,null,null,null,null,null,null,null,null,null,null,null,null,null,null,null,null,null,null,null,null,null,null,null,null,null,null,null,null,null,null,null,null,null,null,null,null,null,null,null,null,null,null,null,null,null,null,null,null,null,null,null,null,null,null,null,null,null,null,null,null,null,null,null,null,null,null,null,null,null,null,null,null,null,null,null,null,null,null,null,null,null,null,null,null,null,null,null,null,null,null,null,null,null,null,null,null,null,null,null,null,null,null,null,null,null,null,null,null,null,null,null,null,null,null,null,null,null,null,null,null,null,null,null,null,null,null,null,null,null,null,null,null,null,null,null,null,null,null,null,null,null,null,null,null,null,null,null,null,null,null,null,null,null,null,null,null,null,null,null,null,null,null,null,null,null,null,null,null,null,null,null,null,null,null,null,null,null,null,null,null,null,null,null,null,null,null,null,null,null,null,null,null,null,null,null,null,null,null,null,null,null,null,null,null,null,null,null,null,null,null,null,null,null,null,null,null,null,null,null,null,null,null,null,null,null,null,null,null,null,null,null,null,null,null,null,null,null,null,null,null,null,null,null,null,null,null,null,null,null,null,null,null,null,null,null,null,null,null,null,null,null,null,null,null,null,null,null,null,null,null,null,null,null,null,null,null,null,null,null,null,null,null,null,null,null,null,null,null,null,null,null,null,null,null,null,null,null,null,null,null,null,null,null,null,null,null,null,null,null,null,null,null,null,null,null,null,null,null,null,null,null,null,null,null,null,null,null,null,null,null,null,null,null,null,null,null,null,null,null,null,null,null,null,null,null,null,null,null,null,null,null,null,null,null,null,null,null,null,null,null,null,null,null,null,null,null,null,null,null,null,null,null,null,null,null,null,null,null,null,null,null,null,null,null,null,null,null,null,null,null,null,null,null,null,null,null,null,null,null,null,null,null,null,null,null,null,null,null,null,null,null,null,null,null,null,null,null,null,null,null,null,null,null,null,null,null,null,null,null,null,null,null,null,null,null,null,null,null,null,null,null,null,null,null,null,null,null,null,null,null,null,null,null,null,null,null,null,null,null,null,null,null,null,null,null,null,null,null,null,null,null,null,null,null,null,null,null,null,null,null,null,null,null,null,null,null,null,null,null,null,null,null,null,null,null,null,null,null,null,null,null,null,null,null,null,null,null,null,null,null,null,null,null,null,null,null,null,null,null,null,null,null,null,null,null,null,null,null,null,null,null,null,null,null,null,null,null,null,null,null,null,null,null,null,null,null,null,null,null,null,null,null,null,null,null,null,null,null,null,null,null,null,null,null,null,null,null,null,null,null,null,null,null,null,null,null,null,null,null,null,null,null,null,null,null,null,null,null,null,null,null,null,null,null,null,null,null,null,null,null,null,null,null,null,null,null,null,null,null,null,null,null,null,null,null,null,null,null,null,null,null,null,null,null,null,null,null,null,null,null,null,null,null,null,null,null,null,null,null,null,null,null,null,null,null,null,null,null,null,null,null,null,null,null,null,null,null,null,null,null,null,null,null,null,null,null,null,null,null,null,null,null,null,null,null,null,null,null,null,null,null,null,null,null,null,null,null,null,null,null,null,null,null,null,null,null,null,null,null,null,null,null,null,null,null,null,null,null,null,null,null,null,null,null,null,null,null,null,null,null,null,null,null,null,null,null,null,null,null,null,null,null,null,null,null,null,null,null,null,null,null,null,null,null,null,null,null,null,null,null,null,null,null,null,null,null,null,null,null,null,null,null,null,null,null,null,null,null,null,null,null,null,null,null,null,null,null,null,null,null,null,null,null,null,null,null,null,null,null,null,null,null,null,null,null,null,null,null,null,null,null,null,null,null,null,null,null,null,null,null,null,null,null,null,null,null,null,null,null,null,null,null,null,null,null,null,null,null,null,null,null,null,null,null,null,null,null,null,null,null,null,null,null,null,null,null,null,null,null,null,null,null,null,null,null,null,null,null,null,null,null,null,null,null,null,null,null,null,null,null,null,null,null,null,null,null,null,null,null,null,null,null,null,null,null,null,null,null,null,null,null,null,null,null,null,null,null,null,null,null,null,null,null,null,null,null,null,null,null,null,null,null,null,null,null,null,null,null,null,null,null,null,null,null,null,null,null,null,null,null,null,null,null,null,null,null,null,null,null,null,null,null,null,null,null,null,null,null,null,null,null,null,null,null,null,null,null,null,null,null,null,null,null,null,null,null,null,null,null,null,null,null,null,null,null,null,null,null,null,null,null,null,null,null,null,null,null,null,null,null,null,null,null,null,null,null,null,null,null,null,null,null,null,null,null,null,null,null,null,null,null,null,null,null,null,null,null,null,null,null,null,null,null,null,null,null,null,null,null,null,null,null,null,null,null,null,null,null,null,null,null,null,null,null,null,null,null,null,null,null,null,null,null,null,null,null,null,null,null,null,null,null,null,null,null,null,null,null,null,null,null,null,null,null,null,null,null,null,null,null,null,null,null,null,null,null,null,null,null,null,null,null,null,null,null,null,null,null,null,null,null,"Initial Date",null,{"$f":"NOW()","v":"2017-08-24T11:35:58.090"},{"$f":"'Cover Sheet'!$C$26","v":"00:00:00"}]
[null,null,null,null,null,null,null,null,null,null,null,null,null,null,null,null,null,null,null,null,null,null,null,null,null,null,null,null,null,null,null,null,null,null,null,null,null,null,null,null,null,null,null,null,null,null,null,null,null,null,null,null,null,null,null,null,null,null,null,null,null,null,null,null,null,null,null,null,null,null,null,null,null,null,null,null,null,null,null,null,null,null,null,null,null,null,null,null,null,null,null,null,null,null,null,null,null,null,null,null,null,null,null,null,null,null,null,null,null,null,null,null,null,null,null,null,null,null,null,null,null,null,null,null,null,null,null,null,null,null,null,null,null,null,null,null,null,null,null,null,null,null,null,null,null,null,null,null,null,null,null,null,null,null,null,null,null,null,null,null,null,null,null,null,null,null,null,null,null,null,null,null,null,null,null,null,null,null,null,null,null,null,null,null,null,null,null,null,null,null,null,null,null,null,null,null,null,null,null,null,null,null,null,null,null,null,null,null,null,null,null,null,null,null,null,null,null,null,null,null,null,null,null,null,null,null,null,null,null,null,null,null,null,null,null,null,null,null,null,null,null,null,null,null,null,null,null,null,null,null,null,null,null,null,null,null,null,null,null,null,null,null,null,null,null,null,null,null,null,null,null,null,null,null,null,null,null,null,null,null,null,null,null,null,null,null,null,null,null,null,null,null,null,null,null,null,null,null,null,null,null,null,null,null,null,null,null,null,null,null,null,null,null,null,null,null,null,null,null,null,null,null,null,null,null,null,null,null,null,null,null,null,null,null,null,null,null,null,null,null,null,null,null,null,null,null,null,null,null,null,null,null,null,null,null,null,null,null,null,null,null,null,null,null,null,null,null,null,null,null,null,null,null,null,null,null,null,null,null,null,null,null,null,null,null,null,null,null,null,null,null,null,null,null,null,null,null,null,null,null,null,null,null,null,null,null,null,null,null,null,null,null,null,null,null,null,null,null,null,null,null,null,null,null,null,null,null,null,null,null,null,null,null,null,null,null,null,null,null,null,null,null,null,null,null,null,null,null,null,null,null,null,null,null,null,null,null,null,null,null,null,null,null,null,null,null,null,null,null,null,null,null,null,null,null,null,null,null,null,null,null,null,null,null,null,null,null,null,null,null,null,null,null,null,null,null,null,null,null,null,null,null,null,null,null,null,null,null,null,null,null,null,null,null,null,null,null,null,null,null,null,null,null,null,null,null,null,null,null,null,null,null,null,null,null,null,null,null,null,null,null,null,null,null,null,null,null,null,null,null,null,null,null,null,null,null,null,null,null,null,null,null,null,null,null,null,null,null,null,null,null,null,null,null,null,null,null,null,null,null,null,null,null,null,null,null,null,null,null,null,null,null,null,null,null,null,null,null,null,null,null,null,null,null,null,null,null,null,null,null,null,null,null,null,null,null,null,null,null,null,null,null,null,null,null,null,null,null,null,null,null,null,null,null,null,null,null,null,null,null,null,null,null,null,null,null,null,null,null,null,null,null,null,null,null,null,null,null,null,null,null,null,null,null,null,null,null,null,null,null,null,null,null,null,null,null,null,null,null,null,null,null,null,null,null,null,null,null,null,null,null,null,null,null,null,null,null,null,null,null,null,null,null,null,null,null,null,null,null,null,null,null,null,null,null,null,null,null,null,null,null,null,null,null,null,null,null,null,null,null,null,null,null,null,null,null,null,null,null,null,null,null,null,null,null,null,null,null,null,null,null,null,null,null,null,null,null,null,null,null,null,null,null,null,null,null,null,null,null,null,null,null,null,null,null,null,null,null,null,null,null,null,null,null,null,null,null,null,null,null,null,null,null,null,null,null,null,null,null,null,null,null,null,null,null,null,null,null,null,null,null,null,null,null,null,null,null,null,null,null,null,null,null,null,null,null,null,null,null,null,null,null,null,null,null,null,null,null,null,null,null,null,null,null,null,null,null,null,null,null,null,null,null,null,null,null,null,null,null,null,null,null,null,null,null,null,null,null,null,null,null,null,null,null,null,null,null,null,null,null,null,null,null,null,null,null,null,null,null,null,null,null,null,null,null,null,null,null,null,null,null,null,null,null,null,null,null,null,null,null,null,null,null,null,null,null,null,null,null,null,null,null,null,null,null,null,null,null,null,null,null,null,null,null,null,null,null,null,null,null,null,null,null,null,null,null,null,null,null,null,null,null,null,null,null,null,null,null,null,null,null,null,null,null,null,null,null,null,null,null,null,null,null,null,null,null,null,null,null,null,null,null,null,null,null,null,null,null,null,null,null,null,null,null,null,null,null,null,null,null,null,null,null,null,null,null,null,null,null,null,null,null,null,null,null,null,null,null,null,null,null,null,null,null,null,null,null,null,null,null,null,null,null,null,null,null,null,null,null,null,null,null,null,null,null,null,null,null,null,null,null,null,null,null,null,null,null,null,null,null,null,null,null,null,null,null,null,null,null,null,null,null,null,null,null,null,null,null,null,null,null,null,null,null,null,null,null,null,null,null,null,null,null,null,null,null,null,null,null,null,null,null,null,null,null,null,null,null,null,null,null,null,null,null,null,null,null,null,null,null,null,null,null,null,null,null,null,null,null,null,null,null,null,null,null,null,null,null,null,null,null,null,null,null,null,null,null,null,null,null,null,null,null,null,null,null,null,null,null,null,null,null,null,null,null,null,null,null,null,null,null,null,null,null,null,null,null,null,null,null,null,null,null,null,null,null,null,null,null,null,null,null,null,null,null,null,null,null,null,null,null,null,null,null,null,null,null,null,null,null,null,null,null,null,null,null,null,null,null,null,null,null,null,null,null,null,null,null,null,null,null,null,null,null,null,null,null,null,null,null,null,null,null,null,null,null,null,null,null,null,null,null,null,null,null,null,null,null,null,null,null,null,null,null,null,null,null,null,null,null,null,null,null,null,null,null,null,null,null,null,null,null,null,null,null,null,null,null,null,null,null,null,null,null,null,null,null,null,null,null,null,null,null,null,null,null,null,null,null,null,null,null,null,null,null,null,null,null,null,null,null,null,null,null,null,null,null,null,null,null,null,null,null,null,null,null,null,null,null,null,null,null,null,null,null,null,null,null,null,null,null,null,null,null,null,null,null,null,null,null,null,null,null,null,null,null,null,null,null,null,null,null,null,null,null,null,null,null,null,null,null,null,null,null,null,null,null,null,null,null,null,null,null,null,null,null,null,null,null,null,null,null,null,null,null,null,null,null,null,null,null,null,null,null,null,null,null,null,null,null,null,null,null,null,null,null,null,null,null,null,null,null,null,null,null,null,null,null,null,null,null,null,null,null,null,null,null,null,null,null,null,null,null,null,null,null,null,null,null,null,null,null,null,null,null,null,null,null,null,null,null,null,null,null,null,null,null,null,null,null,null,null,null,null,null,null,null,null,null,null,null,null,null,null,null,null,null,null,null,null,null,null,null,null,null,null,null,null,null,null,null,null,null,null,null,null,null,null,null,null,null,null,null,null,null,null,null,null,null,null,null,null,null,null,null,null,null,null,null,null,null,null,null,null,null,null,null,null,null,null,null,null,null,null,null,null,null,null,null,null,null,null,null,null,null,null,null,null,null,null,null,null,null,null,null,null,null,null,null,null,null,null,null,null,null,null,null,null,null,null,null,null,null,null,null,null,null,null,null,null,null,null,null,null,null,null,null,null,null,null,null,null,null,null,null,null,null,null,null,null,null,null,null,null,null,null,null,null,null,null,null,null,null,null,null,null,null,null,null,null,null,null,null,null,null,null,null,null,null,null,null,null,null,null,null,null,null,null,null,null,null,null,null,null,null,null,null,null,null,null,null,null,null,null,null,null,null,null,null,null,null,null,null,null,null,null,null,null,null,null,null,null,null,null,null,null,null,null,null,null,null,null,null,null,null,null,null,null,null,null,null,null,null,null,null,null,null,null,null,null,null,null,null,null,null,null,null,null,null,null,null,null,null,null,null,null,null,null,null,null,null,null,null,null,null,null,null,null,null,null,null,null,null,null,null,null,null,null,null,null,null,null,null,null,null,null,null,null,null,null,null,null,null,null,null,null,null,null,null,null,null,null,null,null,null,null,null,null,null,null,null,null,null,null,null,null,null,null,null,null,null,null,null,null,null,null,null,null,null,null,null,null,null,null,null,null,null,null,null,null,null,null,null,null,null,null,null,null,null,null,null,null,null,null,null,null,null,null,null,null,null,null,null,null,null,null,null,null,null,null,null,null,null,null,null,null,null,null,null,null,null,null,null,null,null,null,null,null,null,null,null,null,null,null,null,null,null,null,null,null,null,null,null,null,null,null,null,null,null,null,null,null,null,null,null,null,null,null,null,null,null,null,null,null,null,null,null,null,null,null,null,null,null,null,null,null,null,null,null,null,null,null,null,null,null,null,null,null,null,null,null,null,null,null,null,null,null,null,null,null,null,null,null,null,null,null,null,null,null,null,null,null,null,null,null,null,null,null,null,null,null,null,null,null,null,null,null,null,null,null,null,null,null,null,null,null,null,null,null,null,null,null,null,null,null,null,null,null,null,null,null,null,null,null,null,null,null,null,null,null,null,null,null,null,null,null,null,null,null,null,null,null,null,null,null,null,null,null,null,null,null,null,null,null,null,null,null,null,null,null,null,null,null,null,null,null,null,null,null,null,null,null,null,null,null,null,null,null,null,null,null,null,null,null,null,null,null,null,null,null,null,null,null,null,null,null,null,null,null,null,null,null,null,null,null,null,null,null,null,null,null,null,null,null,null,null,null,null,null,null,null,null,null,null,null,null,null,null,null,null,null,null,null,null,null,null,null,null,null,null,null,null,null,null,null,null,null,null,null,null,null,null,null,null,null,null,null,null,null,null,null,null,null,null,null,null,null,null,null,null,null,null,null,null,null,null,null,null,null,null,null,null,null,null,null,null,null,null,null,null,null,null,null,null,null,null,null,null,null,null,null,null,null,null,null,null,null,null,null,null,null,null,null,null,null,null,null,null,null,null,null,null,null,null,null,null,null,null,null,null,null,null,null,null,null,null,null,null,null,null,null,null,null,null,null,null,null,null,null,null,null,null,null,null,null,null,null,null,null,null,null,null,null,null,null,null,null,null,null,null,null,null,null,null,null,null,null,null,null,null,null,null,null,null,null,null,null,null,null,null,null,null,null,null,null,null,null,null,null,null,null,null,null,null,null,null,null,null,null,null,null,null,null,null,null,null,null,null,null,null,null,null,null,null,null,null,null,null,null,null,null,null,null,null,null,null,null,null,null,null,null,null,null,null,null,null,null,null,null,null,null,null,null,null,null,null,null,null,null,null,null,null,null,null,null,null,null,null,null,null,null,null,null,null,null,null,null,null,null,null,null,null,null,null,null,null,null,null,null,null,null,null,null,null,null,null,null,null,null,null,null,null,null,null,null,null,null,null,null,null,null,null,null,null,null,null,null,null,null,null,null,null,null,null,null,null,null,null,null,null,null,null,null,null,null,null,null,null,null,null,null,null,null,null,null,null,null,null,null,null,null,null,null,null,null,null,null,null,null,null,null,null,null,null,null,null,null,null,null,null,null,null,null,null,null,null,null,null,null,null,null,null,null,null,null,null,null,null,null,null,null,null,null,null,null,null,null,null,null,null,null,null,null,null,null,null,null,null,null,null,null,null,null,null,null,null,null,null,null,null,null,null,null,null,null,null,null,null,null,null,null,null,null,null,null,null,null,null,null,null,null,null,null,null,null,null,null,null,null,null,null,null,null,null,null,null,null,null,null,null,null,null,null,null,null,null,null,null,null,null,null,null,null,null,null,null,null,null,null,null,null,null,null,null,null,null,null,null,null,null,null,null,null,null,null,null,null,null,null,null,null,null,null,null,null,null,null,null,null,null,null,null,null,null,null,null,null,null,null,null,null,null,null,null,null,null,null,null,null,null,null,null,null,null,null,null,null,null,null,null,null,null,null,null,null,null,null,null,null,null,null,null,null,null,null,null,null,null,null,null,null,null,null,null,null,null,null,null,null,null,null,null,null,null,null,null,null,null,null,null,null,null,null,null,null,null,null,null,null,null,null,null,null,null,null,null,null,null,null,null,null,null,null,null,null,null,null,null,null,null,null,null,null,null,null,null,null,null,null,null,null,null,null,null,null,null,null,null,null,null,null,null,null,null,null,null,null,null,null,null,null,null,null,null,null,null,null,null,null,null,null,null,null,null,null,null,null,null,null,null,null,null,null,null,null,null,null,null,null,null,null,null,null,null,null,null,null,null,null,null,null,null,null,null,null,null,null,null,null,null,null,null,null,null,null,null,null,null,null,null,null,null,null,null,null,null,null,null,null,null,null,null,null,null,null,null,null,null,null,null,null,null,null,null,null,null,null,null,null,null,null,null,null,null,null,null,null,null,null,null,null,null,null,null,null,null,null,null,null,null,null,null,null,null,null,null,null,null,null,null,null,null,null,null,null,null,null,null,null,null,null,null,null,null,null,null,null,null,null,null,null,null,null,null,null,null,null,null,null,null,null,null,null,null,null,null,null,null,null,null,null,null,null,null,null,null,null,null,null,null,null,null,null,null,null,null,null,null,null,null,null,null,null,null,null,null,null,null,null,null,null,null,null,null,null,null,null,null,null,null,null,null,null,null,null,null,null,null,null,null,null,null,null,null,null,null,null,null,null,null,null,null,null,null,null,null,null,null,null,null,null,null,null,null,null,null,null,null,null,null,null,null,null,null,null,null,null,null,null,null,null,null,null,null,null,null,null,null,null,null,null,null,null,null,null,null,null,null,null,null,null,null,null,null,null,null,null,null,null,null,null,null,null,null,null,null,null,null,null,null,null,null,null,null,null,null,null,null,null,null,null,null,null,null,null,null,null,null,null,null,null,null,null,null,null,null,null,null,null,null,null,null,null,null,null,null,null,null,null,null,null,null,null,null,null,null,null,null,null,null,null,null,null,null,null,null,null,null,null,null,null,null,null,null,null,null,null,null,null,null,null,null,null,null,null,null,null,null,null,null,null,null,null,null,null,null,null,null,null,null,null,null,null,null,null,null,null,null,null,null,null,null,null,null,null,null,null,null,null,null,null,null,null,null,null,null,null,null,null,null,null,null,null,null,null,null,null,null,null,null,null,null,null,null,null,null,null,null,null,null,null,null,null,null,null,null,null,null,null,null,null,null,null,null,null,null,null,null,null,null,null,null,null,null,null,null,null,null,null,null,null,null,null,null,null,null,null,null,null,null,null,null,null,null,null,null,null,null,null,null,null,null,null,null,null,null,null,null,null,null,null,null,null,null,null,null,null,null,null,null,null,null,null,null,null,null,null,null,null,null,null,null,null,null,null,null,null,null,null,null,null,null,null,null,null,null,null,null,null,null,null,null,null,null,null,null,null,null,null,null,null,null,null,null,null,null,null,null,null,null,null,null,null,null,null,null,null,null,null,null,null,null,null,null,null,null,null,null,null,null,null,null,null,null,null,null,null,null,null,null,null,null,null,null,null,null,null,null,null,null,null,null,null,null,null,null,null,null,null,null,null,null,null,null,null,null,null,null,null,null,null,null,null,null,null,null,null,null,null,null,null,null,null,null,null,null,null,null,null,null,null,null,null,null,null,null,null,null,null,null,null,null,null,null,null,null,null,null,null,null,null,null,null,null,null,null,null,null,null,null,null,null,null,null,null,null,null,null,null,null,null,null,null,null,null,null,null,null,null,null,null,null,null,null,null,null,null,null,null,null,null,null,null,null,null,null,null,null,null,null,null,null,null,null,null,null,null,null,null,null,null,null,null,null,null,null,null,null,null,null,null,null,null,null,null,null,null,null,null,null,null,null,null,null,null,null,null,null,null,null,null,null,null,null,null,null,null,null,null,null,null,null,null,null,null,null,null,null,null,null,null,null,null,null,null,null,null,null,null,null,null,null,null,null,null,null,null,null,null,null,null,null,null,null,null,null,null,null,null,null,null,null,null,null,null,null,null,null,null,null,null,null,null,null,null,null,null,null,null,null,null,null,null,null,null,null,null,null,null,null,null,null,null,null,null,null,null,null,null,null,null,null,null,null,null,null,null,null,null,null,null,null,null,null,null,null,null,null,null,null,null,null,null,null,null,null,null,null,null,null,null,null,null,null,null,null,null,null,null,null,null,null,null,null,null,null,null,null,null,null,null,null,null,null,null,null,null,null,null,null,null,null,null,null,null,null,null,null,null,null,null,null,null,null,null,null,null,null,null,null,null,null,null,null,null,null,null,null,null,null,null,null,null,null,null,null,null,null,null,null,null,null,null,null,null,null,null,null,null,null,null,null,null,null,null,null,null,null,null,null,null,null,null,null,null,null,null,null,null,null,null,null,null,null,null,null,null,null,null,null,null,null,null,null,null,null,null,null,null,null,null,null,null,null,null,null,null,null,null,null,null,null,null,null,null,null,null,null,null,null,null,null,null,null,null,null,null,null,null,null,null,null,null,null,null,null,null,null,null,null,null,null,null,null,null,null,null,null,null,null,null,null,null,null,null,null,null,null,null,null,null,null,null,null,null,null,null,null,null,null,null,null,null,null,null,null,null,null,null,null,null,null,null,null,null,null,null,null,null,null,null,null,null,null,null,null,null,null,null,null,null,null,null,null,null,null,null,null,null,null,null,null,null,null,null,null,null,null,null,null,null,null,null,null,null,null,null,null,null,null,null,null,null,null,null,null,null,null,null,null,null,null,null,null,null,null,null,null,null,null,null,null,null,null,null,null,null,null,null,null,null,null,null,null,null,null,null,null,null,null,null,null,null,null,null,null,null,null,null,null,null,null,null,null,null,null,null,null,null,null,null,null,null,null,null,null,null,null,null,null,null,null,null,null,null,null,null,null,null,null,null,null,null,null,null,null,null,null,null,null,null,null,null,null,null,null,null,null,null,null,null,null,null,null,null,null,null,null,null,null,null,null,null,null,null,null,null,null,null,null,null,null,null,null,null,null,null,null,null,null,null,null,null,null,null,null,null,null,null,null,null,null,null,null,null,null,null,null,null,null,null,null,null,null,null,null,null,null,null,null,null,null,null,null,null,null,null,null,null,null,null,null,null,null,null,null,null,null,null,null,null,null,null,null,null,null,null,null,null,null,null,null,null,null,null,null,null,null,null,null,null,null,null,null,null,null,null,null,null,null,null,null,null,null,null,null,null,null,null,null,null,null,null,null,null,null,null,null,null,null,null,null,null,null,null,null,null,null,null,null,null,null,null,null,null,null,null,null,null,null,null,null,null,null,null,null,null,null,null,null,null,null,null,null,null,null,null,null,null,null,null,null,null,null,null,null,null,null,null,null,null,null,null,null,null,null,null,null,null,null,null,null,null,null,null,null,null,null,null,null,null,null,null,null,null,null,null,null,null,null,null,null,null,null,null,null,null,null,null,null,null,null,null,null,null,null,null,null,null,null,null,null,null,null,null,null,null,null,null,null,null,null,null,null,null,null,null,null,null,null,null,null,null,null,null,null,null,null,null,null,null,null,null,null,null,null,null,null,null,null,null,null,null,null,null,null,null,null,null,null,null,null,null,null,null,null,null,null,null,null,null,null,null,null,null,null,null,null,null,null,null,null,null,null,null,null,null,null,null,null,null,null,null,null,null,null,null,null,null,null,null,null,null,null,null,null,null,null,null,null,null,null,null,null,null,null,null,null,null,null,null,null,null,null,null,null,null,null,null,null,null,null,null,null,null,null,null,null,null,null,null,null,null,null,null,null,null,null,null,null,null,null,null,null,null,null,null,null,null,null,null,null,null,null,null,null,null,null,null,null,null,null,null,null,null,null,null,null,null,null,null,null,null,null,null,null,null,null,null,null,null,null,null,null,null,null,null,null,null,null,null,null,null,null,null,null,null,null,null,null,null,null,null,null,null,null,null,null,null,null,null,null,null,null,null,null,null,null,null,null,null,null,null,null,null,null,null,null,null,null,null,null,null,null,null,null,null,null,null,null,null,null,null,null,null,null,null,null,null,null,null,null,null,null,null,null,null,null,null,null,null,null,null,null,null,null,null,null,null,null,null,null,null,null,null,null,null,null,null,null,null,null,null,null,null,null,null,null,null,null,null,null,null,null,null,null,null,null,null,null,null,null,null,null,null,null,null,null,null,null,null,null,null,null,null,null,null,null,null,null,null,null,null,null,null,null,null,null,null,null,null,null,null,null,null,null,null,null,null,null,null,null,null,null,null,null,null,null,null,null,null,null,null,null,null,null,null,null,null,null,null,null,null,null,null,null,null,null,null,null,null,null,null,null,null,null,null,null,null,null,null,null,null,null,null,null,null,null,null,null,null,null,null,null,null,null,null,null,null,null,null,null,null,null,null,null,null,null,null,null,null,null,null,null,null,null,null,null,null,null,null,null,null,null,null,null,null,null,null,null,null,null,null,null,null,null,null,null,null,null,null,null,null,null,null,null,null,null,null,null,null,null,null,null,null,null,null,null,null,null,null,null,null,null,null,null,null,null,null,null,null,null,null,null,null,null,null,null,null,null,null,null,null,null,null,null,null,null,null,null,null,null,null,null,null,null,null,null,null,null,null,null,null,null,null,null,null,null,null,null,null,null,null,null,null,null,null,null,null,null,null,null,null,null,null,null,null,null,null,null,null,null,null,null,null,null,null,null,null,null,null,null,null,null,null,null,null,null,null,null,null,null,null,null,null,null,null,null,null,null,null,null,null,null,null,null,null,null,null,null,null,null,null,null,null,null,null,null,null,null,null,null,null,null,null,null,null,null,null,null,null,null,null,null,null,null,null,null,null,null,null,null,null,null,null,null,null,null,null,null,null,null,null,null,null,null,null,null,null,null,null,null,null,null,null,null,null,null,null,null,null,null,null,null,null,null,null,null,null,null,null,null,null,null,null,null,null,null,null,null,null,null,null,null,null,null,null,null,null,null,null,null,null,null,null,null,null,null,null,null,null,null,null,null,null,null,null,null,null,null,null,null,null,null,null,null,null,null,null,null,null,null,null,null,null,null,null,null,null,null,null,null,null,null,null,null,null,null,null,null,null,null,null,null,null,null,null,null,null,null,null,null,null,null,null,null,null,null,null,null,null,null,null,null,null,null,null,null,null,null,null,null,null,null,null,null,null,null,null,null,null,null,null,null,null,null,null,null,null,null,null,null,null,null,null,null,null,null,null,null,null,null,null,null,null,null,null,null,null,null,null,null,null,null,null,null,null,null,null,null,null,null,null,null,null,null,null,null,null,null,null,null,null,null,null,null,null,null,null,null,null,null,null,null,null,null,null,null,null,null,null,null,null,null,null,null,null,null,null,null,null,null,null,null,null,null,null,null,null,null,null,null,null,null,null,null,null,null,null,null,null,null,null,null,null,null,null,null,null,null,null,null,null,null,null,null,null,null,null,null,null,null,null,null,null,null,null,null,null,null,null,null,null,null,null,null,null,null,null,null,null,null,null,null,null,null,null,null,null,null,null,null,null,null,null,null,null,null,null,null,null,null,null,null,null,null,null,null,null,null,null,null,null,null,null,null,null,null,null,null,null,null,null,null,null,null,null,null,null,null,null,null,null,null,null,null,null,null,null,null,null,null,null,null,null,null,null,null,null,null,null,null,null,null,null,null,null,null,null,null,null,null,null,null,null,null,null,null,null,null,null,null,null,null,null,null,null,null,null,null,null,null,null,null,null,null,null,null,null,null,null,null,null,null,null,null,null,null,null,null,null,null,null,null,null,null,null,null,null,null,null,null,null,null,null,null,null,null,null,null,null,null,null,null,null,null,null,null,null,null,null,null,null,null,null,null,null,null,null,null,null,null,null,null,null,null,null,null,null,null,null,null,null,null,null,null,null,null,null,null,null,null,null,null,null,null,null,null,null,null,null,null,null,null,null,null,null,null,null,null,null,null,null,null,null,null,null,null,null,null,null,null,null,null,null,null,null,null,null,null,null,null,null,null,null,null,null,null,null,null,null,null,null,null,null,null,null,null,null,null,null,null,null,null,null,null,null,null,null,null,null,null,null,null,null,null,null,null,null,null,null,null,null,null,null,null,null,null,null,null,null,null,null,null,null,null,null,null,null,null,null,null,null,null,null,null,null,null,null,null,null,null,null,null,null,null,null,null,null,null,null,null,null,null,null,null,null,null,null,null,null,null,null,null,null,null,null,null,null,null,null,null,null,null,null,null,null,null,null,null,null,null,null,null,null,null,null,null,null,null,null,null,null,null,null,null,null,null,null,null,null,null,null,null,null,null,null,null,null,null,null,null,null,null,null,null,null,null,null,null,null,null,null,null,null,null,null,null,null,null,null,null,null,null,null,null,null,null,null,null,null,null,null,null,null,null,null,null,null,null,null,null,null,null,null,null,null,null,null,null,null,null,null,null,null,null,null,null,null,null,null,null,null,null,null,null,null,null,null,null,null,null,null,null,null,null,null,null,null,null,null,null,null,null,null,null,null,null,null,null,null,null,null,null,null,null,null,null,null,null,null,null,null,null,null,null,null,null,null,null,null,null,null,null,null,null,null,null,null,null,null,null,null,null,null,null,null,null,null,null,null,null,null,null,null,null,null,null,null,null,null,null,null,null,null,null,null,null,null,null,null,null,null,null,null,null,null,null,null,null,null,null,null,null,null,null,null,null,null,null,null,null,null,null,null,null,null,null,null,null,null,null,null,null,null,null,null,null,null,null,null,null,null,null,null,null,null,null,null,null,null,null,null,null,null,null,null,null,null,null,null,null,null,null,null,null,null,null,null,null,null,null,null,null,null,null,null,null,null,null,null,null,null,null,null,null,null,null,null,null,null,null,null,null,null,null,null,null,null,null,null,null,null,null,null,null,null,null,null,null,null,null,null,null,null,null,null,null,null,null,null,null,null,null,null,null,null,null,null,null,null,null,null,null,null,null,null,null,null,null,null,null,null,null,null,null,null,null,null,null,null,null,null,null,null,null,null,null,null,null,null,null,null,null,null,null,null,null,null,null,null,null,null,null,null,null,null,null,null,null,null,null,null,null,null,null,null,null,null,null,null,null,null,null,null,null,null,null,null,null,null,null,null,null,null,null,null,null,null,null,null,null,null,null,null,null,null,null,null,null,null,null,null,null,null,null,null,null,null,null,null,null,null,null,null,null,null,null,null,null,null,null,null,null,null,null,null,null,null,null,null,null,null,null,null,null,null,null,null,null,null,null,null,null,null,null,null,null,null,null,null,null,null,null,null,null,null,null,null,null,null,null,null,null,null,null,null,null,null,null,null,null,null,null,null,null,null,null,null,null,null,null,null,null,null,null,null,null,null,null,null,null,null,null,null,null,null,null,null,null,null,null,null,null,null,null,null,null,null,null,null,null,null,null,null,null,null,null,null,null,null,null,null,null,null,null,null,null,null,null,null,null,null,null,null,null,null,null,null,null,null,null,null,null,null,null,null,null,null,null,null,null,null,null,null,null,null,null,null,null,null,null,null,null,null,null,null,null,null,null,null,null,null,null,null,null,null,null,null,null,null,null,null,null,null,null,null,null,null,null,null,null,null,null,null,null,null,null,null,null,null,null,null,null,null,null,null,null,null,null,null,null,null,null,null,null,null,null,null,null,null,null,null,null,null,null,null,null,null,null,null,null,null,null,null,null,null,null,null,null,null,null,null,null,null,null,null,null,null,null,null,null,null,null,null,null,null,null,null,null,null,null,null,null,null,null,null,null,null,null,null,null,null,null,null,null,null,null,null,null,null,null,null,null,null,null,null,null,null,null,null,null,null,null,null,null,null,null,null,null,null,null,null,null,null,null,null,null,null,null,null,null,null,null,null,null,null,null,null,null,null,null,null,null,null,null,null,null,null,null,null,null,null,null,null,null,null,null,null,null,null,null,null,null,null,null,null,null,null,null,null,null,null,null,null,null,null,null,null,null,null,null,null,null,null,null,null,null,null,null,null,null,null,null,null,null,null,null,null,null,null,null,null,null,null,null,null,null,null,null,null,null,null,null,null,null,null,null,null,null,null,null,null,null,null,null,null,null,null,null,null,null,null,null,null,null,null,null,null,null,null,null,null,null,null,null,null,null,null,null,null,null,null,null,null,null,null,null,null,null,null,null,null,null,null,null,null,null,null,null,null,null,null,null,null,null,null,null,null,null,null,null,null,null,null,null,null,null,null,null,null,null,null,null,null,null,null,null,null,null,null,null,null,null,null,null,null,null,null,null,null,null,null,null,null,null,null,null,null,null,null,null,null,null,null,null,null,null,null,null,null,null,null,null,null,null,null,null,null,null,null,null,null,null,null,null,null,null,null,null,null,null,null,null,null,null,null,null,null,null,null,null,null,null,null,null,null,null,null,null,null,null,null,null,null,null,null,null,null,null,null,null,null,null,null,null,null,null,null,null,null,null,null,null,null,null,null,null,null,null,null,null,null,null,null,null,null,null,null,null,null,null,null,null,null,null,null,null,null,null,null,null,null,null,null,null,null,null,null,null,null,null,null,null,null,null,null,null,null,null,null,null,null,null,null,null,null,null,null,null,null,null,null,null,null,null,null,null,null,null,null,null,null,null,null,null,null,null,null,null,null,null,null,null,null,null,null,null,null,null,null,null,null,null,null,null,null,null,null,null,null,null,null,null,null,null,null,null,null,null,null,null,null,null,null,null,null,null,null,null,null,null,null,null,null,null,null,null,null,null,null,null,null,null,null,null,null,null,null,null,null,null,null,null,null,null,null,null,null,null,null,null,null,null,null,null,null,null,null,null,null,null,null,null,null,null,null,null,null,null,null,null,null,null,null,null,null,null,null,null,null,null,null,null,null,null,null,null,null,null,null,null,null,null,null,null,null,null,null,null,null,null,null,null,null,null,null,null,null,null,null,null,null,null,null,null,null,null,null,null,null,null,null,null,null,null,null,null,null,null,null,null,null,null,null,null,null,null,null,null,null,null,null,null,null,null,null,null,null,null,null,null,null,null,null,null,null,null,null,null,null,null,null,null,null,null,null,null,null,null,null,null,null,null,null,null,null,null,null,null,null,null,null,null,null,null,null,null,null,null,null,null,null,null,null,null,null,null,null,null,null,null,null,null,null,null,null,null,null,null,null,null,null,null,null,null,null,null,null,null,null,null,null,null,null,null,null,null,null,null,null,null,null,null,null,null,null,null,null,null,null,null,null,null,null,null,null,null,null,null,null,null,null,null,null,null,null,null,null,null,null,null,null,null,null,null,null,null,null,null,null,null,null,null,null,null,null,null,null,null,null,null,null,null,null,null,null,null,null,null,null,null,null,null,null,null,null,null,null,null,null,null,null,null,null,null,null,null,null,null,null,null,null,null,null,null,null,null,null,null,null,null,null,null,null,null,null,null,null,null,null,null,null,null,null,null,null,null,null,null,null,null,null,null,null,null,null,null,null,null,null,null,null,null,null,null,null,null,null,null,null,null,null,null,null,null,null,null,null,null,null,null,null,null,null,null,null,null,null,null,null,null,null,null,null,null,null,null,null,null,null,null,null,null,null,null,null,null,null,null,null,null,null,null,null,null,null,null,null,null,null,null,null,null,null,null,null,null,null,null,null,null,null,null,null,null,null,null,null,null,null,null,null,null,null,null,null,null,null,null,null,null,null,null,null,null,null,null,null,null,null,null,null,null,null,null,null,null,null,null,null,null,null,null,null,null,null,null,null,null,null,null,null,null,null,null,null,null,null,null,null,null,null,null,null,null,null,null,null,null,null,null,null,null,null,null,null,null,null,null,null,null,null,null,null,null,null,null,null,null,null,null,null,null,null,null,null,null,null,null,null,null,null,null,null,null,null,null,null,null,null,null,null,null,null,null,null,null,null,null,null,null,null,null,null,null,null,null,null,null,null,null,null,null,null,null,null,null,null,null,null,null,null,null,null,null,null,null,null,null,null,null,null,null,null,null,null,null,null,null,null,null,null,null,null,null,null,null,null,null,null,null,null,null,null,null,null,null,null,null,null,null,null,null,null,null,null,null,null,null,null,null,null,null,null,null,null,null,null,null,null,null,null,null,null,null,null,null,null,null,null,null,null,null,null,null,null,null,null,null,null,null,null,null,null,null,null,null,null,null,null,null,null,null,null,null,null,null,null,null,null,null,null,null,null,null,null,null,null,null,null,null,null,null,null,null,null,null,null,null,null,null,null,null,null,null,null,null,null,null,null,null,null,null,null,null,null,null,null,null,null,null,null,null,null,null,null,null,null,null,null,null,null,null,null,null,null,null,null,null,null,null,null,null,null,null,null,null,null,null,null,null,null,null,null,null,null,null,null,null,null,null,null,null,null,null,null,null,null,null,null,null,null,null,null,null,null,null,null,null,null,null,null,null,null,null,null,null,null,null,null,null,null,null,null,null,null,null,null,null,null,null,null,null,null,null,null,null,null,null,null,null,null,null,null,null,null,null,null,null,null,null,null,null,null,null,null,null,null,null,null,null,null,null,null,null,null,null,null,null,null,null,null,null,null,null,null,null,null,null,null,null,null,null,null,null,null,null,null,null,null,null,null,null,null,null,null,null,null,null,null,null,null,null,null,null,null,null,null,null,null,null,null,null,null,null,null,null,null,null,null,null,null,null,null,null,null,null,null,null,null,null,null,null,null,null,null,null,null,null,null,null,null,null,null,null,null,null,null,null,null,null,null,null,null,null,null,null,null,null,null,null,null,null,null,null,null,null,null,null,null,null,null,null,null,null,null,null,null,null,null,null,null,null,null,null,null,null,null,null,null,null,null,null,null,null,null,null,null,null,null,null,null,null,null,null,null,null,null,null,null,null,null,null,null,null,null,null,null,null,null,null,null,null,null,null,null,null,null,null,null,null,null,null,null,null,null,null,null,null,null,null,null,null,null,null,null,null,null,null,null,null,null,null,null,null,null,null,null,null,null,null,null,null,null,null,null,null,null,null,null,null,null,null,null,null,null,null,null,null,null,null,null,null,null,null,null,null,null,null,null,null,null,null,null,null,null,null,null,null,null,null,null,null,null,null,null,null,null,null,null,null,null,null,null,null,null,null,null,null,null,null,null,null,null,null,null,null,null,null,null,null,null,null,null,null,null,null,null,null,null,null,null,null,null,null,null,null,null,null,null,null,null,null,null,null,null,null,null,null,null,null,null,null,null,null,null,null,null,null,null,null,null,null,null,null,null,null,null,null,null,null,null,null,null,null,null,null,null,null,null,null,null,null,null,null,null,null,null,null,null,null,null,null,null,null,null,null,null,null,null,null,null,null,null,null,null,null,null,null,null,null,null,null,null,null,null,null,null,null,null,null,null,null,null,null,null,null,null,null,null,null,null,null,null,null,null,null,null,null,null,null,null,null,null,null,null,null,null,null,null,null,null,null,null,null,null,null,null,null,null,null,null,null,null,null,null,null,null,null,null,null,null,null,null,null,null,null,null,null,null,null,null,null,null,null,null,null,null,null,null,null,null,null,null,null,null,null,null,null,null,null,null,null,null,null,null,null,null,null,null,null,null,null,null,null,null,null,null,null,null,null,null,null,null,null,null,null,null,null,null,null,null,null,null,null,null,null,null,null,null,null,null,null,null,null,null,null,null,null,null,null,null,null,null,null,null,null,null,null,null,null,null,null,null,null,null,null,null,null,null,null,null,null,null,null,null,null,null,null,null,null,null,null,null,null,null,null,null,null,null,null,null,null,null,null,null,null,null,null,null,null,null,null,null,null,null,null,null,null,null,null,null,null,null,null,null,null,null,null,null,null,null,null,null,null,null,null,null,null,null,null,null,null,null,null,null,null,null,null,null,null,null,null,null,null,null,null,null,null,null,null,null,null,null,null,null,null,null,null,null,null,null,null,null,null,null,null,null,null,null,null,null,null,null,null,null,null,null,null,null,null,null,null,null,null,null,null,null,null,null,null,null,null,null,null,null,null,null,null,null,null,null,null,null,null,null,null,null,null,null,null,null,null,null,null,null,null,null,null,null,null,null,null,null,null,null,null,null,null,null,null,null,null,null,null,null,null,null,null,null,null,null,null,null,null,null,null,null,null,null,null,null,null,null,null,null,null,null,null,null,null,null,null,null,null,null,null,null,null,null,null,null,null,null,null,null,null,null,null,null,null,null,null,null,null,null,null,null,null,null,null,null,null,null,null,null,null,null,null,null,null,null,null,null,null,null,null,null,null,null,null,null,null,null,null,null,null,null,null,null,null,null,null,null,null,null,null,null,null,null,null,null,null,null,null,null,null,null,null,null,null,null,null,null,null,null,null,null,null,null,null,null,null,null,null,null,null,null,null,null,null,null,null,null,null,null,null,null,null,null,null,null,null,null,null,null,null,null,null,null,null,null,null,null,null,null,null,null,null,null,null,null,null,null,null,null,null,null,null,null,null,null,null,null,null,null,null,null,null,null,null,null,null,null,null,null,null,null,null,null,null,null,null,null,null,null,null,null,null,null,null,null,null,null,null,null,null,null,null,null,null,null,null,null,null,null,null,null,null,null,null,null,null,null,null,null,null,null,null,null,null,null,null,null,null,null,null,null,null,null,null,null,null,null,null,null,null,null,null,null,null,null,null,null,null,null,null,null,null,null,null,null,null,null,null,null,null,null,null,null,null,null,null,null,null,null,null,null,null,null,null,null,null,null,null,null,null,null,null,null,null,null,null,null,null,null,null,null,null,null,null,null,null,null,null,null,null,null,null,null,null,null,null,null,null,null,null,null,null,null,null,null,null,null,null,null,null,null,null,null,null,null,null,null,null,null,null,null,null,null,null,null,null,null,null,null,null,null,null,null,null,null,null,null,null,null,null,null,null,null,null,null,null,null,null,null,null,null,null,null,null,null,null,null,null,null,null,null,null,null,null,null,null,null,null,null,null,null,null,null,null,null,null,null,null,null,null,null,null,null,null,null,null,null,null,null,null,null,null,null,null,null,null,null,null,null,null,null,null,null,null,null,null,null,null,null,null,null,null,null,null,null,null,null,null,null,null,null,null,null,null,null,null,null,null,null,null,null,null,null,null,null,null,null,null,null,null,null,null,null,null,null,null,null,null,null,null,null,null,null,null,null,null,null,null,null,null,null,null,null,null,null,null,null,null,null,null,null,null,null,null,null,null,null,null,null,null,null,null,null,null,null,null,null,null,null,null,null,null,null,null,null,null,null,null,null,null,null,null,null,null,null,null,null,null,null,null,null,null,null,null,null,null,null,null,null,null,null,null,null,null,null,null,null,null,null,null,null,null,null,null,null,null,null,null,null,null,null,null,null,null,null,null,null,null,null,null,null,null,null,null,null,null,null,null,null,null,null,null,null,null,null,null,null,null,null,null,null,null,null,null,null,null,null,null,null,null,null,null,null,null,null,null,null,null,null,null,null,null,null,null,null,null,null,null,null,null,null,null,null,null,null,null,null,null,null,null,null,null,null,null,null,null,null,null,null,null,null,null,null,null,null,null,null,null,null,null,null,null,null,null,null,null,null,null,null,null,null,null,null,null,null,null,null,null,null,null,null,null,null,null,null,null,null,null,null,null,null,null,null,null,null,null,null,null,null,null,null,null,null,null,null,null,null,null,null,null,null,null,null,null,null,null,null,null,null,null,null,null,null,null,null,null,null,null,null,null,null,null,null,null,null,null,null,null,null,null,null,null,null,null,null,null,null,null,null,null,null,null,null,null,null,null,null,null,null,null,null,null,null,null,null,null,null,null,null,null,null,null,null,null,null,null,null,null,null,null,null,null,null,null,null,null,null,null,null,null,null,null,null,null,null,null,null,null,null,null,null,null,null,null,null,null,null,null,null,null,null,null,null,null,null,null,null,null,null,null,null,null,null,null,null,null,null,null,null,null,null,null,null,null,null,null,null,null,null,null,null,null,null,null,null,null,null,null,null,null,null,null,null,null,null,null,null,null,null,null,null,null,null,null,null,null,null,null,null,null,null,null,null,null,null,null,null,null,null,null,null,null,null,null,null,null,null,null,null,null,null,null,null,null,null,null,null,null,null,null,null,null,null,null,null,null,null,null,null,null,null,null,null,null,null,null,null,null,null,null,null,null,null,null,null,null,null,null,null,null,null,null,null,null,null,null,null,null,null,null,null,null,null,null,null,null,null,null,null,null,null,null,null,null,null,null,null,null,null,null,null,null,null,null,null,null,null,null,null,null,null,null,null,null,null,null,null,null,null,null,null,null,null,null,null,null,null,null,null,null,null,null,null,null,null,null,null,null,null,null,null,null,null,null,null,null,null,null,null,null,null,null,null,null,null,null,null,null,null,null,null,null,null,null,null,null,null,null,null,null,null,null,null,null,null,null,null,null,null,null,null,null,null,null,null,null,null,null,null,null,null,null,null,null,null,null,null,null,null,null,null,null,null,null,null,null,null,null,null,null,null,null,null,null,null,null,null,null,null,null,null,null,null,null,null,null,null,null,null,null,null,null,null,null,null,null,null,null,null,null,null,null,null,null,null,null,null,null,null,null,null,null,null,null,null,null,null,null,null,null,null,null,null,null,null,null,null,null,null,null,null,null,null,null,null,null,null,null,null,null,null,null,null,null,null,null,null,null,null,null,null,null,null,null,null,null,null,null,null,null,null,null,null,null,null,null,null,null,null,null,null,null,null,null,null,null,null,null,null,null,null,null,null,null,null,null,null,null,null,null,null,null,null,null,null,null,null,null,null,null,null,null,null,null,null,null,null,null,null,null,null,null,null,null,null,null,null,null,null,null,null,null,null,null,null,null,null,null,null,null,null,null,null,null,null,null,null,null,null,null,null,null,null,null,null,null,null,null,null,null,null,null,null,null,null,null,null,null,null,null,null,null,null,null,null,null,null,null,null,null,null,null,null,null,null,null,null,null,null,null,null,null,null,null,null,null,null,null,null,null,null,null,null,null,null,null,null,null,null,null,null,null,null,null,null,null,null,null,null,null,null,null,null,null,null,null,null,null,null,null,null,null,null,null,null,null,null,null,null,null,null,null,null,null,null,null,null,null,null,null,null,null,null,null,null,null,null,null,null,null,null,null,null,null,null,null,null,null,null,null,null,null,null,null,null,null,null,null,null,null,null,null,null,null,null,null,null,null,null,null,null,null,null,null,null,null,null,null,null,null,null,null,null,null,null,null,null,null,null,null,null,null,null,null,null,null,null,null,null,null,null,null,null,null,null,null,null,null,null,null,null,null,null,null,null,null,null,null,null,null,null,null,null,null,null,null,null,null,null,null,null,null,null,null,null,null,null,null,null,null,null,null,null,null,null,null,null,null,null,null,null,null,null,null,null,null,null,null,null,null,null,null,null,null,null,null,null,null,null,null,null,null,null,null,null,null,null,null,null,null,null,null,null,null,null,null,null,null,null,null,null,null,null,null,null,null,null,null,null,null,null,null,null,null,null,null,null,null,null,null,null,null,null,null,null,null,null,null,null,null,null,null,null,null,null,null,null,null,null,null,null,null,null,null,null,null,null,null,null,null,null,null,null,null,null,null,null,null,null,null,null,null,null,null,null,null,null,null,null,null,null,null,null,null,null,null,null,null,null,null,null,null,null,null,null,null,null,null,null,null,null,null,null,null,null,null,null,null,null,null,null,null,null,null,null,null,null,null,null,null,null,null,null,null,null,null,null,null,null,null,null,null,null,null,null,null,null,null,null,null,null,null,null,null,null,null,null,null,null,null,null,null,null,null,null,null,null,null,null,null,null,null,null,null,null,null,null,null,null,null,null,null,null,null,null,null,null,null,null,null,null,null,null,null,null,null,null,null,null,null,null,null,null,null,null,null,null,null,null,null,null,null,null,null,null,null,null,null,null,null,null,null,null,null,null,null,null,null,null,null,null,null,null,null,null,null,null,null,null,null,null,null,null,null,null,null,null,null,null,null,null,null,null,null,null,null,null,null,null,null,null,null,null,null,null,null,null,null,null,null,null,null,null,null,null,null,null,null,null,null,null,null,null,null,null,null,null,null,null,null,null,null,null,null,null,null,null,null,null,null,null,null,null,null,null,null,null,null,null,null,null,null,null,null,null,null,null,null,null,null,null,null,null,null,null,null,null,null,null,null,null,null,null,null,null,null,null,null,null,null,null,null,null,null,null,null,null,null,null,null,null,null,null,null,null,null,null,null,null,null,null,null,null,null,null,null,null,null,null,null,null,null,null,null,null,null,null,null,null,null,null,null,null,null,null,null,null,null,null,null,null,null,null,null,null,null,null,null,null,null,null,null,null,null,null,null,null,null,null,null,null,null,null,null,null,null,null,null,null,null,null,null,null,null,null,null,null,null,null,null,null,null,null,null,null,null,null,null,null,null,null,null,null,null,null,null,null,null,null,null,null,null,null,null,null,null,null,null,null,null,null,null,null,null,null,null,null,null,null,null,null,null,null,null,null,null,null,null,null,null,null,null,null,null,null,null,null,null,null,null,null,null,null,null,null,null,null,null,null,null,null,null,null,null,null,null,null,null,null,null,null,null,null,null,null,null,null,null,null,null,null,null,null,null,null,null,null,null,null,null,null,null,null,null,null,null,null,null,null,null,null,null,null,null,null,null,null,null,null,null,null,null,null,null,null,null,null,null,null,null,null,null,null,null,null,null,null,null,null,null,null,null,null,null,null,null,null,null,null,null,null,null,null,null,null,null,null,null,null,null,null,null,null,null,null,null,null,null,null,null,null,null,null,null,null,null,null,null,null,null,null,null,null,null,null,null,null,null,null,null,null,null,null,null,null,null,null,null,null,null,null,null,null,null,null,null,null,null,null,null,null,null,null,null,null,null,null,null,null,null,null,null,null,null,null,null,null,null,null,null,null,null,null,null,null,null,null,null,null,null,null,null,null,null,null,null,null,null,null,null,null,null,null,null,null,null,null,null,null,null,null,null,null,null,null,null,null,null,null,null,null,null,null,null,null,null,null,null,null,null,null,null,null,null,null,null,null,null,null,null,null,null,null,null,null,null,null,null,null,null,null,null,null,null,null,null,null,null,null,null,null,null,null,null,null,null,null,null,null,null,null,null,null,null,null,null,null,null,null,null,null,null,null,null,null,null,null,null,null,null,null,null,null,null,null,null,null,null,null,null,null,null,null,null,null,null,null,null,null,null,null,null,null,null,null,null,null,null,null,null,null,null,null,null,null,null,null,null,null,null,null,null,null,null,null,null,null,null,null,null,null,null,null,null,null,null,null,null,null,null,null,null,null,null,null,null,null,null,null,null,null,null,null,null,null,null,null,null,null,null,null,null,null,null,null,null,null,null,null,null,null,null,null,null,null,null,null,null,null,null,null,null,null,null,null,null,null,null,null,null,null,null,null,null,null,null,null,null,null,null,null,null,null,null,null,null,null,null,null,null,null,null,null,null,null,null,null,null,null,null,null,null,null,null,null,null,null,null,null,null,null,null,null,null,null,null,null,null,null,null,null,null,null,null,null,null,null,null,null,null,null,null,null,null,null,null,null,null,null,null,null,null,null,null,null,null,null,null,null,null,null,null,null,null,null,null,null,null,null,null,null,null,null,null,null,null,null,null,null,null,null,null,null,null,null,null,null,null,null,null,null,null,null,null,null,null,null,null,null,null,null,null,null,null,null,null,null,null,null,null,null,null,null,null,null,null,null,null,null,null,null,null,null,null,null,null,null,null,null,null,null,null,null,null,null,null,null,null,null,null,null,null,null,null,null,null,null,null,null,null,null,null,null,null,null,null,null,null,null,null,null,null,null,null,null,null,null,null,null,null,null,null,null,null,null,null,null,null,null,null,null,null,null,null,null,null,null,null,null,null,null,null,null,null,null,null,null,null,null,null,null,null,null,null,null,null,null,null,null,null,null,null,null,null,null,null,null,null,null,null,null,null,null,null,null,null,null,null,null,null,null,null,null,null,null,null,null,null,null,null,null,null,null,null,null,null,null,null,null,null,null,null,null,null,null,null,null,null,null,null,null,null,null,null,null,null,null,null,null,null,null,null,null,null,null,null,null,null,null,null,null,null,null,null,null,null,null,null,null,null,null,null,null,null,null,null,null,null,null,null,null,null,null,null,null,null,null,null,null,null,null,null,null,null,null,null,null,null,null,null,null,null,null,null,null,null,null,null,null,null,null,null,null,null,null,null,null,null,null,null,null,null,null,null,null,null,null,null,null,null,null,null,null,null,null,null,null,null,null,null,null,null,null,null,null,null,null,null,null,null,null,null,null,null,null,null,null,null,null,null,null,null,null,null,null,null,null,null,null,null,null,null,null,null,null,null,null,null,null,null,null,null,null,null,null,null,null,null,null,null,null,null,null,null,null,null,null,null,null,null,null,null,null,null,null,null,null,null,null,null,null,null,null,null,null,null,null,null,null,null,null,null,null,null,null,null,null,null,null,null,null,null,null,null,null,null,null,null,null,null,null,null,null,null,null,null,null,null,null,null,null,null,null,null,null,null,null,null,null,null,null,null,null,null,null,null,null,null,null,null,null,null,null,null,null,null,null,null,null,null,null,null,null,null,null,null,null,null,null,null,null,null,null,null,null,null,null,null,null,null,null,null,null,null,null,null,null,null,null,null,null,null,null,null,null,null,null,null,null,null,null,null,null,null,null,null,null,null,null,null,null,null,null,null,null,null,null,null,null,null,null,null,null,null,null,null,null,null,null,null,null,null,null,null,null,null,null,null,null,null,null,null,null,null,null,null,null,null,null,null,null,null,null,null,null,null,null,null,null,null,null,null,null,null,null,null,null,null,null,null,null,null,null,null,null,null,null,null,null,null,null,null,null,null,null,null,null,null,null,null,null,null,null,null,null,null,null,null,null,null,null,null,null,null,null,null,null,null,null,null,null,null,null,null,null,null,null,null,null,null,null,null,null,null,null,null,null,null,null,null,null,null,null,null,null,null,null,null,null,null,null,null,null,null,null,null,null,null,null,null,null,null,null,null,null,null,null,null,null,null,null,null,null,null,null,null,null,null,null,null,null,null,null,null,null,null,null,null,null,null,null,null,null,null,null,null,null,null,null,null,null,null,null,null,null,null,null,null,null,null,null,null,null,null,null,null,null,null,null,null,null,null,null,null,null,null,null,null,null,null,null,null,null,null,null,null,null,null,null,null,null,null,null,null,null,null,null,null,null,null,null,null,null,null,null,null,null,null,null,null,null,null,null,null,null,null,null,null,null,null,null,null,null,null,null,null,null,null,null,null,null,null,null,null,null,null,null,null,null,null,null,null,null,null,null,null,null,null,null,null,null,null,null,null,null,null,null,null,null,null,null,null,null,null,null,null,null,null,null,null,null,null,null,null,null,null,null,null,null,null,null,null,null,null,null,null,null,null,null,null,null,null,null,null,null,null,null,null,null,null,null,null,null,null,null,null,null,null,null,null,null,null,null,null,null,null,null,null,null,null,null,null,null,null,null,null,null,null,null,null,null,null,null,null,null,null,null,null,null,null,null,null,null,null,null,null,null,null,null,null,null,null,null,null,null,null,null,null,null,null,null,null,null,null,null,null,null,null,null,null,null,null,null,null,null,null,null,null,null,null,null,null,null,null,null,null,null,null,null,null,null,null,null,null,null,null,null,null,null,null,null,null,null,null,null,null,null,null,null,null,null,null,null,null,null,null,null,null,null,null,null,null,null,null,null,null,null,null,null,null,null,null,null,null,null,null,null,null,null,null,null,null,null,null,null,null,null,null,null,null,null,null,null,null,null,null,null,null,null,null,null,null,null,null,null,null,null,null,null,null,null,null,null,null,null,null,null,null,null,null,null,null,null,null,null,null,null,null,null,null,null,null,null,null,null,null,null,null,null,null,null,null,null,null,null,null,null,null,null,null,null,null,null,null,null,null,null,null,null,null,null,null,null,null,null,null,null,null,null,null,null,null,null,null,null,null,null,null,null,null,null,null,null,null,null,null,null,null,null,null,null,null,null,null,null,null,null,null,null,null,null,null,null,null,null,null,null,null,null,null,null,null,null,null,null,null,null,null,null,null,null,null,null,null,null,null,null,null,null,null,null,null,null,null,null,null,null,null,null,null,null,null,null,null,null,null,null,null,null,null,null,null,null,null,null,null,null,null,null,null,null,null,null,null,null,null,null,null,null,null,null,null,null,null,null,null,null,null,null,null,null,null,null,null,null,null,null,null,null,null,null,null,null,null,null,null,null,null,null,null,null,null,null,null,null,null,null,null,null,null,null,null,null,null,null,null,null,null,null,null,null,null,null,null,null,null,null,null,null,null,null,null,null,null,null,null,null,null,null,null,null,null,null,null,null,null,null,null,null,null,null,null,null,null,null,null,null,null,null,null,null,null,null,null,null,null,null,null,null,null,null,null,null,null,null,null,null,null,null,null,null,null,null,null,null,null,null,null,null,null,null,null,null,null,null,null,null,null,null,null,null,null,null,null,null,null,null,null,null,null,null,null,null,null,null,null,null,null,null,null,null,null,null,null,null,null,null,null,null,null,null,null,null,null,null,null,null,null,null,null,null,null,null,null,null,null,null,null,null,null,null,null,null,null,null,null,null,null,null,null,null,null,null,null,null,null,null,null,null,null,null,null,null,null,null,null,null,null,null,null,null,null,null,null,null,null,null,null,null,null,null,null,null,null,null,null,null,null,null,null,null,null,null,null,null,null,null,null,null,null,null,null,null,null,null,null,null,null,null,null,null,null,null,null,null,null,null,null,null,null,null,null,null,null,null,null,null,null,null,null,null,null,null,null,null,null,null,null,null,null,null,null,null,null,null,null,null,null,null,null,null,null,null,null,null,null,null,null,null,null,null,null,null,null,null,null,null,null,null,null,null,null,null,null,null,null,null,null,null,null,null,null,null,null,null,null,null,null,null,null,null,null,null,null,null,null,null,null,null,null,null,null,null,null,null,null,null,null,null,null,null,null,null,null,null,null,null,null,null,null,null,null,null,null,null,null,null,null,null,null,null,null,null,null,null,null,null,null,null,null,null,null,null,null,null,null,null,null,null,null,null,null,null,null,null,null,null,null,null,null,null,null,null,null,null,null,null,null,null,null,null,null,null,null,null,null,null,null,null,null,null,null,null,null,null,null,null,null,null,null,null,null,null,null,null,null,null,null,null,null,null,null,null,null,null,null,null,null,null,null,null,null,null,null,null,null,null,null,null,null,null,null,null,null,null,null,null,null,null,null,null,null,null,null,null,null,null,null,null,null,null,null,null,null,null,null,null,null,null,null,null,null,null,null,null,null,null,null,null,null,null,null,null,null,null,null,null,null,null,null,null,null,null,null,null,null,null,null,null,null,null,null,null,null,null,null,null,null,null,null,null,null,null,null,null,null,null,null,null,null,null,null,null,null,null,null,null,null,null,null,null,null,null,null,null,null,null,null,null,null,null,null,null,null,null,null,null,null,null,null,null,null,null,null,null,null,null,null,null,null,null,null,null,null,null,null,null,null,null,null,null,null,null,null,null,null,null,null,null,null,null,null,null,null,null,null,null,null,null,null,null,null,null,null,null,null,null,null,null,null,null,null,null,null,null,null,null,null,null,null,null,null,null,null,null,null,null,null,null,null,null,null,null,null,null,null,null,null,null,null,null,null,null,null,null,null,null,null,null,null,null,null,null,null,null,null,null,null,null,null,null,null,null,null,null,null,null,null,null,null,null,null,null,null,null,null,null,null,null,null,null,null,null,null,null,null,null,null,null,null,null,null,null,null,null,null,null,null,null,null,null,null,null,null,null,null,null,null,null,null,null,null,null,null,null,null,null,null,null,null,null,null,null,null,null,null,null,null,null,null,null,null,null,null,null,null,null,null,null,null,null,null,null,null,null,null,null,null,null,null,null,null,null,null,null,null,null,null,null,null,null,null,null,null,null,null,null,null,null,null,null,null,null,null,null,null,null,null,null,null,null,null,null,null,null,null,null,null,null,null,null,null,null,null,null,null,null,null,null,null,null,null,null,null,null,null,null,null,null,null,null,null,null,null,null,null,null,null,null,null,null,null,null,null,null,null,null,null,null,null,null,null,null,null,null,null,null,null,null,null,null,null,null,null,null,null,null,null,null,null,null,null,null,null,null,null,null,null,null,null,null,null,null,null,null,null,null,null,null,null,null,null,null,null,null,null,null,null,null,null,null,null,null,null,null,null,null,null,null,null,null,null,null,null,null,null,null,null,null,null,null,null,null,null,null,null,null,null,null,null,null,null,null,null,null,null,null,null,null,null,null,null,null,null,null,null,null,null,null,null,null,null,null,null,null,null,null,null,null,null,null,null,null,null,null,null,null,null,null,null,null,null,null,null,null,null,null,null,null,null,null,null,null,null,null,null,null,null,null,null,null,null,null,null,null,null,null,null,null,null,null,null,null,null,null,null,null,null,null,null,null,null,null,null,null,null,null,null,null,null,null,null,null,null,null,null,null,null,null,null,null,null,null,null,null,null,null,null,null,null,null,null,null,null,null,null,null,null,null,null,null,null,null,null,null,null,null,null,null,null,null,null,null,null,null,null,null,null,null,null,null,null,null,null,null,null,null,null,null,null,null,null,null,null,null,null,null,null,null,null,null,null,null,null,null,null,null,null,null,null,null,null,null,null,null,null,null,null,null,null,null,null,null,null,null,null,null,null,null,null,null,null,null,null,null,null,null,null,null,null,null,null,null,null,null,null,null,null,null,null,null,null,null,null,null,null,null,null,null,null,null,null,null,null,null,null,null,null,null,null,null,null,null,null,null,null,null,null,null,null,null,null,null,null,null,null,null,null,null,null,null,null,null,null,null,null,null,null,null,null,null,null,null,null,null,null,null,null,null,null,null,null,null,null,null,null,null,null,null,null,null,null,null,null,null,null,null,null,null,null,null,null,null,null,null,null,null,null,null,null,null,null,null,null,null,null,null,null,null,null,null,null,null,null,null,null,null,null,null,null,null,null,null,null,null,null,null,null,null,null,null,null,null,null,null,null,null,null,null,null,null,null,null,null,null,null,null,null,null,null,null,null,null,null,null,null,null,null,null,null,null,null,null,null,null,null,null,null,null,null,null,null,null,null,null,null,null,null,null,null,null,null,null,null,null,null,null,null,null,null,null,null,null,null,null,null,null,null,null,null,null,null,null,null,null,null,null,null,null,null,null,null,null,null,null,null,null,null,null,null,null,null,null,null,null,null,null,null,null,null,null,null,null,null,null,null,null,null,null,null,null,null,null,null,null,null,null,null,null,null,null,null,null,null,null,null,null,null,null,null,null,null,null,null,null,null,null,null,null,null,null,null,null,null,null,null,null,null,null,null,null,null,null,null,null,null,null,null,null,null,null,null,null,null,null,null,null,null,null,null,null,null,null,null,null,null,null,null,null,null,null,null,null,null,null,null,null,null,null,null,null,null,null,null,null,null,null,null,null,null,null,null,null,null,null,null,null,null,null,null,null,null,null,null,null,null,null,null,null,null,null,null,null,null,null,null,null,null,null,null,null,null,null,null,null,null,null,null,null,null,null,null,null,null,null,null,null,null,null,null,null,null,null,null,null,null,null,null,null,null,null,null,null,null,null,null,null,null,null,null,null,null,null,null,null,null,null,null,null,null,null,null,null,null,null,null,null,null,null,null,null,null,null,null,null,null,null,null,null,null,null,null,null,null,null,null,null,null,null,null,null,null,null,null,null,null,null,null,null,null,null,null,null,null,null,null,null,null,null,null,null,null,null,null,null,null,null,null,null,null,null,null,null,null,null,null,null,null,null,null,null,null,null,null,null,null,null,null,null,null,null,null,null,null,null,null,null,null,null,null,null,null,null,null,null,null,null,null,null,null,null,null,null,null,null,null,null,null,null,null,null,null,null,null,null,null,null,null,null,null,null,null,null,null,null,null,null,null,null,null,null,null,null,null,null,null,null,null,null,null,null,null,null,null,null,null,null,null,null,null,null,null,null,null,null,null,null,null,null,null,null,null,null,null,null,null,null,null,null,null,null,null,null,null,null,null,null,null,null,null,null,null,null,null,null,null,null,null,null,null,null,null,null,null,null,null,null,null,null,null,null,null,null,null,null,null,null,null,null,null,null,null,null,null,null,null,null,null,null,null,null,null,null,null,null,null,null,null,null,null,null,null,null,null,null,null,null,null,null,null,null,null,null,null,null,null,null,null,null,null,null,null,null,null,null,null,null,null,null,null,null,null,null,null,null,null,null,null,null,null,null,null,null,null,null,null,null,null,null,null,null,null,null,null,null,null,null,null,null,null,null,null,null,null,null,null,null,null,null,null,null,null,null,null,null,null,null,null,null,null,null,null,null,null,null,null,null,null,null,null,null,null,null,null,null,null,null,null,null,null,null,null,null,null,null,null,null,null,null,null,null,null,null,null,null,null,null,null,null,null,null,null,null,null,null,null,null,null,null,null,null,null,null,null,null,null,null,null,null,null,null,null,null,null,null,null,null,null,null,null,null,null,null,null,null,null,null,null,null,null,null,null,null,null,null,null,null,null,null,null,null,null,null,null,null,null,null,null,null,null,null,null,null,null,null,null,null,null,null,null,null,null,null,null,null,null,null,null,null,null,null,null,null,null,null,null,null,null,null,null,null,null,null,null,null,null,null,null,null,null,null,null,null,null,null,null,null,null,null,null,null,null,null,null,null,null,null,null,null,null,null,null,null,null,null,null,null,null,null,null,null,null,null,null,null,null,null,null,null,null,null,null,null,null,null,null,null,null,null,null,null,null,null,null,null,null,null,null,null,null,null,null,null,null,null,null,null,null,null,null,null,null,null,null,null,null,null,null,null,null,null,null,null,null,null,null,null,null,null,null,null,null,null,null,null,null,null,null,null,null,null,null,null,null,null,null,null,null,null,null,null,null,null,null,null,null,null,null,null,null,null,null,null,null,null,null,null,null,null,null,null,null,null,null,null,null,null,null,null,null,null,null,null,null,null,null,null,null,null,null,null,null,null,null,null,null,null,null,null,null,null,null,null,null,null,null,null,null,null,null,null,null,null,null,null,null,null,null,null,null,null,null,null,null,null,null,null,null,null,null,null,null,null,null,null,null,null,null,null,null,null,null,null,null,null,null,null,null,null,null,null,null,null,null,null,null,null,null,null,null,null,null,null,null,null,null,null,null,null,null,null,null,null,null,null,null,null,null,null,null,null,null,null,null,null,null,null,null,null,null,null,null,null,null,null,null,null,null,null,null,null,null,null,null,null,null,null,null,null,null,null,null,null,null,null,null,null,null,null,null,null,null,null,null,null,null,null,null,null,null,null,null,null,null,null,null,null,null,null,null,null,null,null,null,null,null,null,null,null,null,null,null,null,null,null,null,null,null,null,null,null,null,null,null,null,null,null,null,null,null,null,null,null,null,null,null,null,null,null,null,null,null,null,null,null,null,null,null,null,null,null,null,null,null,null,null,null,null,null,null,null,null,null,null,null,null,null,null,null,null,null,null,null,null,null,null,null,null,null,null,null,null,null,null,null,null,null,null,null,null,null,null,null,null,null,null,null,null,null,null,null,null,null,null,null,null,null,null,null,null,null,null,null,null,null,null,null,null,null,null,null,null,null,null,null,null,null,null,null,null,null,null,null,null,null,null,null,null,null,null,null,null,null,null,null,null,null,null,null,null,null,null,null,null,null,null,null,null,null,null,null,null,null,null,null,null,null,null,null,null,null,null,null,null,null,null,null,null,null,null,null,null,null,null,null,null,null,null,null,null,null,null,null,null,null,null,null,null,null,null,null,null,null,null,null,null,null,null,null,null,null,null,null,null,null,null,null,null,null,null,null,null,null,null,null,null,null,null,null,null,null,null,null,null,null,null,null,null,null,null,null,null,null,null,null,null,null,null,null,null,null,null,null,null,null,null,null,null,null,null,null,null,null,null,null,null,null,null,null,null,null,null,null,null,null,null,null,null,null,null,null,null,null,null,null,null,null,null,null,null,null,null,null,null,null,null,null,null,null,null,null,null,null,null,null,null,null,null,null,null,null,null,null,null,null,null,null,null,null,null,null,null,null,null,null,null,null,null,null,null,null,null,null,null,null,null,null,null,null,null,null,null,null,null,null,null,null,null,null,null,null,null,null,null,null,null,null,null,null,null,null,null,null,null,null,null,null,null,null,null,null,null,null,null,null,null,null,null,null,null,null,null,null,null,null,null,null,null,null,null,null,null,null,null,null,null,null,null,null,null,null,null,null,null,null,null,null,null,null,null,null,null,null,null,null,null,null,null,null,null,null,null,null,null,null,null,null,null,null,null,null,null,null,null,null,null,null,null,null,null,null,null,null,null,null,null,null,null,null,null,null,null,null,null,null,null,null,null,null,null,null,null,null,null,null,null,null,null,null,null,null,null,null,null,null,null,null,null,null,null,null,null,null,null,null,null,null,null,null,null,null,null,null,null,null,null,null,null,null,null,null,null,null,null,null,null,null,null,null,null,null,null,null,null,null,null,null,null,null,null,null,null,null,null,null,null,null,null,null,null,null,null,null,null,null,null,null,null,null,null,null,null,null,null,null,null,null,null,null,null,null,null,null,null,null,null,null,null,null,null,null,null,null,null,null,null,null,null,null,null,null,null,null,null,null,null,null,null,null,null,null,null,null,null,null,null,null,null,null,null,null,null,null,null,null,null,null,null,null,null,null,null,null,null,null,null,null,null,null,null,null,null,null,null,null,null,null,null,null,null,null,null,null,null,null,null,null,null,null,null,null,null,null,null,null,null,null,null,null,null,null,null,null,null,null,null,null,null,null,null,null,null,null,null,null,null,null,null,null,null,null,null,null,null,null,null,null,null,null,null,null,null,null,null,null,null,null,null,null,null,null,null,null,null,null,null,null,null,null,null,null,null,null,null,null,null,null,null,null,null,null,null,null,null,null,null,null,null,null,null,null,null,null,null,null,null,null,null,null,null,null,null,null,null,null,null,null,null,null,null,null,null,null,null,null,null,null,null,null,null,null,null,null,null,null,null,null,null,null,null,null,null,null,null,null,null,null,null,null,null,null,null,null,null,null,null,null,null,null,null,null,null,null,null,null,null,null,null,null,null,null,null,null,null,null,null,null,null,null,null,null,null,null,null,null,null,null,null,null,null,null,null,null,null,null,null,null,null,null,null,null,null,null,null,null,null,null,null,null,null,null,null,null,null,null,null,null,null,null,null,null,null,null,null,null,null,null,null,null,null,null,null,null,null,null,null,null,null,null,null,null,null,null,null,null,null,null,null,null,null,null,null,null,null,null,null,null,null,null,null,null,null,null,null,null,null,null,null,null,null,null,null,null,null,null,null,null,null,null,null,null,null,null,null,null,null,null,null,null,null,null,null,null,null,null,null,null,null,null,null,null,null,null,null,null,null,null,null,null,null,null,null,null,null,null,null,null,null,null,null,null,null,null,null,null,null,null,null,null,null,null,null,null,null,null,null,null,null,null,null,null,null,null,null,null,null,null,null,null,null,null,null,null,null,null,null,null,null,null,null,null,null,null,null,null,null,null,null,null,null,null,null,null,null,null,null,null,null,null,null,null,null,null,null,null,null,null,null,null,null,null,null,null,null,null,null,null,null,null,null,null,null,null,null,null,null,null,null,null,null,null,null,null,null,null,null,null,null,null,null,null,null,null,null,null,null,null,null,null,null,null,null,null,null,null,null,null,null,null,null,null,null,null,null,null,null,null,null,null,null,null,null,null,null,null,null,null,null,null,null,null,null,null,null,null,null,null,null,null,null,null,null,null,null,null,null,null,null,null,null,null,null,null,null,null,null,null,null,null,null,null,null,null,null,null,null,null,null,null,null,null,null,null,null,null,null,null,null,null,null,null,null,null,null,null,null,null,null,null,null,null,null,null,null,null,null,null,null,null,null,null,null,null,null,null,null,null,null,null,null,null,null,null,null,null,null,null,null,null,null,null,null,null,null,null,null,null,null,null,null,null,null,null,null,null,null,null,null,null,null,null,null,null,null,null,null,null,null,null,null,null,null,null,null,null,null,null,null,null,null,null,null,null,null,null,null,null,null,null,null,null,null,null,null,null,null,null,null,null,null,null,null,null,null,null,null,null,null,null,null,null,null,null,null,null,null,null,null,null,null,null,null,null,null,null,null,null,null,null,null,null,null,null,null,null,null,null,null,null,null,null,null,null,null,null,null,null,null,null,null,null,null,null,null,null,null,null,null,null,null,null,null,null,null,null,null,null,null,null,null,null,null,null,null,null,null,null,null,null,null,null,null,null,null,null,null,null,null,null,null,null,null,null,null,null,null,null,null,null,null,null,null,null,null,null,null,null,null,null,null,null,null,null,null,null,null,null,null,null,null,null,null,null,null,null,null,null,null,null,null,null,null,null,null,null,null,null,null,null,null,null,null,null,null,null,null,null,null,null,null,null,null,null,null,null,null,null,null,null,null,null,null,null,null,null,null,null,null,null,null,null,null,null,null,null,null,null,null,null,null,null,null,null,null,null,null,null,null,null,null,null,null,null,null,null,null,null,null,null,null,null,null,null,null,null,null,null,null,null,null,null,null,null,null,null,null,null,null,null,null,null,null,null,null,null,null,null,null,null,null,null,null,null,null,null,null,null,null,null,null,null,null,null,null,null,null,null,null,null,null,null,null,null,null,null,null,null,null,null,null,null,null,null,null,null,null,null,null,null,null,null,null,null,null,null,null,null,null,null,null,null,null,null,null,null,null,null,null,null,null,null,null,null,null,null,null,null,null,null,null,null,null,null,null,null,null,null,null,null,null,null,null,null,null,null,null,null,null,null,null,null,null,null,null,null,null,null,null,null,null,null,null,null,null,null,null,null,null,null,null,null,null,null,null,null,null,null,null,null,null,null,null,null,null,null,null,null,null,null,null,null,null,null,null,null,null,null,null,null,null,null,null,null,null,null,null,null,null,null,null,null,null,null,null,null,null,null,null,null,null,null,null,null,null,null,null,null,null,null,null,null,null,null,null,null,null,null,null,null,null,null,null,null,null,null,null,null,null,null,null,null,null,null,null,null,null,null,null,null,null,null,null,null,null,null,null,null,null,null,null,null,null,null,null,null,null,null,null,null,null,null,null,null,null,null,null,null,null,null,null,null,null,null,null,null,null,null,null,null,null,null,null,null,null,null,null,null,null,null,null,null,null,null,null,null,null,null,null,null,null,null,null,null,null,null,null,null,null,null,null,null,null,null,null,null,null,null,null,null,null,null,null,null,null,null,null,null,null,null,null,null,null,null,null,null,null,null,null,null,null,null,null,null,null,null,null,null,null,null,null,null,null,null,null,null,null,null,null,null,null,null,null,null,null,null,null,null,null,null,null,null,null,null,null,null,null,null,null,null,null,null,null,null,null,null,null,null,null,null,null,null,null,null,null,null,null,null,null,null,null,null,null,null,null,null,null,null,null,null,null,null,null,null,null,null,null,null,null,null,null,null,null,null,null,null,null,null,null,null,null,null,null,null,null,null,null,null,null,null,null,null,null,null,null,null,null,null,null,null,null,null,null,null,null,null,null,null,null,null,null,null,null,null,null,null,null,null,null,null,null,null,null,null,null,null,null,null,null,null,null,null,null,null,null,null,null,null,null,null,null,null,null,null,null,null,null,null,null,null,null,null,null,null,null,null,null,null,null,null,null,null,null,null,null,null,null,null,null,null,null,null,null,null,null,null,null,null,null,null,null,null,null,null,null,null,null,null,null,null,null,null,null,null,null,null,null,null,null,null,null,null,null,null,null,null,null,null,null,null,null,null,null,null,null,null,null,null,null,null,null,null,null,null,null,null,null,null,null,null,null,null,null,null,null,null,null,null,null,null,null,null,null,null,null,null,null,null,null,null,null,null,null,null,null,null,null,null,null,null,null,null,null,null,null,null,null,null,null,null,null,null,null,null,null,null,null,null,null,null,null,null,null,null,null,null,null,null,null,null,null,null,null,null,null,null,null,null,null,null,null,null,null,null,null,null,null,null,null,null,null,null,null,null,null,null,null,null,null,null,null,null,null,null,null,null,null,null,null,null,null,null,null,null,null,null,null,null,null,null,null,null,null,null,null,null,null,null,null,null,null,null,null,null,null,null,null,null,null,null,null,null,null,null,null,null,null,null,null,null,null,null,null,null,null,null,null,null,null,null,null,null,null,null,null,null,null,null,null,null,null,null,null,null,null,null,null,null,null,null,null,null,null,null,null,null,null,null,null,null,null,null,null,null,null,null,null,null,null,null,null,null,null,null,null,null,null,null,null,null,null,null,null,null,null,null,null,null,null,null,null,null,null,null,null,null,null,null,null,null,null,null,null,null,null,null,null,null,null,null,null,null,null,null,null,null,null,null,null,null,null,null,null,null,null,null,null,null,null,null,null,null,null,null,null,null,null,null,null,null,null,null,null,null,null,null,null,null,null,null,null,null,null,null,null,null,null,null,null,null,null,null,null,null,null,null,null,null,null,null,null,null,null,null,null,null,null,null,null,null,null,null,null,null,null,null,null,null,null,null,null,null,null,null,null,null,null,null,null,null,null,null,null,null,null,null,null,null,null,null,null,null,null,null,null,null,null,null,null,null,null,null,null,null,null,null,null,null,null,null,null,null,null,null,null,null,null,null,null,null,null,null,null,null,null,null,null,null,null,null,null,null,null,null,null,null,null,null,null,null,null,null,null,null,null,null,null,null,null,null,null,null,null,null,null,null,null,null,null,null,null,null,null,null,null,null,null,null,null,null,null,null,null,null,null,null,null,null,null,null,null,null,null,null,null,null,null,null,null,null,null,null,null,null,null,null,null,null,null,null,null,null,null,null,null,null,null,null,null,null,null,null,null,null,null,null,null,null,null,null,null,null,null,null,null,null,null,null,null,null,null,null,null,null,null,null,null,null,null,null,null,null,null,null,null,null,null,null,null,null,null,null,null,null,null,null,null,null,null,null,null,null,null,null,null,null,null,null,null,null,null,null,null,null,null,null,null,null,null,null,null,null,null,null,null,null,null,null,null,null,null,null,null,null,null,null,null,null,null,null,null,null,null,null,null,null,null,null,null,null,null,null,null,null,null,null,null,null,null,null,null,null,null,null,null,null,null,null,null,null,null,null,null,null,null,null,null,null,null,null,null,null,null,null,null,null,null,null,null,null,null,null,null,null,null,null,null,null,null,null,"Time Production",null,"1402316306829"]
[null,null,null,null,null,null,null,null,null,null,null,null,null,null,null,null,null,null,null,null,null,null,null,null,null,null,null,null,null,null,null,null,null,null,null,null,null,null,null,null,null,null,null,null,null,null,null,null,null,null,null,null,null,null,null,null,null,null,null,null,null,null,null,null,null,null,null,null,null,null,null,null,null,null,null,null,null,null,null,null,null,null,null,null,null,null,null,null,null,null,null,null,null,null,null,null,null,null,null,null,null,null,null,null,null,null,null,null,null,null,null,null,null,null,null,null,null,null,null,null,null,null,null,null,null,null,null,null,null,null,null,null,null,null,null,null,null,null,null,null,null,null,null,null,null,null,null,null,null,null,null,null,null,null,null,null,null,null,null,null,null,null,null,null,null,null,null,null,null,null,null,null,null,null,null,null,null,null,null,null,null,null,null,null,null,null,null,null,null,null,null,null,null,null,null,null,null,null,null,null,null,null,null,null,null,null,null,null,null,null,null,null,null,null,null,null,null,null,null,null,null,null,null,null,null,null,null,null,null,null,null,null,null,null,null,null,null,null,null,null,null,null,null,null,null,null,null,null,null,null,null,null,null,null,null,null,null,null,null,null,null,null,null,null,null,null,null,null,null,null,null,null,null,null,null,null,null,null,null,null,null,null,null,null,null,null,null,null,null,null,null,null,null,null,null,null,null,null,null,null,null,null,null,null,null,null,null,null,null,null,null,null,null,null,null,null,null,null,null,null,null,null,null,null,null,null,null,null,null,null,null,null,null,null,null,null,null,null,null,null,null,null,null,null,null,null,null,null,null,null,null,null,null,null,null,null,null,null,null,null,null,null,null,null,null,null,null,null,null,null,null,null,null,null,null,null,null,null,null,null,null,null,null,null,null,null,null,null,null,null,null,null,null,null,null,null,null,null,null,null,null,null,null,null,null,null,null,null,null,null,null,null,null,null,null,null,null,null,null,null,null,null,null,null,null,null,null,null,null,null,null,null,null,null,null,null,null,null,null,null,null,null,null,null,null,null,null,null,null,null,null,null,null,null,null,null,null,null,null,null,null,null,null,null,null,null,null,null,null,null,null,null,null,null,null,null,null,null,null,null,null,null,null,null,null,null,null,null,null,null,null,null,null,null,null,null,null,null,null,null,null,null,null,null,null,null,null,null,null,null,null,null,null,null,null,null,null,null,null,null,null,null,null,null,null,null,null,null,null,null,null,null,null,null,null,null,null,null,null,null,null,null,null,null,null,null,null,null,null,null,null,null,null,null,null,null,null,null,null,null,null,null,null,null,null,null,null,null,null,null,null,null,null,null,null,null,null,null,null,null,null,null,null,null,null,null,null,null,null,null,null,null,null,null,null,null,null,null,null,null,null,null,null,null,null,null,null,null,null,null,null,null,null,null,null,null,null,null,null,null,null,null,null,null,null,null,null,null,null,null,null,null,null,null,null,null,null,null,null,null,null,null,null,null,null,null,null,null,null,null,null,null,null,null,null,null,null,null,null,null,null,null,null,null,null,null,null,null,null,null,null,null,null,null,null,null,null,null,null,null,null,null,null,null,null,null,null,null,null,null,null,null,null,null,null,null,null,null,null,null,null,null,null,null,null,null,null,null,null,null,null,null,null,null,null,null,null,null,null,null,null,null,null,null,null,null,null,null,null,null,null,null,null,null,null,null,null,null,null,null,null,null,null,null,null,null,null,null,null,null,null,null,null,null,null,null,null,null,null,null,null,null,null,null,null,null,null,null,null,null,null,null,null,null,null,null,null,null,null,null,null,null,null,null,null,null,null,null,null,null,null,null,null,null,null,null,null,null,null,null,null,null,null,null,null,null,null,null,null,null,null,null,null,null,null,null,null,null,null,null,null,null,null,null,null,null,null,null,null,null,null,null,null,null,null,null,null,null,null,null,null,null,null,null,null,null,null,null,null,null,null,null,null,null,null,null,null,null,null,null,null,null,null,null,null,null,null,null,null,null,null,null,null,null,null,null,null,null,null,null,null,null,null,null,null,null,null,null,null,null,null,null,null,null,null,null,null,null,null,null,null,null,null,null,null,null,null,null,null,null,null,null,null,null,null,null,null,null,null,null,null,null,null,null,null,null,null,null,null,null,null,null,null,null,null,null,null,null,null,null,null,null,null,null,null,null,null,null,null,null,null,null,null,null,null,null,null,null,null,null,null,null,null,null,null,null,null,null,null,null,null,null,null,null,null,null,null,null,null,null,null,null,null,null,null,null,null,null,null,null,null,null,null,null,null,null,null,null,null,null,null,null,null,null,null,null,null,null,null,null,null,null,null,null,null,null,null,null,null,null,null,null,null,null,null,null,null,null,null,null,null,null,null,null,null,null,null,null,null,null,null,null,null,null,null,null,null,null,null,null,null,null,null,null,null,null,null,null,null,null,null,null,null,null,null,null,null,null,null,null,null,null,null,null,null,null,null,null,null,null,null,null,null,null,null,null,null,null,null,null,null,null,null,null,null,null,null,null,null,null,null,null,null,null,null,null,null,null,null,null,null,null,null,null,null,null,null,null,null,null,null,null,null,null,null,null,null,null,null,null,null,null,null,null,null,null,null,null,null,null,null,null,null,null,null,null,null,null,null,null,null,null,null,null,null,null,null,null,null,null,null,null,null,null,null,null,null,null,null,null,null,null,null,null,null,null,null,null,null,null,null,null,null,null,null,null,null,null,null,null,null,null,null,null,null,null,null,null,null,null,null,null,null,null,null,null,null,null,null,null,null,null,null,null,null,null,null,null,null,null,null,null,null,null,null,null,null,null,null,null,null,null,null,null,null,null,null,null,null,null,null,null,null,null,null,null,null,null,null,null,null,null,null,null,null,null,null,null,null,null,null,null,null,null,null,null,null,null,null,null,null,null,null,null,null,null,null,null,null,null,null,null,null,null,null,null,null,null,null,null,null,null,null,null,null,null,null,null,null,null,null,null,null,null,null,null,null,null,null,null,null,null,null,null,null,null,null,null,null,null,null,null,null,null,null,null,null,null,null,null,null,null,null,null,null,null,null,null,null,null,null,null,null,null,null,null,null,null,null,null,null,null,null,null,null,null,null,null,null,null,null,null,null,null,null,null,null,null,null,null,null,null,null,null,null,null,null,null,null,null,null,null,null,null,null,null,null,null,null,null,null,null,null,null,null,null,null,null,null,null,null,null,null,null,null,null,null,null,null,null,null,null,null,null,null,null,null,null,null,null,null,null,null,null,null,null,null,null,null,null,null,null,null,null,null,null,null,null,null,null,null,null,null,null,null,null,null,null,null,null,null,null,null,null,null,null,null,null,null,null,null,null,null,null,null,null,null,null,null,null,null,null,null,null,null,null,null,null,null,null,null,null,null,null,null,null,null,null,null,null,null,null,null,null,null,null,null,null,null,null,null,null,null,null,null,null,null,null,null,null,null,null,null,null,null,null,null,null,null,null,null,null,null,null,null,null,null,null,null,null,null,null,null,null,null,null,null,null,null,null,null,null,null,null,null,null,null,null,null,null,null,null,null,null,null,null,null,null,null,null,null,null,null,null,null,null,null,null,null,null,null,null,null,null,null,null,null,null,null,null,null,null,null,null,null,null,null,null,null,null,null,null,null,null,null,null,null,null,null,null,null,null,null,null,null,null,null,null,null,null,null,null,null,null,null,null,null,null,null,null,null,null,null,null,null,null,null,null,null,null,null,null,null,null,null,null,null,null,null,null,null,null,null,null,null,null,null,null,null,null,null,null,null,null,null,null,null,null,null,null,null,null,null,null,null,null,null,null,null,null,null,null,null,null,null,null,null,null,null,null,null,null,null,null,null,null,null,null,null,null,null,null,null,null,null,null,null,null,null,null,null,null,null,null,null,null,null,null,null,null,null,null,null,null,null,null,null,null,null,null,null,null,null,null,null,null,null,null,null,null,null,null,null,null,null,null,null,null,null,null,null,null,null,null,null,null,null,null,null,null,null,null,null,null,null,null,null,null,null,null,null,null,null,null,null,null,null,null,null,null,null,null,null,null,null,null,null,null,null,null,null,null,null,null,null,null,null,null,null,null,null,null,null,null,null,null,null,null,null,null,null,null,null,null,null,null,null,null,null,null,null,null,null,null,null,null,null,null,null,null,null,null,null,null,null,null,null,null,null,null,null,null,null,null,null,null,null,null,null,null,null,null,null,null,null,null,null,null,null,null,null,null,null,null,null,null,null,null,null,null,null,null,null,null,null,null,null,null,null,null,null,null,null,null,null,null,null,null,null,null,null,null,null,null,null,null,null,null,null,null,null,null,null,null,null,null,null,null,null,null,null,null,null,null,null,null,null,null,null,null,null,null,null,null,null,null,null,null,null,null,null,null,null,null,null,null,null,null,null,null,null,null,null,null,null,null,null,null,null,null,null,null,null,null,null,null,null,null,null,null,null,null,null,null,null,null,null,null,null,null,null,null,null,null,null,null,null,null,null,null,null,null,null,null,null,null,null,null,null,null,null,null,null,null,null,null,null,null,null,null,null,null,null,null,null,null,null,null,null,null,null,null,null,null,null,null,null,null,null,null,null,null,null,null,null,null,null,null,null,null,null,null,null,null,null,null,null,null,null,null,null,null,null,null,null,null,null,null,null,null,null,null,null,null,null,null,null,null,null,null,null,null,null,null,null,null,null,null,null,null,null,null,null,null,null,null,null,null,null,null,null,null,null,null,null,null,null,null,null,null,null,null,null,null,null,null,null,null,null,null,null,null,null,null,null,null,null,null,null,null,null,null,null,null,null,null,null,null,null,null,null,null,null,null,null,null,null,null,null,null,null,null,null,null,null,null,null,null,null,null,null,null,null,null,null,null,null,null,null,null,null,null,null,null,null,null,null,null,null,null,null,null,null,null,null,null,null,null,null,null,null,null,null,null,null,null,null,null,null,null,null,null,null,null,null,null,null,null,null,null,null,null,null,null,null,null,null,null,null,null,null,null,null,null,null,null,null,null,null,null,null,null,null,null,null,null,null,null,null,null,null,null,null,null,null,null,null,null,null,null,null,null,null,null,null,null,null,null,null,null,null,null,null,null,null,null,null,null,null,null,null,null,null,null,null,null,null,null,null,null,null,null,null,null,null,null,null,null,null,null,null,null,null,null,null,null,null,null,null,null,null,null,null,null,null,null,null,null,null,null,null,null,null,null,null,null,null,null,null,null,null,null,null,null,null,null,null,null,null,null,null,null,null,null,null,null,null,null,null,null,null,null,null,null,null,null,null,null,null,null,null,null,null,null,null,null,null,null,null,null,null,null,null,null,null,null,null,null,null,null,null,null,null,null,null,null,null,null,null,null,null,null,null,null,null,null,null,null,null,null,null,null,null,null,null,null,null,null,null,null,null,null,null,null,null,null,null,null,null,null,null,null,null,null,null,null,null,null,null,null,null,null,null,null,null,null,null,null,null,null,null,null,null,null,null,null,null,null,null,null,null,null,null,null,null,null,null,null,null,null,null,null,null,null,null,null,null,null,null,null,null,null,null,null,null,null,null,null,null,null,null,null,null,null,null,null,null,null,null,null,null,null,null,null,null,null,null,null,null,null,null,null,null,null,null,null,null,null,null,null,null,null,null,null,null,null,null,null,null,null,null,null,null,null,null,null,null,null,null,null,null,null,null,null,null,null,null,null,null,null,null,null,null,null,null,null,null,null,null,null,null,null,null,null,null,null,null,null,null,null,null,null,null,null,null,null,null,null,null,null,null,null,null,null,null,null,null,null,null,null,null,null,null,null,null,null,null,null,null,null,null,null,null,null,null,null,null,null,null,null,null,null,null,null,null,null,null,null,null,null,null,null,null,null,null,null,null,null,null,null,null,null,null,null,null,null,null,null,null,null,null,null,null,null,null,null,null,null,null,null,null,null,null,null,null,null,null,null,null,null,null,null,null,null,null,null,null,null,null,null,null,null,null,null,null,null,null,null,null,null,null,null,null,null,null,null,null,null,null,null,null,null,null,null,null,null,null,null,null,null,null,null,null,null,null,null,null,null,null,null,null,null,null,null,null,null,null,null,null,null,null,null,null,null,null,null,null,null,null,null,null,null,null,null,null,null,null,null,null,null,null,null,null,null,null,null,null,null,null,null,null,null,null,null,null,null,null,null,null,null,null,null,null,null,null,null,null,null,null,null,null,null,null,null,null,null,null,null,null,null,null,null,null,null,null,null,null,null,null,null,null,null,null,null,null,null,null,null,null,null,null,null,null,null,null,null,null,null,null,null,null,null,null,null,null,null,null,null,null,null,null,null,null,null,null,null,null,null,null,null,null,null,null,null,null,null,null,null,null,null,null,null,null,null,null,null,null,null,null,null,null,null,null,null,null,null,null,null,null,null,null,null,null,null,null,null,null,null,null,null,null,null,null,null,null,null,null,null,null,null,null,null,null,null,null,null,null,null,null,null,null,null,null,null,null,null,null,null,null,null,null,null,null,null,null,null,null,null,null,null,null,null,null,null,null,null,null,null,null,null,null,null,null,null,null,null,null,null,null,null,null,null,null,null,null,null,null,null,null,null,null,null,null,null,null,null,null,null,null,null,null,null,null,null,null,null,null,null,null,null,null,null,null,null,null,null,null,null,null,null,null,null,null,null,null,null,null,null,null,null,null,null,null,null,null,null,null,null,null,null,null,null,null,null,null,null,null,null,null,null,null,null,null,null,null,null,null,null,null,null,null,null,null,null,null,null,null,null,null,null,null,null,null,null,null,null,null,null,null,null,null,null,null,null,null,null,null,null,null,null,null,null,null,null,null,null,null,null,null,null,null,null,null,null,null,null,null,null,null,null,null,null,null,null,null,null,null,null,null,null,null,null,null,null,null,null,null,null,null,null,null,null,null,null,null,null,null,null,null,null,null,null,null,null,null,null,null,null,null,null,null,null,null,null,null,null,null,null,null,null,null,null,null,null,null,null,null,null,null,null,null,null,null,null,null,null,null,null,null,null,null,null,null,null,null,null,null,null,null,null,null,null,null,null,null,null,null,null,null,null,null,null,null,null,null,null,null,null,null,null,null,null,null,null,null,null,null,null,null,null,null,null,null,null,null,null,null,null,null,null,null,null,null,null,null,null,null,null,null,null,null,null,null,null,null,null,null,null,null,null,null,null,null,null,null,null,null,null,null,null,null,null,null,null,null,null,null,null,null,null,null,null,null,null,null,null,null,null,null,null,null,null,null,null,null,null,null,null,null,null,null,null,null,null,null,null,null,null,null,null,null,null,null,null,null,null,null,null,null,null,null,null,null,null,null,null,null,null,null,null,null,null,null,null,null,null,null,null,null,null,null,null,null,null,null,null,null,null,null,null,null,null,null,null,null,null,null,null,null,null,null,null,null,null,null,null,null,null,null,null,null,null,null,null,null,null,null,null,null,null,null,null,null,null,null,null,null,null,null,null,null,null,null,null,null,null,null,null,null,null,null,null,null,null,null,null,null,null,null,null,null,null,null,null,null,null,null,null,null,null,null,null,null,null,null,null,null,null,null,null,null,null,null,null,null,null,null,null,null,null,null,null,null,null,null,null,null,null,null,null,null,null,null,null,null,null,null,null,null,null,null,null,null,null,null,null,null,null,null,null,null,null,null,null,null,null,null,null,null,null,null,null,null,null,null,null,null,null,null,null,null,null,null,null,null,null,null,null,null,null,null,null,null,null,null,null,null,null,null,null,null,null,null,null,null,null,null,null,null,null,null,null,null,null,null,null,null,null,null,null,null,null,null,null,null,null,null,null,null,null,null,null,null,null,null,null,null,null,null,null,null,null,null,null,null,null,null,null,null,null,null,null,null,null,null,null,null,null,null,null,null,null,null,null,null,null,null,null,null,null,null,null,null,null,null,null,null,null,null,null,null,null,null,null,null,null,null,null,null,null,null,null,null,null,null,null,null,null,null,null,null,null,null,null,null,null,null,null,null,null,null,null,null,null,null,null,null,null,null,null,null,null,null,null,null,null,null,null,null,null,null,null,null,null,null,null,null,null,null,null,null,null,null,null,null,null,null,null,null,null,null,null,null,null,null,null,null,null,null,null,null,null,null,null,null,null,null,null,null,null,null,null,null,null,null,null,null,null,null,null,null,null,null,null,null,null,null,null,null,null,null,null,null,null,null,null,null,null,null,null,null,null,null,null,null,null,null,null,null,null,null,null,null,null,null,null,null,null,null,null,null,null,null,null,null,null,null,null,null,null,null,null,null,null,null,null,null,null,null,null,null,null,null,null,null,null,null,null,null,null,null,null,null,null,null,null,null,null,null,null,null,null,null,null,null,null,null,null,null,null,null,null,null,null,null,null,null,null,null,null,null,null,null,null,null,null,null,null,null,null,null,null,null,null,null,null,null,null,null,null,null,null,null,null,null,null,null,null,null,null,null,null,null,null,null,null,null,null,null,null,null,null,null,null,null,null,null,null,null,null,null,null,null,null,null,null,null,null,null,null,null,null,null,null,null,null,null,null,null,null,null,null,null,null,null,null,null,null,null,null,null,null,null,null,null,null,null,null,null,null,null,null,null,null,null,null,null,null,null,null,null,null,null,null,null,null,null,null,null,null,null,null,null,null,null,null,null,null,null,null,null,null,null,null,null,null,null,null,null,null,null,null,null,null,null,null,null,null,null,null,null,null,null,null,null,null,null,null,null,null,null,null,null,null,null,null,null,null,null,null,null,null,null,null,null,null,null,null,null,null,null,null,null,null,null,null,null,null,null,null,null,null,null,null,null,null,null,null,null,null,null,null,null,null,null,null,null,null,null,null,null,null,null,null,null,null,null,null,null,null,null,null,null,null,null,null,null,null,null,null,null,null,null,null,null,null,null,null,null,null,null,null,null,null,null,null,null,null,null,null,null,null,null,null,null,null,null,null,null,null,null,null,null,null,null,null,null,null,null,null,null,null,null,null,null,null,null,null,null,null,null,null,null,null,null,null,null,null,null,null,null,null,null,null,null,null,null,null,null,null,null,null,null,null,null,null,null,null,null,null,null,null,null,null,null,null,null,null,null,null,null,null,null,null,null,null,null,null,null,null,null,null,null,null,null,null,null,null,null,null,null,null,null,null,null,null,null,null,null,null,null,null,null,null,null,null,null,null,null,null,null,null,null,null,null,null,null,null,null,null,null,null,null,null,null,null,null,null,null,null,null,null,null,null,null,null,null,null,null,null,null,null,null,null,null,null,null,null,null,null,null,null,null,null,null,null,null,null,null,null,null,null,null,null,null,null,null,null,null,null,null,null,null,null,null,null,null,null,null,null,null,null,null,null,null,null,null,null,null,null,null,null,null,null,null,null,null,null,null,null,null,null,null,null,null,null,null,null,null,null,null,null,null,null,null,null,null,null,null,null,null,null,null,null,null,null,null,null,null,null,null,null,null,null,null,null,null,null,null,null,null,null,null,null,null,null,null,null,null,null,null,null,null,null,null,null,null,null,null,null,null,null,null,null,null,null,null,null,null,null,null,null,null,null,null,null,null,null,null,null,null,null,null,null,null,null,null,null,null,null,null,null,null,null,null,null,null,null,null,null,null,null,null,null,null,null,null,null,null,null,null,null,null,null,null,null,null,null,null,null,null,null,null,null,null,null,null,null,null,null,null,null,null,null,null,null,null,null,null,null,null,null,null,null,null,null,null,null,null,null,null,null,null,null,null,null,null,null,null,null,null,null,null,null,null,null,null,null,null,null,null,null,null,null,null,null,null,null,null,null,null,null,null,null,null,null,null,null,null,null,null,null,null,null,null,null,null,null,null,null,null,null,null,null,null,null,null,null,null,null,null,null,null,null,null,null,null,null,null,null,null,null,null,null,null,null,null,null,null,null,null,null,null,null,null,null,null,null,null,null,null,null,null,null,null,null,null,null,null,null,null,null,null,null,null,null,null,null,null,null,null,null,null,null,null,null,null,null,null,null,null,null,null,null,null,null,null,null,null,null,null,null,null,null,null,null,null,null,null,null,null,null,null,null,null,null,null,null,null,null,null,null,null,null,null,null,null,null,null,null,null,null,null,null,null,null,null,null,null,null,null,null,null,null,null,null,null,null,null,null,null,null,null,null,null,null,null,null,null,null,null,null,null,null,null,null,null,null,null,null,null,null,null,null,null,null,null,null,null,null,null,null,null,null,null,null,null,null,null,null,null,null,null,null,null,null,null,null,null,null,null,null,null,null,null,null,null,null,null,null,null,null,null,null,null,null,null,null,null,null,null,null,null,null,null,null,null,null,null,null,null,null,null,null,null,null,null,null,null,null,null,null,null,null,null,null,null,null,null,null,null,null,null,null,null,null,null,null,null,null,null,null,null,null,null,null,null,null,null,null,null,null,null,null,null,null,null,null,null,null,null,null,null,null,null,null,null,null,null,null,null,null,null,null,null,null,null,null,null,null,null,null,null,null,null,null,null,null,null,null,null,null,null,null,null,null,null,null,null,null,null,null,null,null,null,null,null,null,null,null,null,null,null,null,null,null,null,null,null,null,null,null,null,null,null,null,null,null,null,null,null,null,null,null,null,null,null,null,null,null,null,null,null,null,null,null,null,null,null,null,null,null,null,null,null,null,null,null,null,null,null,null,null,null,null,null,null,null,null,null,null,null,null,null,null,null,null,null,null,null,null,null,null,null,null,null,null,null,null,null,null,null,null,null,null,null,null,null,null,null,null,null,null,null,null,null,null,null,null,null,null,null,null,null,null,null,null,null,null,null,null,null,null,null,null,null,null,null,null,null,null,null,null,null,null,null,null,null,null,null,null,null,null,null,null,null,null,null,null,null,null,null,null,null,null,null,null,null,null,null,null,null,null,null,null,null,null,null,null,null,null,null,null,null,null,null,null,null,null,null,null,null,null,null,null,null,null,null,null,null,null,null,null,null,null,null,null,null,null,null,null,null,null,null,null,null,null,null,null,null,null,null,null,null,null,null,null,null,null,null,null,null,null,null,null,null,null,null,null,null,null,null,null,null,null,null,null,null,null,null,null,null,null,null,null,null,null,null,null,null,null,null,null,null,null,null,null,null,null,null,null,null,null,null,null,null,null,null,null,null,null,null,null,null,null,null,null,null,null,null,null,null,null,null,null,null,null,null,null,null,null,null,null,null,null,null,null,null,null,null,null,null,null,null,null,null,null,null,null,null,null,null,null,null,null,null,null,null,null,null,null,null,null,null,null,null,null,null,null,null,null,null,null,null,null,null,null,null,null,null,null,null,null,null,null,null,null,null,null,null,null,null,null,null,null,null,null,null,null,null,null,null,null,null,null,null,null,null,null,null,null,null,null,null,null,null,null,null,null,null,null,null,null,null,null,null,null,null,null,null,null,null,null,null,null,null,null,null,null,null,null,null,null,null,null,null,null,null,null,null,null,null,null,null,null,null,null,null,null,null,null,null,null,null,null,null,null,null,null,null,null,null,null,null,null,null,null,null,null,null,null,null,null,null,null,null,null,null,null,null,null,null,null,null,null,null,null,null,null,null,null,null,null,null,null,null,null,null,null,null,null,null,null,null,null,null,null,null,null,null,null,null,null,null,null,null,null,null,null,null,null,null,null,null,null,null,null,null,null,null,null,null,null,null,null,null,null,null,null,null,null,null,null,null,null,null,null,null,null,null,null,null,null,null,null,null,null,null,null,null,null,null,null,null,null,null,null,null,null,null,null,null,null,null,null,null,null,null,null,null,null,null,null,null,null,null,null,null,null,null,null,null,null,null,null,null,null,null,null,null,null,null,null,null,null,null,null,null,null,null,null,null,null,null,null,null,null,null,null,null,null,null,null,null,null,null,null,null,null,null,null,null,null,null,null,null,null,null,null,null,null,null,null,null,null,null,null,null,null,null,null,null,null,null,null,null,null,null,null,null,null,null,null,null,null,null,null,null,null,null,null,null,null,null,null,null,null,null,null,null,null,null,null,null,null,null,null,null,null,null,null,null,null,null,null,null,null,null,null,null,null,null,null,null,null,null,null,null,null,null,null,null,null,null,null,null,null,null,null,null,null,null,null,null,null,null,null,null,null,null,null,null,null,null,null,null,null,null,null,null,null,null,null,null,null,null,null,null,null,null,null,null,null,null,null,null,null,null,null,null,null,null,null,null,null,null,null,null,null,null,null,null,null,null,null,null,null,null,null,null,null,null,null,null,null,null,null,null,null,null,null,null,null,null,null,null,null,null,null,null,null,null,null,null,null,null,null,null,null,null,null,null,null,null,null,null,null,null,null,null,null,null,null,null,null,null,null,null,null,null,null,null,null,null,null,null,null,null,null,null,null,null,null,null,null,null,null,null,null,null,null,null,null,null,null,null,null,null,null,null,null,null,null,null,null,null,null,null,null,null,null,null,null,null,null,null,null,null,null,null,null,null,null,null,null,null,null,null,null,null,null,null,null,null,null,null,null,null,null,null,null,null,null,null,null,null,null,null,null,null,null,null,null,null,null,null,null,null,null,null,null,null,null,null,null,null,null,null,null,null,null,null,null,null,null,null,null,null,null,null,null,null,null,null,null,null,null,null,null,null,null,null,null,null,null,null,null,null,null,null,null,null,null,null,null,null,null,null,null,null,null,null,null,null,null,null,null,null,null,null,null,null,null,null,null,null,null,null,null,null,null,null,null,null,null,null,null,null,null,null,null,null,null,null,null,null,null,null,null,null,null,null,null,null,null,null,null,null,null,null,null,null,null,null,null,null,null,null,null,null,null,null,null,null,null,null,null,null,null,null,null,null,null,null,null,null,null,null,null,null,null,null,null,null,null,null,null,null,null,null,null,null,null,null,null,null,null,null,null,null,null,null,null,null,null,null,null,null,null,null,null,null,null,null,null,null,null,null,null,null,null,null,null,null,null,null,null,null,null,null,null,null,null,null,null,null,null,null,null,null,null,null,null,null,null,null,null,null,null,null,null,null,null,null,null,null,null,null,null,null,null,null,null,null,null,null,null,null,null,null,null,null,null,null,null,null,null,null,null,null,null,null,null,null,null,null,null,null,null,null,null,null,null,null,null,null,null,null,null,null,null,null,null,null,null,null,null,null,null,null,null,null,null,null,null,null,null,null,null,null,null,null,null,null,null,null,null,null,null,null,null,null,null,null,null,null,null,null,null,null,null,null,null,null,null,null,null,null,null,null,null,null,null,null,null,null,null,null,null,null,null,null,null,null,null,null,null,null,null,null,null,null,null,null,null,null,null,null,null,null,null,null,null,null,null,null,null,null,null,null,null,null,null,null,null,null,null,null,null,null,null,null,null,null,null,null,null,null,null,null,null,null,null,null,null,null,null,null,null,null,null,null,null,null,null,null,null,null,null,null,null,null,null,null,null,null,null,null,null,null,null,null,null,null,null,null,null,null,null,null,null,null,null,null,null,null,null,null,null,null,null,null,null,null,null,null,null,null,null,null,null,null,null,null,null,null,null,null,null,null,null,null,null,null,null,null,null,null,null,null,null,null,null,null,null,null,null,null,null,null,null,null,null,null,null,null,null,null,null,null,null,null,null,null,null,null,null,null,null,null,null,null,null,null,null,null,null,null,null,null,null,null,null,null,null,null,null,null,null,null,null,null,null,null,null,null,null,null,null,null,null,null,null,null,null,null,null,null,null,null,null,null,null,null,null,null,null,null,null,null,null,null,null,null,null,null,null,null,null,null,null,null,null,null,null,null,null,null,null,null,null,null,null,null,null,null,null,null,null,null,null,null,null,null,null,null,null,null,null,null,null,null,null,null,null,null,null,null,null,null,null,null,null,null,null,null,null,null,null,null,null,null,null,null,null,null,null,null,null,null,null,null,null,null,null,null,null,null,null,null,null,null,null,null,null,null,null,null,null,null,null,null,null,null,null,null,null,null,null,null,null,null,null,null,null,null,null,null,null,null,null,null,null,null,null,null,null,null,null,null,null,null,null,null,null,null,null,null,null,null,null,null,null,null,null,null,null,null,null,null,null,null,null,null,null,null,null,null,null,null,null,null,null,null,null,null,null,null,null,null,null,null,null,null,null,null,null,null,null,null,null,null,null,null,null,null,null,null,null,null,null,null,null,null,null,null,null,null,null,null,null,null,null,null,null,null,null,null,null,null,null,null,null,null,null,null,null,null,null,null,null,null,null,null,null,null,null,null,null,null,null,null,null,null,null,null,null,null,null,null,null,null,null,null,null,null,null,null,null,null,null,null,null,null,null,null,null,null,null,null,null,null,null,null,null,null,null,null,null,null,null,null,null,null,null,null,null,null,null,null,null,null,null,null,null,null,null,null,null,null,null,null,null,null,null,null,null,null,null,null,null,null,null,null,null,null,null,null,null,null,null,null,null,null,null,null,null,null,null,null,null,null,null,null,null,null,null,null,null,null,null,null,null,null,null,null,null,null,null,null,null,null,null,null,null,null,null,null,null,null,null,null,null,null,null,null,null,null,null,null,null,null,null,null,null,null,null,null,null,null,null,null,null,null,null,null,null,null,null,null,null,null,null,null,null,null,null,null,null,null,null,null,null,null,null,null,null,null,null,null,null,null,null,null,null,null,null,null,null,null,null,null,null,null,null,null,null,null,null,null,null,null,null,null,null,null,null,null,null,null,null,null,null,null,null,null,null,null,null,null,null,null,null,null,null,null,null,null,null,null,null,null,null,null,null,null,null,null,null,null,null,null,null,null,null,null,null,null,null,null,null,null,null,null,null,null,null,null,null,null,null,null,null,null,null,null,null,null,null,null,null,null,null,null,null,null,null,null,null,null,null,null,null,null,null,null,null,null,null,null,null,null,null,null,null,null,null,null,null,null,null,null,null,null,null,null,null,null,null,null,null,null,null,null,null,null,null,null,null,null,null,null,null,null,null,null,null,null,null,null,null,null,null,null,null,null,null,null,null,null,null,null,null,null,null,null,null,null,null,null,null,null,null,null,null,null,null,null,null,null,null,null,null,null,null,null,null,null,null,null,null,null,null,null,null,null,null,null,null,null,null,null,null,null,null,null,null,null,null,null,null,null,null,null,null,null,null,null,null,null,null,null,null,null,null,null,null,null,null,null,null,null,null,null,null,null,null,null,null,null,null,null,null,null,null,null,null,null,null,null,null,null,null,null,null,null,null,null,null,null,null,null,null,null,null,null,null,null,null,null,null,null,null,null,null,null,null,null,null,null,null,null,null,null,null,null,null,null,null,null,null,null,null,null,null,null,null,null,null,null,null,null,null,null,null,null,null,null,null,null,null,null,null,null,null,null,null,null,null,null,null,null,null,null,null,null,null,null,null,null,null,null,null,null,null,null,null,null,null,null,null,null,null,null,null,null,null,null,null,null,null,null,null,null,null,null,null,null,null,null,null,null,null,null,null,null,null,null,null,null,null,null,null,null,null,null,null,null,null,null,null,null,null,null,null,null,null,null,null,null,null,null,null,null,null,null,null,null,null,null,null,null,null,null,null,null,null,null,null,null,null,null,null,null,null,null,null,null,null,null,null,null,null,null,null,null,null,null,null,null,null,null,null,null,null,null,null,null,null,null,null,null,null,null,null,null,null,null,null,null,null,null,null,null,null,null,null,null,null,null,null,null,null,null,null,null,null,null,null,null,null,null,null,null,null,null,null,null,null,null,null,null,null,null,null,null,null,null,null,null,null,null,null,null,null,null,null,null,null,null,null,null,null,null,null,null,null,null,null,null,null,null,null,null,null,null,null,null,null,null,null,null,null,null,null,null,null,null,null,null,null,null,null,null,null,null,null,null,null,null,null,null,null,null,null,null,null,null,null,null,null,null,null,null,null,null,null,null,null,null,null,null,null,null,null,null,null,null,null,null,null,null,null,null,null,null,null,null,null,null,null,null,null,null,null,null,null,null,null,null,null,null,null,null,null,null,null,null,null,null,null,null,null,null,null,null,null,null,null,null,null,null,null,null,null,null,null,null,null,null,null,null,null,null,null,null,null,null,null,null,null,null,null,null,null,null,null,null,null,null,null,null,null,null,null,null,null,null,null,null,null,null,null,null,null,null,null,null,null,null,null,null,null,null,null,null,null,null,null,null,null,null,null,null,null,null,null,null,null,null,null,null,null,null,null,null,null,null,null,null,null,null,null,null,null,null,null,null,null,null,null,null,null,null,null,null,null,null,null,null,null,null,null,null,null,null,null,null,null,null,null,null,null,null,null,null,null,null,null,null,null,null,null,null,null,null,null,null,null,null,null,null,null,null,null,null,null,null,null,null,null,null,null,null,null,null,null,null,null,null,null,null,null,null,null,null,null,null,null,null,null,null,null,null,null,null,null,null,null,null,null,null,null,null,null,null,null,null,null,null,null,null,null,null,null,null,null,null,null,null,null,null,null,null,null,null,null,null,null,null,null,null,null,null,null,null,null,null,null,null,null,null,null,null,null,null,null,null,null,null,null,null,null,null,null,null,null,null,null,null,null,null,null,null,null,null,null,null,null,null,null,null,null,null,null,null,null,null,null,null,null,null,null,null,null,null,null,null,null,null,null,null,null,null,null,null,null,null,null,null,null,null,null,null,null,null,null,null,null,null,null,null,null,null,null,null,null,null,null,null,null,null,null,null,null,null,null,null,null,null,null,null,null,null,null,null,null,null,null,null,null,null,null,null,null,null,null,null,null,null,null,null,null,null,null,null,null,null,null,null,null,null,null,null,null,null,null,null,null,null,null,null,null,null,null,null,null,null,null,null,null,null,null,null,null,null,null,null,null,null,null,null,null,null,null,null,null,null,null,null,null,null,null,null,null,null,null,null,null,null,null,null,null,null,null,null,null,null,null,null,null,null,null,null,null,null,null,null,null,null,null,null,null,null,null,null,null,null,null,null,null,null,null,null,null,null,null,null,null,null,null,null,null,null,null,null,null,null,null,null,null,null,null,null,null,null,null,null,null,null,null,null,null,null,null,null,null,null,null,null,null,null,null,null,null,null,null,null,null,null,null,null,null,null,null,null,null,null,null,null,null,null,null,null,null,null,null,null,null,null,null,null,null,null,null,null,null,null,null,null,null,null,null,null,null,null,null,null,null,null,null,null,null,null,null,null,null,null,null,null,null,null,null,null,null,null,null,null,null,null,null,null,null,null,null,null,null,null,null,null,null,null,null,null,null,null,null,null,null,null,null,null,null,null,null,null,null,null,null,null,null,null,null,null,null,null,null,null,null,null,null,null,null,null,null,null,null,null,null,null,null,null,null,null,null,null,null,null,null,null,null,null,null,null,null,null,null,null,null,null,null,null,null,null,null,null,null,null,null,null,null,null,null,null,null,null,null,null,null,null,null,null,null,null,null,null,null,null,null,null,null,null,null,null,null,null,null,null,null,null,null,null,null,null,null,null,null,null,null,null,null,null,null,null,null,null,null,null,null,null,null,null,null,null,null,null,null,null,null,null,null,null,null,null,null,null,null,null,null,null,null,null,null,null,null,null,null,null,null,null,null,null,null,null,null,null,null,null,null,null,null,null,null,null,null,null,null,null,null,null,null,null,null,null,null,null,null,null,null,null,null,null,null,null,null,null,null,null,null,null,null,null,null,null,null,null,null,null,null,null,null,null,null,null,null,null,null,null,null,null,null,null,null,null,null,null,null,null,null,null,null,null,null,null,null,null,null,null,null,null,null,null,null,null,null,null,null,null,null,null,null,null,null,null,null,null,null,null,null,null,null,null,null,null,null,null,null,null,null,null,null,null,null,null,null,null,null,null,null,null,null,null,null,null,null,null,null,null,null,null,null,null,null,null,null,null,null,null,null,null,null,null,null,null,null,null,null,null,null,null,null,null,null,null,null,null,null,null,null,null,null,null,null,null,null,null,null,null,null,null,null,null,null,null,null,null,null,null,null,null,null,null,null,null,null,null,null,null,null,null,null,null,null,null,null,null,null,null,null,null,null,null,null,null,null,null,null,null,null,null,null,null,null,null,null,null,null,null,null,null,null,null,null,null,null,null,null,null,null,null,null,null,null,null,null,null,null,null,null,null,null,null,null,null,null,null,null,null,null,null,null,null,null,null,null,null,null,null,null,null,null,null,null,null,null,null,null,null,null,null,null,null,null,null,null,null,null,null,null,null,null,null,null,null,null,null,null,null,null,null,null,null,null,null,null,null,null,null,null,null,null,null,null,null,null,null,null,null,null,null,null,null,null,null,null,null,null,null,null,null,null,null,null,null,null,null,null,null,null,null,null,null,null,null,null,null,null,null,null,null,null,null,null,null,null,null,null,null,null,null,null,null,null,null,null,null,null,null,null,null,null,null,null,null,null,null,null,null,null,null,null,null,null,null,null,null,null,null,null,null,null,null,null,null,null,null,null,null,null,null,null,null,null,null,null,null,null,null,null,null,null,null,null,null,null,null,null,null,null,null,null,null,null,null,null,null,null,null,null,null,null,null,null,null,null,null,null,null,null,null,null,null,null,null,null,null,null,null,null,null,null,null,null,null,null,null,null,null,null,null,null,null,null,null,null,null,null,null,null,null,null,null,null,null,null,null,null,null,null,null,null,null,null,null,null,null,null,null,null,null,null,null,null,null,null,null,null,null,null,null,null,null,null,null,null,null,null,null,null,null,null,null,null,null,null,null,null,null,null,null,null,null,null,null,null,null,null,null,null,null,null,null,null,null,null,null,null,null,null,null,null,null,null,null,null,null,null,null,null,null,null,null,null,null,null,null,null,null,null,null,null,null,null,null,null,null,null,null,null,null,null,null,null,null,null,null,null,null,null,null,null,null,null,null,null,null,null,null,null,null,null,null,null,null,null,null,null,null,null,null,null,null,null,null,null,null,null,null,null,null,null,null,null,null,null,null,null,null,null,null,null,null,null,null,null,null,null,null,null,null,null,null,null,null,null,null,null,null,null,null,null,null,null,null,null,null,null,null,null,null,null,null,null,null,null,null,null,null,null,null,null,null,null,null,null,null,null,null,null,null,null,null,null,null,null,null,null,null,null,null,null,null,null,null,null,null,null,null,null,null,null,null,null,null,null,null,null,null,null,null,null,null,null,null,null,null,null,null,null,null,null,null,null,null,null,null,null,null,null,null,null,null,null,null,null,null,null,null,null,null,null,null,null,null,null,null,null,null,null,null,null,null,null,null,null,null,null,null,null,null,null,null,null,null,null,null,null,null,null,null,null,null,null,null,null,null,null,null,null,null,null,null,null,null,null,null,null,null,null,null,null,null,null,null,null,null,null,null,null,null,null,null,null,null,null,null,null,null,null,null,null,null,null,null,null,null,null,null,null,null,null,null,null,null,null,null,null,null,null,null,null,null,null,null,null,null,null,null,null,null,null,null,null,null,null,null,null,null,null,null,null,null,null,null,null,null,null,null,null,null,null,null,null,null,null,null,null,null,null,null,null,null,null,null,null,null,null,null,null,null,null,null,null,null,null,null,null,null,null,null,null,null,null,null,null,null,null,null,null,null,null,null,null,null,null,null,null,null,null,null,null,null,null,null,null,null,null,null,null,null,null,null,null,null,null,null,null,null,null,null,null,null,null,null,null,null,null,null,null,null,null,null,null,null,null,null,null,null,null,null,null,null,null,null,null,null,null,null,null,null,null,null,null,null,null,null,null,null,null,null,null,null,null,null,null,null,null,null,null,null,null,null,null,null,null,null,null,null,null,null,null,null,null,null,null,null,null,null,null,null,null,null,null,null,null,null,null,null,null,null,null,null,null,null,null,null,null,null,null,null,null,null,null,null,null,null,null,null,null,null,null,null,null,null,null,null,null,null,null,null,null,null,null,null,null,null,null,null,null,null,null,null,null,null,null,null,null,null,null,null,null,null,null,null,null,null,null,null,null,null,null,null,null,null,null,null,null,null,null,null,null,null,null,null,null,null,null,null,null,null,null,null,null,null,null,null,null,null,null,null,null,null,null,null,null,null,null,null,null,null,null,null,null,null,null,null,null,null,null,null,null,null,null,null,null,null,null,null,null,null,null,null,null,null,null,null,null,null,null,null,null,null,null,null,null,null,null,null,null,null,null,null,null,null,null,null,null,null,null,null,null,null,null,null,null,null,null,null,null,null,null,null,null,null,null,null,null,null,null,null,null,null,null,null,null,null,null,null,null,null,null,null,null,null,null,null,null,null,null,null,null,null,null,null,null,null,null,null,null,null,null,null,null,null,null,null,null,null,null,null,null,null,null,null,null,null,null,null,null,null,null,null,null,null,null,null,null,null,null,null,null,null,null,null,null,null,null,null,null,null,null,null,null,null,null,null,null,null,null,null,null,null,null,null,null,null,null,null,null,null,null,null,null,null,null,null,null,null,null,null,null,null,null,null,null,null,null,null,null,null,null,null,null,null,null,null,null,null,null,null,null,null,null,null,null,null,null,null,null,null,null,null,null,null,null,null,null,null,null,null,null,null,null,null,null,null,null,null,null,null,null,null,null,null,null,null,null,null,null,null,null,null,null,null,null,null,null,null,null,null,null,null,null,null,null,null,null,null,null,null,null,null,null,null,null,null,null,null,null,null,null,null,null,null,null,null,null,null,null,null,null,null,null,null,null,null,null,null,null,null,null,null,null,null,null,null,null,null,null,null,null,null,null,null,null,null,null,null,null,null,null,null,null,null,null,null,null,null,null,null,null,null,null,null,null,null,null,null,null,null,null,null,null,null,null,null,null,null,null,null,null,null,null,null,null,null,null,null,null,null,null,null,null,null,null,null,null,null,null,null,null,null,null,null,null,null,null,null,null,null,null,null,null,null,null,null,null,null,null,null,null,null,null,null,null,null,null,null,null,null,null,null,null,null,null,null,null,null,null,null,null,null,null,null,null,null,null,null,null,null,null,null,null,null,null,null,null,null,null,null,null,null,null,null,null,null,null,null,null,null,null,null,null,null,null,null,null,null,null,null,null,null,null,null,null,null,null,null,null,null,null,null,null,null,null,null,null,null,null,null,null,null,null,null,null,null,null,null,null,null,null,null,null,null,null,null,null,null,null,null,null,null,null,null,null,null,null,null,null,null,null,null,null,null,null,null,null,null,null,null,null,null,null,null,null,null,null,null,null,null,null,null,null,null,null,null,null,null,null,null,null,null,null,null,null,null,null,null,null,null,null,null,null,null,null,null,null,null,null,null,null,null,null,null,null,null,null,null,null,null,null,null,null,null,null,null,null,null,null,null,null,null,null,null,null,null,null,null,null,null,null,null,null,null,null,null,null,null,null,null,null,null,null,null,null,null,null,null,null,null,null,null,null,null,null,null,null,null,null,null,null,null,null,null,null,null,null,null,null,null,null,null,null,null,null,null,null,null,null,null,null,null,null,null,null,null,null,null,null,null,null,null,null,null,null,null,null,null,null,null,null,null,null,null,null,null,null,null,null,null,null,null,null,null,null,null,null,null,null,null,null,null,null,null,null,null,null,null,null,null,null,null,null,null,null,null,null,null,null,null,null,null,null,null,null,null,null,null,null,null,null,null,null,null,null,null,null,null,null,null,null,null,null,null,null,null,null,null,null,null,null,null,null,null,null,null,null,null,null,null,null,null,null,null,null,null,null,null,null,null,null,null,null,null,null,null,null,null,null,null,null,null,null,null,null,null,null,null,null,null,null,null,null,null,null,null,null,null,null,null,null,null,null,null,null,null,null,null,null,null,null,null,null,null,null,null,null,null,null,null,null,null,null,null,null,null,null,null,null,null,null,null,null,null,null,null,null,null,null,null,null,null,null,null,null,null,null,null,null,null,null,null,null,null,null,null,null,null,null,null,null,null,null,null,null,null,null,null,null,null,null,null,null,null,null,null,null,null,null,null,null,null,null,null,null,null,null,null,null,null,null,null,null,null,null,null,null,null,null,null,null,null,null,null,null,null,null,null,null,null,null,null,null,null,null,null,null,null,null,null,null,null,null,null,null,null,null,null,null,null,null,null,null,null,null,null,null,null,null,null,null,null,null,null,null,null,null,null,null,null,null,null,null,null,null,null,null,null,null,null,null,null,null,null,null,null,null,null,null,null,null,null,null,null,null,null,null,null,null,null,null,null,null,null,null,null,null,null,null,null,null,null,null,null,null,null,null,null,null,null,null,null,null,null,null,null,null,null,null,null,null,null,null,null,null,null,null,null,null,null,null,null,null,null,null,null,null,null,null,null,null,null,null,null,null,null,null,null,null,null,null,null,null,null,null,null,null,null,null,null,null,null,null,null,null,null,null,null,null,null,null,null,null,null,null,null,null,null,null,null,null,null,null,null,null,null,null,null,null,null,null,null,null,null,null,null,null,null,null,null,null,null,null,null,null,null,null,null,null,null,null,null,null,null,null,null,null,null,null,null,null,null,null,null,null,null,null,null,null,null,null,null,null,null,null,null,null,null,null,null,null,null,null,null,null,null,null,null,null,null,null,null,null,null,null,null,null,null,null,null,null,null,null,null,null,null,null,null,null,null,null,null,null,null,null,null,null,null,null,null,null,null,null,null,null,null,null,null,null,null,null,null,null,null,null,null,null,null,null,null,null,null,null,null,null,null,null,null,null,null,null,null,null,null,null,null,null,null,null,null,null,null,null,null,null,null,null,null,null,null,null,null,null,null,null,null,null,null,null,null,null,null,null,null,null,null,null,null,null,null,null,null,null,null,null,null,null,null,null,null,null,null,null,null,null,null,null,null,null,null,null,null,null,null,null,null,null,null,null,null,null,null,null,null,null,null,null,null,null,null,null,null,null,null,null,null,null,null,null,null,null,null,null,null,null,null,null,null,null,null,null,null,null,null,null,null,null,null,null,null,null,null,null,null,null,null,null,null,null,null,null,null,null,null,null,null,null,null,null,null,null,null,null,null,null,null,null,null,null,null,null,null,null,null,null,null,null,null,null,null,null,null,null,null,null,null,null,null,null,null,null,null,null,null,null,null,null,null,null,null,null,null,null,null,null,null,null,null,null,null,null,null,null,null,null,null,null,null,null,null,null,null,null,null,null,null,null,null,null,null,null,null,null,null,null,null,null,null,null,null,null,null,null,null,null,null,null,null,null,null,null,null,null,null,null,null,null,null,null,null,null,null,null,null,null,null,null,null,null,null,null,null,null,null,null,null,null,null,null,null,null,null,null,null,null,null,null,null,null,null,null,null,null,null,null,null,null,null,null,null,null,null,null,null,null,null,null,null,null,null,null,null,null,null,null,null,null,null,null,null,null,null,null,null,null,null,null,null,null,null,null,null,null,null,null,null,null,null,null,null,null,null,null,null,null,null,null,null,null,null,null,null,null,null,null,null,null,null,null,null,null,null,null,null,null,null,null,null,null,null,null,null,null,null,null,null,null,null,null,null,null,null,null,null,null,null,null,null,null,null,null,null,null,null,null,null,null,null,null,null,null,null,null,null,null,null,null,null,null,null,null,null,null,null,null,null,null,null,null,null,null,null,null,null,null,null,null,null,null,null,null,null,null,null,null,null,null,null,null,null,null,null,null,null,null,null,null,null,null,null,null,null,null,null,null,null,null,null,null,null,null,null,null,null,null,null,null,null,null,null,null,null,null,null,null,null,null,null,null,null,null,null,null,null,null,null,null,null,null,null,null,null,null,null,null,null,null,null,null,null,null,null,null,null,null,null,null,null,null,null,null,null,null,null,null,null,null,null,null,null,null,null,null,null,null,null,null,null,null,null,null,null,null,null,null,null,null,null,null,null,null,null,null,null,null,null,null,null,null,null,null,null,null,null,null,null,null,null,null,null,null,null,null,null,null,null,null,null,null,null,null,null,null,null,null,null,null,null,null,null,null,null,null,null,null,null,null,null,null,null,null,null,null,null,null,null,null,null,null,null,null,null,null,null,null,null,null,null,null,null,null,null,null,null,null,null,null,null,null,null,null,null,null,null,null,null,null,null,null,null,null,null,null,null,null,null,null,null,null,null,null,null,null,null,null,null,null,null,null,null,null,null,null,null,null,null,null,null,null,null,null,null,null,null,null,null,null,null,null,null,null,null,null,null,null,null,null,null,null,null,null,null,null,null,null,null,null,null,null,null,null,null,null,null,null,null,null,null,null,null,null,null,null,null,null,null,null,null,null,null,null,null,null,null,null,null,null,null,null,null,null,null,null,null,null,null,null,null,null,null,null,null,null,null,null,null,null,null,null,null,null,null,null,null,null,null,null,null,null,null,null,null,null,null,null,null,null,null,null,null,null,null,null,null,null,null,null,null,null,null,null,null,null,null,null,null,null,null,null,null,null,null,null,null,null,null,null,null,null,null,null,null,null,null,null,null,null,null,null,null,null,null,null,null,null,null,null,null,null,null,null,null,null,null,null,null,null,null,null,null,null,null,null,null,null,null,null,null,null,null,null,null,null,null,null,null,null,null,null,null,null,null,null,null,null,null,null,null,null,null,null,null,null,null,null,null,null,null,null,null,null,null,null,null,null,null,null,null,null,null,null,null,null,null,null,null,null,null,null,null,null,null,null,null,null,null,null,null,null,null,null,null,null,null,null,null,null,null,null,null,null,null,null,null,null,null,null,null,null,null,null,null,null,null,null,null,null,null,null,null,null,null,null,null,null,null,null,null,null,null,null,null,null,null,null,null,null,null,null,null,null,null,null,null,null,null,null,null,null,null,null,null,null,null,null,null,null,null,null,null,null,null,null,null,null,null,null,null,null,null,null,null,null,null,null,null,null,null,null,null,null,null,null,null,null,null,null,null,null,null,null,null,null,null,null,null,null,null,null,null,null,null,null,null,null,null,null,null,null,null,null,null,null,null,null,null,null,null,null,null,null,null,null,null,null,null,null,null,null,null,null,null,null,null,null,null,null,null,null,null,null,null,null,null,null,null,null,null,null,null,null,null,null,null,null,null,null,null,null,null,null,null,null,null,null,null,null,null,null,null,null,null,null,null,null,null,null,null,null,null,null,null,null,null,null,null,null,null,null,null,null,null,null,null,null,null,null,null,null,null,null,null,null,null,null,null,null,null,null,null,null,null,null,null,null,null,null,null,null,null,null,null,null,null,null,null,null,null,null,null,null,null,null,null,null,null,null,null,null,null,null,null,null,null,null,null,null,null,null,null,null,null,null,null,null,null,null,null,null,null,null,null,null,null,null,null,null,null,null,null,null,null,null,null,null,null,null,null,null,null,null,null,null,null,null,null,null,null,null,null,null,null,null,null,null,null,null,null,null,null,null,null,null,null,null,null,null,null,null,null,null,null,null,null,null,null,null,null,null,null,null,null,null,null,null,null,null,null,null,null,null,null,null,null,null,null,null,null,null,null,null,null,null,null,null,null,null,null,null,null,null,null,null,null,null,null,null,null,null,null,null,null,null,null,null,null,null,null,null,null,null,null,null,null,null,null,null,null,null,null,null,null,null,null,null,null,null,null,null,null,null,null,null,null,null,null,null,null,null,null,null,null,null,null,null,null,null,null,null,null,null,null,null,null,null,null,null,null,null,null,null,null,null,null,null,null,null,null,null,null,null,null,null,null,null,null,null,null,null,null,null,null,null,null,null,null,null,null,null,null,null,null,null,null,null,null,null,null,null,null,null,null,null,null,null,null,null,null,null,null,null,null,null,null,null,null,null,null,null,null,null,null,null,null,null,null,null,null,null,null,null,null,null,null,null,null,null,null,null,null,null,null,null,null,null,null,null,null,null,null,null,null,null,null,null,null,null,null,null,null,null,null,null,null,null,null,null,null,null,null,null,null,null,null,null,null,null,null,null,null,null,null,null,null,null,null,null,null,null,null,null,null,null,null,null,null,null,null,null,null,null,null,null,null,null,null,null,null,null,null,null,null,null,null,null,null,null,null,null,null,null,null,null,null,null,null,null,null,null,null,null,null,null,null,null,null,null,null,null,null,null,null,null,null,null,null,null,null,null,null,null,null,null,null,null,null,null,null,null,null,null,null,null,null,null,null,null,null,null,null,null,null,null,null,null,null,null,null,null,null,null,null,null,null,null,null,null,null,null,null,null,null,null,null,null,null,null,null,null,null,null,null,null,null,null,null,null,null,null,null,null,null,null,null,null,null,null,null,null,null,null,null,null,null,null,null,null,null,null,null,null,null,null,null,null,null,null,null,null,null,null,null,null,null,null,null,null,null,null,null,null,null,null,null,null,null,null,null,null,null,null,null,null,null,null,null,null,null,null,null,null,null,null,null,null,null,null,null,null,null,null,null,null,null,null,null,null,null,null,null,null,null,null,null,null,null,null,null,null,null,null,null,null,null,null,null,null,null,null,null,null,null,null,null,null,null,null,null,null,null,null,null,null,null,null,null,null,null,null,null,null,null,null,null,null,null,null,null,null,null,null,null,null,null,null,null,null,null,null,null,null,null,null,null,null,null,null,null,null,null,null,null,null,null,null,null,null,null,null,null,null,null,null,null,null,null,null,null,null,null,null,null,null,null,null,null,null,null,null,null,null,null,null,null,null,null,null,null,null,null,null,null,null,null,null,null,null,null,null,null,null,null,null,null,null,null,null,null,null,null,null,null,null,null,null,null,null,null,null,null,null,null,null,null,null,null,null,null,null,null,null,null,null,null,null,null,null,null,null,null,null,null,null,null,null,null,null,null,null,null,null,null,null,null,null,null,null,null,null,null,null,null,null,null,null,null,null,null,null,null,null,null,null,null,null,null,null,null,null,null,null,null,null,null,null,null,null,null,null,null,null,null,null,null,null,null,null,null,null,null,null,null,null,null,null,null,null,null,null,null,null,null,null,null,null,null,null,null,null,null,null,null,null,null,null,null,null,null,null,null,null,null,null,null,null,null,null,null,null,null,null,null,null,null,null,null,null,null,null,null,null,null,null,null,null,null,null,null,null,null,null,null,null,null,null,null,null,null,null,null,null,null,null,null,null,null,null,null,null,null,null,null,null,null,null,null,null,null,null,null,null,null,null,null,null,null,null,null,null,null,null,null,null,null,null,null,null,null,null,null,null,null,null,null,null,null,null,null,null,null,null,null,null,null,null,null,null,null,null,null,null,null,null,null,null,null,null,null,null,null,null,null,null,null,null,null,null,null,null,null,null,null,null,null,null,null,null,null,null,null,null,null,null,null,null,null,null,null,null,null,null,null,null,null,null,null,null,null,null,null,null,null,null,null,null,null,null,null,null,null,null,null,null,null,null,null,null,null,null,null,null,null,null,null,null,null,null,null,null,null,null,null,null,null,null,null,null,null,null,null,null,null,null,null,null,null,null,null,null,null,null,null,null,null,null,null,null,null,null,null,null,null,null,null,null,null,null,null,null,null,null,null,null,null,null,null,null,null,null,null,null,null,null,null,null,null,null,null,null,null,null,null,null,null,null,null,null,null,null,null,null,null,null,null,null,null,null,null,null,null,null,null,null,null,null,null,null,null,null,null,null,null,null,null,null,null,null,null,null,null,null,null,null,null,null,null,null,null,null,null,null,null,null,null,null,null,null,null,null,null,null,null,null,null,null,null,null,null,null,null,null,null,null,null,null,null,null,null,null,null,null,null,null,null,null,null,null,null,null,null,null,null,null,null,null,null,null,null,null,null,null,null,null,null,null,null,null,null,null,null,null,null,null,null,null,null,null,null,null,null,null,null,null,null,null,null,null,null,null,null,null,null,null,null,null,null,null,null,null,null,null,null,null,null,null,null,null,null,null,null,null,null,null,null,null,null,null,null,null,null,null,null,null,null,null,null,null,null,null,null,null,null,null,null,null,null,null,null,null,null,null,null,null,null,null,null,null,null,null,null,null,null,null,null,null,null,null,null,null,null,null,null,null,null,null,null,null,null,null,null,null,null,null,null,null,null,null,null,null,null,null,null,null,null,null,null,null,null,null,null,null,null,null,null,null,null,null,null,null,null,null,null,null,null,null,null,null,null,null,null,null,null,null,null,null,null,null,null,null,null,null,null,null,null,null,null,null,null,null,null,null,null,null,null,null,null,null,null,null,null,null,null,null,null,null,null,null,null,null,null,null,null,null,null,null,null,null,null,null,null,null,null,null,null,null,null,null,null,null,null,null,null,null,null,null,null,null,null,null,null,null,null,null,null,null,null,null,null,null,null,null,null,null,null,null,null,null,null,null,null,null,null,null,null,null,null,null,null,null,null,null,null,null,null,null,null,null,null,null,null,null,null,null,null,null,null,null,null,null,null,null,null,null,null,null,null,null,null,null,null,null,null,null,null,null,null,null,null,null,null,null,null,null,null,null,null,null,null,null,null,null,null,null,null,null,null,null,null,null,null,null,null,null,null,null,null,null,null,null,null,null,null,null,null,null,null,null,null,null,null,null,null,null,null,null,null,null,null,null,null,null,null,null,null,null,null,null,null,null,null,null,null,null,null,null,null,null,null,null,null,null,null,null,null,null,null,null,null,null,null,null,null,null,null,null,null,null,null,null,null,null,null,null,null,null,null,null,null,null,null,null,null,null,null,null,null,null,null,null,null,null,null,null,null,null,null,null,null,null,null,null,null,null,null,null,null,null,null,null,null,null,null,null,null,null,null,null,null,null,null,null,null,null,null,null,null,null,null,null,null,null,null,null,null,null,null,null,null,null,null,null,null,null,null,null,null,null,null,null,null,null,null,null,null,null,null,null,null,null,null,null,null,null,null,null,null,null,null,null,null,null,null,null,null,null,null,null,null,null,null,null,null,null,null,null,null,null,null,null,null,null,null,null,null,null,null,null,null,null,null,null,null,null,null,null,null,null,null,null,null,null,null,null,null,null,null,null,null,null,null,null,null,null,null,null,null,null,null,null,null,null,null,null,null,null,null,null,null,null,null,null,null,null,null,null,null,null,null,null,null,null,null,null,null,null,null,null,null,null,null,null,null,null,null,null,null,null,null,null,null,null,null,null,null,null,null,null,null,null,null,null,null,null,null,null,null,null,null,null,null,null,null,null,null,null,null,null,null,null,null,null,null,null,null,null,null,null,null,null,null,null,null,null,null,null,null,null,null,null,null,null,null,null,null,null,null,null,null,null,null,null,null,null,null,null,null,null,null,null,null,null,null,null,null,null,null,null,null,null,null,null,null,null,null,null,null,null,null,null,null,null,null,null,null,null,null,null,null,null,null,null,null,null,null,null,null,null,null,null,null,null,null,null,null,null,null,null,null,null,null,null,null,null,null,null,null,null,null,null,null,null,null,null,null,null,null,null,null,null,null,null,null,null,null,null,null,null,null,null,null,null,null,null,null,null,null,null,null,null,null,null,null,null,null,null,null,null,null,null,null,null,null,null,null,null,null,null,null,null,null,null,null,null,null,null,null,null,null,null,null,null,null,null,null,null,null,null,null,null,null,null,null,null,null,null,null,null,null,null,null,null,null,null,null,null,null,null,null,null,null,null,null,null,null,null,null,null,null,null,null,null,null,null,null,null,null,null,null,null,null,null,null,null,null,null,null,null,null,null,null,null,null,null,null,null,null,null,null,null,null,null,null,null,null,null,null,null,null,null,null,null,null,null,null,null,null,null,null,null,null,null,null,null,null,null,null,null,null,null,null,null,null,null,null,null,null,null,null,null,null,null,null,null,null,null,null,null,null,null,null,null,null,null,null,null,null,null,null,null,null,null,null,null,null,null,null,null,null,null,null,null,null,null,null,null,null,null,null,null,null,null,null,null,null,null,null,null,null,null,null,null,null,null,null,null,null,null,null,null,null,null,null,null,null,null,null,null,null,null,null,null,null,null,null,null,null,null,null,null,null,null,null,null,null,null,null,null,null,null,null,null,null,null,null,null,null,null,null,null,null,null,null,null,null,null,null,null,null,null,null,null,null,null,null,null,null,null,null,null,null,null,null,null,null,null,null,null,null,null,null,null,null,null,null,null,null,null,null,null,null,null,null,null,null,null,null,null,null,null,null,null,null,null,null,null,null,null,null,null,null,null,null,null,null,null,null,null,null,null,null,null,null,null,null,null,null,null,null,null,null,null,null,null,null,null,null,null,null,null,null,null,null,null,null,null,null,null,null,null,null,null,null,null,null,null,null,null,null,null,null,null,null,null,null,null,null,null,null,null,null,null,null,null,null,null,null,null,null,null,null,null,null,null,null,null,null,null,null,null,null,null,null,null,null,null,null,null,null,null,null,null,null,null,null,null,null,null,null,null,null,null,null,null,null,null,null,null,null,null,null,null,null,null,null,null,null,null,null,null,null,null,null,null,null,null,null,null,null,null,null,null,null,null,null,null,null,null,null,null,null,null,null,null,null,null,null,null,null,null,null,null,null,null,null,null,null,null,null,null,null,null,null,null,null,null,null,null,null,null,null,null,null,null,null,null,null,null,null,null,null,null,null,null,null,null,null,null,null,null,null,null,null,null,null,null,null,null,null,null,null,null,null,null,null,null,null,null,null,null,null,null,null,null,null,null,null,null,null,null,null,null,null,null,null,null,null,null,null,null,null,null,null,null,null,null,null,null,null,null,null,null,null,null,null,null,null,null,null,null,null,null,null,null,null,null,null,null,null,null,null,null,null,null,null,null,null,null,null,null,null,null,null,null,null,null,null,null,null,null,null,null,null,null,null,null,null,null,null,null,null,null,null,null,null,null,null,null,null,null,null,null,null,null,null,null,null,null,null,null,null,null,null,null,null,null,null,null,null,null,null,null,null,null,null,null,null,null,null,null,null,null,null,null,null,null,null,null,null,null,null,null,null,null,null,null,null,null,null,null,null,null,null,null,null,null,null,null,null,null,null,null,null,null,null,null,null,null,null,null,null,null,null,null,null,null,null,null,null,null,null,null,null,null,null,null,null,null,null,null,null,null,null,null,null,null,null,null,null,null,null,null,null,null,null,null,null,null,null,null,null,null,null,null,null,null,null,null,null,null,null,null,null,null,null,null,null,null,null,null,null,null,null,null,null,null,null,null,null,null,null,null,null,null,null,null,null,null,null,null,null,null,null,null,null,null,null,null,null,null,null,null,null,null,null,null,null,null,null,null,null,null,null,null,null,null,null,null,null,null,null,null,null,null,null,null,null,null,null,null,null,null,null,null,null,null,null,null,null,null,null,null,null,null,null,null,null,null,null,null,null,null,null,null,null,null,null,null,null,null,null,null,null,null,null,null,null,null,null,null,null,null,null,null,null,null,null,null,null,null,null,null,null,null,null,null,null,null,null,null,null,null,null,null,null,null,null,null,null,null,null,null,null,null,null,null,null,null,null,null,null,null,null,null,null,null,null,null,null,null,null,null,null,null,null,null,null,null,null,null,null,null,null,null,null,null,null,null,null,null,null,null,null,null,null,null,null,null,null,null,null,null,null,null,null,null,null,null,null,null,null,null,null,null,null,null,null,null,null,null,null,null,null,null,null,null,null,null,null,null,null,null,null,null,null,null,null,null,null,null,null,null,null,null,null,null,null,null,null,null,null,null,null,null,null,null,null,null,null,null,null,null,null,null,null,null,null,null,null,null,null,null,null,null,null,null,null,null,null,null,null,null,null,null,null,null,null,null,null,null,null,null,null,null,null,null,null,null,null,null,null,null,null,null,null,null,null,null,null,null,null,null,null,null,null,null,null,null,null,null,null,null,null,null,null,null,null,null,null,null,null,null,null,null,null,null,null,null,null,null,null,null,null,null,null,null,null,null,null,null,null,null,null,null,null,null,null,null,null,null,null,null,null,null,null,null,null,null,null,null,null,null,null,null,null,null,null,null,null,null,null,null,null,null,null,null,null,null,null,null,null,null,null,null,null,null,null,null,null,null,null,null,null,null,null,null,null,null,null,null,null,null,null,null,null,null,null,null,null,null,null,null,null,null,null,null,null,null,null,null,null,null,null,null,null,null,null,null,null,null,null,null,null,null,null,null,null,null,null,null,null,null,null,null,null,null,null,null,null,null,null,null,null,null,null,null,null,null,null,null,null,null,null,null,null,null,null,null,null,null,null,null,null,null,null,null,null,null,null,null,null,null,null,null,null,null,null,null,null,null,null,null,null,null,null,null,null,null,null,null,null,null,null,null,null,null,null,null,null,null,null,null,null,null,null,null,null,null,null,null,null,null,null,null,null,null,null,null,null,null,null,null,null,null,null,null,null,null,null,null,null,null,null,null,null,null,null,null,null,null,null,null,null,null,null,null,null,null,null,null,null,null,null,null,null,null,null,null,null,null,null,null,null,null,null,null,null,null,null,null,null,null,null,null,null,null,null,null,null,null,null,null,null,null,null,null,null,null,null,null,null,null,null,null,null,null,null,null,null,null,null,null,null,null,null,null,null,null,null,null,null,null,null,null,null,null,null,null,null,null,null,null,null,null,null,null,null,null,null,null,null,null,null,null,null,null,null,null,null,null,null,null,null,null,null,null,null,null,null,null,null,null,null,null,null,null,null,null,null,null,null,null,null,null,null,null,null,null,null,null,null,null,null,null,null,null,null,null,null,null,null,null,null,null,null,null,null,null,null,null,null,null,null,null,null,null,null,null,null,null,null,null,null,null,null,null,null,null,null,null,null,null,null,null,null,null,null,null,null,null,null,null,null,null,null,null,null,null,null,null,null,null,null,null,null,null,null,null,null,null,null,null,null,null,null,null,null,null,null,null,null,null,null,null,null,null,null,null,null,null,null,null,null,null,null,null,null,null,null,null,null,null,null,null,null,null,null,null,null,null,null,null,null,null,null,null,null,null,null,null,null,null,null,null,null,null,null,null,null,null,null,null,null,null,null,null,null,null,null,null,null,null,null,null,null,null,null,null,null,null,null,null,null,null,null,null,null,null,null,null,null,null,null,null,null,null,null,null,null,null,null,null,null,null,null,null,null,null,null,null,null,null,null,null,null,null,null,null,null,null,null,null,null,null,null,null,null,null,null,null,null,null,null,null,null,null,null,null,null,null,null,null,null,null,null,null,null,null,null,null,null,null,null,null,null,null,null,null,null,null,null,null,null,null,null,null,null,null,null,null,null,null,null,null,null,null,null,null,null,null,null,null,null,null,null,null,null,null,null,null,null,null,null,null,null,null,null,null,null,null,null,null,null,null,null,null,null,null,null,null,null,null,null,null,null,null,null,null,null,null,null,null,null,null,null,null,null,null,null,null,null,null,null,null,null,null,null,null,null,null,null,null,null,null,null,null,null,null,null,null,null,null,null,null,null,null,null,null,null,null,null,null,null,null,null,null,null,null,null,null,null,null,null,null,null,null,null,null,null,null,null,null,null,null,null,null,null,null,null,null,null,null,null,null,null,null,null,null,null,null,null,null,null,null,null,null,null,null,null,null,null,null,null,null,null,null,null,null,null,null,null,null,null,null,null,null,null,null,null,null,null,null,null,null,null,null,null,null,null,null,null,null,null,null,null,null,null,null,null,null,null,null,null,null,null,null,null,null,null,null,null,null,null,null,null,null,null,null,null,null,null,null,null,null,null,null,null,null,null,null,null,null,null,null,null,null,null,null,null,null,null,null,null,null,null,null,null,null,null,null,null,null,null,null,null,null,null,null,null,null,null,null,null,null,null,null,null,null,null,null,null,null,null,null,null,null,null,null,null,null,null,null,null,null,null,null,null,null,null,null,null,null,null,null,null,null,null,null,null,null,null,null,null,null,null,null,null,null,null,null,null,null,null,null,null,null,null,null,null,null,null,null,null,null,null,null,null,null,null,null,null,null,null,null,null,null,null,null,null,null,null,null,null,null,null,null,null,null,null,null,null,null,null,null,null,null,null,null,null,null,null,null,null,null,null,null,null,null,null,null,null,null,null,null,null,null,null,null,null,null,null,null,null,null,null,null,null,null,null,null,null,null,null,null,null,null,null,null,null,null,null,null,null,null,null,null,null,null,null,null,null,null,null,null,null,null,null,null,null,null,null,null,null,null,null,null,null,null,null,null,null,null,null,null,null,null,null,null,null,null,null,null,null,null,null,null,null,null,null,null,null,null,null,null,null,null,null,null,null,null,null,null,null,null,null,null,null,null,null,null,null,null,null,null,null,null,null,null,null,null,null,null,null,null,null,null,null,null,null,null,null,null,null,null,null,null,null,null,null,null,null,null,null,null,null,null,null,null,null,null,null,null,null,null,null,null,null,null,null,null,null,null,null,null,null,null,null,null,null,null,null,null,null,null,null,null,null,null,null,null,null,null,null,null,null,null,null,null,null,null,null,null,null,null,null,null,null,null,null,null,null,null,null,null,null,null,null,null,null,null,null,null,null,null,null,null,null,null,null,null,null,null,null,null,null,null,null,null,null,null,null,null,null,null,null,null,null,null,null,null,null,null,null,null,null,null,null,null,null,null,null,null,null,null,null,null,null,null,null,null,null,null,null,null,null,null,null,null,null,null,null,null,null,null,null,null,null,null,null,null,null,null,null,null,null,null,null,null,null,null,null,null,null,null,null,null,null,null,null,null,null,null,null,null,null,null,null,null,null,null,null,null,null,null,null,null,null,null,null,null,null,null,null,null,null,null,null,null,null,null,null,null,null,null,null,null,null,null,null,null,null,null,null,null,null,null,null,null,null,null,null,null,null,null,null,null,null,null,null,null,null,null,null,null,null,null,null,null,null,null,null,null,null,null,null,null,null,null,null,null,null,null,null,null,null,null,null,null,null,null,null,null,null,null,null,null,null,null,null,null,null,null,null,null,null,null,null,null,null,null,null,null,null,null,null,null,null,null,null,null,null,null,null,null,null,null,null,null,null,null,null,null,null,null,null,null,null,null,null,null,null,null,null,null,null,null,null,null,null,null,null,null,null,null,null,null,null,null,null,null,null,null,null,null,null,null,null,null,null,null,null,null,null,null,null,null,null,null,null,null,null,null,null,null,null,null,null,null,null,null,null,null,null,null,null,null,null,null,null,null,null,null,null,null,null,null,null,null,null,null,null,null,null,null,null,null,null,null,null,null,null,null,null,null,null,null,null,null,null,null,null,null,null,null,null,null,null,null,null,null,null,null,null,null,null,null,null,null,null,null,null,null,null,null,null,null,null,null,null,null,null,null,null,null,null,null,null,null,null,null,null,null,null,null,null,null,null,null,null,null,null,null,null,null,null,null,null,null,null,null,null,null,null,null,null,null,null,null,null,null,null,null,null,null,null,null,null,null,null,null,null,null,null,null,null,null,null,null,null,null,null,null,null,null,null,null,null,null,null,null,null,null,null,null,null,null,null,null,null,null,null,null,null,null,null,null,null,null,null,null,null,null,null,null,null,null,null,null,null,null,null,null,null,null,null,null,null,null,null,null,null,null,null,null,null,null,null,null,null,null,null,null,null,null,null,null,null,null,null,null,null,null,null,null,null,null,null,null,null,null,null,null,null,null,null,null,null,null,null,null,null,null,null,null,null,null,null,null,null,null,null,null,null,null,null,null,null,null,null,null,null,null,null,null,null,null,null,null,null,null,null,null,null,null,null,null,null,null,null,null,null,null,null,null,null,null,null,null,null,null,null,null,null,null,null,null,null,null,null,null,null,null,null,null,null,null,null,null,null,null,null,null,null,null,null,null,null,null,null,null,null,null,null,null,null,null,null,null,null,null,null,null,null,null,null,null,null,null,null,null,null,null,null,null,null,null,null,null,null,null,null,null,null,null,null,null,null,null,null,null,null,null,null,null,null,null,null,null,null,null,null,null,null,null,null,null,null,null,null,null,null,null,null,null,null,null,null,null,null,null,null,null,null,null,null,null,null,null,null,null,null,null,null,null,null,null,null,null,null,null,null,null,null,null,null,null,null,null,null,null,null,null,null,null,null,null,null,null,null,null,null,null,null,null,null,null,null,null,null,null,null,null,null,null,null,null,null,null,null,null,null,null,null,null,null,null,null,null,null,null,null,null,null,null,null,null,null,null,null,null,null,null,null,null,null,null,null,null,null,null,null,null,null,null,null,null,null,null,null,null,null,null,null,null,null,null,null,null,null,null,null,null,null,null,null,null,null,null,null,null,null,null,null,null,null,null,null,null,null,null,null,null,null,null,null,null,null,null,null,null,null,null,null,null,null,null,null,null,null,null,null,null,null,null,null,null,null,null,null,null,null,null,null,null,null,null,null,null,null,null,null,null,null,null,null,null,null,null,null,null,null,null,null,null,null,null,null,null,null,null,null,null,null,null,null,null,null,null,null,null,null,null,null,null,null,null,null,null,null,null,null,null,null,null,null,null,null,null,null,null,null,null,null,null,null,null,null,null,null,null,null,null,null,null,null,null,null,null,null,null,null,null,null,null,null,null,null,null,null,null,null,null,null,null,null,null,null,null,null,null,null,null,null,null,null,null,null,null,null,null,null,null,null,null,null,null,null,null,null,null,null,null,null,null,null,null,null,null,null,null,null,null,null,null,null,null,null,null,null,null,null,null,null,null,null,null,null,null,null,null,null,null,null,null,null,null,null,null,null,null,null,null,null,null,null,null,null,null,null,null,null,null,null,null,null,null,null,null,null,null,null,null,null,null,null,null,null,null,null,null,null,null,null,null,null,null,null,null,null,null,null,null,null,null,null,null,null,null,null,null,null,null,null,null,null,null,null,null,null,null,null,null,null,null,null,null,null,null,null,null,null,null,null,null,null,null,null,null,null,null,null,null,null,null,null,null,null,null,null,null,null,null,null,null,null,null,null,null,null,null,null,null,null,null,null,null,null,null,null,null,null,null,null,null,null,null,null,null,null,null,null,null,null,null,null,null,null,null,null,null,null,null,null,null,null,null,null,null,null,null,null,null,null,null,null,null,null,null,null,null,null,null,null,null,null,null,null,null,null,null,null,null,null,null,null,null,null,null,null,null,null,null,null,null,null,null,null,null,null,null,null,null,null,null,null,null,null,null,null,null,null,null,null,null,null,null,null,null,null,null,null,null,null,null,null,null,null,null,null,null,null,null,null,null,null,null,null,null,null,null,null,null,null,null,null,null,null,null,null,null,null,null,null,null,null,null,null,null,null,null,null,null,null,null,null,null,null,null,null,null,null,null,null,null,null,null,null,null,null,null,null,null,null,null,null,null,null,null,null,null,null,null,null,null,null,null,null,null,null,null,null,null,null,null,null,null,null,null,null,null,null,null,null,null,null,null,null,null,null,null,null,null,null,null,null,null,null,null,null,null,null,null,null,null,null,null,null,null,"Type ",null,"SUBSTITUTION"]

{"sheet":"NST07A","index":20,"n_rows":11,"n_cols":8,"rows_kept":11,"cut":false,"hidden":true,"merged":[]}
["SheetCode","FieldCode","FICode","Date","ColNum","Value",null,"Line"]
["NST07A","01",{"$f":"'Cover Sheet'!$C$17","v":0},{"$f":"'Cover Sheet'!$C$26","v":"00:00:00"},1,{"$f":"OFFSET(ANST07!$A$10,H2,4)","v":0},null,1]
["NST07A","02",{"$f":"'Cover Sheet'!$C$17","v":0},{"$f":"'Cover Sheet'!$C$26","v":"00:00:00"},1,{"$f":"OFFSET(ANST07!$A$10,H3,4)","v":0},null,3]
["NST07A","03",{"$f":"'Cover Sheet'!$C$17","v":0},{"$f":"'Cover Sheet'!$C$26","v":"00:00:00"},1,{"$f":"OFFSET(ANST07!$A$10,H4,4)","v":0},null,5]
["NST07A","04",{"$f":"'Cover Sheet'!$C$17","v":0},{"$f":"'Cover Sheet'!$C$26","v":"00:00:00"},1,{"$f":"OFFSET(ANST07!$A$10,H5,4)","v":0},null,7]
["NST07A","05",{"$f":"'Cover Sheet'!$C$17","v":0},{"$f":"'Cover Sheet'!$C$26","v":"00:00:00"},1,{"$f":"OFFSET(ANST07!$A$10,H6,4)","v":0},null,8]
["NST07A","06",{"$f":"'Cover Sheet'!$C$17","v":0},{"$f":"'Cover Sheet'!$C$26","v":"00:00:00"},1,{"$f":"OFFSET(ANST07!$A$10,H7,4)","v":0},null,9]
["NST07A","07",{"$f":"'Cover Sheet'!$C$17","v":0},{"$f":"'Cover Sheet'!$C$26","v":"00:00:00"},1,{"$f":"OFFSET(ANST07!$A$10,H8,4)","v":0},null,10]
["NST07A","08",{"$f":"'Cover Sheet'!$C$17","v":0},{"$f":"'Cover Sheet'!$C$26","v":"00:00:00"},1,{"$f":"OFFSET(ANST07!$A$10,H9,4)","v":0},null,12]
["NST07A","09",{"$f":"'Cover Sheet'!$C$17","v":0},{"$f":"'Cover Sheet'!$C$26","v":"00:00:00"},1,{"$f":"OFFSET(ANST07!$A$10,H10,4)","v":0},null,13]
["NST07A",10,{"$f":"'Cover Sheet'!$C$17","v":0},{"$f":"'Cover Sheet'!$C$26","v":"00:00:00"},1,{"$f":"OFFSET(ANST07!$A$10,H11,4)","v":0},null,14]

{"sheet":"ANST07EUR","index":21,"n_rows":18,"n_cols":3,"rows_kept":18,"cut":false,"hidden":true,"merged":[[1,0,1,1]]}
[]
["FRE/D Non-Technical Account Input Worksheet"]
[]
["Non-Technical Account","Amount"]
["Currency","€"]
["Technical result - General",{"$f":"IF('Cover Sheet'!C29=\"\",0,IF('Cover Sheet'!C22=\"Long Term Business\",0,ANST07!E11/'Cover Sheet'!C29))","v":0},1]
[null,null,2]
["Technical result - Life",{"$f":"IF('Cover Sheet'!C29=\"\",0,IF('Cover Sheet'!C22=\"General Business\",0,ANST07!E13/'Cover Sheet'!C29))","v":0},3]
[null,null,4]
["Technical result - Total",{"$f":"SUM(B6,B8)","v":0},5]
["Investment income/(costs)",{"$f":"IF('Cover Sheet'!$C$29=\"\",0,ANST07!E17/'Cover Sheet'!$C$29)","v":0},6]
["Other income",{"$f":"IF('Cover Sheet'!$C$29=\"\",0,ANST07!E18/'Cover Sheet'!$C$29)","v":0},7]
["Movements in fair value of financial instruments",{"$f":"IF('Cover Sheet'!$C$29=\"\",0,ANST07!E19/'Cover Sheet'!$C$29)","v":0},8]
["Other expenditure",{"$f":"IF('Cover Sheet'!$C$29=\"\",0,ANST07!E20/'Cover Sheet'!$C$29)","v":0},9]
[null,null,10]
["Profit before taxation",{"$f":"SUM(B10:B14)","v":0},11]
["Tax",{"$f":"IF('Cover Sheet'!$C$29=\"\",0,ANST07!E23/'Cover Sheet'!$C$29)","v":0},12]
["Profit after tax",{"$f":"B16+B17","v":0},13]

{"sheet":"NST07AEUR","index":22,"n_rows":11,"n_cols":8,"rows_kept":11,"cut":false,"hidden":true,"merged":[]}
["SheetCode","FieldCode","FICode","Date","ColNum","Value",null,"Line"]
["NST07AEUR","01",{"$f":"'Cover Sheet'!$C$17","v":0},{"$f":"'Cover Sheet'!$C$26","v":"00:00:00"},1,{"$f":"OFFSET(ANST07EUR!$A$5,H2,1)","v":0},null,1]
["NST07AEUR","02",{"$f":"'Cover Sheet'!$C$17","v":0},{"$f":"'Cover Sheet'!$C$26","v":"00:00:00"},1,{"$f":"OFFSET(ANST07EUR!$A$5,H3,1)","v":0},null,3]
["NST07AEUR","03",{"$f":"'Cover Sheet'!$C$17","v":0},{"$f":"'Cover Sheet'!$C$26","v":"00:00:00"},1,{"$f":"OFFSET(ANST07EUR!$A$5,H4,1)","v":0},null,5]
["NST07AEUR","04",{"$f":"'Cover Sheet'!$C$17","v":0},{"$f":"'Cover Sheet'!$C$26","v":"00:00:00"},1,{"$f":"OFFSET(ANST07EUR!$A$5,H5,1)","v":0},null,6]
["NST07AEUR","05",{"$f":"'Cover Sheet'!$C$17","v":0},{"$f":"'Cover Sheet'!$C$26","v":"00:00:00"},1,{"$f":"OFFSET(ANST07EUR!$A$5,H6,1)","v":0},null,7]
["NST07AEUR","06",{"$f":"'Cover Sheet'!$C$17","v":0},{"$f":"'Cover Sheet'!$C$26","v":"00:00:00"},1,{"$f":"OFFSET(ANST07EUR!$A$5,H7,1)","v":0},null,8]
["NST07AEUR","07",{"$f":"'Cover Sheet'!$C$17","v":0},{"$f":"'Cover Sheet'!$C$26","v":"00:00:00"},1,{"$f":"OFFSET(ANST07EUR!$A$5,H8,1)","v":0},null,9]
["NST07AEUR","08",{"$f":"'Cover Sheet'!$C$17","v":0},{"$f":"'Cover Sheet'!$C$26","v":"00:00:00"},1,{"$f":"OFFSET(ANST07EUR!$A$5,H9,1)","v":0},null,11]
["NST07AEUR","09",{"$f":"'Cover Sheet'!$C$17","v":0},{"$f":"'Cover Sheet'!$C$26","v":"00:00:00"},1,{"$f":"OFFSET(ANST07EUR!$A$5,H10,1)","v":0},null,12]
["NST07AEUR",10,{"$f":"'Cover Sheet'!$C$17","v":0},{"$f":"'Cover Sheet'!$C$26","v":"00:00:00"},1,{"$f":"OFFSET(ANST07EUR!$A$5,H11,1)","v":0},null,13]