{"text_format":"1","workbook":"xlsx","n_sheets":21,"sheets":["Cover Sheet","fredImportSheets","QNST01","NST01Q","QNST01EUR","NST01QEUR","QNST02","NST02Q","QNST02EUR","NST02QEUR","QNST03","NST03Q","QNST03EUR","NST03QEUR","QNST04","CBM","Matrix_Schema","NST04Q","QNST04EUR","NST04QEUR","NST04QS2EUR"],"not_rendered":{"charts":0,"images":20,"macros":1,"external_links":0,"defined_names":10,"comments":1,"pivot_tables":0},"unopened":[],"bounds":{"document_bytes":16777216,"sheet_cells":100000,"rows_first":2000,"rows_last":500,"rows_between":2000,"halvings":0,"cell_chars":16384,"cell_head_chars":4096},"cells_cut":0,"cells_raw":0,"read":"whole","date_system":"1900"}

{"sheet":"Cover Sheet","index":0,"n_rows":41,"n_cols":4,"rows_kept":41,"cut":false,"hidden":false,"merged":[[4,1,4,2],[9,1,10,2],[5,0,5,4],[6,0,6,4]]}
[null,null,null,"ANNEX III"]
[]
[]
[]
[]
["MFSA"]
["MALTA FINANCIAL SERVICES AUTHORITY"]
[]
[]
[null,"Quarterly National Specific Templates"]
[]
[]
[]
["1(a)","Name of Licence Holder"]
[]
["1(b)","Code"]
[]
[2,"Type of business carried out",null,""]
[]
[]
[3,"For the period from:"]
[null,"to:"]
[]
[4,"Currency in which accounts are reported"]
[null,"Exchange Rate to Euro at period end ",null,{"$f":"IF(C25=\"\",0,1)","v":0}]
[]
[]
[null,"Version 02/2016"]
[]
[]
[]
[]
[]
[]
[null,null,"Long Term Business"]
[null,null,"General Business"]
[null,null,"Pure Reinsurance Business"]
[null,"EUR","Composite"]
[null,"GBP"]
[null,"USD"]
[null,"SEK"]

{"sheet":"fredImportSheets","index":1,"n_rows":10,"n_cols":1,"rows_kept":10,"cut":false,"hidden":true,"merged":[]}
["fredImportSheets"]
["NST01Q"]
["NST01QEUR"]
["NST02Q"]
["NST02QEUR"]
["NST03Q"]
["NST03QEUR"]
["NST04Q"]
["NST04QEUR"]
["NST04QS2EUR"]

{"sheet":"QNST01","index":2,"n_rows":72,"n_cols":8,"rows_kept":72,"cut":false,"hidden":false,"merged":[[37,1,37,3],[12,1,12,3],[13,1,13,3],[24,1,24,3],[25,0,25,4],[26,1,26,3],[32,1,32,3],[27,0,27,4],[31,0,31,4],[21,0,21,4],[23,0,23,4],[28,1,28,3],[29,1,29,3],[30,1,30,3],[33,1,33,3],[68,1,68,3],[69,1,69,3],[70,1,70,3],[38,1,38,3],[62,1,62,4],[56,0,56,4],[58,0,58,4],[40,1,40,3],[42,1,42,3],[46,1,46,3],[55,1,55,3],[54,0,54,4],[61,1,61,4],[53,1,53,3],[39,1,39,3],[71,1,71,3],[51,1,51,3],[34,1,34,3],[35,1,35,3],[44,1,44,3],[57,1,57,3],[41,0,41,4],[43,0,43,4],[45,0,45,4],[67,1,67,3],[60,1,60,4],[47,1,47,3],[48,1,48,3],[49,1,49,3],[50,1,50,3],[52,1,52,3],[0,2,0,4],[1,2,1,4],[10,1,10,3],[3,2,3,4],[36,1,36,3],[16,1,16,3],[17,1,17,3],[18,1,18,3],[20,1,20,3],[22,1,22,3],[6,0,6,4],[14,1,14,3],[15,0,15,4],[19,0,19,4],[11,1,11,3],[4,2,4,4]]}
["Name of licenceholder:",null,{"$f":"IF('Cover Sheet'!$C$14=\"\",\"\",'Cover Sheet'!$C$14)","v":""}]
["Type of business carried out:",null,{"$f":"IF('Cover Sheet'!$C$18=\"\",\"\",'Cover Sheet'!$C$18)","v":""}]
["Period from:",null,{"$f":"IF('Cover Sheet'!C21=\"\",\"\",'Cover Sheet'!$C$21)","v":""},"to",{"$f":"IF('Cover Sheet'!$C$22=\"\",\"\",'Cover Sheet'!$C$22)","v":""}]
["Document type:",null,"MFSA National Specific Templates"]
["Sheet Code:",null,"QNST01"]
[]
["Technical Account - General Business"]
[]
[null,null,null,null,"Amount",null,"Validation "]
[null,"Currency",null,null,{"$f":"IF('Cover Sheet'!C24=\"\",\"\",'Cover Sheet'!C24)","v":""}]
[1.1000000000000001,"Gross premiums written",null,null,null,null,{"$f":"IF(E11=\"\",0,1)","v":0},1]
[1.2,"Outward reinsurance premiums (Total)",null,null,{"$f":"SUM(E13:E14)","v":0},null,null,2]
[1.3,"Outward reinsurance premiums (Proportional)",null,null,null,null,null,3]
[1.4,"Outward reinsurance premiums (Non-proportional)",null,null,null,null,null,4]
[1,"Net premium written",null,null,{"$f":"E11+E12","v":0},null,null,5]
[null,null,null,null,null,null,null,6]
[2.1,"Change in the gross provision for unearned premiums",null,null,null,null,{"$f":"IF(E17=\"\",0,1)","v":0},7]
[2.2000000000000002,"Change in the provision for unearned premiums reinsurance",null,null,null,null,null,8]
[2,"Change in net provision for unearned premium",null,null,{"$f":"E17+E18","v":0},null,null,9]
[null,null,null,null,null,null,null,10]
[3,"Earned premiums, net of reinsurance",null,null,{"$f":"E15+E19","v":0},null,null,11]
[null,null,null,null,null,null,null,12]
[4,"Earned premiums, gross of reinsurance",null,null,{"$f":"E11+E17","v":0},null,null,13]
[null,null,null,null,null,null,null,14]
[5,"Allocated investment return",null,null,null,null,{"$f":"IF(E25=\"\",0,1)","v":0},15]
[null,null,null,null,null,null,null,16]
[6,"Total technical income",null,null,{"$f":"E21+E25","v":0},null,null,17]
[null,null,null,null,null,null,null,18]
[7.1,"Gross claims paid including losses / claims payable",null,null,null,null,{"$f":"IF(E29=\"\",0,1)","v":0},19]
[7.2,"Reinsurers share of claims paid",null,null,null,null,{"$f":"IF(E30=\"\",0,1)","v":0},20]
[7,"Net claims paid",null,null,{"$f":"SUM(E29:E30)","v":0},null,null,21]
[null,null,null,null,null,null,null,22]
[8.1,"Change in gross claims outstanding reserves",null,null,null,null,{"$f":"IF(E33=\"\",0,1)","v":0},23]
[8.1999999999999993,"Change in gross IBNR provision",null,null,null,null,{"$f":"IF(E34=\"\",0,1)","v":0},24]
[8.3000000000000007,"Change in gross IBNER provision",null,null,null,null,{"$f":"IF(E35=\"\",0,1)","v":0},25]
[8.4,"Change in other gross reserve",null,null,null,null,0,26]
[8.5,"Change in claims outstanding reserves, reinsurers share",null,null,null,null,0,27]
[8.6,"Change in the provision of IBNR, reinsurers share",null,null,null,null,0,28]
[8.6999999999999993,"Change in the provision of IBNER, reinsurers share",null,null,null,null,0,29]
[8.8000000000000007,"Change in other reserves, reinsurers share",null,null,null,null,0,30]
[8,"Change in net provision for claims, IBNR and other reserves",null,null,{"$f":"SUM(E33:E40)","v":0},null,null,31]
[null,null,null,null,null,null,null,32]
[9,"Claims incurred, net of reinsurance",null,null,{"$f":"E31+E41","v":0},null,null,33]
[null,null,null,null,null,null,null,34]
[10,"Claims incurred, gross of reinsurance",null,null,{"$f":"E29+E33+E34+E35+E36","v":0},null,null,35]
[null,null,null,null,null,null,null,36]
[11.1,"Commission paid",null,null,null,null,null,37]
[11.2,"Change in the provision for DAC",null,null,null,null,null,38]
[11.3,"Claims management costs",null,null,null,null,{"$f":"IF(E49=\"\",0,1)","v":0},39]
[11.4,"MIB levy (Motor)",null,null,null,null,null,40]
[11.5,"Reinsurance commissions and profit participation",null,null,null,null,null,41]
[11.6,"Commissions received other than those included in 11.50 above",null,null,null,null,null,42]
[11.7,"Other expenses",null,null,null,null,null,43]
[11,"Net operating expenses",null,null,{"$f":"SUM(E47:E53)","v":0},null,null,44]
[null,null,null,null,null,null,null,45]
[12,"Total technical charges",null,null,{"$f":"E43+E54","v":0},null,null,46]
[null,null,null,null,null,null,null,47]
[13,"Technical result - General Business",null,null,{"$f":"E27-E56","v":0},null,{"$f":"IF(OR('Cover Sheet'!C18=\"Long Term Business\",E11=\"\",E17=\"\",E29=\"\",E33=\"\",E34=\"\",E35=\"\",E49=\"\"),0,1)","v":0},48]
[]
[null,"Notes"]
["i","Please key in a value for each cell in the table where there is a validation. Where the cell contains no value, a value of zero is to be keyed in."]
["ii","Kindly note that the Technical Result will not be displayed unless a value is keyed in for: [i] Gross Premiums Written; [ii] Change in the gross provision for unearned premiums; [iii] Gross claims paid; [iv] Change in gross provision for claims outstanding reserves; [v] Change in gross IBNR; [vi] Change in gross IBNER; and [vii] Claims management costs."]
["iii","Claims outstanding should exclude claims management costs. The latter should be disclosed separately in line 11.30."]
[]
[]
[]
[null,"Ratios"]
[14,"Loss ratio, net of reinsurance",null,null,{"$f":"IF(OR(E43=0,E21=0),\"\",E43/E21)","v":""}]
[15,"Loss ratio, gross of reinsurance",null,null,{"$f":"IF(OR(E23=0,E45=0),\"\",E45/E23)","v":""}]
[16,"Combined ratio, net of reinsurance",null,null,{"$f":"IF(OR(E21=0,E56=0),\"\",E56/E21)","v":""}]
[17,"Combined ratio, gross of reinsurance",null,null,{"$f":"IF(OR(E23=0,E45=0,E54=0),\"\",(E45+E54)/E23)","v":""}]
[18,"Expense ratio (ratio of Net operating expenses to Gross Premiums written)",null,null,{"$f":"IF(OR(E11=\"\",E54=0),\"\",E54/E11)","v":""}]

{"sheet":"NST01Q","index":3,"n_rows":37,"n_cols":8,"rows_kept":37,"cut":false,"hidden":true,"merged":[]}
["SheetCode","FieldCode","FICode","Date","ColNum","Value",null,"Line"]
["NST01Q","01a",{"$f":"'Cover Sheet'!$C$16","v":0},{"$f":"'Cover Sheet'!$C$22","v":"00:00:00"},1,{"$f":"OFFSET(QNST01!$A$10,H2,4)","v":0},null,1]
["NST01Q","01b",{"$f":"'Cover Sheet'!$C$16","v":0},{"$f":"'Cover Sheet'!$C$22","v":"00:00:00"},1,{"$f":"OFFSET(QNST01!$A$10,H3,4)","v":0},null,2]
["NST01Q","01c",{"$f":"'Cover Sheet'!$C$16","v":0},{"$f":"'Cover Sheet'!$C$22","v":"00:00:00"},1,{"$f":"OFFSET(QNST01!$A$10,H4,4)","v":0},null,3]
["NST01Q","01d",{"$f":"'Cover Sheet'!$C$16","v":0},{"$f":"'Cover Sheet'!$C$22","v":"00:00:00"},1,{"$f":"OFFSET(QNST01!$A$10,H5,4)","v":0},null,4]
["NST01Q","01e",{"$f":"'Cover Sheet'!$C$16","v":0},{"$f":"'Cover Sheet'!$C$22","v":"00:00:00"},1,{"$f":"OFFSET(QNST01!$A$10,H6,4)","v":0},null,5]
["NST01Q","02a",{"$f":"'Cover Sheet'!$C$16","v":0},{"$f":"'Cover Sheet'!$C$22","v":"00:00:00"},1,{"$f":"OFFSET(QNST01!$A$10,H7,4)","v":0},null,7]
["NST01Q","02b",{"$f":"'Cover Sheet'!$C$16","v":0},{"$f":"'Cover Sheet'!$C$22","v":"00:00:00"},1,{"$f":"OFFSET(QNST01!$A$10,H8,4)","v":0},null,8]
["NST01Q","02c",{"$f":"'Cover Sheet'!$C$16","v":0},{"$f":"'Cover Sheet'!$C$22","v":"00:00:00"},1,{"$f":"OFFSET(QNST01!$A$10,H9,4)","v":0},null,9]
["NST01Q","03",{"$f":"'Cover Sheet'!$C$16","v":0},{"$f":"'Cover Sheet'!$C$22","v":"00:00:00"},1,{"$f":"OFFSET(QNST01!$A$10,H10,4)","v":0},null,11]
["NST01Q","04",{"$f":"'Cover Sheet'!$C$16","v":0},{"$f":"'Cover Sheet'!$C$22","v":"00:00:00"},1,{"$f":"OFFSET(QNST01!$A$10,H11,4)","v":0},null,13]
["NST01Q","05",{"$f":"'Cover Sheet'!$C$16","v":0},{"$f":"'Cover Sheet'!$C$22","v":"00:00:00"},1,{"$f":"OFFSET(QNST01!$A$10,H12,4)","v":0},null,15]
["NST01Q","06",{"$f":"'Cover Sheet'!$C$16","v":0},{"$f":"'Cover Sheet'!$C$22","v":"00:00:00"},1,{"$f":"OFFSET(QNST01!$A$10,H13,4)","v":0},null,17]
["NST01Q","07a",{"$f":"'Cover Sheet'!$C$16","v":0},{"$f":"'Cover Sheet'!$C$22","v":"00:00:00"},1,{"$f":"OFFSET(QNST01!$A$10,H14,4)","v":0},null,19]
["NST01Q","07b",{"$f":"'Cover Sheet'!$C$16","v":0},{"$f":"'Cover Sheet'!$C$22","v":"00:00:00"},1,{"$f":"OFFSET(QNST01!$A$10,H15,4)","v":0},null,20]
["NST01Q","07c",{"$f":"'Cover Sheet'!$C$16","v":0},{"$f":"'Cover Sheet'!$C$22","v":"00:00:00"},1,{"$f":"OFFSET(QNST01!$A$10,H16,4)","v":0},null,21]
["NST01Q","08a",{"$f":"'Cover Sheet'!$C$16","v":0},{"$f":"'Cover Sheet'!$C$22","v":"00:00:00"},1,{"$f":"OFFSET(QNST01!$A$10,H17,4)","v":0},null,23]
["NST01Q","08b",{"$f":"'Cover Sheet'!$C$16","v":0},{"$f":"'Cover Sheet'!$C$22","v":"00:00:00"},1,{"$f":"OFFSET(QNST01!$A$10,H18,4)","v":0},null,24]
["NST01Q","08c",{"$f":"'Cover Sheet'!$C$16","v":0},{"$f":"'Cover Sheet'!$C$22","v":"00:00:00"},1,{"$f":"OFFSET(QNST01!$A$10,H19,4)","v":0},null,25]
["NST01Q","08d",{"$f":"'Cover Sheet'!$C$16","v":0},{"$f":"'Cover Sheet'!$C$22","v":"00:00:00"},1,{"$f":"OFFSET(QNST01!$A$10,H20,4)","v":0},null,26]
["NST01Q","08e",{"$f":"'Cover Sheet'!$C$16","v":0},{"$f":"'Cover Sheet'!$C$22","v":"00:00:00"},1,{"$f":"OFFSET(QNST01!$A$10,H21,4)","v":0},null,27]
["NST01Q","08f",{"$f":"'Cover Sheet'!$C$16","v":0},{"$f":"'Cover Sheet'!$C$22","v":"00:00:00"},1,{"$f":"OFFSET(QNST01!$A$10,H22,4)","v":0},null,28]
["NST01Q","08g",{"$f":"'Cover Sheet'!$C$16","v":0},{"$f":"'Cover Sheet'!$C$22","v":"00:00:00"},1,{"$f":"OFFSET(QNST01!$A$10,H23,4)","v":0},null,29]
["NST01Q","08h",{"$f":"'Cover Sheet'!$C$16","v":0},{"$f":"'Cover Sheet'!$C$22","v":"00:00:00"},1,{"$f":"OFFSET(QNST01!$A$10,H24,4)","v":0},null,30]
["NST01Q","08i",{"$f":"'Cover Sheet'!$C$16","v":0},{"$f":"'Cover Sheet'!$C$22","v":"00:00:00"},1,{"$f":"OFFSET(QNST01!$A$10,H25,4)","v":0},null,31]
["NST01Q","09",{"$f":"'Cover Sheet'!$C$16","v":0},{"$f":"'Cover Sheet'!$C$22","v":"00:00:00"},1,{"$f":"OFFSET(QNST01!$A$10,H26,4)","v":0},null,33]
["NST01Q",10,{"$f":"'Cover Sheet'!$C$16","v":0},{"$f":"'Cover Sheet'!$C$22","v":"00:00:00"},1,{"$f":"OFFSET(QNST01!$A$10,H27,4)","v":0},null,35]
["NST01Q","11a",{"$f":"'Cover Sheet'!$C$16","v":0},{"$f":"'Cover Sheet'!$C$22","v":"00:00:00"},1,{"$f":"OFFSET(QNST01!$A$10,H28,4)","v":0},null,37]
["NST01Q","11b",{"$f":"'Cover Sheet'!$C$16","v":0},{"$f":"'Cover Sheet'!$C$22","v":"00:00:00"},1,{"$f":"OFFSET(QNST01!$A$10,H29,4)","v":0},null,38]
["NST01Q","11c",{"$f":"'Cover Sheet'!$C$16","v":0},{"$f":"'Cover Sheet'!$C$22","v":"00:00:00"},1,{"$f":"OFFSET(QNST01!$A$10,H30,4)","v":0},null,39]
["NST01Q","11d",{"$f":"'Cover Sheet'!$C$16","v":0},{"$f":"'Cover Sheet'!$C$22","v":"00:00:00"},1,{"$f":"OFFSET(QNST01!$A$10,H31,4)","v":0},null,40]
["NST01Q","11e",{"$f":"'Cover Sheet'!$C$16","v":0},{"$f":"'Cover Sheet'!$C$22","v":"00:00:00"},1,{"$f":"OFFSET(QNST01!$A$10,H32,4)","v":0},null,41]
["NST01Q","11f",{"$f":"'Cover Sheet'!$C$16","v":0},{"$f":"'Cover Sheet'!$C$22","v":"00:00:00"},1,{"$f":"OFFSET(QNST01!$A$10,H33,4)","v":0},null,42]
["NST01Q","11g",{"$f":"'Cover Sheet'!$C$16","v":0},{"$f":"'Cover Sheet'!$C$22","v":"00:00:00"},1,{"$f":"OFFSET(QNST01!$A$10,H34,4)","v":0},null,43]
["NST01Q","11h",{"$f":"'Cover Sheet'!$C$16","v":0},{"$f":"'Cover Sheet'!$C$22","v":"00:00:00"},1,{"$f":"OFFSET(QNST01!$A$10,H35,4)","v":0},null,44]
["NST01Q",12,{"$f":"'Cover Sheet'!$C$16","v":0},{"$f":"'Cover Sheet'!$C$22","v":"00:00:00"},1,{"$f":"OFFSET(QNST01!$A$10,H36,4)","v":0},null,46]
["NST01Q",13,{"$f":"'Cover Sheet'!$C$16","v":0},{"$f":"'Cover Sheet'!$C$22","v":"00:00:00"},1,{"$f":"OFFSET(QNST01!$A$10,H37,4)","v":0},null,48]

{"sheet":"QNST01EUR","index":4,"n_rows":60,"n_cols":3,"rows_kept":60,"cut":false,"hidden":true,"merged":[[1,0,1,1]]}
[]
["FRE/D General Business Technical Account Input Worksheet"]
[]
["Technical Account","Amount"]
["Currency","€"]
["Gross premiums written",{"$f":"IF('Cover Sheet'!$C$25=\"\",0,QNST01!E11/'Cover Sheet'!$C$25)","v":0},1]
["Outward reinsurance premiums (Total)",{"$f":"IF('Cover Sheet'!$C$25=\"\",0,QNST01!E12/'Cover Sheet'!$C$25)","v":0},2]
["Outward reinsurance premiums (Proportional)",{"$f":"IF('Cover Sheet'!$C$25=\"\",0,QNST01!E13/'Cover Sheet'!$C$25)","v":0},3]
["Outward reinsurance premiums (Non-proportional)",{"$f":"IF('Cover Sheet'!$C$25=\"\",0,QNST01!E14/'Cover Sheet'!$C$25)","v":0},4]
["Net premium written",{"$f":"B6+B7","v":0},5]
[null,null,6]
["Change in the gross provision for unearned premiums",{"$f":"IF('Cover Sheet'!$C$25=\"\",0,QNST01!E17/'Cover Sheet'!$C$25)","v":0},7]
["Change in the provision for unearned premiums reinsurance",{"$f":"IF('Cover Sheet'!$C$25=\"\",0,QNST01!E18/'Cover Sheet'!$C$25)","v":0},8]
["Change in net provision for unearned premium",{"$f":"IF('Cover Sheet'!$C$25=\"\",0,QNST01!E19/'Cover Sheet'!$C$25)","v":0},9]
[null,null,10]
["Earned premiums, net of reinsurance",{"$f":"SUM(B10+B14)","v":0},11]
[null,null,12]
["Earned premiums, gross of reinsurance",{"$f":"SUM(B6,B12)","v":0},13]
[null,null,14]
["Allocated investment return",{"$f":"IF('Cover Sheet'!$C$25=\"\",0,QNST01!E25/'Cover Sheet'!$C$25)","v":0},15]
[null,null,16]
["Total technical income",{"$f":"SUM(B16,B20)","v":0},17]
[null,null,18]
["Gross claims paid including losses / claims payable",{"$f":"IF('Cover Sheet'!$C$25=\"\",0,QNST01!E29/'Cover Sheet'!$C$25)","v":0},19]
["Reinsurers' share of claims paid",{"$f":"IF('Cover Sheet'!$C$25=\"\",0,QNST01!E30/'Cover Sheet'!$C$25)","v":0},20]
["Net claims paid",{"$f":"SUM(B24:B25)","v":0},21]
[null,null,22]
["Change in gross claims outstanding reserves",{"$f":"IF('Cover Sheet'!$C$25=\"\",0,QNST01!E33/'Cover Sheet'!$C$25)","v":0},23]
["Change in gross IBNR provision",{"$f":"IF('Cover Sheet'!$C$25=\"\",0,QNST01!E34/'Cover Sheet'!$C$25)","v":0},24]
["Change in gross IBNER provision",{"$f":"IF('Cover Sheet'!$C$25=\"\",0,QNST01!E35/'Cover Sheet'!$C$25)","v":0},25]
["Change in other gross reserve",{"$f":"IF('Cover Sheet'!$C$25=\"\",0,QNST01!E36/'Cover Sheet'!$C$25)","v":0},26]
["Change in gross claims outstanding reserves, reinsurers share",{"$f":"IF('Cover Sheet'!$C$25=\"\",0,QNST01!E37/'Cover Sheet'!$C$25)","v":0},27]
["Change in the provision of IBNR, reinsurers share",{"$f":"IF('Cover Sheet'!$C$25=\"\",0,QNST01!E38/'Cover Sheet'!$C$25)","v":0},28]
["Change in the provision of IBNER, reinsurers share",{"$f":"IF('Cover Sheet'!$C$25=\"\",0,QNST01!E39/'Cover Sheet'!$C$25)","v":0},29]
["Change in other reserves, reinsurers share",{"$f":"IF('Cover Sheet'!$C$25=\"\",0,QNST01!E40/'Cover Sheet'!$C$25)","v":0},30]
["Change in net provision for claims, IBNR and other reserves",{"$f":"SUM(B28:B35)","v":0},31]
[null,null,32]
["Claims incurred, net of reinsurance",{"$f":"SUM(B26,B36)","v":0},33]
[null,null,34]
["Claims incurred, gross of reinsurance",{"$f":"SUM(B24,B28,B29,B30,B31)","v":0},35]
[null,null,36]
["Commission paid",{"$f":"IF('Cover Sheet'!$C$25=\"\",0,QNST01!E47/'Cover Sheet'!$C$25)","v":0},37]
["Change in the provision for DAC",{"$f":"IF('Cover Sheet'!$C$25=\"\",0,QNST01!E48/'Cover Sheet'!$C$25)","v":0},38]
["Claims management costs",{"$f":"IF('Cover Sheet'!$C$25=\"\",0,QNST01!E49/'Cover Sheet'!$C$25)","v":0},39]
["MIB levy (Motor)",{"$f":"IF('Cover Sheet'!$C$25=\"\",0,QNST01!E50/'Cover Sheet'!$C$25)","v":0},40]
["Reinsurance commissions and profit participation",{"$f":"IF('Cover Sheet'!$C$25=\"\",0,QNST01!E51/'Cover Sheet'!$C$25)","v":0},41]
["Commissions received other than those included in row above",{"$f":"IF('Cover Sheet'!$C$25=\"\",0,QNST01!E52/'Cover Sheet'!$C$25)","v":0},42]
["Other expenses",{"$f":"IF('Cover Sheet'!$C$25=\"\",0,QNST01!E53/'Cover Sheet'!$C$25)","v":0},43]
["Net operating expenses",{"$f":"SUM(B42:B48)","v":0},44]
[null,null,45]
["Total technical charges",{"$f":"SUM(B38,B49)","v":0},46]
[null,null,47]
["Technical result",{"$f":"B22-B51","v":0},48]
[null,null,49]
[null,null,50]
["Loss ratio, net of reinsurance",{"$f":"B38/B16","v":{"$error":"#DIV/0!"}},51]
["Loss ratio, gross of reinsurance",{"$f":"B40/B18","v":{"$error":"#DIV/0!"}},52]
["Combined ratio, net of reinsurance",{"$f":"B51/B16","v":{"$error":"#DIV/0!"}},53]
["Combined ratio, gross of reinsurance",{"$f":"(B49+B40)/B18","v":{"$error":"#DIV/0!"}},54]
["Expense ratio (ratio of Net operating expenses to Gross Premiums written)",{"$f":"B49/B6","v":{"$error":"#DIV/0!"}},55]

{"sheet":"NST01QEUR","index":5,"n_rows":37,"n_cols":8,"rows_kept":37,"cut":false,"hidden":true,"merged":[]}
["SheetCode","FieldCode","FICode","Date","ColNum","Value",null,"Line"]
["NST01QEUR","01a",{"$f":"'Cover Sheet'!$C$16","v":0},{"$f":"'Cover Sheet'!$C$22","v":"00:00:00"},1,{"$f":"NST01Q!F2/'Cover Sheet'!$C$25","v":{"$error":"#DIV/0!"}},null,1]
["NST01QEUR","01b",{"$f":"'Cover Sheet'!$C$16","v":0},{"$f":"'Cover Sheet'!$C$22","v":"00:00:00"},1,{"$f":"NST01Q!F3/'Cover Sheet'!$C$25","v":{"$error":"#DIV/0!"}},null,2]
["NST01QEUR","01c",{"$f":"'Cover Sheet'!$C$16","v":0},{"$f":"'Cover Sheet'!$C$22","v":"00:00:00"},1,{"$f":"NST01Q!F4/'Cover Sheet'!$C$25","v":{"$error":"#DIV/0!"}},null,3]
["NST01QEUR","01d",{"$f":"'Cover Sheet'!$C$16","v":0},{"$f":"'Cover Sheet'!$C$22","v":"00:00:00"},1,{"$f":"NST01Q!F5/'Cover Sheet'!$C$25","v":{"$error":"#DIV/0!"}},null,4]
["NST01QEUR","01e",{"$f":"'Cover Sheet'!$C$16","v":0},{"$f":"'Cover Sheet'!$C$22","v":"00:00:00"},1,{"$f":"NST01Q!F6/'Cover Sheet'!$C$25","v":{"$error":"#DIV/0!"}},null,5]
["NST01QEUR","02a",{"$f":"'Cover Sheet'!$C$16","v":0},{"$f":"'Cover Sheet'!$C$22","v":"00:00:00"},1,{"$f":"NST01Q!F7/'Cover Sheet'!$C$25","v":{"$error":"#DIV/0!"}},null,7]
["NST01QEUR","02b",{"$f":"'Cover Sheet'!$C$16","v":0},{"$f":"'Cover Sheet'!$C$22","v":"00:00:00"},1,{"$f":"NST01Q!F8/'Cover Sheet'!$C$25","v":{"$error":"#DIV/0!"}},null,8]
["NST01QEUR","02c",{"$f":"'Cover Sheet'!$C$16","v":0},{"$f":"'Cover Sheet'!$C$22","v":"00:00:00"},1,{"$f":"NST01Q!F9/'Cover Sheet'!$C$25","v":{"$error":"#DIV/0!"}},null,9]
["NST01QEUR","03",{"$f":"'Cover Sheet'!$C$16","v":0},{"$f":"'Cover Sheet'!$C$22","v":"00:00:00"},1,{"$f":"NST01Q!F10/'Cover Sheet'!$C$25","v":{"$error":"#DIV/0!"}},null,11]
["NST01QEUR","04",{"$f":"'Cover Sheet'!$C$16","v":0},{"$f":"'Cover Sheet'!$C$22","v":"00:00:00"},1,{"$f":"NST01Q!F11/'Cover Sheet'!$C$25","v":{"$error":"#DIV/0!"}},null,13]
["NST01QEUR","05",{"$f":"'Cover Sheet'!$C$16","v":0},{"$f":"'Cover Sheet'!$C$22","v":"00:00:00"},1,{"$f":"NST01Q!F12/'Cover Sheet'!$C$25","v":{"$error":"#DIV/0!"}},null,15]
["NST01QEUR","06",{"$f":"'Cover Sheet'!$C$16","v":0},{"$f":"'Cover Sheet'!$C$22","v":"00:00:00"},1,{"$f":"NST01Q!F13/'Cover Sheet'!$C$25","v":{"$error":"#DIV/0!"}},null,17]
["NST01QEUR","07a",{"$f":"'Cover Sheet'!$C$16","v":0},{"$f":"'Cover Sheet'!$C$22","v":"00:00:00"},1,{"$f":"NST01Q!F14/'Cover Sheet'!$C$25","v":{"$error":"#DIV/0!"}},null,19]
["NST01QEUR","07b",{"$f":"'Cover Sheet'!$C$16","v":0},{"$f":"'Cover Sheet'!$C$22","v":"00:00:00"},1,{"$f":"NST01Q!F15/'Cover Sheet'!$C$25","v":{"$error":"#DIV/0!"}},null,20]
["NST01QEUR","07c",{"$f":"'Cover Sheet'!$C$16","v":0},{"$f":"'Cover Sheet'!$C$22","v":"00:00:00"},1,{"$f":"NST01Q!F16/'Cover Sheet'!$C$25","v":{"$error":"#DIV/0!"}},null,21]
["NST01QEUR","08a",{"$f":"'Cover Sheet'!$C$16","v":0},{"$f":"'Cover Sheet'!$C$22","v":"00:00:00"},1,{"$f":"NST01Q!F17/'Cover Sheet'!$C$25","v":{"$error":"#DIV/0!"}},null,23]
["NST01QEUR","08b",{"$f":"'Cover Sheet'!$C$16","v":0},{"$f":"'Cover Sheet'!$C$22","v":"00:00:00"},1,{"$f":"NST01Q!F18/'Cover Sheet'!$C$25","v":{"$error":"#DIV/0!"}},null,24]
["NST01QEUR","08c",{"$f":"'Cover Sheet'!$C$16","v":0},{"$f":"'Cover Sheet'!$C$22","v":"00:00:00"},1,{"$f":"NST01Q!F19/'Cover Sheet'!$C$25","v":{"$error":"#DIV/0!"}},null,25]
["NST01QEUR","08d",{"$f":"'Cover Sheet'!$C$16","v":0},{"$f":"'Cover Sheet'!$C$22","v":"00:00:00"},1,{"$f":"NST01Q!F20/'Cover Sheet'!$C$25","v":{"$error":"#DIV/0!"}},null,26]
["NST01QEUR","08e",{"$f":"'Cover Sheet'!$C$16","v":0},{"$f":"'Cover Sheet'!$C$22","v":"00:00:00"},1,{"$f":"NST01Q!F21/'Cover Sheet'!$C$25","v":{"$error":"#DIV/0!"}},null,27]
["NST01QEUR","08f",{"$f":"'Cover Sheet'!$C$16","v":0},{"$f":"'Cover Sheet'!$C$22","v":"00:00:00"},1,{"$f":"NST01Q!F22/'Cover Sheet'!$C$25","v":{"$error":"#DIV/0!"}},null,28]
["NST01QEUR","08g",{"$f":"'Cover Sheet'!$C$16","v":0},{"$f":"'Cover Sheet'!$C$22","v":"00:00:00"},1,{"$f":"NST01Q!F23/'Cover Sheet'!$C$25","v":{"$error":"#DIV/0!"}},null,29]
["NST01QEUR","08h",{"$f":"'Cover Sheet'!$C$16","v":0},{"$f":"'Cover Sheet'!$C$22","v":"00:00:00"},1,{"$f":"NST01Q!F24/'Cover Sheet'!$C$25","v":{"$error":"#DIV/0!"}},null,30]
["NST01QEUR","08i",{"$f":"'Cover Sheet'!$C$16","v":0},{"$f":"'Cover Sheet'!$C$22","v":"00:00:00"},1,{"$f":"NST01Q!F25/'Cover Sheet'!$C$25","v":{"$error":"#DIV/0!"}},null,31]
["NST01QEUR","09",{"$f":"'Cover Sheet'!$C$16","v":0},{"$f":"'Cover Sheet'!$C$22","v":"00:00:00"},1,{"$f":"NST01Q!F26/'Cover Sheet'!$C$25","v":{"$error":"#DIV/0!"}},null,33]
["NST01QEUR",10,{"$f":"'Cover Sheet'!$C$16","v":0},{"$f":"'Cover Sheet'!$C$22","v":"00:00:00"},1,{"$f":"NST01Q!F27/'Cover Sheet'!$C$25","v":{"$error":"#DIV/0!"}},null,35]
["NST01QEUR","11a",{"$f":"'Cover Sheet'!$C$16","v":0},{"$f":"'Cover Sheet'!$C$22","v":"00:00:00"},1,{"$f":"NST01Q!F28/'Cover Sheet'!$C$25","v":{"$error":"#DIV/0!"}},null,37]
["NST01QEUR","11b",{"$f":"'Cover Sheet'!$C$16","v":0},{"$f":"'Cover Sheet'!$C$22","v":"00:00:00"},1,{"$f":"NST01Q!F29/'Cover Sheet'!$C$25","v":{"$error":"#DIV/0!"}},null,38]
["NST01QEUR","11c",{"$f":"'Cover Sheet'!$C$16","v":0},{"$f":"'Cover Sheet'!$C$22","v":"00:00:00"},1,{"$f":"NST01Q!F30/'Cover Sheet'!$C$25","v":{"$error":"#DIV/0!"}},null,39]
["NST01QEUR","11d",{"$f":"'Cover Sheet'!$C$16","v":0},{"$f":"'Cover Sheet'!$C$22","v":"00:00:00"},1,{"$f":"NST01Q!F31/'Cover Sheet'!$C$25","v":{"$error":"#DIV/0!"}},null,40]
["NST01QEUR","11e",{"$f":"'Cover Sheet'!$C$16","v":0},{"$f":"'Cover Sheet'!$C$22","v":"00:00:00"},1,{"$f":"NST01Q!F32/'Cover Sheet'!$C$25","v":{"$error":"#DIV/0!"}},null,41]
["NST01QEUR","11f",{"$f":"'Cover Sheet'!$C$16","v":0},{"$f":"'Cover Sheet'!$C$22","v":"00:00:00"},1,{"$f":"NST01Q!F33/'Cover Sheet'!$C$25","v":{"$error":"#DIV/0!"}},null,42]
["NST01QEUR","11g",{"$f":"'Cover Sheet'!$C$16","v":0},{"$f":"'Cover Sheet'!$C$22","v":"00:00:00"},1,{"$f":"NST01Q!F34/'Cover Sheet'!$C$25","v":{"$error":"#DIV/0!"}},null,43]
["NST01QEUR","11h",{"$f":"'Cover Sheet'!$C$16","v":0},{"$f":"'Cover Sheet'!$C$22","v":"00:00:00"},1,{"$f":"NST01Q!F35/'Cover Sheet'!$C$25","v":{"$error":"#DIV/0!"}},null,44]
["NST01QEUR",12,{"$f":"'Cover Sheet'!$C$16","v":0},{"$f":"'Cover Sheet'!$C$22","v":"00:00:00"},1,{"$f":"NST01Q!F36/'Cover Sheet'!$C$25","v":{"$error":"#DIV/0!"}},null,46]
["NST01QEUR",13,{"$f":"'Cover Sheet'!$C$16","v":0},{"$f":"'Cover Sheet'!$C$22","v":"00:00:00"},1,{"$f":"NST01Q!F37/'Cover Sheet'!$C$25","v":{"$error":"#DIV/0!"}},null,48]

{"sheet":"QNST02","index":6,"n_rows":62,"n_cols":7,"rows_kept":62,"cut":false,"hidden":false,"merged":[[10,1,10,3],[0,2,0,4],[1,2,1,4],[3,2,3,4],[4,2,4,4],[6,0,6,4],[23,0,23,4],[11,1,11,3],[12,1,12,3],[13,1,13,3],[14,1,14,3],[15,0,15,4],[16,1,16,3],[18,1,18,3],[19,0,19,4],[20,1,20,3],[21,0,21,4],[22,1,22,3],[36,1,36,3],[24,1,24,3],[25,0,25,4],[26,1,26,3],[27,0,27,4],[28,1,28,3],[29,1,29,3],[30,1,30,3],[31,0,31,4],[32,1,32,3],[33,1,33,3],[35,1,35,3],[48,1,48,3],[37,1,37,3],[38,1,38,3],[39,1,39,3],[40,1,40,3],[41,0,41,4],[42,1,42,3],[43,0,43,4],[44,1,44,3],[45,0,45,4],[46,1,46,3],[47,1,47,3],[61,1,61,4],[49,1,49,3],[50,1,50,3],[51,1,51,3],[52,1,52,3],[53,0,53,4],[54,1,54,3],[55,0,55,4],[56,1,56,3],[57,0,57,4],[59,1,59,4],[60,1,60,4]]}
["Name of licenceholder:",null,{"$f":"IF('Cover Sheet'!$C$14=\"\",\"\",'Cover Sheet'!$C$14)","v":""}]
["Type of business carried out:",null,{"$f":"IF('Cover Sheet'!$C$18=\"\",\"\",'Cover Sheet'!$C$18)","v":""}]
["Period from:",null,{"$f":"IF('Cover Sheet'!C21=\"\",\"\",'Cover Sheet'!$C$21)","v":""},"to",{"$f":"IF('Cover Sheet'!$C$22=\"\",\"\",'Cover Sheet'!$C$22)","v":""}]
["Document type:",null,"MFSA National Specific Templates"]
["Sheet Code:",null,"QNST02"]
[]
["Technical Account - Life Business "]
[]
[null,null,null,null,"Amount",null,"Validation "]
[null,"Currency",null,null,{"$f":"IF('Cover Sheet'!C24=\"\",\"\",'Cover Sheet'!C24)","v":""}]
[1.1000000000000001,"Gross premiums written",null,null,null,null,{"$f":"IF(E11=\"\",0,1)","v":0}]
[1.2,"Outward reinsurance premiums (Total)",null,null,{"$f":"SUM(E13:E14)","v":0}]
[1.3,"Outward reinsurance premiums (Proportional)"]
[1.4,"Outward reinsurance premiums (Non-proportional)"]
[1,"Net premium written",null,null,{"$f":"SUM(E11:E12)","v":0}]
[]
[2.1,"Change in the gross provision for unearned premiums",null,null,null,null,{"$f":"IF(E17=\"\",0,1)","v":0}]
[2.2000000000000002,"Change in the provision for unearned premiums, reinsurers share (Total)"]
[2,"Change in net provision for unearned premium",null,null,{"$f":"E17+E18","v":0}]
[]
[3,"Earned premiums, net of reinsurance",null,null,{"$f":"E15+E19","v":0}]
[]
[4,"Earned premiums, gross of reinsurance",null,null,{"$f":"E11+E17","v":0}]
[]
[5,"Allocated investment return",null,null,null,null,{"$f":"IF(E25=\"\",0,1)","v":0}]
[]
[6,"Total technical income",null,null,{"$f":"E21+E25","v":0}]
[]
[7.1,"Gross claims paid",null,null,null,null,{"$f":"IF(E29=\"\",0,1)","v":0}]
[7.2,"Reinsurers share of claims paid",null,null,null,null,{"$f":"IF(E30=\"\",0,1)","v":0}]
[7,"Net claims paid",null,null,{"$f":"SUM(E29:E30)","v":0}]
[]
[8.1,"Change in gross life technical provisions",null,null,null,null,{"$f":"IF(E33=\"\",0,1)","v":0}]
[8.1999999999999993,"Change in gross claims outstanding reserves",null,null,null,null,{"$f":"IF(E34=\"\",0,1)","v":0}]
[8.3000000000000007,"Change in gross IBNR provision",null,null,null,null,{"$f":"IF(E35=\"\",0,1)","v":0}]
[8.4,"Change in other gross reserve",null,null,null,null,{"$f":"IF(E36=\"\",0,1)","v":0}]
[8.5,"Change in the life technical provisions, reinsurers share",null,null,null,null,0]
[8.6,"Change in claims outstanding reserves, reinsurers share",null,null,null,null,0]
[8.6999999999999993,"Change in the provision of IBNR, reinsurers share",null,null,null,null,0]
[8.8000000000000007,"Change in other reserves, reinsurers share",null,null,null,null,0]
[8,"Change in net provision for claims and other reserves",null,null,{"$f":"SUM(E33:E40)","v":0}]
[]
[9,"Claims incurred, net of reinsurance",null,null,{"$f":"E31+E41","v":0}]
[]
[10,"Claims incurred, gross of reinsurance",null,null,{"$f":"E29+E33+E34+E35+E36","v":0}]
[]
[11.1,"Commission paid"]
[11.2,"Change in the provision for DAC"]
[11.3,"Claims management costs",null,null,null,null,{"$f":"IF(E49=\"\",0,1)","v":0}]
[11.4,"Reinsurance commissions and profit participation"]
[11.5,"Commissions received other than those included in 11.40 above"]
[11.6,"Other expenses"]
[11,"Net operating expenses",null,null,{"$f":"SUM(E47:E52)","v":0}]
[]
[12,"Total technical charges",null,null,{"$f":"E43+E53","v":0}]
[]
[13,"Technical result - Life Business",null,null,{"$f":"E27-E55","v":0},null,{"$f":"IF(OR('Cover Sheet'!C18=\"General Business\",E11=\"\",E17=\"\",E29=\"\",E33=\"\",E34=\"\",E35=\"\",E49=\"\"),0,1)","v":0}]
[]
[null,"Notes"]
["i","Please key in a value for each cell in the table where there is a validation. Where the cell contains no value, a value of zero is to be keyed in."]
["ii","Kindly note that the Technical Result will not be displayed unless a value is keyed in for: [i] Gross Premiums Written; [ii] Change in the gross provision for unearned premiums; [iii] Gross claims paid; [iv] change in gross life technical provisions; [v] Change in gross provision for claims outstanding reserves; [vi] Change in gross IBNR; and [vi]claims management costs."]
["iii","Claims outstanding should exclude claims management costs. The latter should be disclosed separately in line 11.30."]

{"sheet":"NST02Q","index":7,"n_rows":36,"n_cols":8,"rows_kept":36,"cut":false,"hidden":true,"merged":[]}
["SheetCode","FieldCode","FICode","Date","ColNum","Value",null,"Line"]
["NST02Q","01a",{"$f":"'Cover Sheet'!$C$16","v":0},{"$f":"'Cover Sheet'!$C$22","v":"00:00:00"},1,{"$f":"OFFSET(QNST02!$A$10,H2,4)","v":0},null,1]
["NST02Q","01b",{"$f":"'Cover Sheet'!$C$16","v":0},{"$f":"'Cover Sheet'!$C$22","v":"00:00:00"},1,{"$f":"OFFSET(QNST02!$A$10,H3,4)","v":0},null,2]
["NST02Q","01c",{"$f":"'Cover Sheet'!$C$16","v":0},{"$f":"'Cover Sheet'!$C$22","v":"00:00:00"},1,{"$f":"OFFSET(QNST02!$A$10,H4,4)","v":0},null,3]
["NST02Q","01d",{"$f":"'Cover Sheet'!$C$16","v":0},{"$f":"'Cover Sheet'!$C$22","v":"00:00:00"},1,{"$f":"OFFSET(QNST02!$A$10,H5,4)","v":0},null,4]
["NST02Q","01e",{"$f":"'Cover Sheet'!$C$16","v":0},{"$f":"'Cover Sheet'!$C$22","v":"00:00:00"},1,{"$f":"OFFSET(QNST02!$A$10,H6,4)","v":0},null,5]
["NST02Q","02a",{"$f":"'Cover Sheet'!$C$16","v":0},{"$f":"'Cover Sheet'!$C$22","v":"00:00:00"},1,{"$f":"OFFSET(QNST02!$A$10,H7,4)","v":0},null,7]
["NST02Q","02b",{"$f":"'Cover Sheet'!$C$16","v":0},{"$f":"'Cover Sheet'!$C$22","v":"00:00:00"},1,{"$f":"OFFSET(QNST02!$A$10,H8,4)","v":0},null,8]
["NST02Q","02c",{"$f":"'Cover Sheet'!$C$16","v":0},{"$f":"'Cover Sheet'!$C$22","v":"00:00:00"},1,{"$f":"OFFSET(QNST02!$A$10,H9,4)","v":0},null,9]
["NST02Q","03",{"$f":"'Cover Sheet'!$C$16","v":0},{"$f":"'Cover Sheet'!$C$22","v":"00:00:00"},1,{"$f":"OFFSET(QNST02!$A$10,H10,4)","v":0},null,11]
["NST02Q","04",{"$f":"'Cover Sheet'!$C$16","v":0},{"$f":"'Cover Sheet'!$C$22","v":"00:00:00"},1,{"$f":"OFFSET(QNST02!$A$10,H11,4)","v":0},null,13]
["NST02Q","05",{"$f":"'Cover Sheet'!$C$16","v":0},{"$f":"'Cover Sheet'!$C$22","v":"00:00:00"},1,{"$f":"OFFSET(QNST02!$A$10,H12,4)","v":0},null,15]
["NST02Q","06",{"$f":"'Cover Sheet'!$C$16","v":0},{"$f":"'Cover Sheet'!$C$22","v":"00:00:00"},1,{"$f":"OFFSET(QNST02!$A$10,H13,4)","v":0},null,17]
["NST02Q","07a",{"$f":"'Cover Sheet'!$C$16","v":0},{"$f":"'Cover Sheet'!$C$22","v":"00:00:00"},1,{"$f":"OFFSET(QNST02!$A$10,H14,4)","v":0},null,19]
["NST02Q","07b",{"$f":"'Cover Sheet'!$C$16","v":0},{"$f":"'Cover Sheet'!$C$22","v":"00:00:00"},1,{"$f":"OFFSET(QNST02!$A$10,H15,4)","v":0},null,20]
["NST02Q","07c",{"$f":"'Cover Sheet'!$C$16","v":0},{"$f":"'Cover Sheet'!$C$22","v":"00:00:00"},1,{"$f":"OFFSET(QNST02!$A$10,H16,4)","v":0},null,21]
["NST02Q","08a",{"$f":"'Cover Sheet'!$C$16","v":0},{"$f":"'Cover Sheet'!$C$22","v":"00:00:00"},1,{"$f":"OFFSET(QNST02!$A$10,H17,4)","v":0},null,23]
["NST02Q","08b",{"$f":"'Cover Sheet'!$C$16","v":0},{"$f":"'Cover Sheet'!$C$22","v":"00:00:00"},1,{"$f":"OFFSET(QNST02!$A$10,H18,4)","v":0},null,24]
["NST02Q","08c",{"$f":"'Cover Sheet'!$C$16","v":0},{"$f":"'Cover Sheet'!$C$22","v":"00:00:00"},1,{"$f":"OFFSET(QNST02!$A$10,H19,4)","v":0},null,25]
["NST02Q","08d",{"$f":"'Cover Sheet'!$C$16","v":0},{"$f":"'Cover Sheet'!$C$22","v":"00:00:00"},1,{"$f":"OFFSET(QNST02!$A$10,H20,4)","v":0},null,26]
["NST02Q","08e",{"$f":"'Cover Sheet'!$C$16","v":0},{"$f":"'Cover Sheet'!$C$22","v":"00:00:00"},1,{"$f":"OFFSET(QNST02!$A$10,H21,4)","v":0},null,27]
["NST02Q","08f",{"$f":"'Cover Sheet'!$C$16","v":0},{"$f":"'Cover Sheet'!$C$22","v":"00:00:00"},1,{"$f":"OFFSET(QNST02!$A$10,H22,4)","v":0},null,28]
["NST02Q","08g",{"$f":"'Cover Sheet'!$C$16","v":0},{"$f":"'Cover Sheet'!$C$22","v":"00:00:00"},1,{"$f":"OFFSET(QNST02!$A$10,H23,4)","v":0},null,29]
["NST02Q","08h",{"$f":"'Cover Sheet'!$C$16","v":0},{"$f":"'Cover Sheet'!$C$22","v":"00:00:00"},1,{"$f":"OFFSET(QNST02!$A$10,H24,4)","v":0},null,30]
["NST02Q","08i",{"$f":"'Cover Sheet'!$C$16","v":0},{"$f":"'Cover Sheet'!$C$22","v":"00:00:00"},1,{"$f":"OFFSET(QNST02!$A$10,H25,4)","v":0},null,31]
["NST02Q","09",{"$f":"'Cover Sheet'!$C$16","v":0},{"$f":"'Cover Sheet'!$C$22","v":"00:00:00"},1,{"$f":"OFFSET(QNST02!$A$10,H26,4)","v":0},null,33]
["NST02Q",10,{"$f":"'Cover Sheet'!$C$16","v":0},{"$f":"'Cover Sheet'!$C$22","v":"00:00:00"},1,{"$f":"OFFSET(QNST02!$A$10,H27,4)","v":0},null,35]
["NST02Q","11a",{"$f":"'Cover Sheet'!$C$16","v":0},{"$f":"'Cover Sheet'!$C$22","v":"00:00:00"},1,{"$f":"OFFSET(QNST02!$A$10,H28,4)","v":0},null,37]
["NST02Q","11b",{"$f":"'Cover Sheet'!$C$16","v":0},{"$f":"'Cover Sheet'!$C$22","v":"00:00:00"},1,{"$f":"OFFSET(QNST02!$A$10,H29,4)","v":0},null,38]
["NST02Q","11c",{"$f":"'Cover Sheet'!$C$16","v":0},{"$f":"'Cover Sheet'!$C$22","v":"00:00:00"},1,{"$f":"OFFSET(QNST02!$A$10,H30,4)","v":0},null,39]
["NST02Q","11d",{"$f":"'Cover Sheet'!$C$16","v":0},{"$f":"'Cover Sheet'!$C$22","v":"00:00:00"},1,{"$f":"OFFSET(QNST02!$A$10,H31,4)","v":0},null,40]
["NST02Q","11e",{"$f":"'Cover Sheet'!$C$16","v":0},{"$f":"'Cover Sheet'!$C$22","v":"00:00:00"},1,{"$f":"OFFSET(QNST02!$A$10,H32,4)","v":0},null,41]
["NST02Q","11f",{"$f":"'Cover Sheet'!$C$16","v":0},{"$f":"'Cover Sheet'!$C$22","v":"00:00:00"},1,{"$f":"OFFSET(QNST02!$A$10,H33,4)","v":0},null,42]
["NST02Q","11g",{"$f":"'Cover Sheet'!$C$16","v":0},{"$f":"'Cover Sheet'!$C$22","v":"00:00:00"},1,{"$f":"OFFSET(QNST02!$A$10,H34,4)","v":0},null,43]
["NST02Q",12,{"$f":"'Cover Sheet'!$C$16","v":0},{"$f":"'Cover Sheet'!$C$22","v":"00:00:00"},1,{"$f":"OFFSET(QNST02!$A$10,H35,4)","v":0},null,45]
["NST02Q",13,{"$f":"'Cover Sheet'!$C$16","v":0},{"$f":"'Cover Sheet'!$C$22","v":"00:00:00"},1,{"$f":"OFFSET(QNST02!$A$10,H36,4)","v":0},null,47]

{"sheet":"QNST02EUR","index":8,"n_rows":52,"n_cols":4,"rows_kept":52,"cut":false,"hidden":true,"merged":[[1,0,1,1]]}
[]
["FRE/D Life Business - Technical Account Input Worksheet"]
[]
["Technical Account","Amount"]
["Currency","€"]
["Gross premiums written",{"$f":"IF('Cover Sheet'!$C$25=\"\",0,QNST02!E11/'Cover Sheet'!$C$25)","v":0},"1a",1]
["Outward reinsurance premiums (Total)",{"$f":"IF('Cover Sheet'!$C$25=\"\",0,QNST02!E12/'Cover Sheet'!$C$25)","v":0},"1b",2]
["   Outward reinsurance premiums (Proportional)",{"$f":"IF('Cover Sheet'!$C$25=\"\",0,QNST02!E13/'Cover Sheet'!$C$25)","v":0},"1c",3]
["   Outward reinsurance premiums (Non-Proportional)",{"$f":"IF('Cover Sheet'!$C$25=\"\",0,QNST02!E14/'Cover Sheet'!$C$25)","v":0},"1d",4]
["Net premium written",{"$f":"B6+B7","v":0},"1e",5]
[null,null,null,6]
["Change in the gross provision for unearned premiums",{"$f":"IF('Cover Sheet'!$C$25=\"\",0,QNST02!E17/'Cover Sheet'!$C$25)","v":0},"2a",7]
["Change in provision for unearned premium, reinsurers share (Total)",{"$f":"IF('Cover Sheet'!$C$25=\"\",0,QNST02!E18/'Cover Sheet'!$C$25)","v":0},"2b",8]
["Change in net provision for unearned premium",{"$f":"B13+B12","v":0},"2c",9]
[null,null,null,10]
["Earned premiums, net of reinsurance",{"$f":"B10+B14","v":0},3,11]
[null,null,null,12]
["Earned premiums, gross of reinsurance",{"$f":"SUM(B6,B12)","v":0},4,13]
[null,null,null,14]
["Allocated investment return",{"$f":"IF('Cover Sheet'!$C$25=\"\",0,QNST02!E25/'Cover Sheet'!$C$25)","v":0},5,15]
[null,null,null,16]
["Total technical income",{"$f":"SUM(B16,B20)","v":0},6,17]
[null,null,null,18]
["Gross claims paid",{"$f":"IF('Cover Sheet'!$C$25=\"\",0,QNST02!E29/'Cover Sheet'!$C$25)","v":0},"7a",19]
["Reinsurers' share of claims paid",{"$f":"IF('Cover Sheet'!$C$25=\"\",0,QNST02!E30/'Cover Sheet'!$C$25)","v":0},"7b",20]
["Net claims paid",{"$f":"SUM(B24:B25)","v":0},"7c",21]
[null,null,null,22]
["Change in gross life technical provisions",{"$f":"IF('Cover Sheet'!$C$25=\"\",0,QNST02!E33/'Cover Sheet'!$C$25)","v":0},"8a",23]
["Change in gross claims outstanding reserves",{"$f":"IF('Cover Sheet'!$C$25=\"\",0,QNST02!E34/'Cover Sheet'!$C$25)","v":0},"8b",24]
["Change in gross IBNR provision",{"$f":"IF('Cover Sheet'!$C$25=\"\",0,QNST02!E35/'Cover Sheet'!$C$25)","v":0},"8c",25]
["Change in other gross reserve",{"$f":"IF('Cover Sheet'!$C$25=\"\",0,QNST02!E36/'Cover Sheet'!$C$25)","v":0},"8d",26]
["Change in the life technical provisions, reinsurers share",{"$f":"IF('Cover Sheet'!$C$25=\"\",0,QNST02!E37/'Cover Sheet'!$C$25)","v":0},"8e",27]
["Change in gross claims outstanding reserves, reinsurers share",{"$f":"IF('Cover Sheet'!$C$25=\"\",0,QNST02!E38/'Cover Sheet'!$C$25)","v":0},"8f",28]
["Change in the provision of IBNR, reinsurers share",{"$f":"IF('Cover Sheet'!$C$25=\"\",0,QNST02!E39/'Cover Sheet'!$C$25)","v":0},"8g",29]
["Change in other reserves, reinsurers share",{"$f":"IF('Cover Sheet'!$C$25=\"\",0,QNST02!E40/'Cover Sheet'!$C$25)","v":0},"8h",30]
["Change in net provision for claims, equalisation and other reserves",{"$f":"SUM(B28:B35)","v":0},"8e",31]
[null,null,null,32]
["Claims incurred, net of reinsurance",{"$f":"SUM(B26,B36)","v":0},9,33]
[null,null,null,34]
["Claims incurred, gross of reinsurance",{"$f":"SUM(B24,B28,B29,B30,B31)","v":0},10,35]
[null,null,null,36]
["Commission paid",{"$f":"IF('Cover Sheet'!$C$25=\"\",0,QNST02!E47/'Cover Sheet'!$C$25)","v":0},"11a",37]
["Change in the provision for DAC",{"$f":"IF('Cover Sheet'!$C$25=\"\",0,QNST02!E48/'Cover Sheet'!$C$25)","v":0},"11b",38]
["Claims management costs",{"$f":"IF('Cover Sheet'!$C$25=\"\",0,QNST02!E49/'Cover Sheet'!$C$25)","v":0},"11c",39]
["Reinsurance commissions and profit participation",{"$f":"IF('Cover Sheet'!$C$25=\"\",0,QNST02!E50/'Cover Sheet'!$C$25)","v":0},"11d",40]
["Commissions received other than those included in row above",{"$f":"IF('Cover Sheet'!$C$25=\"\",0,QNST02!E51/'Cover Sheet'!$C$25)","v":0},"11e",41]
["Other expenses",{"$f":"IF('Cover Sheet'!$C$25=\"\",0,QNST02!E52/'Cover Sheet'!$C$25)","v":0},"11f",42]
["Net operating expenses",{"$f":"SUM(B42:B47)","v":0},"11g",43]
[null,null,null,44]
["Total technical charges",{"$f":"SUM(B38,B48)","v":0},12,45]
[null,null,null,46]
["Technical result",{"$f":"B22-B50","v":0},13,47]

{"sheet":"NST02QEUR","index":9,"n_rows":36,"n_cols":8,"rows_kept":36,"cut":false,"hidden":true,"merged":[]}
["SheetCode","FieldCode","FICode","Date","ColNum","Value",null,"Line"]
["NST02QEUR","01a",{"$f":"'Cover Sheet'!$C$16","v":0},{"$f":"'Cover Sheet'!$C$22","v":"00:00:00"},1,{"$f":"NST02Q!F2/'Cover Sheet'!$C$25","v":{"$error":"#DIV/0!"}},null,1]
["NST02QEUR","01b",{"$f":"'Cover Sheet'!$C$16","v":0},{"$f":"'Cover Sheet'!$C$22","v":"00:00:00"},1,{"$f":"NST02Q!F3/'Cover Sheet'!$C$25","v":{"$error":"#DIV/0!"}},null,2]
["NST02QEUR","01c",{"$f":"'Cover Sheet'!$C$16","v":0},{"$f":"'Cover Sheet'!$C$22","v":"00:00:00"},1,{"$f":"NST02Q!F4/'Cover Sheet'!$C$25","v":{"$error":"#DIV/0!"}},null,3]
["NST02QEUR","01d",{"$f":"'Cover Sheet'!$C$16","v":0},{"$f":"'Cover Sheet'!$C$22","v":"00:00:00"},1,{"$f":"NST02Q!F5/'Cover Sheet'!$C$25","v":{"$error":"#DIV/0!"}},null,4]
["NST02QEUR","01e",{"$f":"'Cover Sheet'!$C$16","v":0},{"$f":"'Cover Sheet'!$C$22","v":"00:00:00"},1,{"$f":"NST02Q!F6/'Cover Sheet'!$C$25","v":{"$error":"#DIV/0!"}},null,5]
["NST02QEUR","02a",{"$f":"'Cover Sheet'!$C$16","v":0},{"$f":"'Cover Sheet'!$C$22","v":"00:00:00"},1,{"$f":"NST02Q!F7/'Cover Sheet'!$C$25","v":{"$error":"#DIV/0!"}},null,7]
["NST02QEUR","02b",{"$f":"'Cover Sheet'!$C$16","v":0},{"$f":"'Cover Sheet'!$C$22","v":"00:00:00"},1,{"$f":"NST02Q!F8/'Cover Sheet'!$C$25","v":{"$error":"#DIV/0!"}},null,8]
["NST02QEUR","02c",{"$f":"'Cover Sheet'!$C$16","v":0},{"$f":"'Cover Sheet'!$C$22","v":"00:00:00"},1,{"$f":"NST02Q!F9/'Cover Sheet'!$C$25","v":{"$error":"#DIV/0!"}},null,9]
["NST02QEUR","03",{"$f":"'Cover Sheet'!$C$16","v":0},{"$f":"'Cover Sheet'!$C$22","v":"00:00:00"},1,{"$f":"NST02Q!F10/'Cover Sheet'!$C$25","v":{"$error":"#DIV/0!"}},null,11]
["NST02QEUR","04",{"$f":"'Cover Sheet'!$C$16","v":0},{"$f":"'Cover Sheet'!$C$22","v":"00:00:00"},1,{"$f":"NST02Q!F11/'Cover Sheet'!$C$25","v":{"$error":"#DIV/0!"}},null,13]
["NST02QEUR","05",{"$f":"'Cover Sheet'!$C$16","v":0},{"$f":"'Cover Sheet'!$C$22","v":"00:00:00"},1,{"$f":"NST02Q!F12/'Cover Sheet'!$C$25","v":{"$error":"#DIV/0!"}},null,15]
["NST02QEUR","06",{"$f":"'Cover Sheet'!$C$16","v":0},{"$f":"'Cover Sheet'!$C$22","v":"00:00:00"},1,{"$f":"NST02Q!F13/'Cover Sheet'!$C$25","v":{"$error":"#DIV/0!"}},null,17]
["NST02QEUR","07a",{"$f":"'Cover Sheet'!$C$16","v":0},{"$f":"'Cover Sheet'!$C$22","v":"00:00:00"},1,{"$f":"NST02Q!F14/'Cover Sheet'!$C$25","v":{"$error":"#DIV/0!"}},null,19]
["NST02QEUR","07b",{"$f":"'Cover Sheet'!$C$16","v":0},{"$f":"'Cover Sheet'!$C$22","v":"00:00:00"},1,{"$f":"NST02Q!F15/'Cover Sheet'!$C$25","v":{"$error":"#DIV/0!"}},null,20]
["NST02QEUR","07c",{"$f":"'Cover Sheet'!$C$16","v":0},{"$f":"'Cover Sheet'!$C$22","v":"00:00:00"},1,{"$f":"NST02Q!F16/'Cover Sheet'!$C$25","v":{"$error":"#DIV/0!"}},null,21]
["NST02QEUR","08a",{"$f":"'Cover Sheet'!$C$16","v":0},{"$f":"'Cover Sheet'!$C$22","v":"00:00:00"},1,{"$f":"NST02Q!F17/'Cover Sheet'!$C$25","v":{"$error":"#DIV/0!"}},null,23]
["NST02QEUR","08b",{"$f":"'Cover Sheet'!$C$16","v":0},{"$f":"'Cover Sheet'!$C$22","v":"00:00:00"},1,{"$f":"NST02Q!F18/'Cover Sheet'!$C$25","v":{"$error":"#DIV/0!"}},null,24]
["NST02QEUR","08c",{"$f":"'Cover Sheet'!$C$16","v":0},{"$f":"'Cover Sheet'!$C$22","v":"00:00:00"},1,{"$f":"NST02Q!F19/'Cover Sheet'!$C$25","v":{"$error":"#DIV/0!"}},null,25]
["NST02QEUR","08d",{"$f":"'Cover Sheet'!$C$16","v":0},{"$f":"'Cover Sheet'!$C$22","v":"00:00:00"},1,{"$f":"NST02Q!F20/'Cover Sheet'!$C$25","v":{"$error":"#DIV/0!"}},null,26]
["NST02QEUR","08e",{"$f":"'Cover Sheet'!$C$16","v":0},{"$f":"'Cover Sheet'!$C$22","v":"00:00:00"},1,{"$f":"NST02Q!F21/'Cover Sheet'!$C$25","v":{"$error":"#DIV/0!"}},null,27]
["NST02QEUR","08f",{"$f":"'Cover Sheet'!$C$16","v":0},{"$f":"'Cover Sheet'!$C$22","v":"00:00:00"},1,{"$f":"NST02Q!F22/'Cover Sheet'!$C$25","v":{"$error":"#DIV/0!"}},null,28]
["NST02QEUR","08g",{"$f":"'Cover Sheet'!$C$16","v":0},{"$f":"'Cover Sheet'!$C$22","v":"00:00:00"},1,{"$f":"NST02Q!F23/'Cover Sheet'!$C$25","v":{"$error":"#DIV/0!"}},null,29]
["NST02QEUR","08h",{"$f":"'Cover Sheet'!$C$16","v":0},{"$f":"'Cover Sheet'!$C$22","v":"00:00:00"},1,{"$f":"NST02Q!F24/'Cover Sheet'!$C$25","v":{"$error":"#DIV/0!"}},null,30]
["NST02QEUR","08i",{"$f":"'Cover Sheet'!$C$16","v":0},{"$f":"'Cover Sheet'!$C$22","v":"00:00:00"},1,{"$f":"NST02Q!F25/'Cover Sheet'!$C$25","v":{"$error":"#DIV/0!"}},null,31]
["NST02QEUR","09",{"$f":"'Cover Sheet'!$C$16","v":0},{"$f":"'Cover Sheet'!$C$22","v":"00:00:00"},1,{"$f":"NST02Q!F26/'Cover Sheet'!$C$25","v":{"$error":"#DIV/0!"}},null,33]
["NST02QEUR",10,{"$f":"'Cover Sheet'!$C$16","v":0},{"$f":"'Cover Sheet'!$C$22","v":"00:00:00"},1,{"$f":"NST02Q!F27/'Cover Sheet'!$C$25","v":{"$error":"#DIV/0!"}},null,35]
["NST02QEUR","11a",{"$f":"'Cover Sheet'!$C$16","v":0},{"$f":"'Cover Sheet'!$C$22","v":"00:00:00"},1,{"$f":"NST02Q!F28/'Cover Sheet'!$C$25","v":{"$error":"#DIV/0!"}},null,37]
["NST02QEUR","11b",{"$f":"'Cover Sheet'!$C$16","v":0},{"$f":"'Cover Sheet'!$C$22","v":"00:00:00"},1,{"$f":"NST02Q!F29/'Cover Sheet'!$C$25","v":{"$error":"#DIV/0!"}},null,38]
["NST02QEUR","11c",{"$f":"'Cover Sheet'!$C$16","v":0},{"$f":"'Cover Sheet'!$C$22","v":"00:00:00"},1,{"$f":"NST02Q!F30/'Cover Sheet'!$C$25","v":{"$error":"#DIV/0!"}},null,39]
["NST02QEUR","11d",{"$f":"'Cover Sheet'!$C$16","v":0},{"$f":"'Cover Sheet'!$C$22","v":"00:00:00"},1,{"$f":"NST02Q!F31/'Cover Sheet'!$C$25","v":{"$error":"#DIV/0!"}},null,40]
["NST02QEUR","11e",{"$f":"'Cover Sheet'!$C$16","v":0},{"$f":"'Cover Sheet'!$C$22","v":"00:00:00"},1,{"$f":"NST02Q!F32/'Cover Sheet'!$C$25","v":{"$error":"#DIV/0!"}},null,41]
["NST02QEUR","11f",{"$f":"'Cover Sheet'!$C$16","v":0},{"$f":"'Cover Sheet'!$C$22","v":"00:00:00"},1,{"$f":"NST02Q!F33/'Cover Sheet'!$C$25","v":{"$error":"#DIV/0!"}},null,42]
["NST02QEUR","11g",{"$f":"'Cover Sheet'!$C$16","v":0},{"$f":"'Cover Sheet'!$C$22","v":"00:00:00"},1,{"$f":"NST02Q!F34/'Cover Sheet'!$C$25","v":{"$error":"#DIV/0!"}},null,43]
["NST02QEUR",12,{"$f":"'Cover Sheet'!$C$16","v":0},{"$f":"'Cover Sheet'!$C$22","v":"00:00:00"},1,{"$f":"NST02Q!F35/'Cover Sheet'!$C$25","v":{"$error":"#DIV/0!"}},null,45]
["NST02QEUR",13,{"$f":"'Cover Sheet'!$C$16","v":0},{"$f":"'Cover Sheet'!$C$22","v":"00:00:00"},1,{"$f":"NST02Q!F36/'Cover Sheet'!$C$25","v":{"$error":"#DIV/0!"}},null,47]

{"sheet":"QNST03","index":10,"n_rows":27,"n_cols":8,"rows_kept":27,"cut":false,"hidden":false,"merged":[[26,1,26,4],[10,1,10,3],[12,1,12,3],[14,1,14,3],[16,1,16,3],[17,1,17,3],[19,1,19,3],[21,1,21,3],[22,1,22,3],[23,1,23,3],[11,1,11,3],[13,1,13,3],[15,1,15,3],[20,1,20,4],[18,1,18,3],[0,2,0,4],[1,2,1,4],[3,2,3,4],[4,2,4,4],[9,1,9,3],[6,0,6,4]]}
["Name of licenceholder:",null,{"$f":"IF('Cover Sheet'!$C$14=\"\",\"\",'Cover Sheet'!$C$14)","v":""}]
["Type of business carried out:",null,{"$f":"IF('Cover Sheet'!$C$18=\"\",\"\",'Cover Sheet'!$C$18)","v":""}]
["Period from:",null,{"$f":"IF('Cover Sheet'!C21=\"\",\"\",'Cover Sheet'!$C$21)","v":""},"to",{"$f":"IF('Cover Sheet'!$C$22=\"\",\"\",'Cover Sheet'!$C$22)","v":""}]
["Document type:",null,"MFSA National Specific Templates"]
["Sheet Code:",null,"QNST03"]
[]
["Non-Technical Account"]
[]
[null,null,null,null,"Amount",null,"Validation "]
[null,"Currency",null,null,{"$f":"IF('Cover Sheet'!C24=\"\",\"\",'Cover Sheet'!C24)","v":""}]
[1,"Technical result - General Businesss",null,null,{"$f":"QNST01!E58","v":0},null,null,1]
[null,null,null,null,null,null,null,2]
[{"$f":"A11+1","v":2},"Technical result - Life Business",null,null,{"$f":"QNST02!E57","v":0},null,null,3]
[null,null,null,null,null,null,null,4]
[{"$f":"A13+1","v":3},"Technical result - Total",null,null,{"$f":"IF('Cover Sheet'!C18=\"General Business\",QNST03!E11,IF('Cover Sheet'!C18=\"Long Term Business\",QNST03!E13,(QNST03!E11+QNST03!E13)))","v":0},null,null,5]
[null,null,null,null,null,null,null,6]
[{"$f":"A15+1","v":4},"Investment income/(costs)",null,null,null,null,{"$f":"IF(E17=\"\",0,1)","v":0},7]
[{"$f":"A17+1","v":5},"Other income",null,null,null,null,0,8]
[{"$f":"A18+1","v":6},"Movements in fair value of financial instruments",null,null,null,null,0,9]
[7,"Other expenditure",null,null,null,null,0,10]
[null,null,null,null,null,null,null,11]
[{"$f":"A20+1","v":8},"Profit before taxation",null,null,{"$f":"SUM(E15:E20)","v":0},null,null,12]
[{"$f":"A22+1","v":9},"Tax",null,null,null,null,{"$f":"IF(E23=\"\",0,1)","v":0},13]
[{"$f":"A23+1","v":10},"Profit after tax",null,null,{"$f":"E22+E23","v":0},null,null,14]
[]
[null,"Notes"]
["i","Please key in a value for each cell in the table. Where the cell contains no value, a value of zero is to be keyed in."]

{"sheet":"NST03Q","index":11,"n_rows":11,"n_cols":8,"rows_kept":11,"cut":false,"hidden":true,"merged":[]}
["SheetCode","FieldCode","FICode","Date","ColNum","Value",null,"Line"]
["NST03Q","01",{"$f":"'Cover Sheet'!$C$16","v":0},{"$f":"'Cover Sheet'!$C$22","v":"00:00:00"},1,{"$f":"OFFSET(QNST03!$A$10,H2,4)","v":0},null,1]
["NST03Q","02",{"$f":"'Cover Sheet'!$C$16","v":0},{"$f":"'Cover Sheet'!$C$22","v":"00:00:00"},1,{"$f":"OFFSET(QNST03!$A$10,H3,4)","v":0},null,3]
["NST03Q","03",{"$f":"'Cover Sheet'!$C$16","v":0},{"$f":"'Cover Sheet'!$C$22","v":"00:00:00"},1,{"$f":"OFFSET(QNST03!$A$10,H4,4)","v":0},null,5]
["NST03Q","04",{"$f":"'Cover Sheet'!$C$16","v":0},{"$f":"'Cover Sheet'!$C$22","v":"00:00:00"},1,{"$f":"OFFSET(QNST03!$A$10,H5,4)","v":0},null,7]
["NST03Q","05",{"$f":"'Cover Sheet'!$C$16","v":0},{"$f":"'Cover Sheet'!$C$22","v":"00:00:00"},1,{"$f":"OFFSET(QNST03!$A$10,H6,4)","v":0},null,8]
["NST03Q","06",{"$f":"'Cover Sheet'!$C$16","v":0},{"$f":"'Cover Sheet'!$C$22","v":"00:00:00"},1,{"$f":"OFFSET(QNST03!$A$10,H7,4)","v":0},null,9]
["NST03Q","07",{"$f":"'Cover Sheet'!$C$16","v":0},{"$f":"'Cover Sheet'!$C$22","v":"00:00:00"},1,{"$f":"OFFSET(QNST03!$A$10,H8,4)","v":0},null,10]
["NST03Q","08",{"$f":"'Cover Sheet'!$C$16","v":0},{"$f":"'Cover Sheet'!$C$22","v":"00:00:00"},1,{"$f":"OFFSET(QNST03!$A$10,H9,4)","v":0},null,12]
["NST03Q","09",{"$f":"'Cover Sheet'!$C$16","v":0},{"$f":"'Cover Sheet'!$C$22","v":"00:00:00"},1,{"$f":"OFFSET(QNST03!$A$10,H10,4)","v":0},null,13]
["NST03Q",10,{"$f":"'Cover Sheet'!$C$16","v":0},{"$f":"'Cover Sheet'!$C$22","v":"00:00:00"},1,{"$f":"OFFSET(QNST03!$A$10,H11,4)","v":0},null,14]

{"sheet":"QNST03EUR","index":12,"n_rows":18,"n_cols":3,"rows_kept":18,"cut":false,"hidden":true,"merged":[[1,0,1,1]]}
[]
["FRE/D Non-Technical Account Input Worksheet"]
[]
["Non-Technical Account","Amount"]
["Currency","€"]
["Technical result - General",{"$f":"IF('Cover Sheet'!$C$25=\"\",0,IF('Cover Sheet'!C18=\"Long Term Business\",0,QNST03!E11/'Cover Sheet'!$C$25))","v":0},1]
[null,null,2]
["Technical result - Life",{"$f":"IF('Cover Sheet'!$C$25=\"\",0,IF('Cover Sheet'!C18=\"General Business\",0,QNST03!E13/'Cover Sheet'!$C$25))","v":0},3]
[null,null,4]
["Technical result - Total",{"$f":"SUM(B6,B8)","v":0},5]
["Investment income/(costs)",{"$f":"IF('Cover Sheet'!$C$25=\"\",0,QNST03!E17/'Cover Sheet'!$C$25)","v":0},6]
["Other income",{"$f":"IF('Cover Sheet'!$C$25=\"\",0,QNST03!E18/'Cover Sheet'!$C$25)","v":0},7]
["Movements in fair value of financial instruments",{"$f":"IF('Cover Sheet'!$C$25=\"\",0,QNST03!E19/'Cover Sheet'!$C$25)","v":0},8]
["Other expenditure",{"$f":"IF('Cover Sheet'!$C$25=\"\",0,QNST03!E20/'Cover Sheet'!$C$25)","v":0},9]
[null,null,10]
["Profit before taxation",{"$f":"SUM(B10:B14)","v":0},11]
["Tax",{"$f":"IF('Cover Sheet'!$C$25=\"\",0,QNST03!E23/'Cover Sheet'!$C$25)","v":0},12]
["Profit after tax",{"$f":"B16+B17","v":0},13]

{"sheet":"NST03QEUR","index":13,"n_rows":11,"n_cols":8,"rows_kept":11,"cut":false,"hidden":true,"merged":[]}
["SheetCode","FieldCode","FICode","Date","ColNum","Value",null,"Line"]
["NST03QEUR","01",{"$f":"'Cover Sheet'!$C$16","v":0},{"$f":"'Cover Sheet'!$C$22","v":"00:00:00"},1,{"$f":"NST03Q!F2/'Cover Sheet'!$C$25","v":{"$error":"#DIV/0!"}},null,1]
["NST03QEUR","02",{"$f":"'Cover Sheet'!$C$16","v":0},{"$f":"'Cover Sheet'!$C$22","v":"00:00:00"},1,{"$f":"NST03Q!F3/'Cover Sheet'!$C$25","v":{"$error":"#DIV/0!"}},null,3]
["NST03QEUR","03",{"$f":"'Cover Sheet'!$C$16","v":0},{"$f":"'Cover Sheet'!$C$22","v":"00:00:00"},1,{"$f":"NST03Q!F4/'Cover Sheet'!$C$25","v":{"$error":"#DIV/0!"}},null,5]
["NST03QEUR","04",{"$f":"'Cover Sheet'!$C$16","v":0},{"$f":"'Cover Sheet'!$C$22","v":"00:00:00"},1,{"$f":"NST03Q!F5/'Cover Sheet'!$C$25","v":{"$error":"#DIV/0!"}},null,6]
["NST03QEUR","05",{"$f":"'Cover Sheet'!$C$16","v":0},{"$f":"'Cover Sheet'!$C$22","v":"00:00:00"},1,{"$f":"NST03Q!F6/'Cover Sheet'!$C$25","v":{"$error":"#DIV/0!"}},null,7]
["NST03QEUR","06",{"$f":"'Cover Sheet'!$C$16","v":0},{"$f":"'Cover Sheet'!$C$22","v":"00:00:00"},1,{"$f":"NST03Q!F7/'Cover Sheet'!$C$25","v":{"$error":"#DIV/0!"}},null,8]
["NST03QEUR","07",{"$f":"'Cover Sheet'!$C$16","v":0},{"$f":"'Cover Sheet'!$C$22","v":"00:00:00"},1,{"$f":"NST03Q!F8/'Cover Sheet'!$C$25","v":{"$error":"#DIV/0!"}},null,9]
["NST03QEUR","08",{"$f":"'Cover Sheet'!$C$16","v":0},{"$f":"'Cover Sheet'!$C$22","v":"00:00:00"},1,{"$f":"NST03Q!F9/'Cover Sheet'!$C$25","v":{"$error":"#DIV/0!"}},null,11]
["NST03QEUR","09",{"$f":"'Cover Sheet'!$C$16","v":0},{"$f":"'Cover Sheet'!$C$22","v":"00:00:00"},1,{"$f":"NST03Q!F10/'Cover Sheet'!$C$25","v":{"$error":"#DIV/0!"}},null,12]
["NST03QEUR",10,{"$f":"'Cover Sheet'!$C$16","v":0},{"$f":"'Cover Sheet'!$C$22","v":"00:00:00"},1,{"$f":"NST03Q!F11/'Cover Sheet'!$C$25","v":{"$error":"#DIV/0!"}},null,13]

{"sheet":"QNST04","index":14,"n_rows":126,"n_cols":7,"rows_kept":126,"cut":false,"hidden":false,"merged":[[23,1,23,2],[29,1,29,2],[30,1,30,2],[31,1,31,2],[32,1,32,2],[33,1,33,2],[24,1,24,2],[25,1,25,2],[26,1,26,2],[27,1,27,2],[28,1,28,2],[0,2,0,4],[1,2,1,4],[3,2,3,4],[4,2,4,4],[8,1,8,2],[19,1,19,2],[20,1,20,2],[21,1,21,2],[22,1,22,2],[14,1,14,2],[15,1,15,2],[16,1,16,2],[17,1,17,2],[18,1,18,2],[9,1,9,2],[10,1,10,2],[11,1,11,2],[12,1,12,2],[13,1,13,2],[41,1,41,2],[40,1,40,2],[42,1,42,2],[34,1,34,2],[35,1,35,2],[36,1,36,2],[37,1,37,2],[47,1,47,2],[48,1,48,2],[38,1,38,2],[39,1,39,2],[49,1,49,2],[50,1,50,2],[51,1,51,2],[43,1,43,2],[44,1,44,2],[45,1,45,2],[46,1,46,2],[59,1,59,2],[60,1,60,2],[61,1,61,2],[62,1,62,2],[63,1,63,2],[53,1,53,2],[54,1,54,2],[56,1,56,2],[57,1,57,2],[58,1,58,2],[76,1,76,2],[80,1,80,2],[81,1,81,2],[64,1,64,2],[65,1,65,2],[66,1,66,2],[67,1,67,2],[68,1,68,2],[87,1,87,2],[70,1,70,2],[71,1,71,2],[72,1,72,2],[73,1,73,2],[78,1,78,2],[79,1,79,2],[88,1,88,2],[89,1,89,2],[90,1,90,2],[91,1,91,2],[82,1,82,2],[83,1,83,2],[84,1,84,2],[85,1,85,2],[86,1,86,2],[98,1,98,2],[99,1,99,2],[100,1,100,2],[101,1,101,2],[92,1,92,2],[93,1,93,2],[94,1,94,2],[95,1,95,2],[96,1,96,2],[124,1,124,4],[7,1,7,2],[125,1,125,4],[75,1,75,2],[119,1,119,2],[121,1,121,2],[120,1,120,2],[113,1,113,2],[114,1,114,2],[115,1,115,2],[116,1,116,2],[117,1,117,2],[118,1,118,2],[107,1,107,2],[108,1,108,2],[109,1,109,2],[110,0,110,4],[111,1,111,2],[102,1,102,2],[103,1,103,2],[104,1,104,2],[105,1,105,2],[106,1,106,2],[97,1,97,2]]}
["Name of licenceholder:",null,{"$f":"IF('Cover Sheet'!$C$14=\"\",\"\",'Cover Sheet'!$C$14)","v":""}]
["Type of business carried out:",null,{"$f":"IF('Cover Sheet'!$C$18=\"\",\"\",'Cover Sheet'!$C$18)","v":""}]
["Period from:",null,{"$f":"IF('Cover Sheet'!C21=\"\",\"\",'Cover Sheet'!$C$21)","v":""},"to",{"$f":"IF('Cover Sheet'!$C$22=\"\",\"\",'Cover Sheet'!$C$22)","v":""}]
["Document type:",null,"MFSA National Specific Templates"]
["Sheet Code:",null,"QNST04"]
[]
[null,null,null,"Solvency II Value","Management Accounts - Balance Sheet Value",null,"Validation "]
[null,"Currency",null,{"$f":"IF('Cover Sheet'!$C$24=\"\",\"\",'Cover Sheet'!$C$24)","v":""},{"$f":"IF('Cover Sheet'!$C$24=\"\",\"\",'Cover Sheet'!$C$24)","v":""}]
[null,"Assets"]
[1,"Goodwill"]
[{"$f":"A10+1","v":2},"Deferred acquisition costs"]
[3,"Intangible assets"]
[4,"Deferred tax assets",null,null,0]
[5,"Pension benefit surplus"]
[6,"Property, plant & equipment held for own use"]
[7,"Investments (other than assets held for index-linked and unit-linked contracts) ",null,{"$f":"D17+D18+D19++D22+D27+D28+D29+D30","v":0},{"$f":"E17+E18+E19++E22+E27+E28+E29+E30","v":0}]
[8,"Property (other than for own use)"]
[9,"Holdings in related undertakings, including participations"]
[10,"Equities",null,{"$f":"SUM(D20:D21)","v":0},{"$f":"SUM(E20:E21)","v":0}]
[11,"Equities - listed"]
[12,"Equities - unlisted"]
[13,"Bonds",null,{"$f":"SUM(D23:D26)","v":0},{"$f":"SUM(E23:E26)","v":0}]
[14,"Government Bonds"]
[15,"Corporate Bonds"]
[16,"Structured notes"]
[17,"Collateralised securities"]
[18,"Collective Investments Undertakings"]
[19,"Derivatives"]
[20,"Deposits other than cash equivalents"]
[21,"Other investments"]
[22,"Assets held for index-linked and unit-linked contracts"]
[23,"Loans and mortgages",null,{"$f":"SUM(D33:D35)","v":0},{"$f":"SUM(E33:E35)","v":0}]
[24,"Loans on policies"]
[25,"Loans and mortgages to individuals"]
[26,"Other loans and mortgages"]
[{"$f":"A35+1","v":27},"Reinsurance recoverables ",null,{"$f":"D37+D40+D43","v":0},{"$f":"E37+E40+E43","v":0}]
[28,"Non-life and health similar to non-life",null,{"$f":"SUM(D38:D39)","v":0},{"$f":"SUM(E38:E39)","v":0}]
[29,"Non-life excluding health"]
[30,"Health similar to non-life"]
[31,"Life and health similar to life, excluding health and index-linked and unit-linked",null,{"$f":"SUM(D41:D42)","v":0},{"$f":"SUM(E41:E42)","v":0}]
[32,"Health similar to life"]
[33,"Life excluding health and index-linked and unit-linked"]
[34,"Life index-linked and unit-linked"]
[35,"Deposits to cedants"]
[36,"Insurance and intermediaries receivables"]
[37,"Reinsurance receivables"]
[38,"Receivables (trade, not insurance)"]
[39,"Own shares (held directly)"]
[40,"Amounts due in respect of own fund items or initial fund called up but not yet paid in"]
[41,"Cash and cash equivalents"]
[42,"Any other assets, not elsewhere shown"]
[43,"Total assets",null,{"$f":"SUM(D12:D16)+D31+D32+D36+SUM(D44:D51)","v":0},{"$f":"SUM(E10:E16)+E31+E32+E36+SUM(E44:E51)","v":0}]
[]
[null,"Liabilities"]
[{"$f":"A52+1","v":44},"Technical Provisions non-life (Accounting Basis)",null,null,{"$f":"SUM(E56:E59)","v":0}]
[{"$f":"A55+1","v":45},"Provision for unearned Premiums",null,null,null,null,{"$f":"IF(E56=\"\",0,1)","v":0}]
[{"$f":"A56+1","v":46},"Claims outstanding",null,null,null,null,{"$f":"IF(E57=\"\",0,1)","v":0}]
[47,"IBNR",null,null,null,null,{"$f":"IF(E58=\"\",0,1)","v":0}]
[48,"IBNER",null,null,null,null,{"$f":"IF(E59=\"\",0,1)","v":0}]
[49,"Technical provisions – non-life (SII Basis)",null,{"$f":"D61+D65","v":0}]
[50,"Technical provisions – non-life (excluding health)",null,{"$f":"SUM(D62:D64)","v":0}]
[51,"TP calculated as a whole",null,null,null,null,{"$f":"IF(D62=\"\",0,1)","v":0}]
[52,"Best Estimate",null,null,null,null,{"$f":"IF(D63=\"\",0,1)","v":0}]
[53,"Risk margin",null,null,null,null,{"$f":"IF(D64=\"\",0,1)","v":0}]
[54,"Technical provisions - health (similar to non-life)",null,{"$f":"SUM(D66:D68)","v":0}]
[55,"TP calculated as a whole",null,null,null,null,{"$f":"IF(D66=\"\",0,1)","v":0}]
[56,"Best Estimate",null,null,null,null,{"$f":"IF(D67=\"\",0,1)","v":0}]
[57,"Risk margin",null,null,null,null,{"$f":"IF(D68=\"\",0,1)","v":0}]
[58,"Technical Provisions Life (Accounting Basis)",null,null,{"$f":"E70+E75+E78","v":0}]
[59,"Insurance contracts",null,null,{"$f":"SUM(E71:E74)","v":0}]
[60,"Provision for unearned Premiums",null,null,null,null,{"$f":"IF(E71=\"\",0,1)","v":0}]
[61,"Long Term Technical Provisions",null,null,null,null,{"$f":"IF(E72=\"\",0,1)","v":0}]
[62,"Claims outstanding",null,null,null,null,{"$f":"IF(E73=\"\",0,1)","v":0}]
[63,"IBNR",null,null,null,null,{"$f":"IF(E74=\"\",0,1)","v":0}]
[64,"Investment Contracts with DPF",null,null,{"$f":"SUM(E76:E77)","v":0}]
[65,"Long Term Technical Provisions",null,null,null,null,{"$f":"IF(E76=\"\",0,1)","v":0}]
[66,"Claims outstanding",null,null,null,null,{"$f":"IF(E77=\"\",0,1)","v":0}]
[67,"Investment Contracts without DPF",null,null,{"$f":"SUM(E79:E80)","v":0}]
[68,"Long Term Technical Provisions",null,null,null,null,{"$f":"IF(E79=\"\",0,1)","v":0}]
[69,"Claims outstanding",null,null,null,null,{"$f":"IF(E80=\"\",0,1)","v":0}]
[70,"Technical provisions - life (excluding index-linked and unit-linked)",null,{"$f":"D82+D86","v":0}]
[71,"Technical provisions - health (similar to life)",null,{"$f":"SUM(D83:D85)","v":0}]
[72,"TP calculated as a whole",null,null,null,null,{"$f":"IF(D83=\"\",0,1)","v":0}]
[73,"Best Estimate",null,null,null,null,{"$f":"IF(D84=\"\",0,1)","v":0}]
[74,"Risk margin",null,null,null,null,{"$f":"IF(D85=\"\",0,1)","v":0}]
[75,"Technical provisions – life (excluding health and index-linked and unit-linked)",null,{"$f":"SUM(D87:D89)","v":0}]
[76,"TP calculated as a whole",null,null,null,null,{"$f":"IF(D87=\"\",0,1)","v":0}]
[77,"Best Estimate",null,null,null,null,{"$f":"IF(D88=\"\",0,1)","v":0}]
[78,"Risk margin",null,null,null,null,{"$f":"IF(D89=\"\",0,1)","v":0}]
[79,"Technical provisions – index-linked and unit-linked",null,{"$f":"SUM(D91:D93)","v":0}]
[80,"TP calculated as a whole",null,null,null,null,{"$f":"IF(D91=\"\",0,1)","v":0}]
[81,"Best Estimate",null,null,null,null,{"$f":"IF(D92=\"\",0,1)","v":0}]
[82,"Risk margin",null,null,null,null,{"$f":"IF(D93=\"\",0,1)","v":0}]
[83,"Other technical provisions",null,null,null,null,{"$f":"IF(E94=\"\",0,1)","v":0}]
[84,"Contingent liabilities"]
[85,"Provisions other than technical provisions"]
[86,"Pension benefit obligations"]
[87,"Deposits from reinsurers"]
[88,"Deferred tax liabilities"]
[89,"Derivatives"]
[90,"Debts owed to credit institutions"]
[91,"Financial liabilities other than debts owed to credit institutions"]
[92,"Insurance & intermediaries payables"]
[93,"Reinsurance payables"]
[94,"Payables (trade, not insurance)"]
[95,"Subordinated liabilities",null,{"$f":"SUM(D107:D108)","v":0},{"$f":"SUM(E107:E108)","v":0}]
[96,"Subordinated liabilities not in BOF"]
[97,"Subordinated liabilities in BOF"]
[98,"Any other liabilities, not elsewhere shown"]
[{"$f":"A109+1","v":99},"Total liabilities",null,{"$f":"D60+D81+D90+SUM(D95:D105)+D106+D109","v":0},{"$f":"E55+E69+E94+SUM(E96:E105)+E106+E109","v":0}]
[]
[{"$f":"A110+1","v":100},"Excess of assets over liabilities",null,{"$f":"D52-D110","v":0}]
[]
[null,"Equity and Reserves"]
[{"$f":"A112+1","v":101},"Share capital",null,null,null,null,{"$f":"IF(E115=\"\",0,1)","v":0}]
[{"$f":"A115+1","v":102},"Share premium"]
[{"$f":"A116+1","v":103},"Capital Contribution"]
[104,"Other reserves"]
[105,"Retained earnings",null,null,null,null,{"$f":"IF(E119=\"\",0,1)","v":0}]
[106,"Profit for the year",null,null,null,null,0]
[107,"Dividend paid"]
[108,"Total Equity and Reserves",null,null,{"$f":"SUM(E115:E121)","v":0},null,{"$f":"IF(ABS(E52-E110-E122)<=1,1,0)","v":1}]
[]
[null,"Notes"]
["i","Please key in a value for each cell in the table where there is a validation. Where the cell contains no value, a value of zero is to be keyed in."]
["ii","The deduction of Total Assets less Total Liabilities should be equal to the Total Equity and Reserves for the values in the Management Accounts - Balance Sheet Value column."]

{"sheet":"CBM","index":15,"n_rows":599,"n_cols":11,"rows_kept":599,"cut":false,"hidden":false,"merged":[[41,6,41,7],[8,1,8,4],[8,9,8,10],[33,1,33,7],[34,6,34,7],[34,9,34,10],[35,6,35,7],[36,6,36,7],[37,6,37,7],[38,6,38,7],[39,6,39,7],[40,6,40,7],[55,1,55,2],[55,6,55,7],[42,6,42,7],[43,6,43,7],[44,6,44,7],[45,6,45,7],[46,6,46,7],[47,6,47,7],[48,6,48,7],[51,1,51,7],[52,6,52,7],[53,6,53,7],[54,6,54,7],[289,1,289,2],[56,6,56,7],[57,6,57,7],[58,6,58,7],[59,6,59,7],[62,1,62,7],[63,1,63,2]]}
["A"]
[1,null,null,null,null,null,null,"CONFIDENTIAL"]
[0]
[2]
[1,"Period from:",{"$f":"IF('Cover Sheet'!C21=\"\",\"\",'Cover Sheet'!C21)","v":""}]
[1,"Period to:",{"$f":"IF('Cover Sheet'!C22=\"\",\"\",'Cover Sheet'!C22)","v":""}]
[1]
[1]
[1,"PART A:  TECHNICAL ACCOUNT (cumulative for the undertaking's financial year)",null,null,null,null,"General Business","Life Business"]
[1,1,"Allocated investment return",null,null,null,{"$f":"SUBTOTAL(9,G12:G23)","v":0},{"$f":"SUBTOTAL(9,H12:H23)","v":0},null,{"$f":"IF(G10=QNST01!E25,\"OK\",FALSE)","v":"OK"},{"$f":"IF(H10=QNST02!E25,\"OK\",FALSE)","v":"OK"}]
[1,null,"of which:"]
[1,1.1000000000000001,"interest receivable"]
[1,1.2,"dividends receivable"]
[1,1.3,"rental income"]
[1,1.4,"exchange differences"]
[1,1.5,"income from financial investments at fair value through PL"]
[1,1.6,"gains/losses from revaluation of financial assets (net fair value gains/losses)"]
[1,1.7,"gains/losses from revaluation of investment property (net fair value gains/losses)"]
[1,1.8,"other technical income"]
[1,1.9,"interest expense"]
[1,1.1000000000000001,"share of losses from related parties"]
[1,1.1100000000000001,"investment expenses"]
[1,1.1200000000000001,"other \"allocated investment return\""]
[1,2,"Other expenses",null,null,null,{"$f":"SUBTOTAL(9,G26:G30)","v":0},{"$f":"SUBTOTAL(9,H26:H30)","v":0}]
[1,null,"of which:"]
[1,2.1,"wages and salaries (including directors' fees and remuneration)"]
[1,2.2000000000000002,"social security contributions"]
[1,2.2999999999999998,"depreciation"]
[1,2.4,"amortisation"]
[1,2.4,"other \"other expenses\""]
[1,3,"Bonuses and rebates"]
[1]
[1]
[1,"PART B:  NON-TECHNICAL ACCOUNT (cumulative for the financial year)"]
[1,4,"Allocated investment return",null,null,null,{"$f":"SUBTOTAL(9,G37:H48)","v":0},null,null,{"$f":"IF(G35=QNST03!E17,\"OK\",FALSE)","v":"OK"}]
[1,null,"of which:"]
[1,4.0999999999999996,"interest receivable"]
[1,4.2,"dividends receivable"]
[1,4.3,"rental income"]
[1,4.4000000000000004,"exchange differences"]
[1,4.5,"income from financial investments at fair value through PL"]
[1,4.5999999999999996,"gains/losses from revaluation of financial assets (net fair value gains/losses)"]
[1,4.7,"gains/losses from revaluation of investment property (net fair value gains/losses)"]
[1,4.8,"other technical income"]
[1,4.9000000000000004,"interest expense"]
[1,4.0999999999999996,"share of losses from related parties"]
[1,4.1100000000000003,"investment expenses"]
[1,4.12,"other \"allocated investment return\""]
[1,5,"Movement in value of in-force business"]
[1]
[1]
[1,"PART C:  ADDITIONAL INFORMATION"]
[1,6,"Number of employees",null,null,null,{"$f":"SUM(G54:H55)","v":0}]
[1,6.1,"   full time"]
[1,6.2,"   part time"]
[1,"Non-residents related data (for the quarter)"]
[1,7,"Income attributed to non residents insurance policy holders"]
[1,8,"Net increase / decrease in reserves relating to prepayments (non residents)"]
[1,9,"Net increase / decrease in reserves for claims (non residents) incurred but not yet paid"]
[1,10,"Net increase / decrease in reserves for claims volatility"]
[1]
[1]
[1,"PART D:  SELECTED TRANSACTIONS WITH NON-RESIDENTS OF MALTA"]
[1,"Insurance transactions (for the quarter)",null,"* Press +/- to add\n/delete countries","Country *","Country Code","Premiums","Claims"]
[1,11,"Primary insurance (with non-residents of Malta)",null,null,{"$f":"IF(E65=\"\",\"\",VLOOKUP(E65,$C$523:$E$563,2,FALSE))","v":""},{"$f":"SUM(G66:G109)","v":0},{"$f":"SUM(H66:H109)","v":0}]
[1,null,"Primary insurance (with non-residents of Malta)",null,null,"",null,null,null,{"$f":"IF(COUNTIF(E$66:E$109,E66)>1,\"Duplicate country\",\"-\")","v":"-"},{"$f":"IF(AND(E66<>\"\",AND(G66=\"\",H66=\"\")),\"Input values\",\"-\")","v":"-"}]
[{"$f":"IF(OR(E67<>\"\",G67<>\"\",H67<>\"\"),1,0)","v":0},null,"Primary insurance (with non-residents of Malta)",null,null,"",null,null,null,{"$f":"IF(COUNTIF(E$66:E$109,E67)>1,\"Duplicate country\",\"-\")","v":"-"},{"$f":"IF(AND(E67<>\"\",AND(G67=\"\",H67=\"\")),\"Input values\",\"-\")","v":"-"}]
[0,null,"Primary insurance (with non-residents of Malta)",null,null,"",null,null,null,"-","-"]
[0,null,"Primary insurance (with non-residents of Malta)",null,null,"",null,null,null,"-","-"]
[0,null,"Primary insurance (with non-residents of Malta)",null,null,"",null,null,null,"-","-"]
[0,null,"Primary insurance (with non-residents of Malta)",null,null,"",null,null,null,"-","-"]
[0,null,"Primary insurance (with non-residents of Malta)",null,null,"",null,null,null,"-","-"]
[0,null,"Primary insurance (with non-residents of Malta)",null,null,"",null,null,null,"-","-"]
[0,null,"Primary insurance (with non-residents of Malta)",null,null,"",null,null,null,"-","-"]
[0,null,"Primary insurance (with non-residents of Malta)",null,null,"",null,null,null,"-","-"]
[0,null,"Primary insurance (with non-residents of Malta)",null,null,"",null,null,null,"-","-"]
[0,null,"Primary insurance (with non-residents of Malta)",null,null,"",null,null,null,"-","-"]
[0,null,"Primary insurance (with non-residents of Malta)",null,null,"",null,null,null,"-","-"]
[0,null,"Primary insurance (with non-residents of Malta)",null,null,"",null,null,null,"-","-"]
[0,null,"Primary insurance (with non-residents of Malta)",null,null,"",null,null,null,"-","-"]
[0,null,"Primary insurance (with non-residents of Malta)",null,null,"",null,null,null,"-","-"]
[0,null,"Primary insurance (with non-residents of Malta)",null,null,"",null,null,null,"-","-"]
[0,null,"Primary insurance (with non-residents of Malta)",null,null,"",null,null,null,"-","-"]
[0,null,"Primary insurance (with non-residents of Malta)",null,null,"",null,null,null,"-","-"]
[0,null,"Primary insurance (with non-residents of Malta)",null,null,"",null,null,null,"-","-"]
[0,null,"Primary insurance (with non-residents of Malta)",null,null,"",null,null,null,"-","-"]
[0,null,"Primary insurance (with non-residents of Malta)",null,null,"",null,null,null,"-","-"]
[0,null,"Primary insurance (with non-residents of Malta)",null,null,"",null,null,null,"-","-"]
[0,null,"Primary insurance (with non-residents of Malta)",null,null,"",null,null,null,"-","-"]
[0,null,"Primary insurance (with non-residents of Malta)",null,null,"",null,null,null,"-","-"]
[0,null,"Primary insurance (with non-residents of Malta)",null,null,"",null,null,null,"-","-"]
[{"$f":"IF(OR(E92<>\"\",G92<>\"\",H92<>\"\"),1,0)","v":0},null,"Primary insurance (with non-residents of Malta)",null,null,"",null,null,null,"-",{"$f":"IF(AND(E92<>\"\",AND(G92=\"\",H92=\"\")),\"Input values\",\"-\")","v":"-"}]
[0,null,"Primary insurance (with non-residents of Malta)",null,null,"",null,null,null,"-","-"]
[0,null,"Primary insurance (with non-residents of Malta)",null,null,"",null,null,null,"-","-"]
[0,null,"Primary insurance (with non-residents of Malta)",null,null,"",null,null,null,"-","-"]
[0,null,"Primary insurance (with non-residents of Malta)",null,null,"",null,null,null,"-","-"]
[0,null,"Primary insurance (with non-residents of Malta)",null,null,"",null,null,null,"-","-"]
[0,null,"Primary insurance (with non-residents of Malta)",null,null,"",null,null,null,"-","-"]
[0,null,"Primary insurance (with non-residents of Malta)",null,null,"",null,null,null,"-","-"]
[0,null,"Primary insurance (with non-residents of Malta)",null,null,"",null,null,null,"-","-"]
[0,null,"Primary insurance (with non-residents of Malta)",null,null,"",null,null,null,"-","-"]
[0,null,"Primary insurance (with non-residents of Malta)",null,null,"",null,null,null,"-","-"]
[0,null,"Primary insurance (with non-residents of Malta)",null,null,"",null,null,null,"-","-"]
[0,null,"Primary insurance (with non-residents of Malta)",null,null,"",null,null,null,"-","-"]
[0,null,"Primary insurance (with non-residents of Malta)",null,null,"",null,null,null,"-","-"]
[0,null,"Primary insurance (with non-residents of Malta)",null,null,"",null,null,null,"-","-"]
[0,null,"Primary insurance (with non-residents of Malta)",null,null,"",null,null,null,"-","-"]
[0,null,"Primary insurance (with non-residents of Malta)",null,null,"",null,null,null,"-","-"]
[0,null,"Primary insurance (with non-residents of Malta)",null,null,"",null,null,null,"-","-"]
[1,12,"Life insurance and pension funds",null,null,"",{"$f":"SUM(G111:G154)","v":0},{"$f":"SUM(H111:H154)","v":0}]
[1,null,"Life insurance and pension funds",null,null,"",null,null,null,{"$f":"IF(COUNTIF(E$111:E$154,E111)>1,\"Duplicate country\",\"-\")","v":"-"},{"$f":"IF(AND(E111<>\"\",AND(G111=\"\",H111=\"\")),\"Input values\",\"-\")","v":"-"}]
[{"$f":"IF(OR(E112<>\"\",G112<>\"\",H112<>\"\"),1,0)","v":0},null,"Life insurance and pension funds",null,null,"",null,null,null,{"$f":"IF(COUNTIF(E$111:E$154,E112)>1,\"Duplicate country\",\"-\")","v":"-"},{"$f":"IF(AND(E112<>\"\",AND(G112=\"\",H112=\"\")),\"Input values\",\"-\")","v":"-"}]
[0,null,"Life insurance and pension funds",null,null,"",null,null,null,"-","-"]
[0,null,"Life insurance and pension funds",null,null,"",null,null,null,"-","-"]
[0,null,"Life insurance and pension funds",null,null,"",null,null,null,"-","-"]
[0,null,"Life insurance and pension funds",null,null,"",null,null,null,"-","-"]
[0,null,"Life insurance and pension funds",null,null,"",null,null,null,"-","-"]
[0,null,"Life insurance and pension funds",null,null,"",null,null,null,"-","-"]
[0,null,"Life insurance and pension funds",null,null,"",null,null,null,"-","-"]
[0,null,"Life insurance and pension funds",null,null,"",null,null,null,"-","-"]
[0,null,"Life insurance and pension funds",null,null,"",null,null,null,"-","-"]
[0,null,"Life insurance and pension funds",null,null,"",null,null,null,"-","-"]
[0,null,"Life insurance and pension funds",null,null,"",null,null,null,"-","-"]
[0,null,"Life insurance and pension funds",null,null,"",null,null,null,"-","-"]
[0,null,"Life insurance and pension funds",null,null,"",null,null,null,"-","-"]
[0,null,"Life insurance and pension funds",null,null,"",null,null,null,"-","-"]
[0,null,"Life insurance and pension funds",null,null,"",null,null,null,"-","-"]
[0,null,"Life insurance and pension funds",null,null,"",null,null,null,"-","-"]
[0,null,"Life insurance and pension funds",null,null,{"$f":"IF(E129=\"\",\"\",VLOOKUP(E129,$C$523:$E$563,2,FALSE))","v":""},null,null,null,"-","-"]
[0,null,"Life insurance and pension funds",null,null,"",null,null,null,"-","-"]
[0,null,"Life insurance and pension funds",null,null,"",null,null,null,"-","-"]
[0,null,"Life insurance and pension funds",null,null,"",null,null,null,"-","-"]
[0,null,"Life insurance and pension funds",null,null,"",null,null,null,"-","-"]
[0,null,"Life insurance and pension funds",null,null,"",null,null,null,"-","-"]
[0,null,"Life insurance and pension funds",null,null,"",null,null,null,"-","-"]
[0,null,"Life insurance and pension funds",null,null,"",null,null,null,"-","-"]
[0,null,"Life insurance and pension funds",null,null,"",null,null,null,"-","-"]
[0,null,"Life insurance and pension funds",null,null,"",null,null,null,"-","-"]
[0,null,"Life insurance and pension funds",null,null,"",null,null,null,"-","-"]
[0,null,"Life insurance and pension funds",null,null,"",null,null,null,"-","-"]
[0,null,"Life insurance and pension funds",null,null,"",null,null,null,"-","-"]
[0,null,"Life insurance and pension funds",null,null,"",null,null,null,"-","-"]
[0,null,"Life insurance and pension funds",null,null,"",null,null,null,"-","-"]
[0,null,"Life insurance and pension funds",null,null,"",null,null,null,"-","-"]
[0,null,"Life insurance and pension funds",null,null,"",null,null,null,"-","-"]
[0,null,"Life insurance and pension funds",null,null,"",null,null,null,"-","-"]
[0,null,"Life insurance and pension funds",null,null,"",null,null,null,"-","-"]
[0,null,"Life insurance and pension funds",null,null,"",null,null,null,"-","-"]
[0,null,"Life insurance and pension funds",null,null,"",null,null,null,"-","-"]
[0,null,"Life insurance and pension funds",null,null,"",null,null,null,"-","-"]
[0,null,"Life insurance and pension funds",null,null,"",null,null,null,"-","-"]
[0,null,"Life insurance and pension funds",null,null,"",null,null,null,"-","-"]
[0,null,"Life insurance and pension funds",null,null,"",null,null,null,"-","-"]
[0,null,"Life insurance and pension funds",null,null,"",null,null,null,"-","-"]
[1,13,"Freight insurance",null,null,"",{"$f":"SUM(G156:G199)","v":0},{"$f":"SUM(H156:H199)","v":0}]
[1,null,"Freight insurance",null,null,"",null,null,null,{"$f":"IF(COUNTIF(E$156:E$199,E156)>1,\"Duplicate country\",\"-\")","v":"-"},{"$f":"IF(AND(E156<>\"\",AND(G156=\"\",H156=\"\")),\"Input values\",\"-\")","v":"-"}]
[{"$f":"IF(OR(E157<>\"\",G157<>\"\",H157<>\"\"),1,0)","v":0},null,"Freight insurance",null,null,"",null,null,null,{"$f":"IF(COUNTIF(E$156:E$199,E157)>1,\"Duplicate country\",\"-\")","v":"-"},{"$f":"IF(AND(E157<>\"\",AND(G157=\"\",H157=\"\")),\"Input values\",\"-\")","v":"-"}]
[0,null,"Freight insurance",null,null,"",null,null,null,"-","-"]
[0,null,"Freight insurance",null,null,"",null,null,null,"-","-"]
[0,null,"Freight insurance",null,null,"",null,null,null,"-","-"]
[0,null,"Freight insurance",null,null,"",null,null,null,"-","-"]
[0,null,"Freight insurance",null,null,"",null,null,null,"-","-"]
[0,null,"Freight insurance",null,null,"",null,null,null,"-","-"]
[0,null,"Freight insurance",null,null,"",null,null,null,"-","-"]
[0,null,"Freight insurance",null,null,"",null,null,null,"-","-"]
[0,null,"Freight insurance",null,null,"",null,null,null,"-","-"]
[0,null,"Freight insurance",null,null,"",null,null,null,"-","-"]
[0,null,"Freight insurance",null,null,"",null,null,null,"-","-"]
[0,null,"Freight insurance",null,null,"",null,null,null,"-","-"]
[0,null,"Freight insurance",null,null,"",null,null,null,"-","-"]
[0,null,"Freight insurance",null,null,"",null,null,null,"-","-"]
[0,null,"Freight insurance",null,null,"",null,null,null,"-","-"]
[0,null,"Freight insurance",null,null,"",null,null,null,"-","-"]
[0,null,"Freight insurance",null,null,"",null,null,null,"-","-"]
[0,null,"Freight insurance",null,null,"",null,null,null,"-","-"]
[0,null,"Freight insurance",null,null,"",null,null,null,"-","-"]
[0,null,"Freight insurance",null,null,"",null,null,null,"-","-"]
[0,null,"Freight insurance",null,null,"",null,null,null,"-","-"]
[0,null,"Freight insurance",null,null,"",null,null,null,"-","-"]
[0,null,"Freight insurance",null,null,"",null,null,null,"-","-"]
[0,null,"Freight insurance",null,null,"",null,null,null,"-","-"]
[0,null,"Freight insurance",null,null,"",null,null,null,"-","-"]
[0,null,"Freight insurance",null,null,"",null,null,null,"-","-"]
[0,null,"Freight insurance",null,null,"",null,null,null,"-","-"]
[0,null,"Freight insurance",null,null,"",null,null,null,"-","-"]
[0,null,"Freight insurance",null,null,"",null,null,null,"-","-"]
[0,null,"Freight insurance",null,null,"",null,null,null,"-","-"]
[0,null,"Freight insurance",null,null,"",null,null,null,"-","-"]
[0,null,"Freight insurance",null,null,"",null,null,null,"-","-"]
[0,null,"Freight insurance",null,null,"",null,null,null,"-","-"]
[0,null,"Freight insurance",null,null,"",null,null,null,"-","-"]
[0,null,"Freight insurance",null,null,"",null,null,null,"-","-"]
[0,null,"Freight insurance",null,null,{"$f":"IF(E193=\"\",\"\",VLOOKUP(E193,$C$523:$E$563,2,FALSE))","v":""},null,null,null,"-","-"]
[0,null,"Freight insurance",null,null,"",null,null,null,"-","-"]
[0,null,"Freight insurance",null,null,"",null,null,null,"-","-"]
[0,null,"Freight insurance",null,null,"",null,null,null,"-","-"]
[0,null,"Freight insurance",null,null,"",null,null,null,"-","-"]
[0,null,"Freight insurance",null,null,"",null,null,null,"-","-"]
[0,null,"Freight insurance",null,null,"",null,null,null,"-","-"]
[1,14,"Re-insurance assumed (from non-residents)",null,null,"",{"$f":"SUM(G201:G244)","v":0},{"$f":"SUM(H201:H244)","v":0}]
[1,null,"Re-insurance assumed (from non-residents)",null,null,"",null,null,null,{"$f":"IF(COUNTIF(E$201:E$244,E201)>1,\"Duplicate country\",\"-\")","v":"-"},{"$f":"IF(AND(E201<>\"\",AND(G201=\"\",H201=\"\")),\"Input values\",\"-\")","v":"-"}]
[{"$f":"IF(OR(E202<>\"\",G202<>\"\",H202<>\"\"),1,0)","v":0},null,"Re-insurance assumed (from non-residents)",null,null,"",null,null,null,{"$f":"IF(COUNTIF(E$201:E$244,E202)>1,\"Duplicate country\",\"-\")","v":"-"},{"$f":"IF(AND(E202<>\"\",AND(G202=\"\",H202=\"\")),\"Input values\",\"-\")","v":"-"}]
[0,null,"Re-insurance assumed (from non-residents)",null,null,"",null,null,null,"-","-"]
[0,null,"Re-insurance assumed (from non-residents)",null,null,"",null,null,null,"-","-"]
[0,null,"Re-insurance assumed (from non-residents)",null,null,"",null,null,null,"-","-"]
[0,null,"Re-insurance assumed (from non-residents)",null,null,"",null,null,null,"-","-"]
[0,null,"Re-insurance assumed (from non-residents)",null,null,"",null,null,null,"-","-"]
[0,null,"Re-insurance assumed (from non-residents)",null,null,"",null,null,null,"-","-"]
[0,null,"Re-insurance assumed (from non-residents)",null,null,"",null,null,null,"-","-"]
[0,null,"Re-insurance assumed (from non-residents)",null,null,"",null,null,null,"-","-"]
[0,null,"Re-insurance assumed (from non-residents)",null,null,"",null,null,null,"-","-"]
[0,null,"Re-insurance assumed (from non-residents)",null,null,"",null,null,null,"-","-"]
[0,null,"Re-insurance assumed (from non-residents)",null,null,"",null,null,null,"-","-"]
[0,null,"Re-insurance assumed (from non-residents)",null,null,"",null,null,null,"-","-"]
[0,null,"Re-insurance assumed (from non-residents)",null,null,"",null,null,null,"-","-"]
[0,null,"Re-insurance assumed (from non-residents)",null,null,"",null,null,null,"-","-"]
[0,null,"Re-insurance assumed (from non-residents)",null,null,"",null,null,null,"-","-"]
[0,null,"Re-insurance assumed (from non-residents)",null,null,"",null,null,null,"-","-"]
[0,null,"Re-insurance assumed (from non-residents)",null,null,"",null,null,null,"-","-"]
[0,null,"Re-insurance assumed (from non-residents)",null,null,"",null,null,null,"-","-"]
[0,null,"Re-insurance assumed (from non-residents)",null,null,"",null,null,null,"-","-"]
[0,null,"Re-insurance assumed (from non-residents)",null,null,"",null,null,null,"-","-"]
[0,null,"Re-insurance assumed (from non-residents)",null,null,"",null,null,null,"-","-"]
[0,null,"Re-insurance assumed (from non-residents)",null,null,"",null,null,null,"-","-"]
[0,null,"Re-insurance assumed (from non-residents)",null,null,"",null,null,null,"-","-"]
[0,null,"Re-insurance assumed (from non-residents)",null,null,"",null,null,null,"-","-"]
[0,null,"Re-insurance assumed (from non-residents)",null,null,"",null,null,null,"-","-"]
[0,null,"Re-insurance assumed (from non-residents)",null,null,"",null,null,null,"-","-"]
[0,null,"Re-insurance assumed (from non-residents)",null,null,"",null,null,null,"-","-"]
[0,null,"Re-insurance assumed (from non-residents)",null,null,"",null,null,null,"-","-"]
[0,null,"Re-insurance assumed (from non-residents)",null,null,"",null,null,null,"-","-"]
[0,null,"Re-insurance assumed (from non-residents)",null,null,"",null,null,null,"-","-"]
[0,null,"Re-insurance assumed (from non-residents)",null,null,"",null,null,null,"-","-"]
[0,null,"Re-insurance assumed (from non-residents)",null,null,"",null,null,null,"-","-"]
[0,null,"Re-insurance assumed (from non-residents)",null,null,"",null,null,null,"-","-"]
[0,null,"Re-insurance assumed (from non-residents)",null,null,"",null,null,null,"-","-"]
[0,null,"Re-insurance assumed (from non-residents)",null,null,"",null,null,null,"-","-"]
[0,null,"Re-insurance assumed (from non-residents)",null,null,"",null,null,null,"-","-"]
[0,null,"Re-insurance assumed (from non-residents)",null,null,"",null,null,null,"-","-"]
[0,null,"Re-insurance assumed (from non-residents)",null,null,"",null,null,null,"-","-"]
[0,null,"Re-insurance assumed (from non-residents)",null,null,"",null,null,null,"-","-"]
[0,null,"Re-insurance assumed (from non-residents)",null,null,"",null,null,null,"-","-"]
[0,null,"Re-insurance assumed (from non-residents)",null,null,"",null,null,null,"-","-"]
[0,null,"Re-insurance assumed (from non-residents)",null,null,"",null,null,null,"-","-"]
[1,15,"Re-insurance ceded (to non-residents)",null,null,"",{"$f":"SUM(G246:G289)","v":0},{"$f":"SUM(H246:H289)","v":0}]
[1,null,"Re-insurance ceded (to non-residents)",null,null,"",null,null,null,{"$f":"IF(COUNTIF(E$246:E$289,E246)>1,\"Duplicate country\",\"-\")","v":"-"},{"$f":"IF(AND(E246<>\"\",AND(G246=\"\",H246=\"\")),\"Input values\",\"-\")","v":"-"}]
[{"$f":"IF(OR(E247<>\"\",G247<>\"\",H247<>\"\"),1,0)","v":0},null,"Re-insurance ceded (to non-residents)",null,null,"",null,null,null,{"$f":"IF(COUNTIF(E$246:E$289,E247)>1,\"Duplicate country\",\"-\")","v":"-"},{"$f":"IF(AND(E247<>\"\",AND(G247=\"\",H247=\"\")),\"Input values\",\"-\")","v":"-"}]
[0,null,"Re-insurance ceded (to non-residents)",null,null,"",null,null,null,"-","-"]
[0,null,"Re-insurance ceded (to non-residents)",null,null,"",null,null,null,"-","-"]
[0,null,"Re-insurance ceded (to non-residents)",null,null,"",null,null,null,"-","-"]
[0,null,"Re-insurance ceded (to non-residents)",null,null,"",null,null,null,"-","-"]
[0,null,"Re-insurance ceded (to non-residents)",null,null,"",null,null,null,"-","-"]
[0,null,"Re-insurance ceded (to non-residents)",null,null,"",null,null,null,"-","-"]
[0,null,"Re-insurance ceded (to non-residents)",null,null,"",null,null,null,"-","-"]
[0,null,"Re-insurance ceded (to non-residents)",null,null,"",null,null,null,"-","-"]
[0,null,"Re-insurance ceded (to non-residents)",null,null,"",null,null,null,"-","-"]
[0,null,"Re-insurance ceded (to non-residents)",null,null,{"$f":"IF(E257=\"\",\"\",VLOOKUP(E257,$C$523:$E$563,2,FALSE))","v":""},null,null,null,"-","-"]
[0,null,"Re-insurance ceded (to non-residents)",null,null,"",null,null,null,"-","-"]
[0,null,"Re-insurance ceded (to non-residents)",null,null,"",null,null,null,"-","-"]
[0,null,"Re-insurance ceded (to non-residents)",null,null,"",null,null,null,"-","-"]
[0,null,"Re-insurance ceded (to non-residents)",null,null,"",null,null,null,"-","-"]
[0,null,"Re-insurance ceded (to non-residents)",null,null,"",null,null,null,"-","-"]
[0,null,"Re-insurance ceded (to non-residents)",null,null,"",null,null,null,"-","-"]
[0,null,"Re-insurance ceded (to non-residents)",null,null,"",null,null,null,"-","-"]
[0,null,"Re-insurance ceded (to non-residents)",null,null,"",null,null,null,"-","-"]
[0,null,"Re-insurance ceded (to non-residents)",null,null,"",null,null,null,"-","-"]
[0,null,"Re-insurance ceded (to non-residents)",null,null,"",null,null,null,"-","-"]
[0,null,"Re-insurance ceded (to non-residents)",null,null,"",null,null,null,"-","-"]
[0,null,"Re-insurance ceded (to non-residents)",null,null,"",null,null,null,"-","-"]
[0,null,"Re-insurance ceded (to non-residents)",null,null,"",null,null,null,"-","-"]
[0,null,"Re-insurance ceded (to non-residents)",null,null,"",null,null,null,"-","-"]
[0,null,"Re-insurance ceded (to non-residents)",null,null,"",null,null,null,"-","-"]
[0,null,"Re-insurance ceded (to non-residents)",null,null,"",null,null,null,"-","-"]
[0,null,"Re-insurance ceded (to non-residents)",null,null,"",null,null,null,"-","-"]
[0,null,"Re-insurance ceded (to non-residents)",null,null,"",null,null,null,"-","-"]
[0,null,"Re-insurance ceded (to non-residents)",null,null,"",null,null,null,"-","-"]
[0,null,"Re-insurance ceded (to non-residents)",null,null,"",null,null,null,"-","-"]
[0,null,"Re-insurance ceded (to non-residents)",null,null,"",null,null,null,"-","-"]
[0,null,"Re-insurance ceded (to non-residents)",null,null,"",null,null,null,"-","-"]
[0,null,"Re-insurance ceded (to non-residents)",null,null,"",null,null,null,"-","-"]
[0,null,"Re-insurance ceded (to non-residents)",null,null,"",null,null,null,"-","-"]
[0,null,"Re-insurance ceded (to non-residents)",null,null,"",null,null,null,"-","-"]
[0,null,"Re-insurance ceded (to non-residents)",null,null,"",null,null,null,"-","-"]
[0,null,"Re-insurance ceded (to non-residents)",null,null,"",null,null,null,"-","-"]
[0,null,"Re-insurance ceded (to non-residents)",null,null,"",null,null,null,"-","-"]
[0,null,"Re-insurance ceded (to non-residents)",null,null,"",null,null,null,"-","-"]
[0,null,"Re-insurance ceded (to non-residents)",null,null,"",null,null,null,"-","-"]
[0,null,"Re-insurance ceded (to non-residents)",null,null,"",null,null,null,"-","-"]
[0,null,"Re-insurance ceded (to non-residents)",null,null,"",null,null,null,"-","-"]
[1,"Other services (for the quarter)",null,null,"Country *",null,"Income","Expenditure"]
[1,16,"   Accounting, auditing, book-keeping and tax consultancy services",null,null,{"$f":"IF(E291=\"\",\"\",VLOOKUP(E291,$C$523:$E$563,2,FALSE))","v":""},{"$f":"SUM(G292:G335)","v":0},{"$f":"SUM(H292:H335)","v":0}]
[1,null,"   Accounting, auditing, book-keeping and tax consultancy services",null,null,"",null,null,null,{"$f":"IF(COUNTIF(E$292:E$335,E292)>1,\"Duplicate country\",\"-\")","v":"-"},{"$f":"IF(AND(E292<>\"\",AND(G292=\"\",H292=\"\")),\"Input values\",\"-\")","v":"-"}]
[{"$f":"IF(OR(E293<>\"\",G293<>\"\",H293<>\"\"),1,0)","v":0},null,"   Accounting, auditing, book-keeping and tax consultancy services",null,null,"",null,null,null,{"$f":"IF(COUNTIF(E$292:E$335,E293)>1,\"Duplicate country\",\"-\")","v":"-"},{"$f":"IF(AND(E293<>\"\",AND(G293=\"\",H293=\"\")),\"Input values\",\"-\")","v":"-"}]
[0,null,"   Accounting, auditing, book-keeping and tax consultancy services",null,null,"",null,null,null,"-","-"]
[0,null,"   Accounting, auditing, book-keeping and tax consultancy services",null,null,"",null,null,null,"-","-"]
[0,null,"   Accounting, auditing, book-keeping and tax consultancy services",null,null,"",null,null,null,"-","-"]
[0,null,"   Accounting, auditing, book-keeping and tax consultancy services",null,null,"",null,null,null,"-","-"]
[0,null,"   Accounting, auditing, book-keeping and tax consultancy services",null,null,"",null,null,null,"-","-"]
[0,null,"   Accounting, auditing, book-keeping and tax consultancy services",null,null,"",null,null,null,"-","-"]
[0,null,"   Accounting, auditing, book-keeping and tax consultancy services",null,null,"",null,null,null,"-","-"]
[0,null,"   Accounting, auditing, book-keeping and tax consultancy services",null,null,"",null,null,null,"-","-"]
[0,null,"   Accounting, auditing, book-keeping and tax consultancy services",null,null,"",null,null,null,"-","-"]
[0,null,"   Accounting, auditing, book-keeping and tax consultancy services",null,null,"",null,null,null,"-","-"]
[0,null,"   Accounting, auditing, book-keeping and tax consultancy services",null,null,"",null,null,null,"-","-"]
[0,null,"   Accounting, auditing, book-keeping and tax consultancy services",null,null,"",null,null,null,"-","-"]
[0,null,"   Accounting, auditing, book-keeping and tax consultancy services",null,null,"",null,null,null,"-","-"]
[0,null,"   Accounting, auditing, book-keeping and tax consultancy services",null,null,"",null,null,null,"-","-"]
[0,null,"   Accounting, auditing, book-keeping and tax consultancy services",null,null,"",null,null,null,"-","-"]
[0,null,"   Accounting, auditing, book-keeping and tax consultancy services",null,null,"",null,null,null,"-","-"]
[0,null,"   Accounting, auditing, book-keeping and tax consultancy services",null,null,"",null,null,null,"-","-"]
[0,null,"   Accounting, auditing, book-keeping and tax consultancy services",null,null,"",null,null,null,"-","-"]
[0,null,"   Accounting, auditing, book-keeping and tax consultancy services",null,null,"",null,null,null,"-","-"]
[0,null,"   Accounting, auditing, book-keeping and tax consultancy services",null,null,"",null,null,null,"-","-"]
[0,null,"   Accounting, auditing, book-keeping and tax consultancy services",null,null,"",null,null,null,"-","-"]
[0,null,"   Accounting, auditing, book-keeping and tax consultancy services",null,null,"",null,null,null,"-","-"]
[0,null,"   Accounting, auditing, book-keeping and tax consultancy services",null,null,"",null,null,null,"-","-"]
[0,null,"   Accounting, auditing, book-keeping and tax consultancy services",null,null,"",null,null,null,"-","-"]
[0,null,"   Accounting, auditing, book-keeping and tax consultancy services",null,null,"",null,null,null,"-","-"]
[0,null,"   Accounting, auditing, book-keeping and tax consultancy services",null,null,"",null,null,null,"-","-"]
[0,null,"   Accounting, auditing, book-keeping and tax consultancy services",null,null,"",null,null,null,"-","-"]
[0,null,"   Accounting, auditing, book-keeping and tax consultancy services",null,null,"",null,null,null,"-","-"]
[0,null,"   Accounting, auditing, book-keeping and tax consultancy services",null,null,"",null,null,null,"-","-"]
[0,null,"   Accounting, auditing, book-keeping and tax consultancy services",null,null,"",null,null,null,"-","-"]
[0,null,"   Accounting, auditing, book-keeping and tax consultancy services",null,null,"",null,null,null,"-","-"]
[0,null,"   Accounting, auditing, book-keeping and tax consultancy services",null,null,"",null,null,null,"-","-"]
[0,null,"   Accounting, auditing, book-keeping and tax consultancy services",null,null,"",null,null,null,"-","-"]
[0,null,"   Accounting, auditing, book-keeping and tax consultancy services",null,null,"",null,null,null,"-","-"]
[0,null,"   Accounting, auditing, book-keeping and tax consultancy services",null,null,"",null,null,null,"-","-"]
[0,null,"   Accounting, auditing, book-keeping and tax consultancy services",null,null,"",null,null,null,"-","-"]
[0,null,"   Accounting, auditing, book-keeping and tax consultancy services",null,null,"",null,null,null,"-","-"]
[0,null,"   Accounting, auditing, book-keeping and tax consultancy services",null,null,"",null,null,null,"-","-"]
[0,null,"   Accounting, auditing, book-keeping and tax consultancy services",null,null,"",null,null,null,"-","-"]
[0,null,"   Accounting, auditing, book-keeping and tax consultancy services",null,null,"",null,null,null,"-","-"]
[0,null,"   Accounting, auditing, book-keeping and tax consultancy services",null,null,"",null,null,null,"-","-"]
[0,null,"   Accounting, auditing, book-keeping and tax consultancy services",null,null,"",null,null,null,"-","-"]
[1,17,"   Advertising, market research and public opinion polling",null,null,"",{"$f":"SUM(G337:G380)","v":0},{"$f":"SUM(H337:H380)","v":0}]
[1,null,"   Advertising, market research and public opinion polling",null,null,"",null,null,null,{"$f":"IF(COUNTIF(E$337:E$380,E337)>1,\"Duplicate country\",\"-\")","v":"-"},{"$f":"IF(AND(E337<>\"\",AND(G337=\"\",H337=\"\")),\"Input values\",\"-\")","v":"-"}]
[{"$f":"IF(OR(E338<>\"\",G338<>\"\",H338<>\"\"),1,0)","v":0},null,"   Advertising, market research and public opinion polling",null,null,"",null,null,null,{"$f":"IF(COUNTIF(E$337:E$380,E338)>1,\"Duplicate country\",\"-\")","v":"-"},{"$f":"IF(AND(E338<>\"\",AND(G338=\"\",H338=\"\")),\"Input values\",\"-\")","v":"-"}]
[0,null,"   Advertising, market research and public opinion polling",null,null,"",null,null,null,"-","-"]
[0,null,"   Advertising, market research and public opinion polling",null,null,"",null,null,null,"-","-"]
[0,null,"   Advertising, market research and public opinion polling",null,null,"",null,null,null,"-","-"]
[0,null,"   Advertising, market research and public opinion polling",null,null,"",null,null,null,"-","-"]
[0,null,"   Advertising, market research and public opinion polling",null,null,"",null,null,null,"-","-"]
[0,null,"   Advertising, market research and public opinion polling",null,null,"",null,null,null,"-","-"]
[0,null,"   Advertising, market research and public opinion polling",null,null,"",null,null,null,"-","-"]
[0,null,"   Advertising, market research and public opinion polling",null,null,"",null,null,null,"-","-"]
[0,null,"   Advertising, market research and public opinion polling",null,null,"",null,null,null,"-","-"]
[0,null,"   Advertising, market research and public opinion polling",null,null,"",null,null,null,"-","-"]
[0,null,"   Advertising, market research and public opinion polling",null,null,"",null,null,null,"-","-"]
[0,null,"   Advertising, market research and public opinion polling",null,null,"",null,null,null,"-","-"]
[0,null,"   Advertising, market research and public opinion polling",null,null,"",null,null,null,"-","-"]
[0,null,"   Advertising, market research and public opinion polling",null,null,"",null,null,null,"-","-"]
[0,null,"   Advertising, market research and public opinion polling",null,null,"",null,null,null,"-","-"]
[0,null,"   Advertising, market research and public opinion polling",null,null,"",null,null,null,"-","-"]
[0,null,"   Advertising, market research and public opinion polling",null,null,{"$f":"IF(E355=\"\",\"\",VLOOKUP(E355,$C$523:$E$563,2,FALSE))","v":""},null,null,null,"-","-"]
[0,null,"   Advertising, market research and public opinion polling",null,null,"",null,null,null,"-","-"]
[0,null,"   Advertising, market research and public opinion polling",null,null,"",null,null,null,"-","-"]
[0,null,"   Advertising, market research and public opinion polling",null,null,"",null,null,null,"-","-"]
[0,null,"   Advertising, market research and public opinion polling",null,null,"",null,null,null,"-","-"]
[0,null,"   Advertising, market research and public opinion polling",null,null,"",null,null,null,"-","-"]
[0,null,"   Advertising, market research and public opinion polling",null,null,"",null,null,null,"-","-"]
[0,null,"   Advertising, market research and public opinion polling",null,null,"",null,null,null,"-","-"]
[0,null,"   Advertising, market research and public opinion polling",null,null,"",null,null,null,"-","-"]
[0,null,"   Advertising, market research and public opinion polling",null,null,"",null,null,null,"-","-"]
[0,null,"   Advertising, market research and public opinion polling",null,null,"",null,null,null,"-","-"]
[0,null,"   Advertising, market research and public opinion polling",null,null,"",null,null,null,"-","-"]
[0,null,"   Advertising, market research and public opinion polling",null,null,"",null,null,null,"-","-"]
[0,null,"   Advertising, market research and public opinion polling",null,null,"",null,null,null,"-","-"]
[0,null,"   Advertising, market research and public opinion polling",null,null,"",null,null,null,"-","-"]
[0,null,"   Advertising, market research and public opinion polling",null,null,"",null,null,null,"-","-"]
[0,null,"   Advertising, market research and public opinion polling",null,null,"",null,null,null,"-","-"]
[0,null,"   Advertising, market research and public opinion polling",null,null,"",null,null,null,"-","-"]
[0,null,"   Advertising, market research and public opinion polling",null,null,"",null,null,null,"-","-"]
[0,null,"   Advertising, market research and public opinion polling",null,null,"",null,null,null,"-","-"]
[0,null,"   Advertising, market research and public opinion polling",null,null,"",null,null,null,"-","-"]
[0,null,"   Advertising, market research and public opinion polling",null,null,"",null,null,null,"-","-"]
[0,null,"   Advertising, market research and public opinion polling",null,null,"",null,null,null,"-","-"]
[0,null,"   Advertising, market research and public opinion polling",null,null,"",null,null,null,"-","-"]
[0,null,"   Advertising, market research and public opinion polling",null,null,"",null,null,null,"-","-"]
[0,null,"   Advertising, market research and public opinion polling",null,null,"",null,null,null,"-","-"]
[1,18,"   Business and management consultancy and public relations services",null,null,"",{"$f":"SUM(G382:G425)","v":0},{"$f":"SUM(H382:H425)","v":0}]
[1,null,"   Business and management consultancy and public relations services",null,null,"",null,null,null,{"$f":"IF(COUNTIF(E$382:E$425,E382)>1,\"Duplicate country\",\"-\")","v":"-"},{"$f":"IF(AND(E382<>\"\",AND(G382=\"\",H382=\"\")),\"Input values\",\"-\")","v":"-"}]
[{"$f":"IF(OR(E383<>\"\",G383<>\"\",H383<>\"\"),1,0)","v":0},null,"   Business and management consultancy and public relations services",null,null,"",null,null,null,{"$f":"IF(COUNTIF(E$382:E$425,E383)>1,\"Duplicate country\",\"-\")","v":"-"},{"$f":"IF(AND(E383<>\"\",AND(G383=\"\",H383=\"\")),\"Input values\",\"-\")","v":"-"}]
[0,null,"   Business and management consultancy and public relations services",null,null,"",null,null,null,"-","-"]
[0,null,"   Business and management consultancy and public relations services",null,null,"",null,null,null,"-","-"]
[0,null,"   Business and management consultancy and public relations services",null,null,"",null,null,null,"-","-"]
[0,null,"   Business and management consultancy and public relations services",null,null,"",null,null,null,"-","-"]
[0,null,"   Business and management consultancy and public relations services",null,null,"",null,null,null,"-","-"]
[0,null,"   Business and management consultancy and public relations services",null,null,"",null,null,null,"-","-"]
[0,null,"   Business and management consultancy and public relations services",null,null,"",null,null,null,"-","-"]
[0,null,"   Business and management consultancy and public relations services",null,null,"",null,null,null,"-","-"]
[0,null,"   Business and management consultancy and public relations services",null,null,"",null,null,null,"-","-"]
[0,null,"   Business and management consultancy and public relations services",null,null,"",null,null,null,"-","-"]
[0,null,"   Business and management consultancy and public relations services",null,null,"",null,null,null,"-","-"]
[0,null,"   Business and management consultancy and public relations services",null,null,"",null,null,null,"-","-"]
[0,null,"   Business and management consultancy and public relations services",null,null,"",null,null,null,"-","-"]
[0,null,"   Business and management consultancy and public relations services",null,null,"",null,null,null,"-","-"]
[0,null,"   Business and management consultancy and public relations services",null,null,"",null,null,null,"-","-"]
[0,null,"   Business and management consultancy and public relations services",null,null,"",null,null,null,"-","-"]
[0,null,"   Business and management consultancy and public relations services",null,null,"",null,null,null,"-","-"]
[0,null,"   Business and management consultancy and public relations services",null,null,"",null,null,null,"-","-"]
[0,null,"   Business and management consultancy and public relations services",null,null,"",null,null,null,"-","-"]
[0,null,"   Business and management consultancy and public relations services",null,null,"",null,null,null,"-","-"]
[0,null,"   Business and management consultancy and public relations services",null,null,"",null,null,null,"-","-"]
[0,null,"   Business and management consultancy and public relations services",null,null,"",null,null,null,"-","-"]
[0,null,"   Business and management consultancy and public relations services",null,null,"",null,null,null,"-","-"]
[0,null,"   Business and management consultancy and public relations services",null,null,"",null,null,null,"-","-"]
[0,null,"   Business and management consultancy and public relations services",null,null,"",null,null,null,"-","-"]
[0,null,"   Business and management consultancy and public relations services",null,null,"",null,null,null,"-","-"]
[0,null,"   Business and management consultancy and public relations services",null,null,"",null,null,null,"-","-"]
[0,null,"   Business and management consultancy and public relations services",null,null,"",null,null,null,"-","-"]
[0,null,"   Business and management consultancy and public relations services",null,null,"",null,null,null,"-","-"]
[0,null,"   Business and management consultancy and public relations services",null,null,"",null,null,null,"-","-"]
[0,null,"   Business and management consultancy and public relations services",null,null,"",null,null,null,"-","-"]
[0,null,"   Business and management consultancy and public relations services",null,null,"",null,null,null,"-","-"]
[0,null,"   Business and management consultancy and public relations services",null,null,"",null,null,null,"-","-"]
[0,null,"   Business and management consultancy and public relations services",null,null,"",null,null,null,"-","-"]
[0,null,"   Business and management consultancy and public relations services",null,null,"",null,null,null,"-","-"]
[0,null,"   Business and management consultancy and public relations services",null,null,{"$f":"IF(E419=\"\",\"\",VLOOKUP(E419,$C$523:$E$563,2,FALSE))","v":""},null,null,null,"-","-"]
[0,null,"   Business and management consultancy and public relations services",null,null,"",null,null,null,"-","-"]
[0,null,"   Business and management consultancy and public relations services",null,null,"",null,null,null,"-","-"]
[0,null,"   Business and management consultancy and public relations services",null,null,"",null,null,null,"-","-"]
[0,null,"   Business and management consultancy and public relations services",null,null,"",null,null,null,"-","-"]
[0,null,"   Business and management consultancy and public relations services",null,null,"",null,null,null,"-","-"]
[0,null,"   Business and management consultancy and public relations services",null,null,"",null,null,null,"-","-"]
[1,19,"   Communication services",null,null,"",{"$f":"SUM(G427:G470)","v":0},{"$f":"SUM(H427:H470)","v":0}]
[1,null,"   Communication services",null,null,"",null,null,null,{"$f":"IF(COUNTIF(E$427:E$470,E427)>1,\"Duplicate country\",\"-\")","v":"-"},{"$f":"IF(AND(E427<>\"\",AND(G427=\"\",H427=\"\")),\"Input values\",\"-\")","v":"-"}]
[{"$f":"IF(OR(E428<>\"\",G428<>\"\",H428<>\"\"),1,0)","v":0},null,"   Communication services",null,null,"",null,null,null,{"$f":"IF(COUNTIF(E$427:E$470,E428)>1,\"Duplicate country\",\"-\")","v":"-"},{"$f":"IF(AND(E428<>\"\",AND(G428=\"\",H428=\"\")),\"Input values\",\"-\")","v":"-"}]
[0,null,"   Communication services",null,null,"",null,null,null,"-","-"]
[0,null,"   Communication services",null,null,"",null,null,null,"-","-"]
[0,null,"   Communication services",null,null,"",null,null,null,"-","-"]
[0,null,"   Communication services",null,null,"",null,null,null,"-","-"]
[0,null,"   Communication services",null,null,"",null,null,null,"-","-"]
[0,null,"   Communication services",null,null,"",null,null,null,"-","-"]
[0,null,"   Communication services",null,null,"",null,null,null,"-","-"]
[0,null,"   Communication services",null,null,"",null,null,null,"-","-"]
[0,null,"   Communication services",null,null,"",null,null,null,"-","-"]
[0,null,"   Communication services",null,null,"",null,null,null,"-","-"]
[0,null,"   Communication services",null,null,"",null,null,null,"-","-"]
[0,null,"   Communication services",null,null,"",null,null,null,"-","-"]
[0,null,"   Communication services",null,null,"",null,null,null,"-","-"]
[0,null,"   Communication services",null,null,"",null,null,null,"-","-"]
[0,null,"   Communication services",null,null,"",null,null,null,"-","-"]
[0,null,"   Communication services",null,null,"",null,null,null,"-","-"]
[0,null,"   Communication services",null,null,"",null,null,null,"-","-"]
[0,null,"   Communication services",null,null,"",null,null,null,"-","-"]
[0,null,"   Communication services",null,null,"",null,null,null,"-","-"]
[0,null,"   Communication services",null,null,"",null,null,null,"-","-"]
[0,null,"   Communication services",null,null,"",null,null,null,"-","-"]
[0,null,"   Communication services",null,null,"",null,null,null,"-","-"]
[0,null,"   Communication services",null,null,"",null,null,null,"-","-"]
[0,null,"   Communication services",null,null,"",null,null,null,"-","-"]
[0,null,"   Communication services",null,null,"",null,null,null,"-","-"]
[0,null,"   Communication services",null,null,"",null,null,null,"-","-"]
[0,null,"   Communication services",null,null,"",null,null,null,"-","-"]
[0,null,"   Communication services",null,null,"",null,null,null,"-","-"]
[0,null,"   Communication services",null,null,"",null,null,null,"-","-"]
[0,null,"   Communication services",null,null,"",null,null,null,"-","-"]
[0,null,"   Communication services",null,null,"",null,null,null,"-","-"]
[0,null,"   Communication services",null,null,"",null,null,null,"-","-"]
[0,null,"   Communication services",null,null,"",null,null,null,"-","-"]
[0,null,"   Communication services",null,null,"",null,null,null,"-","-"]
[0,null,"   Communication services",null,null,"",null,null,null,"-","-"]
[0,null,"   Communication services",null,null,"",null,null,null,"-","-"]
[0,null,"   Communication services",null,null,"",null,null,null,"-","-"]
[0,null,"   Communication services",null,null,"",null,null,null,"-","-"]
[0,null,"   Communication services",null,null,"",null,null,null,"-","-"]
[0,null,"   Communication services",null,null,"",null,null,null,"-","-"]
[0,null,"   Communication services",null,null,"",null,null,null,"-","-"]
[0,null,"   Communication services",null,null,"",null,null,null,"-","-"]
[1,20,"   Financial services",null,null,"",{"$f":"SUM(G472:G515)","v":0},{"$f":"SUM(H472:H515)","v":0}]
[1,null,"   Financial services",null,null,"",null,null,null,{"$f":"IF(COUNTIF(E$472:E$515,E472)>1,\"Duplicate country\",\"-\")","v":"-"},{"$f":"IF(AND(E472<>\"\",AND(G472=\"\",H472=\"\")),\"Input values\",\"-\")","v":"-"}]
[{"$f":"IF(OR(E473<>\"\",G473<>\"\",H473<>\"\"),1,0)","v":0},null,"   Financial services",null,null,"",null,null,null,{"$f":"IF(COUNTIF(E$472:E$515,E473)>1,\"Duplicate country\",\"-\")","v":"-"},{"$f":"IF(AND(E473<>\"\",AND(G473=\"\",H473=\"\")),\"Input values\",\"-\")","v":"-"}]
[0,null,"   Financial services",null,null,"",null,null,null,"-","-"]
[0,null,"   Financial services",null,null,"",null,null,null,"-","-"]
[0,null,"   Financial services",null,null,"",null,null,null,"-","-"]
[0,null,"   Financial services",null,null,"",null,null,null,"-","-"]
[0,null,"   Financial services",null,null,"",null,null,null,"-","-"]
[0,null,"   Financial services",null,null,"",null,null,null,"-","-"]
[0,null,"   Financial services",null,null,"",null,null,null,"-","-"]
[0,null,"   Financial services",null,null,"",null,null,null,"-","-"]
[0,null,"   Financial services",null,null,"",null,null,null,"-","-"]
[0,null,"   Financial services",null,null,{"$f":"IF(E483=\"\",\"\",VLOOKUP(E483,$C$523:$E$563,2,FALSE))","v":""},null,null,null,"-","-"]
[0,null,"   Financial services",null,null,"",null,null,null,"-","-"]
[0,null,"   Financial services",null,null,"",null,null,null,"-","-"]
[0,null,"   Financial services",null,null,"",null,null,null,"-","-"]
[0,null,"   Financial services",null,null,"",null,null,null,"-","-"]
[0,null,"   Financial services",null,null,"",null,null,null,"-","-"]
[0,null,"   Financial services",null,null,"",null,null,null,"-","-"]
[0,null,"   Financial services",null,null,"",null,null,null,"-","-"]
[0,null,"   Financial services",null,null,"",null,null,null,"-","-"]
[0,null,"   Financial services",null,null,"",null,null,null,"-","-"]
[0,null,"   Financial services",null,null,"",null,null,null,"-","-"]
[0,null,"   Financial services",null,null,"",null,null,null,"-","-"]
[0,null,"   Financial services",null,null,"",null,null,null,"-","-"]
[0,null,"   Financial services",null,null,"",null,null,null,"-","-"]
[0,null,"   Financial services",null,null,"",null,null,null,"-","-"]
[0,null,"   Financial services",null,null,"",null,null,null,"-","-"]
[0,null,"   Financial services",null,null,"",null,null,null,"-","-"]
[0,null,"   Financial services",null,null,"",null,null,null,"-","-"]
[0,null,"   Financial services",null,null,"",null,null,null,"-","-"]
[0,null,"   Financial services",null,null,"",null,null,null,"-","-"]
[0,null,"   Financial services",null,null,"",null,null,null,"-","-"]
[0,null,"   Financial services",null,null,"",null,null,null,"-","-"]
[0,null,"   Financial services",null,null,"",null,null,null,"-","-"]
[0,null,"   Financial services",null,null,"",null,null,null,"-","-"]
[0,null,"   Financial services",null,null,"",null,null,null,"-","-"]
[0,null,"   Financial services",null,null,"",null,null,null,"-","-"]
[0,null,"   Financial services",null,null,"",null,null,null,"-","-"]
[0,null,"   Financial services",null,null,"",null,null,null,"-","-"]
[0,null,"   Financial services",null,null,"",null,null,null,"-","-"]
[0,null,"   Financial services",null,null,"",null,null,null,"-","-"]
[0,null,"   Financial services",null,null,"",null,null,null,"-","-"]
[0,null,"   Financial services",null,null,"",null,null,null,"-","-"]
[0,null,"   Financial services",null,null,"",null,null,null,"-","-"]
[1]
[1,"* Contains a dropdown menu"]
[2]
[2]
[2]
[2]
[2]
[2,null,"Austria ","AT"]
[2,null,"Belgium ","BE"]
[2,null,"Brazil ","BR"]
[2,null,"Bulgaria ","BG"]
[2,null,"Canada ","CA"]
[2,null,"China ","CN"]
[2,null,"Croatia ","HR"]
[2,null,"Cyprus ","CY"]
[2,null,"Czech Republic ","CZ"]
[2,null,"Denmark ","DK"]
[2,null,"Estonia ","EE"]
[2,null,"Finland ","FI"]
[2,null,"France ","FR"]
[2,null,"Germany ","DE"]
[2,null,"Greece ","GR"]
[2,null,"Hong Kong ","HK"]
[2,null,"Hungary ","HU"]
[2,null,"India ","IN"]
[2,null,"Ireland ","IE"]
[2,null,"Italy ","IT"]
[2,null,"Japan ","JP"]
[2,null,"Latvia ","LV"]
[2,null,"Lithuania ","LT"]
[2,null,"Luxembourg ","LU"]
[2,null,"Netherlands ","NL"]
[2,null,"Poland ","PL"]
[2,null,"Portugal ","PT"]
[2,null,"Romania ","RO"]
[2,null,"Russian Federation ","RU"]
[2,null,"Slovak Republic ","SK"]
[2,null,"Slovenia ","SI"]
[2,null,"Spain ","ES"]
[2,null,"Sweden ","SE"]
[2,null,"Switzerland ","CH"]
[2,null,"United Kingdom ","GB"]
[2,null,"United States ","US"]
[2,null,"European Investment Bank ","4C"]
[2,null,"International Monetary Fund ","1C"]
[2,null,"International organisations (excluding Union Institutions)","9A"]
[2,null,"Union Institutions (excluding ECB)","4AA",null,"BPM5 was"]
[2,null,"Other countries not specified elsewhere","0_x28","Z8","Z8"]
[2]
[2]
[2]
[2]
[2]
[2]
[2]
[2]
[2]
[2]
[2]
[2]
[2]
[2]
[2]
[2]
[2]
[2]
[2]
[2]
[2]
[2]
[2]
[2]
[2]
[2]
[2]
[2]
[2]
[2]
[2]
[2]
[2]
[2]
[2]
[2]

{"sheet":"Matrix_Schema","index":16,"n_rows":1048572,"n_cols":16381,"rows_kept":4500,"cut":true,"hidden":true,"merged":[],"bounds":{"rows_first":2000,"rows_last":500,"rows_between":2000,"halvings":0}}
["CUBEiD","REPCUR","ENTITYID","GEOAREA","REFERENCE_DATE","TYPINS","AMOUNT","CLAIMS","MGTACC","PREMIUMS","RATIO","SOLVII","INCOME","EXPENDITURE"]
["CMQNT_13000",{"$f":"+'Cover Sheet'!$C$24","v":0},"ENTITY_ID","--- na ---",{"$f":"TEXT(+'Cover Sheet'!C$22,\"yyyymmdd\")","v":"19000100"},13000,{"$f":"IF(ISERROR(TRUNC(+QNST01!E11,4))=TRUE,\"\",TRUNC(+QNST01!E11,4))","v":0},"--- na ---","--- na ---","--- na ---","--- na ---","--- na ---","--- na ---","--- na ---"]
["CMQNT_13010",{"$f":"+'Cover Sheet'!$C$24","v":0},"ENTITY_ID","--- na ---",{"$f":"TEXT(+'Cover Sheet'!C$22,\"yyyymmdd\")","v":"19000100"},13010,{"$f":"IF(ISERROR(TRUNC(+QNST01!E12,4))=TRUE,\"\",TRUNC(+QNST01!E12,4))","v":0},"--- na ---","--- na ---","--- na ---","--- na ---","--- na ---","--- na ---","--- na ---"]
["CMQNT_13020",{"$f":"+'Cover Sheet'!$C$24","v":0},"ENTITY_ID","--- na ---",{"$f":"TEXT(+'Cover Sheet'!C$22,\"yyyymmdd\")","v":"19000100"},13020,{"$f":"IF(ISERROR(TRUNC(+QNST01!E13,4))=TRUE,\"\",TRUNC(+QNST01!E13,4))","v":0},"--- na ---","--- na ---","--- na ---","--- na ---","--- na ---","--- na ---","--- na ---"]
["CMQNT_13030",{"$f":"+'Cover Sheet'!$C$24","v":0},"ENTITY_ID","--- na ---",{"$f":"TEXT(+'Cover Sheet'!C$22,\"yyyymmdd\")","v":"19000100"},13030,{"$f":"IF(ISERROR(TRUNC(+QNST01!E14,4))=TRUE,\"\",TRUNC(+QNST01!E14,4))","v":0},"--- na ---","--- na ---","--- na ---","--- na ---","--- na ---","--- na ---","--- na ---"]
["CMQNT_13040",{"$f":"+'Cover Sheet'!$C$24","v":0},"ENTITY_ID","--- na ---",{"$f":"TEXT(+'Cover Sheet'!C$22,\"yyyymmdd\")","v":"19000100"},13040,{"$f":"IF(ISERROR(TRUNC(+QNST01!E15,4))=TRUE,\"\",TRUNC(+QNST01!E15,4))","v":0},"--- na ---","--- na ---","--- na ---","--- na ---","--- na ---","--- na ---","--- na ---"]
["CMQNT_13050",{"$f":"+'Cover Sheet'!$C$24","v":0},"ENTITY_ID","--- na ---",{"$f":"TEXT(+'Cover Sheet'!C$22,\"yyyymmdd\")","v":"19000100"},13050,{"$f":"IF(ISERROR(TRUNC(+QNST01!E17,4))=TRUE,\"\",TRUNC(+QNST01!E17,4))","v":0},"--- na ---","--- na ---","--- na ---","--- na ---","--- na ---","--- na ---","--- na ---"]
["CMQNT_13060",{"$f":"+'Cover Sheet'!$C$24","v":0},"ENTITY_ID","--- na ---",{"$f":"TEXT(+'Cover Sheet'!C$22,\"yyyymmdd\")","v":"19000100"},13060,{"$f":"IF(ISERROR(TRUNC(+QNST01!E18,4))=TRUE,\"\",TRUNC(+QNST01!E18,4))","v":0},"--- na ---","--- na ---","--- na ---","--- na ---","--- na ---","--- na ---","--- na ---"]
["CMQNT_13070",{"$f":"+'Cover Sheet'!$C$24","v":0},"ENTITY_ID","--- na ---",{"$f":"TEXT(+'Cover Sheet'!C$22,\"yyyymmdd\")","v":"19000100"},13070,{"$f":"IF(ISERROR(TRUNC(+QNST01!E19,4))=TRUE,\"\",TRUNC(+QNST01!E19,4))","v":0},"--- na ---","--- na ---","--- na ---","--- na ---","--- na ---","--- na ---","--- na ---"]
["CMQNT_13080",{"$f":"+'Cover Sheet'!$C$24","v":0},"ENTITY_ID","--- na ---",{"$f":"TEXT(+'Cover Sheet'!C$22,\"yyyymmdd\")","v":"19000100"},13080,{"$f":"IF(ISERROR(TRUNC(+QNST01!E21,4))=TRUE,\"\",TRUNC(+QNST01!E21,4))","v":0},"--- na ---","--- na ---","--- na ---","--- na ---","--- na ---","--- na ---","--- na ---"]
["CMQNT_13090",{"$f":"+'Cover Sheet'!$C$24","v":0},"ENTITY_ID","--- na ---",{"$f":"TEXT(+'Cover Sheet'!C$22,\"yyyymmdd\")","v":"19000100"},13090,{"$f":"IF(ISERROR(TRUNC(+QNST01!E23,4))=TRUE,\"\",TRUNC(+QNST01!E23,4))","v":0},"--- na ---","--- na ---","--- na ---","--- na ---","--- na ---","--- na ---","--- na ---"]
["CMQNT_13100",{"$f":"+'Cover Sheet'!$C$24","v":0},"ENTITY_ID","--- na ---",{"$f":"TEXT(+'Cover Sheet'!C$22,\"yyyymmdd\")","v":"19000100"},13100,{"$f":"IF(ISERROR(TRUNC(+QNST01!E25,4))=TRUE,\"\",TRUNC(+QNST01!E25,4))","v":0},"--- na ---","--- na ---","--- na ---","--- na ---","--- na ---","--- na ---","--- na ---"]
["CMQNT_13101",{"$f":"+'Cover Sheet'!$C$24","v":0},"ENTITY_ID","--- na ---",{"$f":"TEXT(+'Cover Sheet'!C$22,\"yyyymmdd\")","v":"19000100"},13101,{"$f":"IF(ISERROR(TRUNC(+CBM!G12,4))=TRUE,\"\",TRUNC(+CBM!G12,4))","v":0},"--- na ---","--- na ---","--- na ---","--- na ---","--- na ---","--- na ---","--- na ---"]
["CMQNT_13102",{"$f":"+'Cover Sheet'!$C$24","v":0},"ENTITY_ID","--- na ---",{"$f":"TEXT(+'Cover Sheet'!C$22,\"yyyymmdd\")","v":"19000100"},13102,{"$f":"IF(ISERROR(TRUNC(+CBM!G13,4))=TRUE,\"\",TRUNC(+CBM!G13,4))","v":0},"--- na ---","--- na ---","--- na ---","--- na ---","--- na ---","--- na ---","--- na ---"]
["CMQNT_13103",{"$f":"+'Cover Sheet'!$C$24","v":0},"ENTITY_ID","--- na ---",{"$f":"TEXT(+'Cover Sheet'!C$22,\"yyyymmdd\")","v":"19000100"},13103,{"$f":"IF(ISERROR(TRUNC(+CBM!G14,4))=TRUE,\"\",TRUNC(+CBM!G14,4))","v":0},"--- na ---","--- na ---","--- na ---","--- na ---","--- na ---","--- na ---","--- na ---"]
["CMQNT_13104",{"$f":"+'Cover Sheet'!$C$24","v":0},"ENTITY_ID","--- na ---",{"$f":"TEXT(+'Cover Sheet'!C$22,\"yyyymmdd\")","v":"19000100"},13104,{"$f":"IF(ISERROR(TRUNC(+CBM!G15,4))=TRUE,\"\",TRUNC(+CBM!G15,4))","v":0},"--- na ---","--- na ---","--- na ---","--- na ---","--- na ---","--- na ---","--- na ---"]
["CMQNT_13105",{"$f":"+'Cover Sheet'!$C$24","v":0},"ENTITY_ID","--- na ---",{"$f":"TEXT(+'Cover Sheet'!C$22,\"yyyymmdd\")","v":"19000100"},13105,{"$f":"IF(ISERROR(TRUNC(+CBM!G16,4))=TRUE,\"\",TRUNC(+CBM!G16,4))","v":0},"--- na ---","--- na ---","--- na ---","--- na ---","--- na ---","--- na ---","--- na ---"]
["CMQNT_13106",{"$f":"+'Cover Sheet'!$C$24","v":0},"ENTITY_ID","--- na ---",{"$f":"TEXT(+'Cover Sheet'!C$22,\"yyyymmdd\")","v":"19000100"},13106,{"$f":"IF(ISERROR(TRUNC(+CBM!G17,4))=TRUE,\"\",TRUNC(+CBM!G17,4))","v":0},"--- na ---","--- na ---","--- na ---","--- na ---","--- na ---","--- na ---","--- na ---"]
["CMQNT_13107",{"$f":"+'Cover Sheet'!$C$24","v":0},"ENTITY_ID","--- na ---",{"$f":"TEXT(+'Cover Sheet'!C$22,\"yyyymmdd\")","v":"19000100"},13107,{"$f":"IF(ISERROR(TRUNC(+CBM!G18,4))=TRUE,\"\",TRUNC(+CBM!G18,4))","v":0},"--- na ---","--- na ---","--- na ---","--- na ---","--- na ---","--- na ---","--- na ---"]
["CMQNT_13108",{"$f":"+'Cover Sheet'!$C$24","v":0},"ENTITY_ID","--- na ---",{"$f":"TEXT(+'Cover Sheet'!C$22,\"yyyymmdd\")","v":"19000100"},13108,{"$f":"IF(ISERROR(TRUNC(+CBM!G19,4))=TRUE,\"\",TRUNC(+CBM!G19,4))","v":0},"--- na ---","--- na ---","--- na ---","--- na ---","--- na ---","--- na ---","--- na ---"]
["CMQNT_13109",{"$f":"+'Cover Sheet'!$C$24","v":0},"ENTITY_ID","--- na ---",{"$f":"TEXT(+'Cover Sheet'!C$22,\"yyyymmdd\")","v":"19000100"},13109,{"$f":"IF(ISERROR(TRUNC(+CBM!G20,4))=TRUE,\"\",TRUNC(+CBM!G20,4))","v":0},"--- na ---","--- na ---","--- na ---","--- na ---","--- na ---","--- na ---","--- na ---"]
["CMQNT_13110",{"$f":"+'Cover Sheet'!$C$24","v":0},"ENTITY_ID","--- na ---",{"$f":"TEXT(+'Cover Sheet'!C$22,\"yyyymmdd\")","v":"19000100"},13110,{"$f":"IF(ISERROR(TRUNC(+CBM!G21,4))=TRUE,\"\",TRUNC(+CBM!G21,4))","v":0},"--- na ---","--- na ---","--- na ---","--- na ---","--- na ---","--- na ---","--- na ---"]
["CMQNT_13111",{"$f":"+'Cover Sheet'!$C$24","v":0},"ENTITY_ID","--- na ---",{"$f":"TEXT(+'Cover Sheet'!C$22,\"yyyymmdd\")","v":"19000100"},13111,{"$f":"IF(ISERROR(TRUNC(+CBM!G22,4))=TRUE,\"\",TRUNC(+CBM!G22,4))","v":0},"--- na ---","--- na ---","--- na ---","--- na ---","--- na ---","--- na ---","--- na ---"]
["CMQNT_13112",{"$f":"+'Cover Sheet'!$C$24","v":0},"ENTITY_ID","--- na ---",{"$f":"TEXT(+'Cover Sheet'!C$22,\"yyyymmdd\")","v":"19000100"},13112,{"$f":"IF(ISERROR(TRUNC(+CBM!G23,4))=TRUE,\"\",TRUNC(+CBM!G23,4))","v":0},"--- na ---","--- na ---","--- na ---","--- na ---","--- na ---","--- na ---","--- na ---"]
["CMQNT_13113",{"$f":"+'Cover Sheet'!$C$24","v":0},"ENTITY_ID","--- na ---",{"$f":"TEXT(+'Cover Sheet'!C$22,\"yyyymmdd\")","v":"19000100"},13113,{"$f":"IF(ISERROR(TRUNC(+QNST01!E27,4))=TRUE,\"\",TRUNC(+QNST01!E27,4))","v":0},"--- na ---","--- na ---","--- na ---","--- na ---","--- na ---","--- na ---","--- na ---"]
["CMQNT_13120",{"$f":"+'Cover Sheet'!$C$24","v":0},"ENTITY_ID","--- na ---",{"$f":"TEXT(+'Cover Sheet'!C$22,\"yyyymmdd\")","v":"19000100"},13120,{"$f":"IF(ISERROR(TRUNC(+QNST01!E29,4))=TRUE,\"\",TRUNC(+QNST01!E29,4))","v":0},"--- na ---","--- na ---","--- na ---","--- na ---","--- na ---","--- na ---","--- na ---"]
["CMQNT_13130",{"$f":"+'Cover Sheet'!$C$24","v":0},"ENTITY_ID","--- na ---",{"$f":"TEXT(+'Cover Sheet'!C$22,\"yyyymmdd\")","v":"19000100"},13130,{"$f":"IF(ISERROR(TRUNC(+QNST01!E30,4))=TRUE,\"\",TRUNC(+QNST01!E30,4))","v":0},"--- na ---","--- na ---","--- na ---","--- na ---","--- na ---","--- na ---","--- na ---"]
["CMQNT_13140",{"$f":"+'Cover Sheet'!$C$24","v":0},"ENTITY_ID","--- na ---",{"$f":"TEXT(+'Cover Sheet'!C$22,\"yyyymmdd\")","v":"19000100"},13140,{"$f":"IF(ISERROR(TRUNC(+QNST01!E31,4))=TRUE,\"\",TRUNC(+QNST01!E31,4))","v":0},"--- na ---","--- na ---","--- na ---","--- na ---","--- na ---","--- na ---","--- na ---"]
["CMQNT_13150",{"$f":"+'Cover Sheet'!$C$24","v":0},"ENTITY_ID","--- na ---",{"$f":"TEXT(+'Cover Sheet'!C$22,\"yyyymmdd\")","v":"19000100"},13150,{"$f":"IF(ISERROR(TRUNC(+QNST01!E33,4))=TRUE,\"\",TRUNC(+QNST01!E33,4))","v":0},"--- na ---","--- na ---","--- na ---","--- na ---","--- na ---","--- na ---","--- na ---"]
["CMQNT_13160",{"$f":"+'Cover Sheet'!$C$24","v":0},"ENTITY_ID","--- na ---",{"$f":"TEXT(+'Cover Sheet'!C$22,\"yyyymmdd\")","v":"19000100"},13160,{"$f":"IF(ISERROR(TRUNC(+QNST01!E34,4))=TRUE,\"\",TRUNC(+QNST01!E34,4))","v":0},"--- na ---","--- na ---","--- na ---","--- na ---","--- na ---","--- na ---","--- na ---"]
["CMQNT_13170",{"$f":"+'Cover Sheet'!$C$24","v":0},"ENTITY_ID","--- na ---",{"$f":"TEXT(+'Cover Sheet'!C$22,\"yyyymmdd\")","v":"19000100"},13170,{"$f":"IF(ISERROR(TRUNC(+QNST01!E35,4))=TRUE,\"\",TRUNC(+QNST01!E35,4))","v":0},"--- na ---","--- na ---","--- na ---","--- na ---","--- na ---","--- na ---","--- na ---"]
["CMQNT_13180",{"$f":"+'Cover Sheet'!$C$24","v":0},"ENTITY_ID","--- na ---",{"$f":"TEXT(+'Cover Sheet'!C$22,\"yyyymmdd\")","v":"19000100"},13180,{"$f":"IF(ISERROR(TRUNC(+QNST01!E36,4))=TRUE,\"\",TRUNC(+QNST01!E36,4))","v":0},"--- na ---","--- na ---","--- na ---","--- na ---","--- na ---","--- na ---","--- na ---"]
["CMQNT_13190",{"$f":"+'Cover Sheet'!$C$24","v":0},"ENTITY_ID","--- na ---",{"$f":"TEXT(+'Cover Sheet'!C$22,\"yyyymmdd\")","v":"19000100"},13190,{"$f":"IF(ISERROR(TRUNC(+QNST01!E37,4))=TRUE,\"\",TRUNC(+QNST01!E37,4))","v":0},"--- na ---","--- na ---","--- na ---","--- na ---","--- na ---","--- na ---","--- na ---"]
["CMQNT_13200",{"$f":"+'Cover Sheet'!$C$24","v":0},"ENTITY_ID","--- na ---",{"$f":"TEXT(+'Cover Sheet'!C$22,\"yyyymmdd\")","v":"19000100"},13200,{"$f":"IF(ISERROR(TRUNC(+QNST01!E38,4))=TRUE,\"\",TRUNC(+QNST01!E38,4))","v":0},"--- na ---","--- na ---","--- na ---","--- na ---","--- na ---","--- na ---","--- na ---"]
["CMQNT_13210",{"$f":"+'Cover Sheet'!$C$24","v":0},"ENTITY_ID","--- na ---",{"$f":"TEXT(+'Cover Sheet'!C$22,\"yyyymmdd\")","v":"19000100"},13210,{"$f":"IF(ISERROR(TRUNC(+QNST01!E39,4))=TRUE,\"\",TRUNC(+QNST01!E39,4))","v":0},"--- na ---","--- na ---","--- na ---","--- na ---","--- na ---","--- na ---","--- na ---"]
["CMQNT_13220",{"$f":"+'Cover Sheet'!$C$24","v":0},"ENTITY_ID","--- na ---",{"$f":"TEXT(+'Cover Sheet'!C$22,\"yyyymmdd\")","v":"19000100"},13220,{"$f":"IF(ISERROR(TRUNC(+QNST01!E40,4))=TRUE,\"\",TRUNC(+QNST01!E40,4))","v":0},"--- na ---","--- na ---","--- na ---","--- na ---","--- na ---","--- na ---","--- na ---"]
["CMQNT_13230",{"$f":"+'Cover Sheet'!$C$24","v":0},"ENTITY_ID","--- na ---",{"$f":"TEXT(+'Cover Sheet'!C$22,\"yyyymmdd\")","v":"19000100"},13230,{"$f":"IF(ISERROR(TRUNC(+QNST01!E41,4))=TRUE,\"\",TRUNC(+QNST01!E41,4))","v":0},"--- na ---","--- na ---","--- na ---","--- na ---","--- na ---","--- na ---","--- na ---"]
["CMQNT_13240",{"$f":"+'Cover Sheet'!$C$24","v":0},"ENTITY_ID","--- na ---",{"$f":"TEXT(+'Cover Sheet'!C$22,\"yyyymmdd\")","v":"19000100"},13240,{"$f":"IF(ISERROR(TRUNC(+QNST01!E43,4))=TRUE,\"\",TRUNC(+QNST01!E43,4))","v":0},"--- na ---","--- na ---","--- na ---","--- na ---","--- na ---","--- na ---","--- na ---"]
["CMQNT_13250",{"$f":"+'Cover Sheet'!$C$24","v":0},"ENTITY_ID","--- na ---",{"$f":"TEXT(+'Cover Sheet'!C$22,\"yyyymmdd\")","v":"19000100"},13250,{"$f":"IF(ISERROR(TRUNC(+QNST01!E45,4))=TRUE,\"\",TRUNC(+QNST01!E45,4))","v":0},"--- na ---","--- na ---","--- na ---","--- na ---","--- na ---","--- na ---","--- na ---"]
["CMQNT_13260",{"$f":"+'Cover Sheet'!$C$24","v":0},"ENTITY_ID","--- na ---",{"$f":"TEXT(+'Cover Sheet'!C$22,\"yyyymmdd\")","v":"19000100"},13260,{"$f":"IF(ISERROR(TRUNC(+QNST01!E47,4))=TRUE,\"\",TRUNC(+QNST01!E47,4))","v":0},"--- na ---","--- na ---","--- na ---","--- na ---","--- na ---","--- na ---","--- na ---"]
["CMQNT_13270",{"$f":"+'Cover Sheet'!$C$24","v":0},"ENTITY_ID","--- na ---",{"$f":"TEXT(+'Cover Sheet'!C$22,\"yyyymmdd\")","v":"19000100"},13270,{"$f":"IF(ISERROR(TRUNC(+QNST01!E48,4))=TRUE,\"\",TRUNC(+QNST01!E48,4))","v":0},"--- na ---","--- na ---","--- na ---","--- na ---","--- na ---","--- na ---","--- na ---"]
["CMQNT_13280",{"$f":"+'Cover Sheet'!$C$24","v":0},"ENTITY_ID","--- na ---",{"$f":"TEXT(+'Cover Sheet'!C$22,\"yyyymmdd\")","v":"19000100"},13280,{"$f":"IF(ISERROR(TRUNC(+QNST01!E49,4))=TRUE,\"\",TRUNC(+QNST01!E49,4))","v":0},"--- na ---","--- na ---","--- na ---","--- na ---","--- na ---","--- na ---","--- na ---"]
["CMQNT_13290",{"$f":"+'Cover Sheet'!$C$24","v":0},"ENTITY_ID","--- na ---",{"$f":"TEXT(+'Cover Sheet'!C$22,\"yyyymmdd\")","v":"19000100"},13290,{"$f":"IF(ISERROR(TRUNC(+QNST01!E50,4))=TRUE,\"\",TRUNC(+QNST01!E50,4))","v":0},"--- na ---","--- na ---","--- na ---","--- na ---","--- na ---","--- na ---","--- na ---"]
["CMQNT_13300",{"$f":"+'Cover Sheet'!$C$24","v":0},"ENTITY_ID","--- na ---",{"$f":"TEXT(+'Cover Sheet'!C$22,\"yyyymmdd\")","v":"19000100"},13300,{"$f":"IF(ISERROR(TRUNC(+QNST01!E51,4))=TRUE,\"\",TRUNC(+QNST01!E51,4))","v":0},"--- na ---","--- na ---","--- na ---","--- na ---","--- na ---","--- na ---","--- na ---"]
["CMQNT_13310",{"$f":"+'Cover Sheet'!$C$24","v":0},"ENTITY_ID","--- na ---",{"$f":"TEXT(+'Cover Sheet'!C$22,\"yyyymmdd\")","v":"19000100"},13310,{"$f":"IF(ISERROR(TRUNC(+QNST01!E52,4))=TRUE,\"\",TRUNC(+QNST01!E52,4))","v":0},"--- na ---","--- na ---","--- na ---","--- na ---","--- na ---","--- na ---","--- na ---"]
["CMQNT_13320",{"$f":"+'Cover Sheet'!$C$24","v":0},"ENTITY_ID","--- na ---",{"$f":"TEXT(+'Cover Sheet'!C$22,\"yyyymmdd\")","v":"19000100"},13320,{"$f":"IF(ISERROR(TRUNC(+QNST01!E53,4))=TRUE,\"\",TRUNC(+QNST01!E53,4))","v":0},"--- na ---","--- na ---","--- na ---","--- na ---","--- na ---","--- na ---","--- na ---"]
["CMQNT_13321",{"$f":"+'Cover Sheet'!$C$24","v":0},"ENTITY_ID","--- na ---",{"$f":"TEXT(+'Cover Sheet'!C$22,\"yyyymmdd\")","v":"19000100"},13321,{"$f":"IF(ISERROR(TRUNC(+CBM!G26,4))=TRUE,\"\",TRUNC(+CBM!G26,4))","v":0},"--- na ---","--- na ---","--- na ---","--- na ---","--- na ---","--- na ---","--- na ---"]
["CMQNT_13322",{"$f":"+'Cover Sheet'!$C$24","v":0},"ENTITY_ID","--- na ---",{"$f":"TEXT(+'Cover Sheet'!C$22,\"yyyymmdd\")","v":"19000100"},13322,{"$f":"IF(ISERROR(TRUNC(+CBM!G27,4))=TRUE,\"\",TRUNC(+CBM!G27,4))","v":0},"--- na ---","--- na ---","--- na ---","--- na ---","--- na ---","--- na ---","--- na ---"]
["CMQNT_13323",{"$f":"+'Cover Sheet'!$C$24","v":0},"ENTITY_ID","--- na ---",{"$f":"TEXT(+'Cover Sheet'!C$22,\"yyyymmdd\")","v":"19000100"},13323,{"$f":"IF(ISERROR(TRUNC(+CBM!G28,4))=TRUE,\"\",TRUNC(+CBM!G28,4))","v":0},"--- na ---","--- na ---","--- na ---","--- na ---","--- na ---","--- na ---","--- na ---"]
["CMQNT_13324",{"$f":"+'Cover Sheet'!$C$24","v":0},"ENTITY_ID","--- na ---",{"$f":"TEXT(+'Cover Sheet'!C$22,\"yyyymmdd\")","v":"19000100"},13324,{"$f":"IF(ISERROR(TRUNC(+CBM!G29,4))=TRUE,\"\",TRUNC(+CBM!G29,4))","v":0},"--- na ---","--- na ---","--- na ---","--- na ---","--- na ---","--- na ---","--- na ---"]
["CMQNT_13325",{"$f":"+'Cover Sheet'!$C$24","v":0},"ENTITY_ID","--- na ---",{"$f":"TEXT(+'Cover Sheet'!C$22,\"yyyymmdd\")","v":"19000100"},13325,{"$f":"IF(ISERROR(TRUNC(+CBM!G30,4))=TRUE,\"\",TRUNC(+CBM!G30,4))","v":0},"--- na ---","--- na ---","--- na ---","--- na ---","--- na ---","--- na ---","--- na ---"]
["CMQNT_13330",{"$f":"+'Cover Sheet'!$C$24","v":0},"ENTITY_ID","--- na ---",{"$f":"TEXT(+'Cover Sheet'!C$22,\"yyyymmdd\")","v":"19000100"},13330,{"$f":"IF(ISERROR(TRUNC(+QNST01!E54,4))=TRUE,\"\",TRUNC(+QNST01!E54,4))","v":0},"--- na ---","--- na ---","--- na ---","--- na ---","--- na ---","--- na ---","--- na ---"]
["CMQNT_13340",{"$f":"+'Cover Sheet'!$C$24","v":0},"ENTITY_ID","--- na ---",{"$f":"TEXT(+'Cover Sheet'!C$22,\"yyyymmdd\")","v":"19000100"},13340,{"$f":"IF(ISERROR(TRUNC(+QNST01!E56,4))=TRUE,\"\",TRUNC(+QNST01!E56,4))","v":0},"--- na ---","--- na ---","--- na ---","--- na ---","--- na ---","--- na ---","--- na ---"]
["CMQNT_13350",{"$f":"+'Cover Sheet'!$C$24","v":0},"ENTITY_ID","--- na ---",{"$f":"TEXT(+'Cover Sheet'!C$22,\"yyyymmdd\")","v":"19000100"},13350,{"$f":"IF(ISERROR(TRUNC(+QNST01!E58,4))=TRUE,\"\",TRUNC(+QNST01!E58,4))","v":0},"--- na ---","--- na ---","--- na ---","--- na ---","--- na ---","--- na ---","--- na ---"]
["CMQNT_13360",{"$f":"+'Cover Sheet'!$C$24","v":0},"ENTITY_ID","--- na ---",{"$f":"TEXT(+'Cover Sheet'!C$22,\"yyyymmdd\")","v":"19000100"},13360,"--- na ---","--- na ---","--- na ---","--- na ---",{"$f":"IF(ISERROR(TRUNC(+QNST01!E68,4))=TRUE, \"\",TRUNC(+QNST01!E68,4))","v":""},"--- na ---","--- na ---","--- na ---"]
["CMQNT_13370",{"$f":"+'Cover Sheet'!$C$24","v":0},"ENTITY_ID","--- na ---",{"$f":"TEXT(+'Cover Sheet'!C$22,\"yyyymmdd\")","v":"19000100"},13370,"--- na ---","--- na ---","--- na ---","--- na ---",{"$f":"IF(ISERROR(TRUNC(+QNST01!E69,4))=TRUE, \"\",TRUNC(+QNST01!E69,4))","v":""},"--- na ---","--- na ---","--- na ---"]
["CMQNT_13380",{"$f":"+'Cover Sheet'!$C$24","v":0},"ENTITY_ID","--- na ---",{"$f":"TEXT(+'Cover Sheet'!C$22,\"yyyymmdd\")","v":"19000100"},13380,"--- na ---","--- na ---","--- na ---","--- na ---",{"$f":"IF(ISERROR(TRUNC(+QNST01!E70,4))=TRUE, \"\",TRUNC(+QNST01!E70,4))","v":""},"--- na ---","--- na ---","--- na ---"]
["CMQNT_13390",{"$f":"+'Cover Sheet'!$C$24","v":0},"ENTITY_ID","--- na ---",{"$f":"TEXT(+'Cover Sheet'!C$22,\"yyyymmdd\")","v":"19000100"},13390,"--- na ---","--- na ---","--- na ---","--- na ---",{"$f":"IF(ISERROR(TRUNC(+QNST01!E71,4))=TRUE, \"\",TRUNC(+QNST01!E71,4))","v":""},"--- na ---","--- na ---","--- na ---"]
["CMQNT_13400",{"$f":"+'Cover Sheet'!$C$24","v":0},"ENTITY_ID","--- na ---",{"$f":"TEXT(+'Cover Sheet'!C$22,\"yyyymmdd\")","v":"19000100"},13400,"--- na ---","--- na ---","--- na ---","--- na ---",{"$f":"IF(ISERROR(TRUNC(+QNST01!E72,4))=TRUE, \"\",TRUNC(+QNST01!E72,4))","v":""},"--- na ---","--- na ---","--- na ---"]
["CMQNT_13410",{"$f":"+'Cover Sheet'!$C$24","v":0},"ENTITY_ID","--- na ---",{"$f":"TEXT(+'Cover Sheet'!C$22,\"yyyymmdd\")","v":"19000100"},13410,{"$f":"IF(ISERROR(TRUNC(+QNST02!E11,4))=TRUE,\"\",TRUNC(+QNST02!E11,4))","v":0},"--- na ---","--- na ---","--- na ---","--- na ---","--- na ---","--- na ---","--- na ---"]
["CMQNT_13420",{"$f":"+'Cover Sheet'!$C$24","v":0},"ENTITY_ID","--- na ---",{"$f":"TEXT(+'Cover Sheet'!C$22,\"yyyymmdd\")","v":"19000100"},13420,{"$f":"IF(ISERROR(TRUNC(+QNST02!E12,4))=TRUE,\"\",TRUNC(+QNST02!E12,4))","v":0},"--- na ---","--- na ---","--- na ---","--- na ---","--- na ---","--- na ---","--- na ---"]
["CMQNT_13430",{"$f":"+'Cover Sheet'!$C$24","v":0},"ENTITY_ID","--- na ---",{"$f":"TEXT(+'Cover Sheet'!C$22,\"yyyymmdd\")","v":"19000100"},13430,{"$f":"IF(ISERROR(TRUNC(+QNST02!E13,4))=TRUE,\"\",TRUNC(+QNST02!E13,4))","v":0},"--- na ---","--- na ---","--- na ---","--- na ---","--- na ---","--- na ---","--- na ---"]
["CMQNT_13440",{"$f":"+'Cover Sheet'!$C$24","v":0},"ENTITY_ID","--- na ---",{"$f":"TEXT(+'Cover Sheet'!C$22,\"yyyymmdd\")","v":"19000100"},13440,{"$f":"IF(ISERROR(TRUNC(+QNST02!E14,4))=TRUE,\"\",TRUNC(+QNST02!E14,4))","v":0},"--- na ---","--- na ---","--- na ---","--- na ---","--- na ---","--- na ---","--- na ---"]
["CMQNT_13450",{"$f":"+'Cover Sheet'!$C$24","v":0},"ENTITY_ID","--- na ---",{"$f":"TEXT(+'Cover Sheet'!C$22,\"yyyymmdd\")","v":"19000100"},13450,{"$f":"IF(ISERROR(TRUNC(+QNST02!E15,4))=TRUE,\"\",TRUNC(+QNST02!E15,4))","v":0},"--- na ---","--- na ---","--- na ---","--- na ---","--- na ---","--- na ---","--- na ---"]
["CMQNT_13460",{"$f":"+'Cover Sheet'!$C$24","v":0},"ENTITY_ID","--- na ---",{"$f":"TEXT(+'Cover Sheet'!C$22,\"yyyymmdd\")","v":"19000100"},13460,{"$f":"IF(ISERROR(TRUNC(+QNST02!E17,4))=TRUE,\"\",TRUNC(+QNST02!E17,4))","v":0},"--- na ---","--- na ---","--- na ---","--- na ---","--- na ---","--- na ---","--- na ---"]
["CMQNT_13470",{"$f":"+'Cover Sheet'!$C$24","v":0},"ENTITY_ID","--- na ---",{"$f":"TEXT(+'Cover Sheet'!C$22,\"yyyymmdd\")","v":"19000100"},13470,{"$f":"IF(ISERROR(TRUNC(+QNST02!E18,4))=TRUE,\"\",TRUNC(+QNST02!E18,4))","v":0},"--- na ---","--- na ---","--- na ---","--- na ---","--- na ---","--- na ---","--- na ---"]
["CMQNT_13480",{"$f":"+'Cover Sheet'!$C$24","v":0},"ENTITY_ID","--- na ---",{"$f":"TEXT(+'Cover Sheet'!C$22,\"yyyymmdd\")","v":"19000100"},13480,{"$f":"IF(ISERROR(TRUNC(+QNST02!E19,4))=TRUE,\"\",TRUNC(+QNST02!E19,4))","v":0},"--- na ---","--- na ---","--- na ---","--- na ---","--- na ---","--- na ---","--- na ---"]
["CMQNT_13490",{"$f":"+'Cover Sheet'!$C$24","v":0},"ENTITY_ID","--- na ---",{"$f":"TEXT(+'Cover Sheet'!C$22,\"yyyymmdd\")","v":"19000100"},13490,{"$f":"IF(ISERROR(TRUNC(+QNST02!E21,4))=TRUE,\"\",TRUNC(+QNST02!E21,4))","v":0},"--- na ---","--- na ---","--- na ---","--- na ---","--- na ---","--- na ---","--- na ---"]
["CMQNT_13500",{"$f":"+'Cover Sheet'!$C$24","v":0},"ENTITY_ID","--- na ---",{"$f":"TEXT(+'Cover Sheet'!C$22,\"yyyymmdd\")","v":"19000100"},13500,{"$f":"IF(ISERROR(TRUNC(+QNST02!E23,4))=TRUE,\"\",TRUNC(+QNST02!E23,4))","v":0},"--- na ---","--- na ---","--- na ---","--- na ---","--- na ---","--- na ---","--- na ---"]
["CMQNT_13510",{"$f":"+'Cover Sheet'!$C$24","v":0},"ENTITY_ID","--- na ---",{"$f":"TEXT(+'Cover Sheet'!C$22,\"yyyymmdd\")","v":"19000100"},13510,{"$f":"IF(ISERROR(TRUNC(+QNST02!E25,4))=TRUE,\"\",TRUNC(+QNST02!E25,4))","v":0},"--- na ---","--- na ---","--- na ---","--- na ---","--- na ---","--- na ---","--- na ---"]
["CMQNT_13511",{"$f":"+'Cover Sheet'!$C$24","v":0},"ENTITY_ID","--- na ---",{"$f":"TEXT(+'Cover Sheet'!C$22,\"yyyymmdd\")","v":"19000100"},13511,{"$f":"IF(ISERROR(TRUNC(+CBM!H12,4))=TRUE,\"\",TRUNC(+CBM!H12,4))","v":0},"--- na ---","--- na ---","--- na ---","--- na ---","--- na ---","--- na ---","--- na ---"]
["CMQNT_13512",{"$f":"+'Cover Sheet'!$C$24","v":0},"ENTITY_ID","--- na ---",{"$f":"TEXT(+'Cover Sheet'!C$22,\"yyyymmdd\")","v":"19000100"},13512,{"$f":"IF(ISERROR(TRUNC(+CBM!H13,4))=TRUE,\"\",TRUNC(+CBM!H13,4))","v":0},"--- na ---","--- na ---","--- na ---","--- na ---","--- na ---","--- na ---","--- na ---"]
["CMQNT_13513",{"$f":"+'Cover Sheet'!$C$24","v":0},"ENTITY_ID","--- na ---",{"$f":"TEXT(+'Cover Sheet'!C$22,\"yyyymmdd\")","v":"19000100"},13513,{"$f":"IF(ISERROR(TRUNC(+CBM!H14,4))=TRUE,\"\",TRUNC(+CBM!H14,4))","v":0},"--- na ---","--- na ---","--- na ---","--- na ---","--- na ---","--- na ---","--- na ---"]
["CMQNT_13514",{"$f":"+'Cover Sheet'!$C$24","v":0},"ENTITY_ID","--- na ---",{"$f":"TEXT(+'Cover Sheet'!C$22,\"yyyymmdd\")","v":"19000100"},13514,{"$f":"IF(ISERROR(TRUNC(+CBM!H15,4))=TRUE,\"\",TRUNC(+CBM!H15,4))","v":0},"--- na ---","--- na ---","--- na ---","--- na ---","--- na ---","--- na ---","--- na ---"]
["CMQNT_13515",{"$f":"+'Cover Sheet'!$C$24","v":0},"ENTITY_ID","--- na ---",{"$f":"TEXT(+'Cover Sheet'!C$22,\"yyyymmdd\")","v":"19000100"},13515,{"$f":"IF(ISERROR(TRUNC(+CBM!H16,4))=TRUE,\"\",TRUNC(+CBM!H16,4))","v":0},"--- na ---","--- na ---","--- na ---","--- na ---","--- na ---","--- na ---","--- na ---"]
["CMQNT_13516",{"$f":"+'Cover Sheet'!$C$24","v":0},"ENTITY_ID","--- na ---",{"$f":"TEXT(+'Cover Sheet'!C$22,\"yyyymmdd\")","v":"19000100"},13516,{"$f":"IF(ISERROR(TRUNC(+CBM!H17,4))=TRUE,\"\",TRUNC(+CBM!H17,4))","v":0},"--- na ---","--- na ---","--- na ---","--- na ---","--- na ---","--- na ---","--- na ---"]
["CMQNT_13517",{"$f":"+'Cover Sheet'!$C$24","v":0},"ENTITY_ID","--- na ---",{"$f":"TEXT(+'Cover Sheet'!C$22,\"yyyymmdd\")","v":"19000100"},13517,{"$f":"IF(ISERROR(TRUNC(+CBM!H18,4))=TRUE,\"\",TRUNC(+CBM!H18,4))","v":0},"--- na ---","--- na ---","--- na ---","--- na ---","--- na ---","--- na ---","--- na ---"]
["CMQNT_13518",{"$f":"+'Cover Sheet'!$C$24","v":0},"ENTITY_ID","--- na ---",{"$f":"TEXT(+'Cover Sheet'!C$22,\"yyyymmdd\")","v":"19000100"},13518,{"$f":"IF(ISERROR(TRUNC(+CBM!H19,4))=TRUE,\"\",TRUNC(+CBM!H19,4))","v":0},"--- na ---","--- na ---","--- na ---","--- na ---","--- na ---","--- na ---","--- na ---"]
["CMQNT_13519",{"$f":"+'Cover Sheet'!$C$24","v":0},"ENTITY_ID","--- na ---",{"$f":"TEXT(+'Cover Sheet'!C$22,\"yyyymmdd\")","v":"19000100"},13519,{"$f":"IF(ISERROR(TRUNC(+CBM!H20,4))=TRUE,\"\",TRUNC(+CBM!H20,4))","v":0},"--- na ---","--- na ---","--- na ---","--- na ---","--- na ---","--- na ---","--- na ---"]
["CMQNT_13520",{"$f":"+'Cover Sheet'!$C$24","v":0},"ENTITY_ID","--- na ---",{"$f":"TEXT(+'Cover Sheet'!C$22,\"yyyymmdd\")","v":"19000100"},13520,{"$f":"IF(ISERROR(TRUNC(+CBM!H21,4))=TRUE,\"\",TRUNC(+CBM!H21,4))","v":0},"--- na ---","--- na ---","--- na ---","--- na ---","--- na ---","--- na ---","--- na ---"]
["CMQNT_13521",{"$f":"+'Cover Sheet'!$C$24","v":0},"ENTITY_ID","--- na ---",{"$f":"TEXT(+'Cover Sheet'!C$22,\"yyyymmdd\")","v":"19000100"},13521,{"$f":"IF(ISERROR(TRUNC(+CBM!H22,4))=TRUE,\"\",TRUNC(+CBM!H22,4))","v":0},"--- na ---","--- na ---","--- na ---","--- na ---","--- na ---","--- na ---","--- na ---"]
["CMQNT_13522",{"$f":"+'Cover Sheet'!$C$24","v":0},"ENTITY_ID","--- na ---",{"$f":"TEXT(+'Cover Sheet'!C$22,\"yyyymmdd\")","v":"19000100"},13522,{"$f":"IF(ISERROR(TRUNC(+CBM!H23,4))=TRUE,\"\",TRUNC(+CBM!H23,4))","v":0},"--- na ---","--- na ---","--- na ---","--- na ---","--- na ---","--- na ---","--- na ---"]
["CMQNT_13523",{"$f":"+'Cover Sheet'!$C$24","v":0},"ENTITY_ID","--- na ---",{"$f":"TEXT(+'Cover Sheet'!C$22,\"yyyymmdd\")","v":"19000100"},13523,{"$f":"IF(ISERROR(TRUNC(+QNST02!E27,4))=TRUE,\"\",TRUNC(+QNST02!E27,4))","v":0},"--- na ---","--- na ---","--- na ---","--- na ---","--- na ---","--- na ---","--- na ---"]
["CMQNT_13530",{"$f":"+'Cover Sheet'!$C$24","v":0},"ENTITY_ID","--- na ---",{"$f":"TEXT(+'Cover Sheet'!C$22,\"yyyymmdd\")","v":"19000100"},13530,{"$f":"IF(ISERROR(TRUNC(+QNST02!E29,4))=TRUE,\"\",TRUNC(+QNST02!E29,4))","v":0},"--- na ---","--- na ---","--- na ---","--- na ---","--- na ---","--- na ---","--- na ---"]
["CMQNT_13540",{"$f":"+'Cover Sheet'!$C$24","v":0},"ENTITY_ID","--- na ---",{"$f":"TEXT(+'Cover Sheet'!C$22,\"yyyymmdd\")","v":"19000100"},13540,{"$f":"IF(ISERROR(TRUNC(+QNST02!E30,4))=TRUE,\"\",TRUNC(+QNST02!E30,4))","v":0},"--- na ---","--- na ---","--- na ---","--- na ---","--- na ---","--- na ---","--- na ---"]
["CMQNT_13550",{"$f":"+'Cover Sheet'!$C$24","v":0},"ENTITY_ID","--- na ---",{"$f":"TEXT(+'Cover Sheet'!C$22,\"yyyymmdd\")","v":"19000100"},13550,{"$f":"IF(ISERROR(TRUNC(+QNST02!E31,4))=TRUE,\"\",TRUNC(+QNST02!E31,4))","v":0},"--- na ---","--- na ---","--- na ---","--- na ---","--- na ---","--- na ---","--- na ---"]
["CMQNT_13560",{"$f":"+'Cover Sheet'!$C$24","v":0},"ENTITY_ID","--- na ---",{"$f":"TEXT(+'Cover Sheet'!C$22,\"yyyymmdd\")","v":"19000100"},13560,{"$f":"IF(ISERROR(TRUNC(+QNST02!E33,4))=TRUE,\"\",TRUNC(+QNST02!E33,4))","v":0},"--- na ---","--- na ---","--- na ---","--- na ---","--- na ---","--- na ---","--- na ---"]
["CMQNT_13570",{"$f":"+'Cover Sheet'!$C$24","v":0},"ENTITY_ID","--- na ---",{"$f":"TEXT(+'Cover Sheet'!C$22,\"yyyymmdd\")","v":"19000100"},13570,{"$f":"IF(ISERROR(TRUNC(+QNST02!E34,4))=TRUE,\"\",TRUNC(+QNST02!E34,4))","v":0},"--- na ---","--- na ---","--- na ---","--- na ---","--- na ---","--- na ---","--- na ---"]
["CMQNT_13580",{"$f":"+'Cover Sheet'!$C$24","v":0},"ENTITY_ID","--- na ---",{"$f":"TEXT(+'Cover Sheet'!C$22,\"yyyymmdd\")","v":"19000100"},13580,{"$f":"IF(ISERROR(TRUNC(+QNST02!E35,4))=TRUE,\"\",TRUNC(+QNST02!E35,4))","v":0},"--- na ---","--- na ---","--- na ---","--- na ---","--- na ---","--- na ---","--- na ---"]
["CMQNT_13590",{"$f":"+'Cover Sheet'!$C$24","v":0},"ENTITY_ID","--- na ---",{"$f":"TEXT(+'Cover Sheet'!C$22,\"yyyymmdd\")","v":"19000100"},13590,{"$f":"IF(ISERROR(TRUNC(+QNST02!E36,4))=TRUE,\"\",TRUNC(+QNST02!E36,4))","v":0},"--- na ---","--- na ---","--- na ---","--- na ---","--- na ---","--- na ---","--- na ---"]
["CMQNT_13600",{"$f":"+'Cover Sheet'!$C$24","v":0},"ENTITY_ID","--- na ---",{"$f":"TEXT(+'Cover Sheet'!C$22,\"yyyymmdd\")","v":"19000100"},13600,{"$f":"IF(ISERROR(TRUNC(+QNST02!E37,4))=TRUE,\"\",TRUNC(+QNST02!E37,4))","v":0},"--- na ---","--- na ---","--- na ---","--- na ---","--- na ---","--- na ---","--- na ---"]
["CMQNT_13610",{"$f":"+'Cover Sheet'!$C$24","v":0},"ENTITY_ID","--- na ---",{"$f":"TEXT(+'Cover Sheet'!C$22,\"yyyymmdd\")","v":"19000100"},13610,{"$f":"IF(ISERROR(TRUNC(+QNST02!E38,4))=TRUE,\"\",TRUNC(+QNST02!E38,4))","v":0},"--- na ---","--- na ---","--- na ---","--- na ---","--- na ---","--- na ---","--- na ---"]
["CMQNT_13620",{"$f":"+'Cover Sheet'!$C$24","v":0},"ENTITY_ID","--- na ---",{"$f":"TEXT(+'Cover Sheet'!C$22,\"yyyymmdd\")","v":"19000100"},13620,{"$f":"IF(ISERROR(TRUNC(+QNST02!E39,4))=TRUE,\"\",TRUNC(+QNST02!E39,4))","v":0},"--- na ---","--- na ---","--- na ---","--- na ---","--- na ---","--- na ---","--- na ---"]
["CMQNT_13630",{"$f":"+'Cover Sheet'!$C$24","v":0},"ENTITY_ID","--- na ---",{"$f":"TEXT(+'Cover Sheet'!C$22,\"yyyymmdd\")","v":"19000100"},13630,{"$f":"IF(ISERROR(TRUNC(+QNST02!E40,4))=TRUE,\"\",TRUNC(+QNST02!E40,4))","v":0},"--- na ---","--- na ---","--- na ---","--- na ---","--- na ---","--- na ---","--- na ---"]
["CMQNT_13640",{"$f":"+'Cover Sheet'!$C$24","v":0},"ENTITY_ID","--- na ---",{"$f":"TEXT(+'Cover Sheet'!C$22,\"yyyymmdd\")","v":"19000100"},13640,{"$f":"IF(ISERROR(TRUNC(+QNST02!E41,4))=TRUE,\"\",TRUNC(+QNST02!E41,4))","v":0},"--- na ---","--- na ---","--- na ---","--- na ---","--- na ---","--- na ---","--- na ---"]
["CMQNT_13650",{"$f":"+'Cover Sheet'!$C$24","v":0},"ENTITY_ID","--- na ---",{"$f":"TEXT(+'Cover Sheet'!C$22,\"yyyymmdd\")","v":"19000100"},13650,{"$f":"IF(ISERROR(TRUNC(+QNST02!E43,4))=TRUE,\"\",TRUNC(+QNST02!E43,4))","v":0},"--- na ---","--- na ---","--- na ---","--- na ---","--- na ---","--- na ---","--- na ---"]
["CMQNT_13660",{"$f":"+'Cover Sheet'!$C$24","v":0},"ENTITY_ID","--- na ---",{"$f":"TEXT(+'Cover Sheet'!C$22,\"yyyymmdd\")","v":"19000100"},13660,{"$f":"IF(ISERROR(TRUNC(+QNST02!E45,4))=TRUE,\"\",TRUNC(+QNST02!E45,4))","v":0},"--- na ---","--- na ---","--- na ---","--- na ---","--- na ---","--- na ---","--- na ---"]
["CMQNT_13670",{"$f":"+'Cover Sheet'!$C$24","v":0},"ENTITY_ID","--- na ---",{"$f":"TEXT(+'Cover Sheet'!C$22,\"yyyymmdd\")","v":"19000100"},13670,{"$f":"IF(ISERROR(TRUNC(+QNST02!E47,4))=TRUE,\"\",TRUNC(+QNST02!E47,4))","v":0},"--- na ---","--- na ---","--- na ---","--- na ---","--- na ---","--- na ---","--- na ---"]
["CMQNT_13680",{"$f":"+'Cover Sheet'!$C$24","v":0},"ENTITY_ID","--- na ---",{"$f":"TEXT(+'Cover Sheet'!C$22,\"yyyymmdd\")","v":"19000100"},13680,{"$f":"IF(ISERROR(TRUNC(+QNST02!E48,4))=TRUE,\"\",TRUNC(+QNST02!E48,4))","v":0},"--- na ---","--- na ---","--- na ---","--- na ---","--- na ---","--- na ---","--- na ---"]
["CMQNT_13690",{"$f":"+'Cover Sheet'!$C$24","v":0},"ENTITY_ID","--- na ---",{"$f":"TEXT(+'Cover Sheet'!C$22,\"yyyymmdd\")","v":"19000100"},13690,{"$f":"IF(ISERROR(TRUNC(+QNST02!E49,4))=TRUE,\"\",TRUNC(+QNST02!E49,4))","v":0},"--- na ---","--- na ---","--- na ---","--- na ---","--- na ---","--- na ---","--- na ---"]
["CMQNT_13700",{"$f":"+'Cover Sheet'!$C$24","v":0},"ENTITY_ID","--- na ---",{"$f":"TEXT(+'Cover Sheet'!C$22,\"yyyymmdd\")","v":"19000100"},13700,{"$f":"IF(ISERROR(TRUNC(+QNST02!E50,4))=TRUE,\"\",TRUNC(+QNST02!E50,4))","v":0},"--- na ---","--- na ---","--- na ---","--- na ---","--- na ---","--- na ---","--- na ---"]
["CMQNT_13710",{"$f":"+'Cover Sheet'!$C$24","v":0},"ENTITY_ID","--- na ---",{"$f":"TEXT(+'Cover Sheet'!C$22,\"yyyymmdd\")","v":"19000100"},13710,{"$f":"IF(ISERROR(TRUNC(+QNST02!E51,4))=TRUE,\"\",TRUNC(+QNST02!E51,4))","v":0},"--- na ---","--- na ---","--- na ---","--- na ---","--- na ---","--- na ---","--- na ---"]
["CMQNT_13720",{"$f":"+'Cover Sheet'!$C$24","v":0},"ENTITY_ID","--- na ---",{"$f":"TEXT(+'Cover Sheet'!C$22,\"yyyymmdd\")","v":"19000100"},13720,{"$f":"IF(ISERROR(TRUNC(+QNST02!E52,4))=TRUE,\"\",TRUNC(+QNST02!E52,4))","v":0},"--- na ---","--- na ---","--- na ---","--- na ---","--- na ---","--- na ---","--- na ---"]
["CMQNT_13721",{"$f":"+'Cover Sheet'!$C$24","v":0},"ENTITY_ID","--- na ---",{"$f":"TEXT(+'Cover Sheet'!C$22,\"yyyymmdd\")","v":"19000100"},13721,{"$f":"IF(ISERROR(TRUNC(+CBM!H26,4))=TRUE,\"\",TRUNC(+CBM!H26,4))","v":0},"--- na ---","--- na ---","--- na ---","--- na ---","--- na ---","--- na ---","--- na ---"]
["CMQNT_13722",{"$f":"+'Cover Sheet'!$C$24","v":0},"ENTITY_ID","--- na ---",{"$f":"TEXT(+'Cover Sheet'!C$22,\"yyyymmdd\")","v":"19000100"},13722,{"$f":"IF(ISERROR(TRUNC(+CBM!H27,4))=TRUE,\"\",TRUNC(+CBM!H27,4))","v":0},"--- na ---","--- na ---","--- na ---","--- na ---","--- na ---","--- na ---","--- na ---"]
["CMQNT_13723",{"$f":"+'Cover Sheet'!$C$24","v":0},"ENTITY_ID","--- na ---",{"$f":"TEXT(+'Cover Sheet'!C$22,\"yyyymmdd\")","v":"19000100"},13723,{"$f":"IF(ISERROR(TRUNC(+CBM!H28,4))=TRUE,\"\",TRUNC(+CBM!H28,4))","v":0},"--- na ---","--- na ---","--- na ---","--- na ---","--- na ---","--- na ---","--- na ---"]
["CMQNT_13724",{"$f":"+'Cover Sheet'!$C$24","v":0},"ENTITY_ID","--- na ---",{"$f":"TEXT(+'Cover Sheet'!C$22,\"yyyymmdd\")","v":"19000100"},13724,{"$f":"IF(ISERROR(TRUNC(+CBM!H29,4))=TRUE,\"\",TRUNC(+CBM!H29,4))","v":0},"--- na ---","--- na ---","--- na ---","--- na ---","--- na ---","--- na ---","--- na ---"]
["CMQNT_13725",{"$f":"+'Cover Sheet'!$C$24","v":0},"ENTITY_ID","--- na ---",{"$f":"TEXT(+'Cover Sheet'!C$22,\"yyyymmdd\")","v":"19000100"},13725,{"$f":"IF(ISERROR(TRUNC(+CBM!H30,4))=TRUE,\"\",TRUNC(+CBM!H30,4))","v":0},"--- na ---","--- na ---","--- na ---","--- na ---","--- na ---","--- na ---","--- na ---"]
["CMQNT_13730",{"$f":"+'Cover Sheet'!$C$24","v":0},"ENTITY_ID","--- na ---",{"$f":"TEXT(+'Cover Sheet'!C$22,\"yyyymmdd\")","v":"19000100"},13730,{"$f":"IF(ISERROR(TRUNC(+QNST02!E53,4))=TRUE,\"\",TRUNC(+QNST02!E53,4))","v":0},"--- na ---","--- na ---","--- na ---","--- na ---","--- na ---","--- na ---","--- na ---"]
["CMQNT_13740",{"$f":"+'Cover Sheet'!$C$24","v":0},"ENTITY_ID","--- na ---",{"$f":"TEXT(+'Cover Sheet'!C$22,\"yyyymmdd\")","v":"19000100"},13740,{"$f":"IF(ISERROR(TRUNC(+QNST02!E55,4))=TRUE,\"\",TRUNC(+QNST02!E55,4))","v":0},"--- na ---","--- na ---","--- na ---","--- na ---","--- na ---","--- na ---","--- na ---"]
["CMQNT_13750",{"$f":"+'Cover Sheet'!$C$24","v":0},"ENTITY_ID","--- na ---",{"$f":"TEXT(+'Cover Sheet'!C$22,\"yyyymmdd\")","v":"19000100"},13750,{"$f":"IF(ISERROR(TRUNC(+QNST02!E57,4))=TRUE,\"\",TRUNC(+QNST02!E57,4))","v":0},"--- na ---","--- na ---","--- na ---","--- na ---","--- na ---","--- na ---","--- na ---"]
["CMQNT_13760",{"$f":"+'Cover Sheet'!$C$24","v":0},"ENTITY_ID","--- na ---",{"$f":"TEXT(+'Cover Sheet'!C$22,\"yyyymmdd\")","v":"19000100"},13760,{"$f":"IF(ISERROR(TRUNC(+QNST03!E15,4))=TRUE,\"\",TRUNC(+QNST03!E15,4))","v":0},"--- na ---","--- na ---","--- na ---","--- na ---","--- na ---","--- na ---","--- na ---"]
["CMQNT_13770",{"$f":"+'Cover Sheet'!$C$24","v":0},"ENTITY_ID","--- na ---",{"$f":"TEXT(+'Cover Sheet'!C$22,\"yyyymmdd\")","v":"19000100"},13770,{"$f":"IF(ISERROR(TRUNC(+QNST03!E17,4))=TRUE,\"\",TRUNC(+QNST03!E17,4))","v":0},"--- na ---","--- na ---","--- na ---","--- na ---","--- na ---","--- na ---","--- na ---"]
["CMQNT_13771",{"$f":"+'Cover Sheet'!$C$24","v":0},"ENTITY_ID","--- na ---",{"$f":"TEXT(+'Cover Sheet'!C$22,\"yyyymmdd\")","v":"19000100"},13771,{"$f":"IF(ISERROR(TRUNC(+CBM!G37,4))=TRUE,\"\",TRUNC(+CBM!G37,4))","v":0},"--- na ---","--- na ---","--- na ---","--- na ---","--- na ---","--- na ---","--- na ---"]
["CMQNT_13772",{"$f":"+'Cover Sheet'!$C$24","v":0},"ENTITY_ID","--- na ---",{"$f":"TEXT(+'Cover Sheet'!C$22,\"yyyymmdd\")","v":"19000100"},13772,{"$f":"IF(ISERROR(TRUNC(+CBM!G38,4))=TRUE,\"\",TRUNC(+CBM!G38,4))","v":0},"--- na ---","--- na ---","--- na ---","--- na ---","--- na ---","--- na ---","--- na ---"]
["CMQNT_13773",{"$f":"+'Cover Sheet'!$C$24","v":0},"ENTITY_ID","--- na ---",{"$f":"TEXT(+'Cover Sheet'!C$22,\"yyyymmdd\")","v":"19000100"},13773,{"$f":"IF(ISERROR(TRUNC(+CBM!G39,4))=TRUE,\"\",TRUNC(+CBM!G39,4))","v":0},"--- na ---","--- na ---","--- na ---","--- na ---","--- na ---","--- na ---","--- na ---"]
["CMQNT_13774",{"$f":"+'Cover Sheet'!$C$24","v":0},"ENTITY_ID","--- na ---",{"$f":"TEXT(+'Cover Sheet'!C$22,\"yyyymmdd\")","v":"19000100"},13774,{"$f":"IF(ISERROR(TRUNC(+CBM!G40,4))=TRUE,\"\",TRUNC(+CBM!G40,4))","v":0},"--- na ---","--- na ---","--- na ---","--- na ---","--- na ---","--- na ---","--- na ---"]
["CMQNT_13775",{"$f":"+'Cover Sheet'!$C$24","v":0},"ENTITY_ID","--- na ---",{"$f":"TEXT(+'Cover Sheet'!C$22,\"yyyymmdd\")","v":"19000100"},13775,{"$f":"IF(ISERROR(TRUNC(+CBM!G41,4))=TRUE,\"\",TRUNC(+CBM!G41,4))","v":0},"--- na ---","--- na ---","--- na ---","--- na ---","--- na ---","--- na ---","--- na ---"]
["CMQNT_13776",{"$f":"+'Cover Sheet'!$C$24","v":0},"ENTITY_ID","--- na ---",{"$f":"TEXT(+'Cover Sheet'!C$22,\"yyyymmdd\")","v":"19000100"},13776,{"$f":"IF(ISERROR(TRUNC(+CBM!G42,4))=TRUE,\"\",TRUNC(+CBM!G42,4))","v":0},"--- na ---","--- na ---","--- na ---","--- na ---","--- na ---","--- na ---","--- na ---"]
["CMQNT_13777",{"$f":"+'Cover Sheet'!$C$24","v":0},"ENTITY_ID","--- na ---",{"$f":"TEXT(+'Cover Sheet'!C$22,\"yyyymmdd\")","v":"19000100"},13777,{"$f":"IF(ISERROR(TRUNC(+CBM!G43,4))=TRUE,\"\",TRUNC(+CBM!G43,4))","v":0},"--- na ---","--- na ---","--- na ---","--- na ---","--- na ---","--- na ---","--- na ---"]
["CMQNT_13778",{"$f":"+'Cover Sheet'!$C$24","v":0},"ENTITY_ID","--- na ---",{"$f":"TEXT(+'Cover Sheet'!C$22,\"yyyymmdd\")","v":"19000100"},13778,{"$f":"IF(ISERROR(TRUNC(+CBM!G44,4))=TRUE,\"\",TRUNC(+CBM!G44,4))","v":0},"--- na ---","--- na ---","--- na ---","--- na ---","--- na ---","--- na ---","--- na ---"]
["CMQNT_13779",{"$f":"+'Cover Sheet'!$C$24","v":0},"ENTITY_ID","--- na ---",{"$f":"TEXT(+'Cover Sheet'!C$22,\"yyyymmdd\")","v":"19000100"},13779,{"$f":"IF(ISERROR(TRUNC(+CBM!G45,4))=TRUE,\"\",TRUNC(+CBM!G45,4))","v":0},"--- na ---","--- na ---","--- na ---","--- na ---","--- na ---","--- na ---","--- na ---"]
["CMQNT_13780",{"$f":"+'Cover Sheet'!$C$24","v":0},"ENTITY_ID","--- na ---",{"$f":"TEXT(+'Cover Sheet'!C$22,\"yyyymmdd\")","v":"19000100"},13780,{"$f":"IF(ISERROR(TRUNC(+CBM!G46,4))=TRUE,\"\",TRUNC(+CBM!G46,4))","v":0},"--- na ---","--- na ---","--- na ---","--- na ---","--- na ---","--- na ---","--- na ---"]
["CMQNT_13781",{"$f":"+'Cover Sheet'!$C$24","v":0},"ENTITY_ID","--- na ---",{"$f":"TEXT(+'Cover Sheet'!C$22,\"yyyymmdd\")","v":"19000100"},13781,{"$f":"IF(ISERROR(TRUNC(+CBM!G47,4))=TRUE,\"\",TRUNC(+CBM!G47,4))","v":0},"--- na ---","--- na ---","--- na ---","--- na ---","--- na ---","--- na ---","--- na ---"]
["CMQNT_13782",{"$f":"+'Cover Sheet'!$C$24","v":0},"ENTITY_ID","--- na ---",{"$f":"TEXT(+'Cover Sheet'!C$22,\"yyyymmdd\")","v":"19000100"},13782,{"$f":"IF(ISERROR(TRUNC(+CBM!G48,4))=TRUE,\"\",TRUNC(+CBM!G48,4))","v":0},"--- na ---","--- na ---","--- na ---","--- na ---","--- na ---","--- na ---","--- na ---"]
["CMQNT_13783",{"$f":"+'Cover Sheet'!$C$24","v":0},"ENTITY_ID","--- na ---",{"$f":"TEXT(+'Cover Sheet'!C$22,\"yyyymmdd\")","v":"19000100"},13783,{"$f":"IF(ISERROR(TRUNC(+QNST03!E18,4))=TRUE,\"\",TRUNC(+QNST03!E18,4))","v":0},"--- na ---","--- na ---","--- na ---","--- na ---","--- na ---","--- na ---","--- na ---"]
["CMQNT_13790",{"$f":"+'Cover Sheet'!$C$24","v":0},"ENTITY_ID","--- na ---",{"$f":"TEXT(+'Cover Sheet'!C$22,\"yyyymmdd\")","v":"19000100"},13790,{"$f":"IF(ISERROR(TRUNC(+QNST03!E19,4))=TRUE,\"\",TRUNC(+QNST03!E19,4))","v":0},"--- na ---","--- na ---","--- na ---","--- na ---","--- na ---","--- na ---","--- na ---"]
["CMQNT_13800",{"$f":"+'Cover Sheet'!$C$24","v":0},"ENTITY_ID","--- na ---",{"$f":"TEXT(+'Cover Sheet'!C$22,\"yyyymmdd\")","v":"19000100"},13800,{"$f":"IF(ISERROR(TRUNC(+QNST03!E20,4))=TRUE,\"\",TRUNC(+QNST03!E20,4))","v":0},"--- na ---","--- na ---","--- na ---","--- na ---","--- na ---","--- na ---","--- na ---"]
["CMQNT_13810",{"$f":"+'Cover Sheet'!$C$24","v":0},"ENTITY_ID","--- na ---",{"$f":"TEXT(+'Cover Sheet'!C$22,\"yyyymmdd\")","v":"19000100"},13810,{"$f":"IF(ISERROR(TRUNC(+QNST03!E22,4))=TRUE,\"\",TRUNC(+QNST03!E22,4))","v":0},"--- na ---","--- na ---","--- na ---","--- na ---","--- na ---","--- na ---","--- na ---"]
["CMQNT_13820",{"$f":"+'Cover Sheet'!$C$24","v":0},"ENTITY_ID","--- na ---",{"$f":"TEXT(+'Cover Sheet'!C$22,\"yyyymmdd\")","v":"19000100"},13820,{"$f":"IF(ISERROR(TRUNC(+QNST03!E23,4))=TRUE,\"\",TRUNC(+QNST03!E23,4))","v":0},"--- na ---","--- na ---","--- na ---","--- na ---","--- na ---","--- na ---","--- na ---"]
["CMQNT_13830",{"$f":"+'Cover Sheet'!$C$24","v":0},"ENTITY_ID","--- na ---",{"$f":"TEXT(+'Cover Sheet'!C$22,\"yyyymmdd\")","v":"19000100"},13830,{"$f":"IF(ISERROR(TRUNC(+QNST03!E24,4))=TRUE,\"\",TRUNC(+QNST03!E24,4))","v":0},"--- na ---","--- na ---","--- na ---","--- na ---","--- na ---","--- na ---","--- na ---"]
["CMQNT_14090",{"$f":"+'Cover Sheet'!$C$24","v":0},"ENTITY_ID","--- na ---",{"$f":"TEXT(+'Cover Sheet'!C$22,\"yyyymmdd\")","v":"19000100"},14090,{"$f":"IF(ISERROR(TRUNC(+CBM!H31,4))=TRUE,\"\",TRUNC(+CBM!H31,4))","v":0},"--- na ---","--- na ---","--- na ---","--- na ---","--- na ---","--- na ---","--- na ---"]
["CMQNT_14100",{"$f":"+'Cover Sheet'!$C$24","v":0},"ENTITY_ID","--- na ---",{"$f":"TEXT(+'Cover Sheet'!C$22,\"yyyymmdd\")","v":"19000100"},14100,{"$f":"IF(ISERROR(TRUNC(+CBM!G49,4))=TRUE,\"\",TRUNC(+CBM!G49,4))","v":0},"--- na ---","--- na ---","--- na ---","--- na ---","--- na ---","--- na ---","--- na ---"]
["CMQNT_14110","--- na ---","ENTITY_ID","--- na ---",{"$f":"TEXT(+'Cover Sheet'!C$22,\"yyyymmdd\")","v":"19000100"},14110,{"$f":"IF(ISERROR(TRUNC(+CBM!G53,4))=TRUE,\"\",TRUNC(+CBM!G53,4))","v":0},"--- na ---","--- na ---","--- na ---","--- na ---","--- na ---","--- na ---","--- na ---"]
["CMQNT_14120","--- na ---","ENTITY_ID","--- na ---",{"$f":"TEXT(+'Cover Sheet'!C$22,\"yyyymmdd\")","v":"19000100"},14120,{"$f":"IF(ISERROR(TRUNC(+CBM!G54,4))=TRUE,\"\",TRUNC(+CBM!G54,4))","v":0},"--- na ---","--- na ---","--- na ---","--- na ---","--- na ---","--- na ---","--- na ---"]
["CMQNT_14130","--- na ---","ENTITY_ID","--- na ---",{"$f":"TEXT(+'Cover Sheet'!C$22,\"yyyymmdd\")","v":"19000100"},14130,{"$f":"IF(ISERROR(TRUNC(+CBM!G55,4))=TRUE,\"\",TRUNC(+CBM!G55,4))","v":0},"--- na ---","--- na ---","--- na ---","--- na ---","--- na ---","--- na ---","--- na ---"]
["CMQNT_14140",{"$f":"+'Cover Sheet'!$C$24","v":0},"ENTITY_ID","--- na ---",{"$f":"TEXT(+'Cover Sheet'!C$22,\"yyyymmdd\")","v":"19000100"},14140,{"$f":"IF(ISERROR(TRUNC(+CBM!G57,4))=TRUE,\"\",TRUNC(+CBM!G57,4))","v":0},"--- na ---","--- na ---","--- na ---","--- na ---","--- na ---","--- na ---","--- na ---"]
["CMQNT_14150",{"$f":"+'Cover Sheet'!$C$24","v":0},"ENTITY_ID","--- na ---",{"$f":"TEXT(+'Cover Sheet'!C$22,\"yyyymmdd\")","v":"19000100"},14150,{"$f":"IF(ISERROR(TRUNC(+CBM!G58,4))=TRUE,\"\",TRUNC(+CBM!G58,4))","v":0},"--- na ---","--- na ---","--- na ---","--- na ---","--- na ---","--- na ---","--- na ---"]
["CMQNT_14160",{"$f":"+'Cover Sheet'!$C$24","v":0},"ENTITY_ID","--- na ---",{"$f":"TEXT(+'Cover Sheet'!C$22,\"yyyymmdd\")","v":"19000100"},14160,{"$f":"IF(ISERROR(TRUNC(+CBM!G59,4))=TRUE,\"\",TRUNC(+CBM!G59,4))","v":0},"--- na ---","--- na ---","--- na ---","--- na ---","--- na ---","--- na ---","--- na ---"]
["CMQNT_14170",{"$f":"+'Cover Sheet'!$C$24","v":0},"ENTITY_ID","--- na ---",{"$f":"TEXT(+'Cover Sheet'!C$22,\"yyyymmdd\")","v":"19000100"},14170,{"$f":"IF(ISERROR(TRUNC(+CBM!G60,4))=TRUE,\"\",TRUNC(+CBM!G60,4))","v":0},"--- na ---","--- na ---","--- na ---","--- na ---","--- na ---","--- na ---","--- na ---"]
["CMQNT_14180",{"$f":"+'Cover Sheet'!$C$24","v":0},"ENTITY_ID","W1",{"$f":"TEXT(+'Cover Sheet'!C$22,\"yyyymmdd\")","v":"19000100"},14180,"--- na ---",{"$f":"IF(+CBM!H65=\"--- na ---\",\"--- na ---\",IF(ISERROR(TRUNC(+CBM!H65,4))=TRUE,\"\",TRUNC(+CBM!H65,4)))","v":0},"--- na ---",{"$f":"IF(ISERROR(TRUNC(+CBM!G65,4))=TRUE,\"\",TRUNC(+CBM!G65,4))","v":0},"--- na ---","--- na ---","--- na ---","--- na ---"]
["CMQNT_14180",{"$f":"+'Cover Sheet'!$C$24","v":0},"ENTITY_ID",{"$f":"+CBM!F66","v":""},{"$f":"TEXT(+'Cover Sheet'!C$22,\"yyyymmdd\")","v":"19000100"},14180,"--- na ---",{"$f":"IF(+CBM!H66=\"--- na ---\",\"--- na ---\",IF(ISERROR(TRUNC(+CBM!H66,4))=TRUE,\"\",TRUNC(+CBM!H66,4)))","v":0},"--- na ---",{"$f":"IF(ISERROR(TRUNC(+CBM!G66,4))=TRUE,\"\",TRUNC(+CBM!G66,4))","v":0},"--- na ---","--- na ---","--- na ---","--- na ---"]
["CMQNT_14180",{"$f":"+'Cover Sheet'!$C$24","v":0},"ENTITY_ID",{"$f":"+CBM!F67","v":""},{"$f":"TEXT(+'Cover Sheet'!C$22,\"yyyymmdd\")","v":"19000100"},14180,"--- na ---",{"$f":"IF(+CBM!H67=\"--- na ---\",\"--- na ---\",IF(ISERROR(TRUNC(+CBM!H67,4))=TRUE,\"\",TRUNC(+CBM!H67,4)))","v":0},"--- na ---",{"$f":"IF(ISERROR(TRUNC(+CBM!G67,4))=TRUE,\"\",TRUNC(+CBM!G67,4))","v":0},"--- na ---","--- na ---","--- na ---","--- na ---"]
["CMQNT_14180",{"$f":"+'Cover Sheet'!$C$24","v":0},"ENTITY_ID",{"$f":"+CBM!F68","v":""},{"$f":"TEXT(+'Cover Sheet'!C$22,\"yyyymmdd\")","v":"19000100"},14180,"--- na ---",{"$f":"IF(+CBM!H68=\"--- na ---\",\"--- na ---\",IF(ISERROR(TRUNC(+CBM!H68,4))=TRUE,\"\",TRUNC(+CBM!H68,4)))","v":0},"--- na ---",{"$f":"IF(ISERROR(TRUNC(+CBM!G68,4))=TRUE,\"\",TRUNC(+CBM!G68,4))","v":0},"--- na ---","--- na ---","--- na ---","--- na ---"]
["CMQNT_14180",{"$f":"+'Cover Sheet'!$C$24","v":0},"ENTITY_ID",{"$f":"+CBM!F69","v":""},{"$f":"TEXT(+'Cover Sheet'!C$22,\"yyyymmdd\")","v":"19000100"},14180,"--- na ---",{"$f":"IF(+CBM!H69=\"--- na ---\",\"--- na ---\",IF(ISERROR(TRUNC(+CBM!H69,4))=TRUE,\"\",TRUNC(+CBM!H69,4)))","v":0},"--- na ---",{"$f":"IF(ISERROR(TRUNC(+CBM!G69,4))=TRUE,\"\",TRUNC(+CBM!G69,4))","v":0},"--- na ---","--- na ---","--- na ---","--- na ---"]
["CMQNT_14180",{"$f":"+'Cover Sheet'!$C$24","v":0},"ENTITY_ID",{"$f":"+CBM!F70","v":""},{"$f":"TEXT(+'Cover Sheet'!C$22,\"yyyymmdd\")","v":"19000100"},14180,"--- na ---",{"$f":"IF(+CBM!H70=\"--- na ---\",\"--- na ---\",IF(ISERROR(TRUNC(+CBM!H70,4))=TRUE,\"\",TRUNC(+CBM!H70,4)))","v":0},"--- na ---",{"$f":"IF(ISERROR(TRUNC(+CBM!G70,4))=TRUE,\"\",TRUNC(+CBM!G70,4))","v":0},"--- na ---","--- na ---","--- na ---","--- na ---"]
["CMQNT_14180",{"$f":"+'Cover Sheet'!$C$24","v":0},"ENTITY_ID",{"$f":"+CBM!F71","v":""},{"$f":"TEXT(+'Cover Sheet'!C$22,\"yyyymmdd\")","v":"19000100"},14180,"--- na ---",{"$f":"IF(+CBM!H71=\"--- na ---\",\"--- na ---\",IF(ISERROR(TRUNC(+CBM!H71,4))=TRUE,\"\",TRUNC(+CBM!H71,4)))","v":0},"--- na ---",{"$f":"IF(ISERROR(TRUNC(+CBM!G71,4))=TRUE,\"\",TRUNC(+CBM!G71,4))","v":0},"--- na ---","--- na ---","--- na ---","--- na ---"]
["CMQNT_14180",{"$f":"+'Cover Sheet'!$C$24","v":0},"ENTITY_ID",{"$f":"+CBM!F72","v":""},{"$f":"TEXT(+'Cover Sheet'!C$22,\"yyyymmdd\")","v":"19000100"},14180,"--- na ---",{"$f":"IF(+CBM!H72=\"--- na ---\",\"--- na ---\",IF(ISERROR(TRUNC(+CBM!H72,4))=TRUE,\"\",TRUNC(+CBM!H72,4)))","v":0},"--- na ---",{"$f":"IF(ISERROR(TRUNC(+CBM!G72,4))=TRUE,\"\",TRUNC(+CBM!G72,4))","v":0},"--- na ---","--- na ---","--- na ---","--- na ---"]
["CMQNT_14180",{"$f":"+'Cover Sheet'!$C$24","v":0},"ENTITY_ID",{"$f":"+CBM!F73","v":""},{"$f":"TEXT(+'Cover Sheet'!C$22,\"yyyymmdd\")","v":"19000100"},14180,"--- na ---",{"$f":"IF(+CBM!H73=\"--- na ---\",\"--- na ---\",IF(ISERROR(TRUNC(+CBM!H73,4))=TRUE,\"\",TRUNC(+CBM!H73,4)))","v":0},"--- na ---",{"$f":"IF(ISERROR(TRUNC(+CBM!G73,4))=TRUE,\"\",TRUNC(+CBM!G73,4))","v":0},"--- na ---","--- na ---","--- na ---","--- na ---"]
["CMQNT_14180",{"$f":"+'Cover Sheet'!$C$24","v":0},"ENTITY_ID",{"$f":"+CBM!F74","v":""},{"$f":"TEXT(+'Cover Sheet'!C$22,\"yyyymmdd\")","v":"19000100"},14180,"--- na ---",{"$f":"IF(+CBM!H74=\"--- na ---\",\"--- na ---\",IF(ISERROR(TRUNC(+CBM!H74,4))=TRUE,\"\",TRUNC(+CBM!H74,4)))","v":0},"--- na ---",{"$f":"IF(ISERROR(TRUNC(+CBM!G74,4))=TRUE,\"\",TRUNC(+CBM!G74,4))","v":0},"--- na ---","--- na ---","--- na ---","--- na ---"]
["CMQNT_14180",{"$f":"+'Cover Sheet'!$C$24","v":0},"ENTITY_ID",{"$f":"+CBM!F75","v":""},{"$f":"TEXT(+'Cover Sheet'!C$22,\"yyyymmdd\")","v":"19000100"},14180,"--- na ---",{"$f":"IF(+CBM!H75=\"--- na ---\",\"--- na ---\",IF(ISERROR(TRUNC(+CBM!H75,4))=TRUE,\"\",TRUNC(+CBM!H75,4)))","v":0},"--- na ---",{"$f":"IF(ISERROR(TRUNC(+CBM!G75,4))=TRUE,\"\",TRUNC(+CBM!G75,4))","v":0},"--- na ---","--- na ---","--- na ---","--- na ---"]
["CMQNT_14180",{"$f":"+'Cover Sheet'!$C$24","v":0},"ENTITY_ID",{"$f":"+CBM!F76","v":""},{"$f":"TEXT(+'Cover Sheet'!C$22,\"yyyymmdd\")","v":"19000100"},14180,"--- na ---",{"$f":"IF(+CBM!H76=\"--- na ---\",\"--- na ---\",IF(ISERROR(TRUNC(+CBM!H76,4))=TRUE,\"\",TRUNC(+CBM!H76,4)))","v":0},"--- na ---",{"$f":"IF(ISERROR(TRUNC(+CBM!G76,4))=TRUE,\"\",TRUNC(+CBM!G76,4))","v":0},"--- na ---","--- na ---","--- na ---","--- na ---"]
["CMQNT_14180",{"$f":"+'Cover Sheet'!$C$24","v":0},"ENTITY_ID",{"$f":"+CBM!F77","v":""},{"$f":"TEXT(+'Cover Sheet'!C$22,\"yyyymmdd\")","v":"19000100"},14180,"--- na ---",{"$f":"IF(+CBM!H77=\"--- na ---\",\"--- na ---\",IF(ISERROR(TRUNC(+CBM!H77,4))=TRUE,\"\",TRUNC(+CBM!H77,4)))","v":0},"--- na ---",{"$f":"IF(ISERROR(TRUNC(+CBM!G77,4))=TRUE,\"\",TRUNC(+CBM!G77,4))","v":0},"--- na ---","--- na ---","--- na ---","--- na ---"]
["CMQNT_14180",{"$f":"+'Cover Sheet'!$C$24","v":0},"ENTITY_ID",{"$f":"+CBM!F78","v":""},{"$f":"TEXT(+'Cover Sheet'!C$22,\"yyyymmdd\")","v":"19000100"},14180,"--- na ---",{"$f":"IF(+CBM!H78=\"--- na ---\",\"--- na ---\",IF(ISERROR(TRUNC(+CBM!H78,4))=TRUE,\"\",TRUNC(+CBM!H78,4)))","v":0},"--- na ---",{"$f":"IF(ISERROR(TRUNC(+CBM!G78,4))=TRUE,\"\",TRUNC(+CBM!G78,4))","v":0},"--- na ---","--- na ---","--- na ---","--- na ---"]
["CMQNT_14180",{"$f":"+'Cover Sheet'!$C$24","v":0},"ENTITY_ID",{"$f":"+CBM!F79","v":""},{"$f":"TEXT(+'Cover Sheet'!C$22,\"yyyymmdd\")","v":"19000100"},14180,"--- na ---",{"$f":"IF(+CBM!H79=\"--- na ---\",\"--- na ---\",IF(ISERROR(TRUNC(+CBM!H79,4))=TRUE,\"\",TRUNC(+CBM!H79,4)))","v":0},"--- na ---",{"$f":"IF(ISERROR(TRUNC(+CBM!G79,4))=TRUE,\"\",TRUNC(+CBM!G79,4))","v":0},"--- na ---","--- na ---","--- na ---","--- na ---"]
["CMQNT_14180",{"$f":"+'Cover Sheet'!$C$24","v":0},"ENTITY_ID",{"$f":"+CBM!F80","v":""},{"$f":"TEXT(+'Cover Sheet'!C$22,\"yyyymmdd\")","v":"19000100"},14180,"--- na ---",{"$f":"IF(+CBM!H80=\"--- na ---\",\"--- na ---\",IF(ISERROR(TRUNC(+CBM!H80,4))=TRUE,\"\",TRUNC(+CBM!H80,4)))","v":0},"--- na ---",{"$f":"IF(ISERROR(TRUNC(+CBM!G80,4))=TRUE,\"\",TRUNC(+CBM!G80,4))","v":0},"--- na ---","--- na ---","--- na ---","--- na ---"]
["CMQNT_14180",{"$f":"+'Cover Sheet'!$C$24","v":0},"ENTITY_ID",{"$f":"+CBM!F81","v":""},{"$f":"TEXT(+'Cover Sheet'!C$22,\"yyyymmdd\")","v":"19000100"},14180,"--- na ---",{"$f":"IF(+CBM!H81=\"--- na ---\",\"--- na ---\",IF(ISERROR(TRUNC(+CBM!H81,4))=TRUE,\"\",TRUNC(+CBM!H81,4)))","v":0},"--- na ---",{"$f":"IF(ISERROR(TRUNC(+CBM!G81,4))=TRUE,\"\",TRUNC(+CBM!G81,4))","v":0},"--- na ---","--- na ---","--- na ---","--- na ---"]
["CMQNT_14180",{"$f":"+'Cover Sheet'!$C$24","v":0},"ENTITY_ID",{"$f":"+CBM!F82","v":""},{"$f":"TEXT(+'Cover Sheet'!C$22,\"yyyymmdd\")","v":"19000100"},14180,"--- na ---",{"$f":"IF(+CBM!H82=\"--- na ---\",\"--- na ---\",IF(ISERROR(TRUNC(+CBM!H82,4))=TRUE,\"\",TRUNC(+CBM!H82,4)))","v":0},"--- na ---",{"$f":"IF(ISERROR(TRUNC(+CBM!G82,4))=TRUE,\"\",TRUNC(+CBM!G82,4))","v":0},"--- na ---","--- na ---","--- na ---","--- na ---"]
["CMQNT_14180",{"$f":"+'Cover Sheet'!$C$24","v":0},"ENTITY_ID",{"$f":"+CBM!F83","v":""},{"$f":"TEXT(+'Cover Sheet'!C$22,\"yyyymmdd\")","v":"19000100"},14180,"--- na ---",{"$f":"IF(+CBM!H83=\"--- na ---\",\"--- na ---\",IF(ISERROR(TRUNC(+CBM!H83,4))=TRUE,\"\",TRUNC(+CBM!H83,4)))","v":0},"--- na ---",{"$f":"IF(ISERROR(TRUNC(+CBM!G83,4))=TRUE,\"\",TRUNC(+CBM!G83,4))","v":0},"--- na ---","--- na ---","--- na ---","--- na ---"]
["CMQNT_14180",{"$f":"+'Cover Sheet'!$C$24","v":0},"ENTITY_ID",{"$f":"+CBM!F84","v":""},{"$f":"TEXT(+'Cover Sheet'!C$22,\"yyyymmdd\")","v":"19000100"},14180,"--- na ---",{"$f":"IF(+CBM!H84=\"--- na ---\",\"--- na ---\",IF(ISERROR(TRUNC(+CBM!H84,4))=TRUE,\"\",TRUNC(+CBM!H84,4)))","v":0},"--- na ---",{"$f":"IF(ISERROR(TRUNC(+CBM!G84,4))=TRUE,\"\",TRUNC(+CBM!G84,4))","v":0},"--- na ---","--- na ---","--- na ---","--- na ---"]
["CMQNT_14180",{"$f":"+'Cover Sheet'!$C$24","v":0},"ENTITY_ID",{"$f":"+CBM!F85","v":""},{"$f":"TEXT(+'Cover Sheet'!C$22,\"yyyymmdd\")","v":"19000100"},14180,"--- na ---",{"$f":"IF(+CBM!H85=\"--- na ---\",\"--- na ---\",IF(ISERROR(TRUNC(+CBM!H85,4))=TRUE,\"\",TRUNC(+CBM!H85,4)))","v":0},"--- na ---",{"$f":"IF(ISERROR(TRUNC(+CBM!G85,4))=TRUE,\"\",TRUNC(+CBM!G85,4))","v":0},"--- na ---","--- na ---","--- na ---","--- na ---"]
["CMQNT_14180",{"$f":"+'Cover Sheet'!$C$24","v":0},"ENTITY_ID",{"$f":"+CBM!F86","v":""},{"$f":"TEXT(+'Cover Sheet'!C$22,\"yyyymmdd\")","v":"19000100"},14180,"--- na ---",{"$f":"IF(+CBM!H86=\"--- na ---\",\"--- na ---\",IF(ISERROR(TRUNC(+CBM!H86,4))=TRUE,\"\",TRUNC(+CBM!H86,4)))","v":0},"--- na ---",{"$f":"IF(ISERROR(TRUNC(+CBM!G86,4))=TRUE,\"\",TRUNC(+CBM!G86,4))","v":0},"--- na ---","--- na ---","--- na ---","--- na ---"]
["CMQNT_14180",{"$f":"+'Cover Sheet'!$C$24","v":0},"ENTITY_ID",{"$f":"+CBM!F87","v":""},{"$f":"TEXT(+'Cover Sheet'!C$22,\"yyyymmdd\")","v":"19000100"},14180,"--- na ---",{"$f":"IF(+CBM!H87=\"--- na ---\",\"--- na ---\",IF(ISERROR(TRUNC(+CBM!H87,4))=TRUE,\"\",TRUNC(+CBM!H87,4)))","v":0},"--- na ---",{"$f":"IF(ISERROR(TRUNC(+CBM!G87,4))=TRUE,\"\",TRUNC(+CBM!G87,4))","v":0},"--- na ---","--- na ---","--- na ---","--- na ---"]
["CMQNT_14180",{"$f":"+'Cover Sheet'!$C$24","v":0},"ENTITY_ID",{"$f":"+CBM!F88","v":""},{"$f":"TEXT(+'Cover Sheet'!C$22,\"yyyymmdd\")","v":"19000100"},14180,"--- na ---",{"$f":"IF(+CBM!H88=\"--- na ---\",\"--- na ---\",IF(ISERROR(TRUNC(+CBM!H88,4))=TRUE,\"\",TRUNC(+CBM!H88,4)))","v":0},"--- na ---",{"$f":"IF(ISERROR(TRUNC(+CBM!G88,4))=TRUE,\"\",TRUNC(+CBM!G88,4))","v":0},"--- na ---","--- na ---","--- na ---","--- na ---"]
["CMQNT_14180",{"$f":"+'Cover Sheet'!$C$24","v":0},"ENTITY_ID",{"$f":"+CBM!F89","v":""},{"$f":"TEXT(+'Cover Sheet'!C$22,\"yyyymmdd\")","v":"19000100"},14180,"--- na ---",{"$f":"IF(+CBM!H89=\"--- na ---\",\"--- na ---\",IF(ISERROR(TRUNC(+CBM!H89,4))=TRUE,\"\",TRUNC(+CBM!H89,4)))","v":0},"--- na ---",{"$f":"IF(ISERROR(TRUNC(+CBM!G89,4))=TRUE,\"\",TRUNC(+CBM!G89,4))","v":0},"--- na ---","--- na ---","--- na ---","--- na ---"]
["CMQNT_14180",{"$f":"+'Cover Sheet'!$C$24","v":0},"ENTITY_ID",{"$f":"+CBM!F90","v":""},{"$f":"TEXT(+'Cover Sheet'!C$22,\"yyyymmdd\")","v":"19000100"},14180,"--- na ---",{"$f":"IF(+CBM!H90=\"--- na ---\",\"--- na ---\",IF(ISERROR(TRUNC(+CBM!H90,4))=TRUE,\"\",TRUNC(+CBM!H90,4)))","v":0},"--- na ---",{"$f":"IF(ISERROR(TRUNC(+CBM!G90,4))=TRUE,\"\",TRUNC(+CBM!G90,4))","v":0},"--- na ---","--- na ---","--- na ---","--- na ---"]
["CMQNT_14180",{"$f":"+'Cover Sheet'!$C$24","v":0},"ENTITY_ID",{"$f":"+CBM!F91","v":""},{"$f":"TEXT(+'Cover Sheet'!C$22,\"yyyymmdd\")","v":"19000100"},14180,"--- na ---",{"$f":"IF(+CBM!H91=\"--- na ---\",\"--- na ---\",IF(ISERROR(TRUNC(+CBM!H91,4))=TRUE,\"\",TRUNC(+CBM!H91,4)))","v":0},"--- na ---",{"$f":"IF(ISERROR(TRUNC(+CBM!G91,4))=TRUE,\"\",TRUNC(+CBM!G91,4))","v":0},"--- na ---","--- na ---","--- na ---","--- na ---"]
["CMQNT_14180",{"$f":"+'Cover Sheet'!$C$24","v":0},"ENTITY_ID",{"$f":"+CBM!F92","v":""},{"$f":"TEXT(+'Cover Sheet'!C$22,\"yyyymmdd\")","v":"19000100"},14180,"--- na ---",{"$f":"IF(+CBM!H92=\"--- na ---\",\"--- na ---\",IF(ISERROR(TRUNC(+CBM!H92,4))=TRUE,\"\",TRUNC(+CBM!H92,4)))","v":0},"--- na ---",{"$f":"IF(ISERROR(TRUNC(+CBM!G92,4))=TRUE,\"\",TRUNC(+CBM!G92,4))","v":0},"--- na ---","--- na ---","--- na ---","--- na ---"]
["CMQNT_14180",{"$f":"+'Cover Sheet'!$C$24","v":0},"ENTITY_ID",{"$f":"+CBM!F93","v":""},{"$f":"TEXT(+'Cover Sheet'!C$22,\"yyyymmdd\")","v":"19000100"},14180,"--- na ---",{"$f":"IF(+CBM!H93=\"--- na ---\",\"--- na ---\",IF(ISERROR(TRUNC(+CBM!H93,4))=TRUE,\"\",TRUNC(+CBM!H93,4)))","v":0},"--- na ---",{"$f":"IF(ISERROR(TRUNC(+CBM!G93,4))=TRUE,\"\",TRUNC(+CBM!G93,4))","v":0},"--- na ---","--- na ---","--- na ---","--- na ---"]
["CMQNT_14180",{"$f":"+'Cover Sheet'!$C$24","v":0},"ENTITY_ID",{"$f":"+CBM!F94","v":""},{"$f":"TEXT(+'Cover Sheet'!C$22,\"yyyymmdd\")","v":"19000100"},14180,"--- na ---",{"$f":"IF(+CBM!H94=\"--- na ---\",\"--- na ---\",IF(ISERROR(TRUNC(+CBM!H94,4))=TRUE,\"\",TRUNC(+CBM!H94,4)))","v":0},"--- na ---",{"$f":"IF(ISERROR(TRUNC(+CBM!G94,4))=TRUE,\"\",TRUNC(+CBM!G94,4))","v":0},"--- na ---","--- na ---","--- na ---","--- na ---"]
["CMQNT_14180",{"$f":"+'Cover Sheet'!$C$24","v":0},"ENTITY_ID",{"$f":"+CBM!F95","v":""},{"$f":"TEXT(+'Cover Sheet'!C$22,\"yyyymmdd\")","v":"19000100"},14180,"--- na ---",{"$f":"IF(+CBM!H95=\"--- na ---\",\"--- na ---\",IF(ISERROR(TRUNC(+CBM!H95,4))=TRUE,\"\",TRUNC(+CBM!H95,4)))","v":0},"--- na ---",{"$f":"IF(ISERROR(TRUNC(+CBM!G95,4))=TRUE,\"\",TRUNC(+CBM!G95,4))","v":0},"--- na ---","--- na ---","--- na ---","--- na ---"]
["CMQNT_14180",{"$f":"+'Cover Sheet'!$C$24","v":0},"ENTITY_ID",{"$f":"+CBM!F96","v":""},{"$f":"TEXT(+'Cover Sheet'!C$22,\"yyyymmdd\")","v":"19000100"},14180,"--- na ---",{"$f":"IF(+CBM!H96=\"--- na ---\",\"--- na ---\",IF(ISERROR(TRUNC(+CBM!H96,4))=TRUE,\"\",TRUNC(+CBM!H96,4)))","v":0},"--- na ---",{"$f":"IF(ISERROR(TRUNC(+CBM!G96,4))=TRUE,\"\",TRUNC(+CBM!G96,4))","v":0},"--- na ---","--- na ---","--- na ---","--- na ---"]
["CMQNT_14180",{"$f":"+'Cover Sheet'!$C$24","v":0},"ENTITY_ID",{"$f":"+CBM!F97","v":""},{"$f":"TEXT(+'Cover Sheet'!C$22,\"yyyymmdd\")","v":"19000100"},14180,"--- na ---",{"$f":"IF(+CBM!H97=\"--- na ---\",\"--- na ---\",IF(ISERROR(TRUNC(+CBM!H97,4))=TRUE,\"\",TRUNC(+CBM!H97,4)))","v":0},"--- na ---",{"$f":"IF(ISERROR(TRUNC(+CBM!G97,4))=TRUE,\"\",TRUNC(+CBM!G97,4))","v":0},"--- na ---","--- na ---","--- na ---","--- na ---"]
["CMQNT_14180",{"$f":"+'Cover Sheet'!$C$24","v":0},"ENTITY_ID",{"$f":"+CBM!F98","v":""},{"$f":"TEXT(+'Cover Sheet'!C$22,\"yyyymmdd\")","v":"19000100"},14180,"--- na ---",{"$f":"IF(+CBM!H98=\"--- na ---\",\"--- na ---\",IF(ISERROR(TRUNC(+CBM!H98,4))=TRUE,\"\",TRUNC(+CBM!H98,4)))","v":0},"--- na ---",{"$f":"IF(ISERROR(TRUNC(+CBM!G98,4))=TRUE,\"\",TRUNC(+CBM!G98,4))","v":0},"--- na ---","--- na ---","--- na ---","--- na ---"]
["CMQNT_14180",{"$f":"+'Cover Sheet'!$C$24","v":0},"ENTITY_ID",{"$f":"+CBM!F99","v":""},{"$f":"TEXT(+'Cover Sheet'!C$22,\"yyyymmdd\")","v":"19000100"},14180,"--- na ---",{"$f":"IF(+CBM!H99=\"--- na ---\",\"--- na ---\",IF(ISERROR(TRUNC(+CBM!H99,4))=TRUE,\"\",TRUNC(+CBM!H99,4)))","v":0},"--- na ---",{"$f":"IF(ISERROR(TRUNC(+CBM!G99,4))=TRUE,\"\",TRUNC(+CBM!G99,4))","v":0},"--- na ---","--- na ---","--- na ---","--- na ---"]
["CMQNT_14180",{"$f":"+'Cover Sheet'!$C$24","v":0},"ENTITY_ID",{"$f":"+CBM!F100","v":""},{"$f":"TEXT(+'Cover Sheet'!C$22,\"yyyymmdd\")","v":"19000100"},14180,"--- na ---",{"$f":"IF(+CBM!H100=\"--- na ---\",\"--- na ---\",IF(ISERROR(TRUNC(+CBM!H100,4))=TRUE,\"\",TRUNC(+CBM!H100,4)))","v":0},"--- na ---",{"$f":"IF(ISERROR(TRUNC(+CBM!G100,4))=TRUE,\"\",TRUNC(+CBM!G100,4))","v":0},"--- na ---","--- na ---","--- na ---","--- na ---"]
["CMQNT_14180",{"$f":"+'Cover Sheet'!$C$24","v":0},"ENTITY_ID",{"$f":"+CBM!F101","v":""},{"$f":"TEXT(+'Cover Sheet'!C$22,\"yyyymmdd\")","v":"19000100"},14180,"--- na ---",{"$f":"IF(+CBM!H101=\"--- na ---\",\"--- na ---\",IF(ISERROR(TRUNC(+CBM!H101,4))=TRUE,\"\",TRUNC(+CBM!H101,4)))","v":0},"--- na ---",{"$f":"IF(ISERROR(TRUNC(+CBM!G101,4))=TRUE,\"\",TRUNC(+CBM!G101,4))","v":0},"--- na ---","--- na ---","--- na ---","--- na ---"]
["CMQNT_14180",{"$f":"+'Cover Sheet'!$C$24","v":0},"ENTITY_ID",{"$f":"+CBM!F102","v":""},{"$f":"TEXT(+'Cover Sheet'!C$22,\"yyyymmdd\")","v":"19000100"},14180,"--- na ---",{"$f":"IF(+CBM!H102=\"--- na ---\",\"--- na ---\",IF(ISERROR(TRUNC(+CBM!H102,4))=TRUE,\"\",TRUNC(+CBM!H102,4)))","v":0},"--- na ---",{"$f":"IF(ISERROR(TRUNC(+CBM!G102,4))=TRUE,\"\",TRUNC(+CBM!G102,4))","v":0},"--- na ---","--- na ---","--- na ---","--- na ---"]
["CMQNT_14180",{"$f":"+'Cover Sheet'!$C$24","v":0},"ENTITY_ID",{"$f":"+CBM!F103","v":""},{"$f":"TEXT(+'Cover Sheet'!C$22,\"yyyymmdd\")","v":"19000100"},14180,"--- na ---",{"$f":"IF(+CBM!H103=\"--- na ---\",\"--- na ---\",IF(ISERROR(TRUNC(+CBM!H103,4))=TRUE,\"\",TRUNC(+CBM!H103,4)))","v":0},"--- na ---",{"$f":"IF(ISERROR(TRUNC(+CBM!G103,4))=TRUE,\"\",TRUNC(+CBM!G103,4))","v":0},"--- na ---","--- na ---","--- na ---","--- na ---"]
["CMQNT_14180",{"$f":"+'Cover Sheet'!$C$24","v":0},"ENTITY_ID",{"$f":"+CBM!F104","v":""},{"$f":"TEXT(+'Cover Sheet'!C$22,\"yyyymmdd\")","v":"19000100"},14180,"--- na ---",{"$f":"IF(+CBM!H104=\"--- na ---\",\"--- na ---\",IF(ISERROR(TRUNC(+CBM!H104,4))=TRUE,\"\",TRUNC(+CBM!H104,4)))","v":0},"--- na ---",{"$f":"IF(ISERROR(TRUNC(+CBM!G104,4))=TRUE,\"\",TRUNC(+CBM!G104,4))","v":0},"--- na ---","--- na ---","--- na ---","--- na ---"]
["CMQNT_14180",{"$f":"+'Cover Sheet'!$C$24","v":0},"ENTITY_ID",{"$f":"+CBM!F105","v":""},{"$f":"TEXT(+'Cover Sheet'!C$22,\"yyyymmdd\")","v":"19000100"},14180,"--- na ---",{"$f":"IF(+CBM!H105=\"--- na ---\",\"--- na ---\",IF(ISERROR(TRUNC(+CBM!H105,4))=TRUE,\"\",TRUNC(+CBM!H105,4)))","v":0},"--- na ---",{"$f":"IF(ISERROR(TRUNC(+CBM!G105,4))=TRUE,\"\",TRUNC(+CBM!G105,4))","v":0},"--- na ---","--- na ---","--- na ---","--- na ---"]
["CMQNT_14180",{"$f":"+'Cover Sheet'!$C$24","v":0},"ENTITY_ID",{"$f":"+CBM!F106","v":""},{"$f":"TEXT(+'Cover Sheet'!C$22,\"yyyymmdd\")","v":"19000100"},14180,"--- na ---",{"$f":"IF(+CBM!H106=\"--- na ---\",\"--- na ---\",IF(ISERROR(TRUNC(+CBM!H106,4))=TRUE,\"\",TRUNC(+CBM!H106,4)))","v":0},"--- na ---",{"$f":"IF(ISERROR(TRUNC(+CBM!G106,4))=TRUE,\"\",TRUNC(+CBM!G106,4))","v":0},"--- na ---","--- na ---","--- na ---","--- na ---"]
["CMQNT_14180",{"$f":"+'Cover Sheet'!$C$24","v":0},"ENTITY_ID",{"$f":"+CBM!F107","v":""},{"$f":"TEXT(+'Cover Sheet'!C$22,\"yyyymmdd\")","v":"19000100"},14180,"--- na ---",{"$f":"IF(+CBM!H107=\"--- na ---\",\"--- na ---\",IF(ISERROR(TRUNC(+CBM!H107,4))=TRUE,\"\",TRUNC(+CBM!H107,4)))","v":0},"--- na ---",{"$f":"IF(ISERROR(TRUNC(+CBM!G107,4))=TRUE,\"\",TRUNC(+CBM!G107,4))","v":0},"--- na ---","--- na ---","--- na ---","--- na ---"]
["CMQNT_14180",{"$f":"+'Cover Sheet'!$C$24","v":0},"ENTITY_ID",{"$f":"+CBM!F108","v":""},{"$f":"TEXT(+'Cover Sheet'!C$22,\"yyyymmdd\")","v":"19000100"},14180,"--- na ---",{"$f":"IF(+CBM!H108=\"--- na ---\",\"--- na ---\",IF(ISERROR(TRUNC(+CBM!H108,4))=TRUE,\"\",TRUNC(+CBM!H108,4)))","v":0},"--- na ---",{"$f":"IF(ISERROR(TRUNC(+CBM!G108,4))=TRUE,\"\",TRUNC(+CBM!G108,4))","v":0},"--- na ---","--- na ---","--- na ---","--- na ---"]
["CMQNT_14180",{"$f":"+'Cover Sheet'!$C$24","v":0},"ENTITY_ID",{"$f":"+CBM!F109","v":""},{"$f":"TEXT(+'Cover Sheet'!C$22,\"yyyymmdd\")","v":"19000100"},14180,"--- na ---",{"$f":"IF(+CBM!H109=\"--- na ---\",\"--- na ---\",IF(ISERROR(TRUNC(+CBM!H109,4))=TRUE,\"\",TRUNC(+CBM!H109,4)))","v":0},"--- na ---",{"$f":"IF(ISERROR(TRUNC(+CBM!G109,4))=TRUE,\"\",TRUNC(+CBM!G109,4))","v":0},"--- na ---","--- na ---","--- na ---","--- na ---"]
["CMQNT_14190",{"$f":"+'Cover Sheet'!$C$24","v":0},"ENTITY_ID","W1",{"$f":"TEXT(+'Cover Sheet'!C$22,\"yyyymmdd\")","v":"19000100"},14190,"--- na ---",{"$f":"IF(+CBM!H110=\"--- na ---\",\"--- na ---\",IF(ISERROR(TRUNC(+CBM!H110,4))=TRUE,\"\",TRUNC(+CBM!H110,4)))","v":0},"--- na ---",{"$f":"IF(ISERROR(TRUNC(+CBM!G110,4))=TRUE,\"\",TRUNC(+CBM!G110,4))","v":0},"--- na ---","--- na ---","--- na ---","--- na ---"]
["CMQNT_14190",{"$f":"+'Cover Sheet'!$C$24","v":0},"ENTITY_ID",{"$f":"+CBM!F111","v":""},{"$f":"TEXT(+'Cover Sheet'!C$22,\"yyyymmdd\")","v":"19000100"},14190,"--- na ---",{"$f":"IF(+CBM!H111=\"--- na ---\",\"--- na ---\",IF(ISERROR(TRUNC(+CBM!H111,4))=TRUE,\"\",TRUNC(+CBM!H111,4)))","v":0},"--- na ---",{"$f":"IF(ISERROR(TRUNC(+CBM!G111,4))=TRUE,\"\",TRUNC(+CBM!G111,4))","v":0},"--- na ---","--- na ---","--- na ---","--- na ---"]
["CMQNT_14190",{"$f":"+'Cover Sheet'!$C$24","v":0},"ENTITY_ID",{"$f":"+CBM!F112","v":""},{"$f":"TEXT(+'Cover Sheet'!C$22,\"yyyymmdd\")","v":"19000100"},14190,"--- na ---",{"$f":"IF(+CBM!H112=\"--- na ---\",\"--- na ---\",IF(ISERROR(TRUNC(+CBM!H112,4))=TRUE,\"\",TRUNC(+CBM!H112,4)))","v":0},"--- na ---",{"$f":"IF(ISERROR(TRUNC(+CBM!G112,4))=TRUE,\"\",TRUNC(+CBM!G112,4))","v":0},"--- na ---","--- na ---","--- na ---","--- na ---"]
["CMQNT_14190",{"$f":"+'Cover Sheet'!$C$24","v":0},"ENTITY_ID",{"$f":"+CBM!F113","v":""},{"$f":"TEXT(+'Cover Sheet'!C$22,\"yyyymmdd\")","v":"19000100"},14190,"--- na ---",{"$f":"IF(+CBM!H113=\"--- na ---\",\"--- na ---\",IF(ISERROR(TRUNC(+CBM!H113,4))=TRUE,\"\",TRUNC(+CBM!H113,4)))","v":0},"--- na ---",{"$f":"IF(ISERROR(TRUNC(+CBM!G113,4))=TRUE,\"\",TRUNC(+CBM!G113,4))","v":0},"--- na ---","--- na ---","--- na ---","--- na ---"]
["CMQNT_14190",{"$f":"+'Cover Sheet'!$C$24","v":0},"ENTITY_ID",{"$f":"+CBM!F114","v":""},{"$f":"TEXT(+'Cover Sheet'!C$22,\"yyyymmdd\")","v":"19000100"},14190,"--- na ---",{"$f":"IF(+CBM!H114=\"--- na ---\",\"--- na ---\",IF(ISERROR(TRUNC(+CBM!H114,4))=TRUE,\"\",TRUNC(+CBM!H114,4)))","v":0},"--- na ---",{"$f":"IF(ISERROR(TRUNC(+CBM!G114,4))=TRUE,\"\",TRUNC(+CBM!G114,4))","v":0},"--- na ---","--- na ---","--- na ---","--- na ---"]
["CMQNT_14190",{"$f":"+'Cover Sheet'!$C$24","v":0},"ENTITY_ID",{"$f":"+CBM!F115","v":""},{"$f":"TEXT(+'Cover Sheet'!C$22,\"yyyymmdd\")","v":"19000100"},14190,"--- na ---",{"$f":"IF(+CBM!H115=\"--- na ---\",\"--- na ---\",IF(ISERROR(TRUNC(+CBM!H115,4))=TRUE,\"\",TRUNC(+CBM!H115,4)))","v":0},"--- na ---",{"$f":"IF(ISERROR(TRUNC(+CBM!G115,4))=TRUE,\"\",TRUNC(+CBM!G115,4))","v":0},"--- na ---","--- na ---","--- na ---","--- na ---"]
["CMQNT_14190",{"$f":"+'Cover Sheet'!$C$24","v":0},"ENTITY_ID",{"$f":"+CBM!F116","v":""},{"$f":"TEXT(+'Cover Sheet'!C$22,\"yyyymmdd\")","v":"19000100"},14190,"--- na ---",{"$f":"IF(+CBM!H116=\"--- na ---\",\"--- na ---\",IF(ISERROR(TRUNC(+CBM!H116,4))=TRUE,\"\",TRUNC(+CBM!H116,4)))","v":0},"--- na ---",{"$f":"IF(ISERROR(TRUNC(+CBM!G116,4))=TRUE,\"\",TRUNC(+CBM!G116,4))","v":0},"--- na ---","--- na ---","--- na ---","--- na ---"]
["CMQNT_14190",{"$f":"+'Cover Sheet'!$C$24","v":0},"ENTITY_ID",{"$f":"+CBM!F117","v":""},{"$f":"TEXT(+'Cover Sheet'!C$22,\"yyyymmdd\")","v":"19000100"},14190,"--- na ---",{"$f":"IF(+CBM!H117=\"--- na ---\",\"--- na ---\",IF(ISERROR(TRUNC(+CBM!H117,4))=TRUE,\"\",TRUNC(+CBM!H117,4)))","v":0},"--- na ---",{"$f":"IF(ISERROR(TRUNC(+CBM!G117,4))=TRUE,\"\",TRUNC(+CBM!G117,4))","v":0},"--- na ---","--- na ---","--- na ---","--- na ---"]
["CMQNT_14190",{"$f":"+'Cover Sheet'!$C$24","v":0},"ENTITY_ID",{"$f":"+CBM!F118","v":""},{"$f":"TEXT(+'Cover Sheet'!C$22,\"yyyymmdd\")","v":"19000100"},14190,"--- na ---",{"$f":"IF(+CBM!H118=\"--- na ---\",\"--- na ---\",IF(ISERROR(TRUNC(+CBM!H118,4))=TRUE,\"\",TRUNC(+CBM!H118,4)))","v":0},"--- na ---",{"$f":"IF(ISERROR(TRUNC(+CBM!G118,4))=TRUE,\"\",TRUNC(+CBM!G118,4))","v":0},"--- na ---","--- na ---","--- na ---","--- na ---"]
["CMQNT_14190",{"$f":"+'Cover Sheet'!$C$24","v":0},"ENTITY_ID",{"$f":"+CBM!F119","v":""},{"$f":"TEXT(+'Cover Sheet'!C$22,\"yyyymmdd\")","v":"19000100"},14190,"--- na ---",{"$f":"IF(+CBM!H119=\"--- na ---\",\"--- na ---\",IF(ISERROR(TRUNC(+CBM!H119,4))=TRUE,\"\",TRUNC(+CBM!H119,4)))","v":0},"--- na ---",{"$f":"IF(ISERROR(TRUNC(+CBM!G119,4))=TRUE,\"\",TRUNC(+CBM!G119,4))","v":0},"--- na ---","--- na ---","--- na ---","--- na ---"]
["CMQNT_14190",{"$f":"+'Cover Sheet'!$C$24","v":0},"ENTITY_ID",{"$f":"+CBM!F120","v":""},{"$f":"TEXT(+'Cover Sheet'!C$22,\"yyyymmdd\")","v":"19000100"},14190,"--- na ---",{"$f":"IF(+CBM!H120=\"--- na ---\",\"--- na ---\",IF(ISERROR(TRUNC(+CBM!H120,4))=TRUE,\"\",TRUNC(+CBM!H120,4)))","v":0},"--- na ---",{"$f":"IF(ISERROR(TRUNC(+CBM!G120,4))=TRUE,\"\",TRUNC(+CBM!G120,4))","v":0},"--- na ---","--- na ---","--- na ---","--- na ---"]
["CMQNT_14190",{"$f":"+'Cover Sheet'!$C$24","v":0},"ENTITY_ID",{"$f":"+CBM!F121","v":""},{"$f":"TEXT(+'Cover Sheet'!C$22,\"yyyymmdd\")","v":"19000100"},14190,"--- na ---",{"$f":"IF(+CBM!H121=\"--- na ---\",\"--- na ---\",IF(ISERROR(TRUNC(+CBM!H121,4))=TRUE,\"\",TRUNC(+CBM!H121,4)))","v":0},"--- na ---",{"$f":"IF(ISERROR(TRUNC(+CBM!G121,4))=TRUE,\"\",TRUNC(+CBM!G121,4))","v":0},"--- na ---","--- na ---","--- na ---","--- na ---"]
["CMQNT_14190",{"$f":"+'Cover Sheet'!$C$24","v":0},"ENTITY_ID",{"$f":"+CBM!F122","v":""},{"$f":"TEXT(+'Cover Sheet'!C$22,\"yyyymmdd\")","v":"19000100"},14190,"--- na ---",{"$f":"IF(+CBM!H122=\"--- na ---\",\"--- na ---\",IF(ISERROR(TRUNC(+CBM!H122,4))=TRUE,\"\",TRUNC(+CBM!H122,4)))","v":0},"--- na ---",{"$f":"IF(ISERROR(TRUNC(+CBM!G122,4))=TRUE,\"\",TRUNC(+CBM!G122,4))","v":0},"--- na ---","--- na ---","--- na ---","--- na ---"]
["CMQNT_14190",{"$f":"+'Cover Sheet'!$C$24","v":0},"ENTITY_ID",{"$f":"+CBM!F123","v":""},{"$f":"TEXT(+'Cover Sheet'!C$22,\"yyyymmdd\")","v":"19000100"},14190,"--- na ---",{"$f":"IF(+CBM!H123=\"--- na ---\",\"--- na ---\",IF(ISERROR(TRUNC(+CBM!H123,4))=TRUE,\"\",TRUNC(+CBM!H123,4)))","v":0},"--- na ---",{"$f":"IF(ISERROR(TRUNC(+CBM!G123,4))=TRUE,\"\",TRUNC(+CBM!G123,4))","v":0},"--- na ---","--- na ---","--- na ---","--- na ---"]
["CMQNT_14190",{"$f":"+'Cover Sheet'!$C$24","v":0},"ENTITY_ID",{"$f":"+CBM!F124","v":""},{"$f":"TEXT(+'Cover Sheet'!C$22,\"yyyymmdd\")","v":"19000100"},14190,"--- na ---",{"$f":"IF(+CBM!H124=\"--- na ---\",\"--- na ---\",IF(ISERROR(TRUNC(+CBM!H124,4))=TRUE,\"\",TRUNC(+CBM!H124,4)))","v":0},"--- na ---",{"$f":"IF(ISERROR(TRUNC(+CBM!G124,4))=TRUE,\"\",TRUNC(+CBM!G124,4))","v":0},"--- na ---","--- na ---","--- na ---","--- na ---"]
["CMQNT_14190",{"$f":"+'Cover Sheet'!$C$24","v":0},"ENTITY_ID",{"$f":"+CBM!F125","v":""},{"$f":"TEXT(+'Cover Sheet'!C$22,\"yyyymmdd\")","v":"19000100"},14190,"--- na ---",{"$f":"IF(+CBM!H125=\"--- na ---\",\"--- na ---\",IF(ISERROR(TRUNC(+CBM!H125,4))=TRUE,\"\",TRUNC(+CBM!H125,4)))","v":0},"--- na ---",{"$f":"IF(ISERROR(TRUNC(+CBM!G125,4))=TRUE,\"\",TRUNC(+CBM!G125,4))","v":0},"--- na ---","--- na ---","--- na ---","--- na ---"]
["CMQNT_14190",{"$f":"+'Cover Sheet'!$C$24","v":0},"ENTITY_ID",{"$f":"+CBM!F126","v":""},{"$f":"TEXT(+'Cover Sheet'!C$22,\"yyyymmdd\")","v":"19000100"},14190,"--- na ---",{"$f":"IF(+CBM!H126=\"--- na ---\",\"--- na ---\",IF(ISERROR(TRUNC(+CBM!H126,4))=TRUE,\"\",TRUNC(+CBM!H126,4)))","v":0},"--- na ---",{"$f":"IF(ISERROR(TRUNC(+CBM!G126,4))=TRUE,\"\",TRUNC(+CBM!G126,4))","v":0},"--- na ---","--- na ---","--- na ---","--- na ---"]
["CMQNT_14190",{"$f":"+'Cover Sheet'!$C$24","v":0},"ENTITY_ID",{"$f":"+CBM!F127","v":""},{"$f":"TEXT(+'Cover Sheet'!C$22,\"yyyymmdd\")","v":"19000100"},14190,"--- na ---",{"$f":"IF(+CBM!H127=\"--- na ---\",\"--- na ---\",IF(ISERROR(TRUNC(+CBM!H127,4))=TRUE,\"\",TRUNC(+CBM!H127,4)))","v":0},"--- na ---",{"$f":"IF(ISERROR(TRUNC(+CBM!G127,4))=TRUE,\"\",TRUNC(+CBM!G127,4))","v":0},"--- na ---","--- na ---","--- na ---","--- na ---"]
["CMQNT_14190",{"$f":"+'Cover Sheet'!$C$24","v":0},"ENTITY_ID",{"$f":"+CBM!F128","v":""},{"$f":"TEXT(+'Cover Sheet'!C$22,\"yyyymmdd\")","v":"19000100"},14190,"--- na ---",{"$f":"IF(+CBM!H128=\"--- na ---\",\"--- na ---\",IF(ISERROR(TRUNC(+CBM!H128,4))=TRUE,\"\",TRUNC(+CBM!H128,4)))","v":0},"--- na ---",{"$f":"IF(ISERROR(TRUNC(+CBM!G128,4))=TRUE,\"\",TRUNC(+CBM!G128,4))","v":0},"--- na ---","--- na ---","--- na ---","--- na ---"]
["CMQNT_14190",{"$f":"+'Cover Sheet'!$C$24","v":0},"ENTITY_ID",{"$f":"+CBM!F129","v":""},{"$f":"TEXT(+'Cover Sheet'!C$22,\"yyyymmdd\")","v":"19000100"},14190,"--- na ---",{"$f":"IF(+CBM!H129=\"--- na ---\",\"--- na ---\",IF(ISERROR(TRUNC(+CBM!H129,4))=TRUE,\"\",TRUNC(+CBM!H129,4)))","v":0},"--- na ---",{"$f":"IF(ISERROR(TRUNC(+CBM!G129,4))=TRUE,\"\",TRUNC(+CBM!G129,4))","v":0},"--- na ---","--- na ---","--- na ---","--- na ---"]
["CMQNT_14190",{"$f":"+'Cover Sheet'!$C$24","v":0},"ENTITY_ID",{"$f":"+CBM!F130","v":""},{"$f":"TEXT(+'Cover Sheet'!C$22,\"yyyymmdd\")","v":"19000100"},14190,"--- na ---",{"$f":"IF(+CBM!H130=\"--- na ---\",\"--- na ---\",IF(ISERROR(TRUNC(+CBM!H130,4))=TRUE,\"\",TRUNC(+CBM!H130,4)))","v":0},"--- na ---",{"$f":"IF(ISERROR(TRUNC(+CBM!G130,4))=TRUE,\"\",TRUNC(+CBM!G130,4))","v":0},"--- na ---","--- na ---","--- na ---","--- na ---"]
["CMQNT_14190",{"$f":"+'Cover Sheet'!$C$24","v":0},"ENTITY_ID",{"$f":"+CBM!F131","v":""},{"$f":"TEXT(+'Cover Sheet'!C$22,\"yyyymmdd\")","v":"19000100"},14190,"--- na ---",{"$f":"IF(+CBM!H131=\"--- na ---\",\"--- na ---\",IF(ISERROR(TRUNC(+CBM!H131,4))=TRUE,\"\",TRUNC(+CBM!H131,4)))","v":0},"--- na ---",{"$f":"IF(ISERROR(TRUNC(+CBM!G131,4))=TRUE,\"\",TRUNC(+CBM!G131,4))","v":0},"--- na ---","--- na ---","--- na ---","--- na ---"]
["CMQNT_14190",{"$f":"+'Cover Sheet'!$C$24","v":0},"ENTITY_ID",{"$f":"+CBM!F132","v":""},{"$f":"TEXT(+'Cover Sheet'!C$22,\"yyyymmdd\")","v":"19000100"},14190,"--- na ---",{"$f":"IF(+CBM!H132=\"--- na ---\",\"--- na ---\",IF(ISERROR(TRUNC(+CBM!H132,4))=TRUE,\"\",TRUNC(+CBM!H132,4)))","v":0},"--- na ---",{"$f":"IF(ISERROR(TRUNC(+CBM!G132,4))=TRUE,\"\",TRUNC(+CBM!G132,4))","v":0},"--- na ---","--- na ---","--- na ---","--- na ---"]
["CMQNT_14190",{"$f":"+'Cover Sheet'!$C$24","v":0},"ENTITY_ID",{"$f":"+CBM!F133","v":""},{"$f":"TEXT(+'Cover Sheet'!C$22,\"yyyymmdd\")","v":"19000100"},14190,"--- na ---",{"$f":"IF(+CBM!H133=\"--- na ---\",\"--- na ---\",IF(ISERROR(TRUNC(+CBM!H133,4))=TRUE,\"\",TRUNC(+CBM!H133,4)))","v":0},"--- na ---",{"$f":"IF(ISERROR(TRUNC(+CBM!G133,4))=TRUE,\"\",TRUNC(+CBM!G133,4))","v":0},"--- na ---","--- na ---","--- na ---","--- na ---"]
["CMQNT_14190",{"$f":"+'Cover Sheet'!$C$24","v":0},"ENTITY_ID",{"$f":"+CBM!F134","v":""},{"$f":"TEXT(+'Cover Sheet'!C$22,\"yyyymmdd\")","v":"19000100"},14190,"--- na ---",{"$f":"IF(+CBM!H134=\"--- na ---\",\"--- na ---\",IF(ISERROR(TRUNC(+CBM!H134,4))=TRUE,\"\",TRUNC(+CBM!H134,4)))","v":0},"--- na ---",{"$f":"IF(ISERROR(TRUNC(+CBM!G134,4))=TRUE,\"\",TRUNC(+CBM!G134,4))","v":0},"--- na ---","--- na ---","--- na ---","--- na ---"]
["CMQNT_14190",{"$f":"+'Cover Sheet'!$C$24","v":0},"ENTITY_ID",{"$f":"+CBM!F135","v":""},{"$f":"TEXT(+'Cover Sheet'!C$22,\"yyyymmdd\")","v":"19000100"},14190,"--- na ---",{"$f":"IF(+CBM!H135=\"--- na ---\",\"--- na ---\",IF(ISERROR(TRUNC(+CBM!H135,4))=TRUE,\"\",TRUNC(+CBM!H135,4)))","v":0},"--- na ---",{"$f":"IF(ISERROR(TRUNC(+CBM!G135,4))=TRUE,\"\",TRUNC(+CBM!G135,4))","v":0},"--- na ---","--- na ---","--- na ---","--- na ---"]
["CMQNT_14190",{"$f":"+'Cover Sheet'!$C$24","v":0},"ENTITY_ID",{"$f":"+CBM!F136","v":""},{"$f":"TEXT(+'Cover Sheet'!C$22,\"yyyymmdd\")","v":"19000100"},14190,"--- na ---",{"$f":"IF(+CBM!H136=\"--- na ---\",\"--- na ---\",IF(ISERROR(TRUNC(+CBM!H136,4))=TRUE,\"\",TRUNC(+CBM!H136,4)))","v":0},"--- na ---",{"$f":"IF(ISERROR(TRUNC(+CBM!G136,4))=TRUE,\"\",TRUNC(+CBM!G136,4))","v":0},"--- na ---","--- na ---","--- na ---","--- na ---"]
["CMQNT_14190",{"$f":"+'Cover Sheet'!$C$24","v":0},"ENTITY_ID",{"$f":"+CBM!F137","v":""},{"$f":"TEXT(+'Cover Sheet'!C$22,\"yyyymmdd\")","v":"19000100"},14190,"--- na ---",{"$f":"IF(+CBM!H137=\"--- na ---\",\"--- na ---\",IF(ISERROR(TRUNC(+CBM!H137,4))=TRUE,\"\",TRUNC(+CBM!H137,4)))","v":0},"--- na ---",{"$f":"IF(ISERROR(TRUNC(+CBM!G137,4))=TRUE,\"\",TRUNC(+CBM!G137,4))","v":0},"--- na ---","--- na ---","--- na ---","--- na ---"]
["CMQNT_14190",{"$f":"+'Cover Sheet'!$C$24","v":0},"ENTITY_ID",{"$f":"+CBM!F138","v":""},{"$f":"TEXT(+'Cover Sheet'!C$22,\"yyyymmdd\")","v":"19000100"},14190,"--- na ---",{"$f":"IF(+CBM!H138=\"--- na ---\",\"--- na ---\",IF(ISERROR(TRUNC(+CBM!H138,4))=TRUE,\"\",TRUNC(+CBM!H138,4)))","v":0},"--- na ---",{"$f":"IF(ISERROR(TRUNC(+CBM!G138,4))=TRUE,\"\",TRUNC(+CBM!G138,4))","v":0},"--- na ---","--- na ---","--- na ---","--- na ---"]
["CMQNT_14190",{"$f":"+'Cover Sheet'!$C$24","v":0},"ENTITY_ID",{"$f":"+CBM!F139","v":""},{"$f":"TEXT(+'Cover Sheet'!C$22,\"yyyymmdd\")","v":"19000100"},14190,"--- na ---",{"$f":"IF(+CBM!H139=\"--- na ---\",\"--- na ---\",IF(ISERROR(TRUNC(+CBM!H139,4))=TRUE,\"\",TRUNC(+CBM!H139,4)))","v":0},"--- na ---",{"$f":"IF(ISERROR(TRUNC(+CBM!G139,4))=TRUE,\"\",TRUNC(+CBM!G139,4))","v":0},"--- na ---","--- na ---","--- na ---","--- na ---"]
["CMQNT_14190",{"$f":"+'Cover Sheet'!$C$24","v":0},"ENTITY_ID",{"$f":"+CBM!F140","v":""},{"$f":"TEXT(+'Cover Sheet'!C$22,\"yyyymmdd\")","v":"19000100"},14190,"--- na ---",{"$f":"IF(+CBM!H140=\"--- na ---\",\"--- na ---\",IF(ISERROR(TRUNC(+CBM!H140,4))=TRUE,\"\",TRUNC(+CBM!H140,4)))","v":0},"--- na ---",{"$f":"IF(ISERROR(TRUNC(+CBM!G140,4))=TRUE,\"\",TRUNC(+CBM!G140,4))","v":0},"--- na ---","--- na ---","--- na ---","--- na ---"]
["CMQNT_14190",{"$f":"+'Cover Sheet'!$C$24","v":0},"ENTITY_ID",{"$f":"+CBM!F141","v":""},{"$f":"TEXT(+'Cover Sheet'!C$22,\"yyyymmdd\")","v":"19000100"},14190,"--- na ---",{"$f":"IF(+CBM!H141=\"--- na ---\",\"--- na ---\",IF(ISERROR(TRUNC(+CBM!H141,4))=TRUE,\"\",TRUNC(+CBM!H141,4)))","v":0},"--- na ---",{"$f":"IF(ISERROR(TRUNC(+CBM!G141,4))=TRUE,\"\",TRUNC(+CBM!G141,4))","v":0},"--- na ---","--- na ---","--- na ---","--- na ---"]
["CMQNT_14190",{"$f":"+'Cover Sheet'!$C$24","v":0},"ENTITY_ID",{"$f":"+CBM!F142","v":""},{"$f":"TEXT(+'Cover Sheet'!C$22,\"yyyymmdd\")","v":"19000100"},14190,"--- na ---",{"$f":"IF(+CBM!H142=\"--- na ---\",\"--- na ---\",IF(ISERROR(TRUNC(+CBM!H142,4))=TRUE,\"\",TRUNC(+CBM!H142,4)))","v":0},"--- na ---",{"$f":"IF(ISERROR(TRUNC(+CBM!G142,4))=TRUE,\"\",TRUNC(+CBM!G142,4))","v":0},"--- na ---","--- na ---","--- na ---","--- na ---"]
["CMQNT_14190",{"$f":"+'Cover Sheet'!$C$24","v":0},"ENTITY_ID",{"$f":"+CBM!F143","v":""},{"$f":"TEXT(+'Cover Sheet'!C$22,\"yyyymmdd\")","v":"19000100"},14190,"--- na ---",{"$f":"IF(+CBM!H143=\"--- na ---\",\"--- na ---\",IF(ISERROR(TRUNC(+CBM!H143,4))=TRUE,\"\",TRUNC(+CBM!H143,4)))","v":0},"--- na ---",{"$f":"IF(ISERROR(TRUNC(+CBM!G143,4))=TRUE,\"\",TRUNC(+CBM!G143,4))","v":0},"--- na ---","--- na ---","--- na ---","--- na ---"]
["CMQNT_14190",{"$f":"+'Cover Sheet'!$C$24","v":0},"ENTITY_ID",{"$f":"+CBM!F144","v":""},{"$f":"TEXT(+'Cover Sheet'!C$22,\"yyyymmdd\")","v":"19000100"},14190,"--- na ---",{"$f":"IF(+CBM!H144=\"--- na ---\",\"--- na ---\",IF(ISERROR(TRUNC(+CBM!H144,4))=TRUE,\"\",TRUNC(+CBM!H144,4)))","v":0},"--- na ---",{"$f":"IF(ISERROR(TRUNC(+CBM!G144,4))=TRUE,\"\",TRUNC(+CBM!G144,4))","v":0},"--- na ---","--- na ---","--- na ---","--- na ---"]
["CMQNT_14190",{"$f":"+'Cover Sheet'!$C$24","v":0},"ENTITY_ID",{"$f":"+CBM!F145","v":""},{"$f":"TEXT(+'Cover Sheet'!C$22,\"yyyymmdd\")","v":"19000100"},14190,"--- na ---",{"$f":"IF(+CBM!H145=\"--- na ---\",\"--- na ---\",IF(ISERROR(TRUNC(+CBM!H145,4))=TRUE,\"\",TRUNC(+CBM!H145,4)))","v":0},"--- na ---",{"$f":"IF(ISERROR(TRUNC(+CBM!G145,4))=TRUE,\"\",TRUNC(+CBM!G145,4))","v":0},"--- na ---","--- na ---","--- na ---","--- na ---"]
["CMQNT_14190",{"$f":"+'Cover Sheet'!$C$24","v":0},"ENTITY_ID",{"$f":"+CBM!F146","v":""},{"$f":"TEXT(+'Cover Sheet'!C$22,\"yyyymmdd\")","v":"19000100"},14190,"--- na ---",{"$f":"IF(+CBM!H146=\"--- na ---\",\"--- na ---\",IF(ISERROR(TRUNC(+CBM!H146,4))=TRUE,\"\",TRUNC(+CBM!H146,4)))","v":0},"--- na ---",{"$f":"IF(ISERROR(TRUNC(+CBM!G146,4))=TRUE,\"\",TRUNC(+CBM!G146,4))","v":0},"--- na ---","--- na ---","--- na ---","--- na ---"]
["CMQNT_14190",{"$f":"+'Cover Sheet'!$C$24","v":0},"ENTITY_ID",{"$f":"+CBM!F147","v":""},{"$f":"TEXT(+'Cover Sheet'!C$22,\"yyyymmdd\")","v":"19000100"},14190,"--- na ---",{"$f":"IF(+CBM!H147=\"--- na ---\",\"--- na ---\",IF(ISERROR(TRUNC(+CBM!H147,4))=TRUE,\"\",TRUNC(+CBM!H147,4)))","v":0},"--- na ---",{"$f":"IF(ISERROR(TRUNC(+CBM!G147,4))=TRUE,\"\",TRUNC(+CBM!G147,4))","v":0},"--- na ---","--- na ---","--- na ---","--- na ---"]
["CMQNT_14190",{"$f":"+'Cover Sheet'!$C$24","v":0},"ENTITY_ID",{"$f":"+CBM!F148","v":""},{"$f":"TEXT(+'Cover Sheet'!C$22,\"yyyymmdd\")","v":"19000100"},14190,"--- na ---",{"$f":"IF(+CBM!H148=\"--- na ---\",\"--- na ---\",IF(ISERROR(TRUNC(+CBM!H148,4))=TRUE,\"\",TRUNC(+CBM!H148,4)))","v":0},"--- na ---",{"$f":"IF(ISERROR(TRUNC(+CBM!G148,4))=TRUE,\"\",TRUNC(+CBM!G148,4))","v":0},"--- na ---","--- na ---","--- na ---","--- na ---"]
["CMQNT_14190",{"$f":"+'Cover Sheet'!$C$24","v":0},"ENTITY_ID",{"$f":"+CBM!F149","v":""},{"$f":"TEXT(+'Cover Sheet'!C$22,\"yyyymmdd\")","v":"19000100"},14190,"--- na ---",{"$f":"IF(+CBM!H149=\"--- na ---\",\"--- na ---\",IF(ISERROR(TRUNC(+CBM!H149,4))=TRUE,\"\",TRUNC(+CBM!H149,4)))","v":0},"--- na ---",{"$f":"IF(ISERROR(TRUNC(+CBM!G149,4))=TRUE,\"\",TRUNC(+CBM!G149,4))","v":0},"--- na ---","--- na ---","--- na ---","--- na ---"]
["CMQNT_14190",{"$f":"+'Cover Sheet'!$C$24","v":0},"ENTITY_ID",{"$f":"+CBM!F150","v":""},{"$f":"TEXT(+'Cover Sheet'!C$22,\"yyyymmdd\")","v":"19000100"},14190,"--- na ---",{"$f":"IF(+CBM!H150=\"--- na ---\",\"--- na ---\",IF(ISERROR(TRUNC(+CBM!H150,4))=TRUE,\"\",TRUNC(+CBM!H150,4)))","v":0},"--- na ---",{"$f":"IF(ISERROR(TRUNC(+CBM!G150,4))=TRUE,\"\",TRUNC(+CBM!G150,4))","v":0},"--- na ---","--- na ---","--- na ---","--- na ---"]
["CMQNT_14190",{"$f":"+'Cover Sheet'!$C$24","v":0},"ENTITY_ID",{"$f":"+CBM!F151","v":""},{"$f":"TEXT(+'Cover Sheet'!C$22,\"yyyymmdd\")","v":"19000100"},14190,"--- na ---",{"$f":"IF(+CBM!H151=\"--- na ---\",\"--- na ---\",IF(ISERROR(TRUNC(+CBM!H151,4))=TRUE,\"\",TRUNC(+CBM!H151,4)))","v":0},"--- na ---",{"$f":"IF(ISERROR(TRUNC(+CBM!G151,4))=TRUE,\"\",TRUNC(+CBM!G151,4))","v":0},"--- na ---","--- na ---","--- na ---","--- na ---"]
["CMQNT_14190",{"$f":"+'Cover Sheet'!$C$24","v":0},"ENTITY_ID",{"$f":"+CBM!F152","v":""},{"$f":"TEXT(+'Cover Sheet'!C$22,\"yyyymmdd\")","v":"19000100"},14190,"--- na ---",{"$f":"IF(+CBM!H152=\"--- na ---\",\"--- na ---\",IF(ISERROR(TRUNC(+CBM!H152,4))=TRUE,\"\",TRUNC(+CBM!H152,4)))","v":0},"--- na ---",{"$f":"IF(ISERROR(TRUNC(+CBM!G152,4))=TRUE,\"\",TRUNC(+CBM!G152,4))","v":0},"--- na ---","--- na ---","--- na ---","--- na ---"]
["CMQNT_14190",{"$f":"+'Cover Sheet'!$C$24","v":0},"ENTITY_ID",{"$f":"+CBM!F153","v":""},{"$f":"TEXT(+'Cover Sheet'!C$22,\"yyyymmdd\")","v":"19000100"},14190,"--- na ---",{"$f":"IF(+CBM!H153=\"--- na ---\",\"--- na ---\",IF(ISERROR(TRUNC(+CBM!H153,4))=TRUE,\"\",TRUNC(+CBM!H153,4)))","v":0},"--- na ---",{"$f":"IF(ISERROR(TRUNC(+CBM!G153,4))=TRUE,\"\",TRUNC(+CBM!G153,4))","v":0},"--- na ---","--- na ---","--- na ---","--- na ---"]
["CMQNT_14190",{"$f":"+'Cover Sheet'!$C$24","v":0},"ENTITY_ID",{"$f":"+CBM!F154","v":""},{"$f":"TEXT(+'Cover Sheet'!C$22,\"yyyymmdd\")","v":"19000100"},14190,"--- na ---",{"$f":"IF(+CBM!H154=\"--- na ---\",\"--- na ---\",IF(ISERROR(TRUNC(+CBM!H154,4))=TRUE,\"\",TRUNC(+CBM!H154,4)))","v":0},"--- na ---",{"$f":"IF(ISERROR(TRUNC(+CBM!G154,4))=TRUE,\"\",TRUNC(+CBM!G154,4))","v":0},"--- na ---","--- na ---","--- na ---","--- na ---"]
["CMQNT_14200",{"$f":"+'Cover Sheet'!$C$24","v":0},"ENTITY_ID","W1",{"$f":"TEXT(+'Cover Sheet'!C$22,\"yyyymmdd\")","v":"19000100"},14200,"--- na ---",{"$f":"IF(+CBM!H155=\"--- na ---\",\"--- na ---\",IF(ISERROR(TRUNC(+CBM!H155,4))=TRUE,\"\",TRUNC(+CBM!H155,4)))","v":0},"--- na ---",{"$f":"IF(ISERROR(TRUNC(+CBM!G155,4))=TRUE,\"\",TRUNC(+CBM!G155,4))","v":0},"--- na ---","--- na ---","--- na ---","--- na ---"]
["CMQNT_14200",{"$f":"+'Cover Sheet'!$C$24","v":0},"ENTITY_ID",{"$f":"+CBM!F156","v":""},{"$f":"TEXT(+'Cover Sheet'!C$22,\"yyyymmdd\")","v":"19000100"},14200,"--- na ---",{"$f":"IF(+CBM!H156=\"--- na ---\",\"--- na ---\",IF(ISERROR(TRUNC(+CBM!H156,4))=TRUE,\"\",TRUNC(+CBM!H156,4)))","v":0},"--- na ---",{"$f":"IF(ISERROR(TRUNC(+CBM!G156,4))=TRUE,\"\",TRUNC(+CBM!G156,4))","v":0},"--- na ---","--- na ---","--- na ---","--- na ---"]
["CMQNT_14200",{"$f":"+'Cover Sheet'!$C$24","v":0},"ENTITY_ID",{"$f":"+CBM!F157","v":""},{"$f":"TEXT(+'Cover Sheet'!C$22,\"yyyymmdd\")","v":"19000100"},14200,"--- na ---",{"$f":"IF(+CBM!H157=\"--- na ---\",\"--- na ---\",IF(ISERROR(TRUNC(+CBM!H157,4))=TRUE,\"\",TRUNC(+CBM!H157,4)))","v":0},"--- na ---",{"$f":"IF(ISERROR(TRUNC(+CBM!G157,4))=TRUE,\"\",TRUNC(+CBM!G157,4))","v":0},"--- na ---","--- na ---","--- na ---","--- na ---"]
["CMQNT_14200",{"$f":"+'Cover Sheet'!$C$24","v":0},"ENTITY_ID",{"$f":"+CBM!F158","v":""},{"$f":"TEXT(+'Cover Sheet'!C$22,\"yyyymmdd\")","v":"19000100"},14200,"--- na ---",{"$f":"IF(+CBM!H158=\"--- na ---\",\"--- na ---\",IF(ISERROR(TRUNC(+CBM!H158,4))=TRUE,\"\",TRUNC(+CBM!H158,4)))","v":0},"--- na ---",{"$f":"IF(ISERROR(TRUNC(+CBM!G158,4))=TRUE,\"\",TRUNC(+CBM!G158,4))","v":0},"--- na ---","--- na ---","--- na ---","--- na ---"]
["CMQNT_14200",{"$f":"+'Cover Sheet'!$C$24","v":0},"ENTITY_ID",{"$f":"+CBM!F159","v":""},{"$f":"TEXT(+'Cover Sheet'!C$22,\"yyyymmdd\")","v":"19000100"},14200,"--- na ---",{"$f":"IF(+CBM!H159=\"--- na ---\",\"--- na ---\",IF(ISERROR(TRUNC(+CBM!H159,4))=TRUE,\"\",TRUNC(+CBM!H159,4)))","v":0},"--- na ---",{"$f":"IF(ISERROR(TRUNC(+CBM!G159,4))=TRUE,\"\",TRUNC(+CBM!G159,4))","v":0},"--- na ---","--- na ---","--- na ---","--- na ---"]
["CMQNT_14200",{"$f":"+'Cover Sheet'!$C$24","v":0},"ENTITY_ID",{"$f":"+CBM!F160","v":""},{"$f":"TEXT(+'Cover Sheet'!C$22,\"yyyymmdd\")","v":"19000100"},14200,"--- na ---",{"$f":"IF(+CBM!H160=\"--- na ---\",\"--- na ---\",IF(ISERROR(TRUNC(+CBM!H160,4))=TRUE,\"\",TRUNC(+CBM!H160,4)))","v":0},"--- na ---",{"$f":"IF(ISERROR(TRUNC(+CBM!G160,4))=TRUE,\"\",TRUNC(+CBM!G160,4))","v":0},"--- na ---","--- na ---","--- na ---","--- na ---"]
["CMQNT_14200",{"$f":"+'Cover Sheet'!$C$24","v":0},"ENTITY_ID",{"$f":"+CBM!F161","v":""},{"$f":"TEXT(+'Cover Sheet'!C$22,\"yyyymmdd\")","v":"19000100"},14200,"--- na ---",{"$f":"IF(+CBM!H161=\"--- na ---\",\"--- na ---\",IF(ISERROR(TRUNC(+CBM!H161,4))=TRUE,\"\",TRUNC(+CBM!H161,4)))","v":0},"--- na ---",{"$f":"IF(ISERROR(TRUNC(+CBM!G161,4))=TRUE,\"\",TRUNC(+CBM!G161,4))","v":0},"--- na ---","--- na ---","--- na ---","--- na ---"]
["CMQNT_14200",{"$f":"+'Cover Sheet'!$C$24","v":0},"ENTITY_ID",{"$f":"+CBM!F162","v":""},{"$f":"TEXT(+'Cover Sheet'!C$22,\"yyyymmdd\")","v":"19000100"},14200,"--- na ---",{"$f":"IF(+CBM!H162=\"--- na ---\",\"--- na ---\",IF(ISERROR(TRUNC(+CBM!H162,4))=TRUE,\"\",TRUNC(+CBM!H162,4)))","v":0},"--- na ---",{"$f":"IF(ISERROR(TRUNC(+CBM!G162,4))=TRUE,\"\",TRUNC(+CBM!G162,4))","v":0},"--- na ---","--- na ---","--- na ---","--- na ---"]
["CMQNT_14200",{"$f":"+'Cover Sheet'!$C$24","v":0},"ENTITY_ID",{"$f":"+CBM!F163","v":""},{"$f":"TEXT(+'Cover Sheet'!C$22,\"yyyymmdd\")","v":"19000100"},14200,"--- na ---",{"$f":"IF(+CBM!H163=\"--- na ---\",\"--- na ---\",IF(ISERROR(TRUNC(+CBM!H163,4))=TRUE,\"\",TRUNC(+CBM!H163,4)))","v":0},"--- na ---",{"$f":"IF(ISERROR(TRUNC(+CBM!G163,4))=TRUE,\"\",TRUNC(+CBM!G163,4))","v":0},"--- na ---","--- na ---","--- na ---","--- na ---"]
["CMQNT_14200",{"$f":"+'Cover Sheet'!$C$24","v":0},"ENTITY_ID",{"$f":"+CBM!F164","v":""},{"$f":"TEXT(+'Cover Sheet'!C$22,\"yyyymmdd\")","v":"19000100"},14200,"--- na ---",{"$f":"IF(+CBM!H164=\"--- na ---\",\"--- na ---\",IF(ISERROR(TRUNC(+CBM!H164,4))=TRUE,\"\",TRUNC(+CBM!H164,4)))","v":0},"--- na ---",{"$f":"IF(ISERROR(TRUNC(+CBM!G164,4))=TRUE,\"\",TRUNC(+CBM!G164,4))","v":0},"--- na ---","--- na ---","--- na ---","--- na ---"]
["CMQNT_14200",{"$f":"+'Cover Sheet'!$C$24","v":0},"ENTITY_ID",{"$f":"+CBM!F165","v":""},{"$f":"TEXT(+'Cover Sheet'!C$22,\"yyyymmdd\")","v":"19000100"},14200,"--- na ---",{"$f":"IF(+CBM!H165=\"--- na ---\",\"--- na ---\",IF(ISERROR(TRUNC(+CBM!H165,4))=TRUE,\"\",TRUNC(+CBM!H165,4)))","v":0},"--- na ---",{"$f":"IF(ISERROR(TRUNC(+CBM!G165,4))=TRUE,\"\",TRUNC(+CBM!G165,4))","v":0},"--- na ---","--- na ---","--- na ---","--- na ---"]
["CMQNT_14200",{"$f":"+'Cover Sheet'!$C$24","v":0},"ENTITY_ID",{"$f":"+CBM!F166","v":""},{"$f":"TEXT(+'Cover Sheet'!C$22,\"yyyymmdd\")","v":"19000100"},14200,"--- na ---",{"$f":"IF(+CBM!H166=\"--- na ---\",\"--- na ---\",IF(ISERROR(TRUNC(+CBM!H166,4))=TRUE,\"\",TRUNC(+CBM!H166,4)))","v":0},"--- na ---",{"$f":"IF(ISERROR(TRUNC(+CBM!G166,4))=TRUE,\"\",TRUNC(+CBM!G166,4))","v":0},"--- na ---","--- na ---","--- na ---","--- na ---"]
["CMQNT_14200",{"$f":"+'Cover Sheet'!$C$24","v":0},"ENTITY_ID",{"$f":"+CBM!F167","v":""},{"$f":"TEXT(+'Cover Sheet'!C$22,\"yyyymmdd\")","v":"19000100"},14200,"--- na ---",{"$f":"IF(+CBM!H167=\"--- na ---\",\"--- na ---\",IF(ISERROR(TRUNC(+CBM!H167,4))=TRUE,\"\",TRUNC(+CBM!H167,4)))","v":0},"--- na ---",{"$f":"IF(ISERROR(TRUNC(+CBM!G167,4))=TRUE,\"\",TRUNC(+CBM!G167,4))","v":0},"--- na ---","--- na ---","--- na ---","--- na ---"]
["CMQNT_14200",{"$f":"+'Cover Sheet'!$C$24","v":0},"ENTITY_ID",{"$f":"+CBM!F168","v":""},{"$f":"TEXT(+'Cover Sheet'!C$22,\"yyyymmdd\")","v":"19000100"},14200,"--- na ---",{"$f":"IF(+CBM!H168=\"--- na ---\",\"--- na ---\",IF(ISERROR(TRUNC(+CBM!H168,4))=TRUE,\"\",TRUNC(+CBM!H168,4)))","v":0},"--- na ---",{"$f":"IF(ISERROR(TRUNC(+CBM!G168,4))=TRUE,\"\",TRUNC(+CBM!G168,4))","v":0},"--- na ---","--- na ---","--- na ---","--- na ---"]
["CMQNT_14200",{"$f":"+'Cover Sheet'!$C$24","v":0},"ENTITY_ID",{"$f":"+CBM!F169","v":""},{"$f":"TEXT(+'Cover Sheet'!C$22,\"yyyymmdd\")","v":"19000100"},14200,"--- na ---",{"$f":"IF(+CBM!H169=\"--- na ---\",\"--- na ---\",IF(ISERROR(TRUNC(+CBM!H169,4))=TRUE,\"\",TRUNC(+CBM!H169,4)))","v":0},"--- na ---",{"$f":"IF(ISERROR(TRUNC(+CBM!G169,4))=TRUE,\"\",TRUNC(+CBM!G169,4))","v":0},"--- na ---","--- na ---","--- na ---","--- na ---"]
["CMQNT_14200",{"$f":"+'Cover Sheet'!$C$24","v":0},"ENTITY_ID",{"$f":"+CBM!F170","v":""},{"$f":"TEXT(+'Cover Sheet'!C$22,\"yyyymmdd\")","v":"19000100"},14200,"--- na ---",{"$f":"IF(+CBM!H170=\"--- na ---\",\"--- na ---\",IF(ISERROR(TRUNC(+CBM!H170,4))=TRUE,\"\",TRUNC(+CBM!H170,4)))","v":0},"--- na ---",{"$f":"IF(ISERROR(TRUNC(+CBM!G170,4))=TRUE,\"\",TRUNC(+CBM!G170,4))","v":0},"--- na ---","--- na ---","--- na ---","--- na ---"]
["CMQNT_14200",{"$f":"+'Cover Sheet'!$C$24","v":0},"ENTITY_ID",{"$f":"+CBM!F171","v":""},{"$f":"TEXT(+'Cover Sheet'!C$22,\"yyyymmdd\")","v":"19000100"},14200,"--- na ---",{"$f":"IF(+CBM!H171=\"--- na ---\",\"--- na ---\",IF(ISERROR(TRUNC(+CBM!H171,4))=TRUE,\"\",TRUNC(+CBM!H171,4)))","v":0},"--- na ---",{"$f":"IF(ISERROR(TRUNC(+CBM!G171,4))=TRUE,\"\",TRUNC(+CBM!G171,4))","v":0},"--- na ---","--- na ---","--- na ---","--- na ---"]
["CMQNT_14200",{"$f":"+'Cover Sheet'!$C$24","v":0},"ENTITY_ID",{"$f":"+CBM!F172","v":""},{"$f":"TEXT(+'Cover Sheet'!C$22,\"yyyymmdd\")","v":"19000100"},14200,"--- na ---",{"$f":"IF(+CBM!H172=\"--- na ---\",\"--- na ---\",IF(ISERROR(TRUNC(+CBM!H172,4))=TRUE,\"\",TRUNC(+CBM!H172,4)))","v":0},"--- na ---",{"$f":"IF(ISERROR(TRUNC(+CBM!G172,4))=TRUE,\"\",TRUNC(+CBM!G172,4))","v":0},"--- na ---","--- na ---","--- na ---","--- na ---"]
["CMQNT_14200",{"$f":"+'Cover Sheet'!$C$24","v":0},"ENTITY_ID",{"$f":"+CBM!F173","v":""},{"$f":"TEXT(+'Cover Sheet'!C$22,\"yyyymmdd\")","v":"19000100"},14200,"--- na ---",{"$f":"IF(+CBM!H173=\"--- na ---\",\"--- na ---\",IF(ISERROR(TRUNC(+CBM!H173,4))=TRUE,\"\",TRUNC(+CBM!H173,4)))","v":0},"--- na ---",{"$f":"IF(ISERROR(TRUNC(+CBM!G173,4))=TRUE,\"\",TRUNC(+CBM!G173,4))","v":0},"--- na ---","--- na ---","--- na ---","--- na ---"]
["CMQNT_14200",{"$f":"+'Cover Sheet'!$C$24","v":0},"ENTITY_ID",{"$f":"+CBM!F174","v":""},{"$f":"TEXT(+'Cover Sheet'!C$22,\"yyyymmdd\")","v":"19000100"},14200,"--- na ---",{"$f":"IF(+CBM!H174=\"--- na ---\",\"--- na ---\",IF(ISERROR(TRUNC(+CBM!H174,4))=TRUE,\"\",TRUNC(+CBM!H174,4)))","v":0},"--- na ---",{"$f":"IF(ISERROR(TRUNC(+CBM!G174,4))=TRUE,\"\",TRUNC(+CBM!G174,4))","v":0},"--- na ---","--- na ---","--- na ---","--- na ---"]
["CMQNT_14200",{"$f":"+'Cover Sheet'!$C$24","v":0},"ENTITY_ID",{"$f":"+CBM!F175","v":""},{"$f":"TEXT(+'Cover Sheet'!C$22,\"yyyymmdd\")","v":"19000100"},14200,"--- na ---",{"$f":"IF(+CBM!H175=\"--- na ---\",\"--- na ---\",IF(ISERROR(TRUNC(+CBM!H175,4))=TRUE,\"\",TRUNC(+CBM!H175,4)))","v":0},"--- na ---",{"$f":"IF(ISERROR(TRUNC(+CBM!G175,4))=TRUE,\"\",TRUNC(+CBM!G175,4))","v":0},"--- na ---","--- na ---","--- na ---","--- na ---"]
["CMQNT_14200",{"$f":"+'Cover Sheet'!$C$24","v":0},"ENTITY_ID",{"$f":"+CBM!F176","v":""},{"$f":"TEXT(+'Cover Sheet'!C$22,\"yyyymmdd\")","v":"19000100"},14200,"--- na ---",{"$f":"IF(+CBM!H176=\"--- na ---\",\"--- na ---\",IF(ISERROR(TRUNC(+CBM!H176,4))=TRUE,\"\",TRUNC(+CBM!H176,4)))","v":0},"--- na ---",{"$f":"IF(ISERROR(TRUNC(+CBM!G176,4))=TRUE,\"\",TRUNC(+CBM!G176,4))","v":0},"--- na ---","--- na ---","--- na ---","--- na ---"]
["CMQNT_14200",{"$f":"+'Cover Sheet'!$C$24","v":0},"ENTITY_ID",{"$f":"+CBM!F177","v":""},{"$f":"TEXT(+'Cover Sheet'!C$22,\"yyyymmdd\")","v":"19000100"},14200,"--- na ---",{"$f":"IF(+CBM!H177=\"--- na ---\",\"--- na ---\",IF(ISERROR(TRUNC(+CBM!H177,4))=TRUE,\"\",TRUNC(+CBM!H177,4)))","v":0},"--- na ---",{"$f":"IF(ISERROR(TRUNC(+CBM!G177,4))=TRUE,\"\",TRUNC(+CBM!G177,4))","v":0},"--- na ---","--- na ---","--- na ---","--- na ---"]
["CMQNT_14200",{"$f":"+'Cover Sheet'!$C$24","v":0},"ENTITY_ID",{"$f":"+CBM!F178","v":""},{"$f":"TEXT(+'Cover Sheet'!C$22,\"yyyymmdd\")","v":"19000100"},14200,"--- na ---",{"$f":"IF(+CBM!H178=\"--- na ---\",\"--- na ---\",IF(ISERROR(TRUNC(+CBM!H178,4))=TRUE,\"\",TRUNC(+CBM!H178,4)))","v":0},"--- na ---",{"$f":"IF(ISERROR(TRUNC(+CBM!G178,4))=TRUE,\"\",TRUNC(+CBM!G178,4))","v":0},"--- na ---","--- na ---","--- na ---","--- na ---"]
["CMQNT_14200",{"$f":"+'Cover Sheet'!$C$24","v":0},"ENTITY_ID",{"$f":"+CBM!F179","v":""},{"$f":"TEXT(+'Cover Sheet'!C$22,\"yyyymmdd\")","v":"19000100"},14200,"--- na ---",{"$f":"IF(+CBM!H179=\"--- na ---\",\"--- na ---\",IF(ISERROR(TRUNC(+CBM!H179,4))=TRUE,\"\",TRUNC(+CBM!H179,4)))","v":0},"--- na ---",{"$f":"IF(ISERROR(TRUNC(+CBM!G179,4))=TRUE,\"\",TRUNC(+CBM!G179,4))","v":0},"--- na ---","--- na ---","--- na ---","--- na ---"]
["CMQNT_14200",{"$f":"+'Cover Sheet'!$C$24","v":0},"ENTITY_ID",{"$f":"+CBM!F180","v":""},{"$f":"TEXT(+'Cover Sheet'!C$22,\"yyyymmdd\")","v":"19000100"},14200,"--- na ---",{"$f":"IF(+CBM!H180=\"--- na ---\",\"--- na ---\",IF(ISERROR(TRUNC(+CBM!H180,4))=TRUE,\"\",TRUNC(+CBM!H180,4)))","v":0},"--- na ---",{"$f":"IF(ISERROR(TRUNC(+CBM!G180,4))=TRUE,\"\",TRUNC(+CBM!G180,4))","v":0},"--- na ---","--- na ---","--- na ---","--- na ---"]
["CMQNT_14200",{"$f":"+'Cover Sheet'!$C$24","v":0},"ENTITY_ID",{"$f":"+CBM!F181","v":""},{"$f":"TEXT(+'Cover Sheet'!C$22,\"yyyymmdd\")","v":"19000100"},14200,"--- na ---",{"$f":"IF(+CBM!H181=\"--- na ---\",\"--- na ---\",IF(ISERROR(TRUNC(+CBM!H181,4))=TRUE,\"\",TRUNC(+CBM!H181,4)))","v":0},"--- na ---",{"$f":"IF(ISERROR(TRUNC(+CBM!G181,4))=TRUE,\"\",TRUNC(+CBM!G181,4))","v":0},"--- na ---","--- na ---","--- na ---","--- na ---"]
["CMQNT_14200",{"$f":"+'Cover Sheet'!$C$24","v":0},"ENTITY_ID",{"$f":"+CBM!F182","v":""},{"$f":"TEXT(+'Cover Sheet'!C$22,\"yyyymmdd\")","v":"19000100"},14200,"--- na ---",{"$f":"IF(+CBM!H182=\"--- na ---\",\"--- na ---\",IF(ISERROR(TRUNC(+CBM!H182,4))=TRUE,\"\",TRUNC(+CBM!H182,4)))","v":0},"--- na ---",{"$f":"IF(ISERROR(TRUNC(+CBM!G182,4))=TRUE,\"\",TRUNC(+CBM!G182,4))","v":0},"--- na ---","--- na ---","--- na ---","--- na ---"]
["CMQNT_14200",{"$f":"+'Cover Sheet'!$C$24","v":0},"ENTITY_ID",{"$f":"+CBM!F183","v":""},{"$f":"TEXT(+'Cover Sheet'!C$22,\"yyyymmdd\")","v":"19000100"},14200,"--- na ---",{"$f":"IF(+CBM!H183=\"--- na ---\",\"--- na ---\",IF(ISERROR(TRUNC(+CBM!H183,4))=TRUE,\"\",TRUNC(+CBM!H183,4)))","v":0},"--- na ---",{"$f":"IF(ISERROR(TRUNC(+CBM!G183,4))=TRUE,\"\",TRUNC(+CBM!G183,4))","v":0},"--- na ---","--- na ---","--- na ---","--- na ---"]
["CMQNT_14200",{"$f":"+'Cover Sheet'!$C$24","v":0},"ENTITY_ID",{"$f":"+CBM!F184","v":""},{"$f":"TEXT(+'Cover Sheet'!C$22,\"yyyymmdd\")","v":"19000100"},14200,"--- na ---",{"$f":"IF(+CBM!H184=\"--- na ---\",\"--- na ---\",IF(ISERROR(TRUNC(+CBM!H184,4))=TRUE,\"\",TRUNC(+CBM!H184,4)))","v":0},"--- na ---",{"$f":"IF(ISERROR(TRUNC(+CBM!G184,4))=TRUE,\"\",TRUNC(+CBM!G184,4))","v":0},"--- na ---","--- na ---","--- na ---","--- na ---"]
["CMQNT_14200",{"$f":"+'Cover Sheet'!$C$24","v":0},"ENTITY_ID",{"$f":"+CBM!F185","v":""},{"$f":"TEXT(+'Cover Sheet'!C$22,\"yyyymmdd\")","v":"19000100"},14200,"--- na ---",{"$f":"IF(+CBM!H185=\"--- na ---\",\"--- na ---\",IF(ISERROR(TRUNC(+CBM!H185,4))=TRUE,\"\",TRUNC(+CBM!H185,4)))","v":0},"--- na ---",{"$f":"IF(ISERROR(TRUNC(+CBM!G185,4))=TRUE,\"\",TRUNC(+CBM!G185,4))","v":0},"--- na ---","--- na ---","--- na ---","--- na ---"]
["CMQNT_14200",{"$f":"+'Cover Sheet'!$C$24","v":0},"ENTITY_ID",{"$f":"+CBM!F186","v":""},{"$f":"TEXT(+'Cover Sheet'!C$22,\"yyyymmdd\")","v":"19000100"},14200,"--- na ---",{"$f":"IF(+CBM!H186=\"--- na ---\",\"--- na ---\",IF(ISERROR(TRUNC(+CBM!H186,4))=TRUE,\"\",TRUNC(+CBM!H186,4)))","v":0},"--- na ---",{"$f":"IF(ISERROR(TRUNC(+CBM!G186,4))=TRUE,\"\",TRUNC(+CBM!G186,4))","v":0},"--- na ---","--- na ---","--- na ---","--- na ---"]
["CMQNT_14200",{"$f":"+'Cover Sheet'!$C$24","v":0},"ENTITY_ID",{"$f":"+CBM!F187","v":""},{"$f":"TEXT(+'Cover Sheet'!C$22,\"yyyymmdd\")","v":"19000100"},14200,"--- na ---",{"$f":"IF(+CBM!H187=\"--- na ---\",\"--- na ---\",IF(ISERROR(TRUNC(+CBM!H187,4))=TRUE,\"\",TRUNC(+CBM!H187,4)))","v":0},"--- na ---",{"$f":"IF(ISERROR(TRUNC(+CBM!G187,4))=TRUE,\"\",TRUNC(+CBM!G187,4))","v":0},"--- na ---","--- na ---","--- na ---","--- na ---"]
["CMQNT_14200",{"$f":"+'Cover Sheet'!$C$24","v":0},"ENTITY_ID",{"$f":"+CBM!F188","v":""},{"$f":"TEXT(+'Cover Sheet'!C$22,\"yyyymmdd\")","v":"19000100"},14200,"--- na ---",{"$f":"IF(+CBM!H188=\"--- na ---\",\"--- na ---\",IF(ISERROR(TRUNC(+CBM!H188,4))=TRUE,\"\",TRUNC(+CBM!H188,4)))","v":0},"--- na ---",{"$f":"IF(ISERROR(TRUNC(+CBM!G188,4))=TRUE,\"\",TRUNC(+CBM!G188,4))","v":0},"--- na ---","--- na ---","--- na ---","--- na ---"]
["CMQNT_14200",{"$f":"+'Cover Sheet'!$C$24","v":0},"ENTITY_ID",{"$f":"+CBM!F189","v":""},{"$f":"TEXT(+'Cover Sheet'!C$22,\"yyyymmdd\")","v":"19000100"},14200,"--- na ---",{"$f":"IF(+CBM!H189=\"--- na ---\",\"--- na ---\",IF(ISERROR(TRUNC(+CBM!H189,4))=TRUE,\"\",TRUNC(+CBM!H189,4)))","v":0},"--- na ---",{"$f":"IF(ISERROR(TRUNC(+CBM!G189,4))=TRUE,\"\",TRUNC(+CBM!G189,4))","v":0},"--- na ---","--- na ---","--- na ---","--- na ---"]
["CMQNT_14200",{"$f":"+'Cover Sheet'!$C$24","v":0},"ENTITY_ID",{"$f":"+CBM!F190","v":""},{"$f":"TEXT(+'Cover Sheet'!C$22,\"yyyymmdd\")","v":"19000100"},14200,"--- na ---",{"$f":"IF(+CBM!H190=\"--- na ---\",\"--- na ---\",IF(ISERROR(TRUNC(+CBM!H190,4))=TRUE,\"\",TRUNC(+CBM!H190,4)))","v":0},"--- na ---",{"$f":"IF(ISERROR(TRUNC(+CBM!G190,4))=TRUE,\"\",TRUNC(+CBM!G190,4))","v":0},"--- na ---","--- na ---","--- na ---","--- na ---"]
["CMQNT_14200",{"$f":"+'Cover Sheet'!$C$24","v":0},"ENTITY_ID",{"$f":"+CBM!F191","v":""},{"$f":"TEXT(+'Cover Sheet'!C$22,\"yyyymmdd\")","v":"19000100"},14200,"--- na ---",{"$f":"IF(+CBM!H191=\"--- na ---\",\"--- na ---\",IF(ISERROR(TRUNC(+CBM!H191,4))=TRUE,\"\",TRUNC(+CBM!H191,4)))","v":0},"--- na ---",{"$f":"IF(ISERROR(TRUNC(+CBM!G191,4))=TRUE,\"\",TRUNC(+CBM!G191,4))","v":0},"--- na ---","--- na ---","--- na ---","--- na ---"]
["CMQNT_14200",{"$f":"+'Cover Sheet'!$C$24","v":0},"ENTITY_ID",{"$f":"+CBM!F192","v":""},{"$f":"TEXT(+'Cover Sheet'!C$22,\"yyyymmdd\")","v":"19000100"},14200,"--- na ---",{"$f":"IF(+CBM!H192=\"--- na ---\",\"--- na ---\",IF(ISERROR(TRUNC(+CBM!H192,4))=TRUE,\"\",TRUNC(+CBM!H192,4)))","v":0},"--- na ---",{"$f":"IF(ISERROR(TRUNC(+CBM!G192,4))=TRUE,\"\",TRUNC(+CBM!G192,4))","v":0},"--- na ---","--- na ---","--- na ---","--- na ---"]
["CMQNT_14200",{"$f":"+'Cover Sheet'!$C$24","v":0},"ENTITY_ID",{"$f":"+CBM!F193","v":""},{"$f":"TEXT(+'Cover Sheet'!C$22,\"yyyymmdd\")","v":"19000100"},14200,"--- na ---",{"$f":"IF(+CBM!H193=\"--- na ---\",\"--- na ---\",IF(ISERROR(TRUNC(+CBM!H193,4))=TRUE,\"\",TRUNC(+CBM!H193,4)))","v":0},"--- na ---",{"$f":"IF(ISERROR(TRUNC(+CBM!G193,4))=TRUE,\"\",TRUNC(+CBM!G193,4))","v":0},"--- na ---","--- na ---","--- na ---","--- na ---"]
["CMQNT_14200",{"$f":"+'Cover Sheet'!$C$24","v":0},"ENTITY_ID",{"$f":"+CBM!F194","v":""},{"$f":"TEXT(+'Cover Sheet'!C$22,\"yyyymmdd\")","v":"19000100"},14200,"--- na ---",{"$f":"IF(+CBM!H194=\"--- na ---\",\"--- na ---\",IF(ISERROR(TRUNC(+CBM!H194,4))=TRUE,\"\",TRUNC(+CBM!H194,4)))","v":0},"--- na ---",{"$f":"IF(ISERROR(TRUNC(+CBM!G194,4))=TRUE,\"\",TRUNC(+CBM!G194,4))","v":0},"--- na ---","--- na ---","--- na ---","--- na ---"]
["CMQNT_14200",{"$f":"+'Cover Sheet'!$C$24","v":0},"ENTITY_ID",{"$f":"+CBM!F195","v":""},{"$f":"TEXT(+'Cover Sheet'!C$22,\"yyyymmdd\")","v":"19000100"},14200,"--- na ---",{"$f":"IF(+CBM!H195=\"--- na ---\",\"--- na ---\",IF(ISERROR(TRUNC(+CBM!H195,4))=TRUE,\"\",TRUNC(+CBM!H195,4)))","v":0},"--- na ---",{"$f":"IF(ISERROR(TRUNC(+CBM!G195,4))=TRUE,\"\",TRUNC(+CBM!G195,4))","v":0},"--- na ---","--- na ---","--- na ---","--- na ---"]
["CMQNT_14200",{"$f":"+'Cover Sheet'!$C$24","v":0},"ENTITY_ID",{"$f":"+CBM!F196","v":""},{"$f":"TEXT(+'Cover Sheet'!C$22,\"yyyymmdd\")","v":"19000100"},14200,"--- na ---",{"$f":"IF(+CBM!H196=\"--- na ---\",\"--- na ---\",IF(ISERROR(TRUNC(+CBM!H196,4))=TRUE,\"\",TRUNC(+CBM!H196,4)))","v":0},"--- na ---",{"$f":"IF(ISERROR(TRUNC(+CBM!G196,4))=TRUE,\"\",TRUNC(+CBM!G196,4))","v":0},"--- na ---","--- na ---","--- na ---","--- na ---"]
["CMQNT_14200",{"$f":"+'Cover Sheet'!$C$24","v":0},"ENTITY_ID",{"$f":"+CBM!F197","v":""},{"$f":"TEXT(+'Cover Sheet'!C$22,\"yyyymmdd\")","v":"19000100"},14200,"--- na ---",{"$f":"IF(+CBM!H197=\"--- na ---\",\"--- na ---\",IF(ISERROR(TRUNC(+CBM!H197,4))=TRUE,\"\",TRUNC(+CBM!H197,4)))","v":0},"--- na ---",{"$f":"IF(ISERROR(TRUNC(+CBM!G197,4))=TRUE,\"\",TRUNC(+CBM!G197,4))","v":0},"--- na ---","--- na ---","--- na ---","--- na ---"]
["CMQNT_14200",{"$f":"+'Cover Sheet'!$C$24","v":0},"ENTITY_ID",{"$f":"+CBM!F198","v":""},{"$f":"TEXT(+'Cover Sheet'!C$22,\"yyyymmdd\")","v":"19000100"},14200,"--- na ---",{"$f":"IF(+CBM!H198=\"--- na ---\",\"--- na ---\",IF(ISERROR(TRUNC(+CBM!H198,4))=TRUE,\"\",TRUNC(+CBM!H198,4)))","v":0},"--- na ---",{"$f":"IF(ISERROR(TRUNC(+CBM!G198,4))=TRUE,\"\",TRUNC(+CBM!G198,4))","v":0},"--- na ---","--- na ---","--- na ---","--- na ---"]
["CMQNT_14200",{"$f":"+'Cover Sheet'!$C$24","v":0},"ENTITY_ID",{"$f":"+CBM!F199","v":""},{"$f":"TEXT(+'Cover Sheet'!C$22,\"yyyymmdd\")","v":"19000100"},14200,"--- na ---",{"$f":"IF(+CBM!H199=\"--- na ---\",\"--- na ---\",IF(ISERROR(TRUNC(+CBM!H199,4))=TRUE,\"\",TRUNC(+CBM!H199,4)))","v":0},"--- na ---",{"$f":"IF(ISERROR(TRUNC(+CBM!G199,4))=TRUE,\"\",TRUNC(+CBM!G199,4))","v":0},"--- na ---","--- na ---","--- na ---","--- na ---"]
["CMQNT_14210",{"$f":"+'Cover Sheet'!$C$24","v":0},"ENTITY_ID","W1",{"$f":"TEXT(+'Cover Sheet'!C$22,\"yyyymmdd\")","v":"19000100"},14210,"--- na ---",{"$f":"IF(+CBM!H200=\"--- na ---\",\"--- na ---\",IF(ISERROR(TRUNC(+CBM!H200,4))=TRUE,\"\",TRUNC(+CBM!H200,4)))","v":0},"--- na ---",{"$f":"IF(ISERROR(TRUNC(+CBM!G200,4))=TRUE,\"\",TRUNC(+CBM!G200,4))","v":0},"--- na ---","--- na ---","--- na ---","--- na ---"]
["CMQNT_14210",{"$f":"+'Cover Sheet'!$C$24","v":0},"ENTITY_ID",{"$f":"+CBM!F201","v":""},{"$f":"TEXT(+'Cover Sheet'!C$22,\"yyyymmdd\")","v":"19000100"},14210,"--- na ---",{"$f":"IF(+CBM!H201=\"--- na ---\",\"--- na ---\",IF(ISERROR(TRUNC(+CBM!H201,4))=TRUE,\"\",TRUNC(+CBM!H201,4)))","v":0},"--- na ---",{"$f":"IF(ISERROR(TRUNC(+CBM!G201,4))=TRUE,\"\",TRUNC(+CBM!G201,4))","v":0},"--- na ---","--- na ---","--- na ---","--- na ---"]
["CMQNT_14210",{"$f":"+'Cover Sheet'!$C$24","v":0},"ENTITY_ID",{"$f":"+CBM!F202","v":""},{"$f":"TEXT(+'Cover Sheet'!C$22,\"yyyymmdd\")","v":"19000100"},14210,"--- na ---",{"$f":"IF(+CBM!H202=\"--- na ---\",\"--- na ---\",IF(ISERROR(TRUNC(+CBM!H202,4))=TRUE,\"\",TRUNC(+CBM!H202,4)))","v":0},"--- na ---",{"$f":"IF(ISERROR(TRUNC(+CBM!G202,4))=TRUE,\"\",TRUNC(+CBM!G202,4))","v":0},"--- na ---","--- na ---","--- na ---","--- na ---"]
["CMQNT_14210",{"$f":"+'Cover Sheet'!$C$24","v":0},"ENTITY_ID",{"$f":"+CBM!F203","v":""},{"$f":"TEXT(+'Cover Sheet'!C$22,\"yyyymmdd\")","v":"19000100"},14210,"--- na ---",{"$f":"IF(+CBM!H203=\"--- na ---\",\"--- na ---\",IF(ISERROR(TRUNC(+CBM!H203,4))=TRUE,\"\",TRUNC(+CBM!H203,4)))","v":0},"--- na ---",{"$f":"IF(ISERROR(TRUNC(+CBM!G203,4))=TRUE,\"\",TRUNC(+CBM!G203,4))","v":0},"--- na ---","--- na ---","--- na ---","--- na ---"]
["CMQNT_14210",{"$f":"+'Cover Sheet'!$C$24","v":0},"ENTITY_ID",{"$f":"+CBM!F204","v":""},{"$f":"TEXT(+'Cover Sheet'!C$22,\"yyyymmdd\")","v":"19000100"},14210,"--- na ---",{"$f":"IF(+CBM!H204=\"--- na ---\",\"--- na ---\",IF(ISERROR(TRUNC(+CBM!H204,4))=TRUE,\"\",TRUNC(+CBM!H204,4)))","v":0},"--- na ---",{"$f":"IF(ISERROR(TRUNC(+CBM!G204,4))=TRUE,\"\",TRUNC(+CBM!G204,4))","v":0},"--- na ---","--- na ---","--- na ---","--- na ---"]
["CMQNT_14210",{"$f":"+'Cover Sheet'!$C$24","v":0},"ENTITY_ID",{"$f":"+CBM!F205","v":""},{"$f":"TEXT(+'Cover Sheet'!C$22,\"yyyymmdd\")","v":"19000100"},14210,"--- na ---",{"$f":"IF(+CBM!H205=\"--- na ---\",\"--- na ---\",IF(ISERROR(TRUNC(+CBM!H205,4))=TRUE,\"\",TRUNC(+CBM!H205,4)))","v":0},"--- na ---",{"$f":"IF(ISERROR(TRUNC(+CBM!G205,4))=TRUE,\"\",TRUNC(+CBM!G205,4))","v":0},"--- na ---","--- na ---","--- na ---","--- na ---"]
["CMQNT_14210",{"$f":"+'Cover Sheet'!$C$24","v":0},"ENTITY_ID",{"$f":"+CBM!F206","v":""},{"$f":"TEXT(+'Cover Sheet'!C$22,\"yyyymmdd\")","v":"19000100"},14210,"--- na ---",{"$f":"IF(+CBM!H206=\"--- na ---\",\"--- na ---\",IF(ISERROR(TRUNC(+CBM!H206,4))=TRUE,\"\",TRUNC(+CBM!H206,4)))","v":0},"--- na ---",{"$f":"IF(ISERROR(TRUNC(+CBM!G206,4))=TRUE,\"\",TRUNC(+CBM!G206,4))","v":0},"--- na ---","--- na ---","--- na ---","--- na ---"]
["CMQNT_14210",{"$f":"+'Cover Sheet'!$C$24","v":0},"ENTITY_ID",{"$f":"+CBM!F207","v":""},{"$f":"TEXT(+'Cover Sheet'!C$22,\"yyyymmdd\")","v":"19000100"},14210,"--- na ---",{"$f":"IF(+CBM!H207=\"--- na ---\",\"--- na ---\",IF(ISERROR(TRUNC(+CBM!H207,4))=TRUE,\"\",TRUNC(+CBM!H207,4)))","v":0},"--- na ---",{"$f":"IF(ISERROR(TRUNC(+CBM!G207,4))=TRUE,\"\",TRUNC(+CBM!G207,4))","v":0},"--- na ---","--- na ---","--- na ---","--- na ---"]
["CMQNT_14210",{"$f":"+'Cover Sheet'!$C$24","v":0},"ENTITY_ID",{"$f":"+CBM!F208","v":""},{"$f":"TEXT(+'Cover Sheet'!C$22,\"yyyymmdd\")","v":"19000100"},14210,"--- na ---",{"$f":"IF(+CBM!H208=\"--- na ---\",\"--- na ---\",IF(ISERROR(TRUNC(+CBM!H208,4))=TRUE,\"\",TRUNC(+CBM!H208,4)))","v":0},"--- na ---",{"$f":"IF(ISERROR(TRUNC(+CBM!G208,4))=TRUE,\"\",TRUNC(+CBM!G208,4))","v":0},"--- na ---","--- na ---","--- na ---","--- na ---"]
["CMQNT_14210",{"$f":"+'Cover Sheet'!$C$24","v":0},"ENTITY_ID",{"$f":"+CBM!F209","v":""},{"$f":"TEXT(+'Cover Sheet'!C$22,\"yyyymmdd\")","v":"19000100"},14210,"--- na ---",{"$f":"IF(+CBM!H209=\"--- na ---\",\"--- na ---\",IF(ISERROR(TRUNC(+CBM!H209,4))=TRUE,\"\",TRUNC(+CBM!H209,4)))","v":0},"--- na ---",{"$f":"IF(ISERROR(TRUNC(+CBM!G209,4))=TRUE,\"\",TRUNC(+CBM!G209,4))","v":0},"--- na ---","--- na ---","--- na ---","--- na ---"]
["CMQNT_14210",{"$f":"+'Cover Sheet'!$C$24","v":0},"ENTITY_ID",{"$f":"+CBM!F210","v":""},{"$f":"TEXT(+'Cover Sheet'!C$22,\"yyyymmdd\")","v":"19000100"},14210,"--- na ---",{"$f":"IF(+CBM!H210=\"--- na ---\",\"--- na ---\",IF(ISERROR(TRUNC(+CBM!H210,4))=TRUE,\"\",TRUNC(+CBM!H210,4)))","v":0},"--- na ---",{"$f":"IF(ISERROR(TRUNC(+CBM!G210,4))=TRUE,\"\",TRUNC(+CBM!G210,4))","v":0},"--- na ---","--- na ---","--- na ---","--- na ---"]
["CMQNT_14210",{"$f":"+'Cover Sheet'!$C$24","v":0},"ENTITY_ID",{"$f":"+CBM!F211","v":""},{"$f":"TEXT(+'Cover Sheet'!C$22,\"yyyymmdd\")","v":"19000100"},14210,"--- na ---",{"$f":"IF(+CBM!H211=\"--- na ---\",\"--- na ---\",IF(ISERROR(TRUNC(+CBM!H211,4))=TRUE,\"\",TRUNC(+CBM!H211,4)))","v":0},"--- na ---",{"$f":"IF(ISERROR(TRUNC(+CBM!G211,4))=TRUE,\"\",TRUNC(+CBM!G211,4))","v":0},"--- na ---","--- na ---","--- na ---","--- na ---"]
["CMQNT_14210",{"$f":"+'Cover Sheet'!$C$24","v":0},"ENTITY_ID",{"$f":"+CBM!F212","v":""},{"$f":"TEXT(+'Cover Sheet'!C$22,\"yyyymmdd\")","v":"19000100"},14210,"--- na ---",{"$f":"IF(+CBM!H212=\"--- na ---\",\"--- na ---\",IF(ISERROR(TRUNC(+CBM!H212,4))=TRUE,\"\",TRUNC(+CBM!H212,4)))","v":0},"--- na ---",{"$f":"IF(ISERROR(TRUNC(+CBM!G212,4))=TRUE,\"\",TRUNC(+CBM!G212,4))","v":0},"--- na ---","--- na ---","--- na ---","--- na ---"]
["CMQNT_14210",{"$f":"+'Cover Sheet'!$C$24","v":0},"ENTITY_ID",{"$f":"+CBM!F213","v":""},{"$f":"TEXT(+'Cover Sheet'!C$22,\"yyyymmdd\")","v":"19000100"},14210,"--- na ---",{"$f":"IF(+CBM!H213=\"--- na ---\",\"--- na ---\",IF(ISERROR(TRUNC(+CBM!H213,4))=TRUE,\"\",TRUNC(+CBM!H213,4)))","v":0},"--- na ---",{"$f":"IF(ISERROR(TRUNC(+CBM!G213,4))=TRUE,\"\",TRUNC(+CBM!G213,4))","v":0},"--- na ---","--- na ---","--- na ---","--- na ---"]
["CMQNT_14210",{"$f":"+'Cover Sheet'!$C$24","v":0},"ENTITY_ID",{"$f":"+CBM!F214","v":""},{"$f":"TEXT(+'Cover Sheet'!C$22,\"yyyymmdd\")","v":"19000100"},14210,"--- na ---",{"$f":"IF(+CBM!H214=\"--- na ---\",\"--- na ---\",IF(ISERROR(TRUNC(+CBM!H214,4))=TRUE,\"\",TRUNC(+CBM!H214,4)))","v":0},"--- na ---",{"$f":"IF(ISERROR(TRUNC(+CBM!G214,4))=TRUE,\"\",TRUNC(+CBM!G214,4))","v":0},"--- na ---","--- na ---","--- na ---","--- na ---"]
["CMQNT_14210",{"$f":"+'Cover Sheet'!$C$24","v":0},"ENTITY_ID",{"$f":"+CBM!F215","v":""},{"$f":"TEXT(+'Cover Sheet'!C$22,\"yyyymmdd\")","v":"19000100"},14210,"--- na ---",{"$f":"IF(+CBM!H215=\"--- na ---\",\"--- na ---\",IF(ISERROR(TRUNC(+CBM!H215,4))=TRUE,\"\",TRUNC(+CBM!H215,4)))","v":0},"--- na ---",{"$f":"IF(ISERROR(TRUNC(+CBM!G215,4))=TRUE,\"\",TRUNC(+CBM!G215,4))","v":0},"--- na ---","--- na ---","--- na ---","--- na ---"]
["CMQNT_14210",{"$f":"+'Cover Sheet'!$C$24","v":0},"ENTITY_ID",{"$f":"+CBM!F216","v":""},{"$f":"TEXT(+'Cover Sheet'!C$22,\"yyyymmdd\")","v":"19000100"},14210,"--- na ---",{"$f":"IF(+CBM!H216=\"--- na ---\",\"--- na ---\",IF(ISERROR(TRUNC(+CBM!H216,4))=TRUE,\"\",TRUNC(+CBM!H216,4)))","v":0},"--- na ---",{"$f":"IF(ISERROR(TRUNC(+CBM!G216,4))=TRUE,\"\",TRUNC(+CBM!G216,4))","v":0},"--- na ---","--- na ---","--- na ---","--- na ---"]
["CMQNT_14210",{"$f":"+'Cover Sheet'!$C$24","v":0},"ENTITY_ID",{"$f":"+CBM!F217","v":""},{"$f":"TEXT(+'Cover Sheet'!C$22,\"yyyymmdd\")","v":"19000100"},14210,"--- na ---",{"$f":"IF(+CBM!H217=\"--- na ---\",\"--- na ---\",IF(ISERROR(TRUNC(+CBM!H217,4))=TRUE,\"\",TRUNC(+CBM!H217,4)))","v":0},"--- na ---",{"$f":"IF(ISERROR(TRUNC(+CBM!G217,4))=TRUE,\"\",TRUNC(+CBM!G217,4))","v":0},"--- na ---","--- na ---","--- na ---","--- na ---"]
["CMQNT_14210",{"$f":"+'Cover Sheet'!$C$24","v":0},"ENTITY_ID",{"$f":"+CBM!F218","v":""},{"$f":"TEXT(+'Cover Sheet'!C$22,\"yyyymmdd\")","v":"19000100"},14210,"--- na ---",{"$f":"IF(+CBM!H218=\"--- na ---\",\"--- na ---\",IF(ISERROR(TRUNC(+CBM!H218,4))=TRUE,\"\",TRUNC(+CBM!H218,4)))","v":0},"--- na ---",{"$f":"IF(ISERROR(TRUNC(+CBM!G218,4))=TRUE,\"\",TRUNC(+CBM!G218,4))","v":0},"--- na ---","--- na ---","--- na ---","--- na ---"]
["CMQNT_14210",{"$f":"+'Cover Sheet'!$C$24","v":0},"ENTITY_ID",{"$f":"+CBM!F219","v":""},{"$f":"TEXT(+'Cover Sheet'!C$22,\"yyyymmdd\")","v":"19000100"},14210,"--- na ---",{"$f":"IF(+CBM!H219=\"--- na ---\",\"--- na ---\",IF(ISERROR(TRUNC(+CBM!H219,4))=TRUE,\"\",TRUNC(+CBM!H219,4)))","v":0},"--- na ---",{"$f":"IF(ISERROR(TRUNC(+CBM!G219,4))=TRUE,\"\",TRUNC(+CBM!G219,4))","v":0},"--- na ---","--- na ---","--- na ---","--- na ---"]
["CMQNT_14210",{"$f":"+'Cover Sheet'!$C$24","v":0},"ENTITY_ID",{"$f":"+CBM!F220","v":""},{"$f":"TEXT(+'Cover Sheet'!C$22,\"yyyymmdd\")","v":"19000100"},14210,"--- na ---",{"$f":"IF(+CBM!H220=\"--- na ---\",\"--- na ---\",IF(ISERROR(TRUNC(+CBM!H220,4))=TRUE,\"\",TRUNC(+CBM!H220,4)))","v":0},"--- na ---",{"$f":"IF(ISERROR(TRUNC(+CBM!G220,4))=TRUE,\"\",TRUNC(+CBM!G220,4))","v":0},"--- na ---","--- na ---","--- na ---","--- na ---"]
["CMQNT_14210",{"$f":"+'Cover Sheet'!$C$24","v":0},"ENTITY_ID",{"$f":"+CBM!F221","v":""},{"$f":"TEXT(+'Cover Sheet'!C$22,\"yyyymmdd\")","v":"19000100"},14210,"--- na ---",{"$f":"IF(+CBM!H221=\"--- na ---\",\"--- na ---\",IF(ISERROR(TRUNC(+CBM!H221,4))=TRUE,\"\",TRUNC(+CBM!H221,4)))","v":0},"--- na ---",{"$f":"IF(ISERROR(TRUNC(+CBM!G221,4))=TRUE,\"\",TRUNC(+CBM!G221,4))","v":0},"--- na ---","--- na ---","--- na ---","--- na ---"]
["CMQNT_14210",{"$f":"+'Cover Sheet'!$C$24","v":0},"ENTITY_ID",{"$f":"+CBM!F222","v":""},{"$f":"TEXT(+'Cover Sheet'!C$22,\"yyyymmdd\")","v":"19000100"},14210,"--- na ---",{"$f":"IF(+CBM!H222=\"--- na ---\",\"--- na ---\",IF(ISERROR(TRUNC(+CBM!H222,4))=TRUE,\"\",TRUNC(+CBM!H222,4)))","v":0},"--- na ---",{"$f":"IF(ISERROR(TRUNC(+CBM!G222,4))=TRUE,\"\",TRUNC(+CBM!G222,4))","v":0},"--- na ---","--- na ---","--- na ---","--- na ---"]
["CMQNT_14210",{"$f":"+'Cover Sheet'!$C$24","v":0},"ENTITY_ID",{"$f":"+CBM!F223","v":""},{"$f":"TEXT(+'Cover Sheet'!C$22,\"yyyymmdd\")","v":"19000100"},14210,"--- na ---",{"$f":"IF(+CBM!H223=\"--- na ---\",\"--- na ---\",IF(ISERROR(TRUNC(+CBM!H223,4))=TRUE,\"\",TRUNC(+CBM!H223,4)))","v":0},"--- na ---",{"$f":"IF(ISERROR(TRUNC(+CBM!G223,4))=TRUE,\"\",TRUNC(+CBM!G223,4))","v":0},"--- na ---","--- na ---","--- na ---","--- na ---"]
["CMQNT_14210",{"$f":"+'Cover Sheet'!$C$24","v":0},"ENTITY_ID",{"$f":"+CBM!F224","v":""},{"$f":"TEXT(+'Cover Sheet'!C$22,\"yyyymmdd\")","v":"19000100"},14210,"--- na ---",{"$f":"IF(+CBM!H224=\"--- na ---\",\"--- na ---\",IF(ISERROR(TRUNC(+CBM!H224,4))=TRUE,\"\",TRUNC(+CBM!H224,4)))","v":0},"--- na ---",{"$f":"IF(ISERROR(TRUNC(+CBM!G224,4))=TRUE,\"\",TRUNC(+CBM!G224,4))","v":0},"--- na ---","--- na ---","--- na ---","--- na ---"]
["CMQNT_14210",{"$f":"+'Cover Sheet'!$C$24","v":0},"ENTITY_ID",{"$f":"+CBM!F225","v":""},{"$f":"TEXT(+'Cover Sheet'!C$22,\"yyyymmdd\")","v":"19000100"},14210,"--- na ---",{"$f":"IF(+CBM!H225=\"--- na ---\",\"--- na ---\",IF(ISERROR(TRUNC(+CBM!H225,4))=TRUE,\"\",TRUNC(+CBM!H225,4)))","v":0},"--- na ---",{"$f":"IF(ISERROR(TRUNC(+CBM!G225,4))=TRUE,\"\",TRUNC(+CBM!G225,4))","v":0},"--- na ---","--- na ---","--- na ---","--- na ---"]
["CMQNT_14210",{"$f":"+'Cover Sheet'!$C$24","v":0},"ENTITY_ID",{"$f":"+CBM!F226","v":""},{"$f":"TEXT(+'Cover Sheet'!C$22,\"yyyymmdd\")","v":"19000100"},14210,"--- na ---",{"$f":"IF(+CBM!H226=\"--- na ---\",\"--- na ---\",IF(ISERROR(TRUNC(+CBM!H226,4))=TRUE,\"\",TRUNC(+CBM!H226,4)))","v":0},"--- na ---",{"$f":"IF(ISERROR(TRUNC(+CBM!G226,4))=TRUE,\"\",TRUNC(+CBM!G226,4))","v":0},"--- na ---","--- na ---","--- na ---","--- na ---"]
["CMQNT_14210",{"$f":"+'Cover Sheet'!$C$24","v":0},"ENTITY_ID",{"$f":"+CBM!F227","v":""},{"$f":"TEXT(+'Cover Sheet'!C$22,\"yyyymmdd\")","v":"19000100"},14210,"--- na ---",{"$f":"IF(+CBM!H227=\"--- na ---\",\"--- na ---\",IF(ISERROR(TRUNC(+CBM!H227,4))=TRUE,\"\",TRUNC(+CBM!H227,4)))","v":0},"--- na ---",{"$f":"IF(ISERROR(TRUNC(+CBM!G227,4))=TRUE,\"\",TRUNC(+CBM!G227,4))","v":0},"--- na ---","--- na ---","--- na ---","--- na ---"]
["CMQNT_14210",{"$f":"+'Cover Sheet'!$C$24","v":0},"ENTITY_ID",{"$f":"+CBM!F228","v":""},{"$f":"TEXT(+'Cover Sheet'!C$22,\"yyyymmdd\")","v":"19000100"},14210,"--- na ---",{"$f":"IF(+CBM!H228=\"--- na ---\",\"--- na ---\",IF(ISERROR(TRUNC(+CBM!H228,4))=TRUE,\"\",TRUNC(+CBM!H228,4)))","v":0},"--- na ---",{"$f":"IF(ISERROR(TRUNC(+CBM!G228,4))=TRUE,\"\",TRUNC(+CBM!G228,4))","v":0},"--- na ---","--- na ---","--- na ---","--- na ---"]
["CMQNT_14210",{"$f":"+'Cover Sheet'!$C$24","v":0},"ENTITY_ID",{"$f":"+CBM!F229","v":""},{"$f":"TEXT(+'Cover Sheet'!C$22,\"yyyymmdd\")","v":"19000100"},14210,"--- na ---",{"$f":"IF(+CBM!H229=\"--- na ---\",\"--- na ---\",IF(ISERROR(TRUNC(+CBM!H229,4))=TRUE,\"\",TRUNC(+CBM!H229,4)))","v":0},"--- na ---",{"$f":"IF(ISERROR(TRUNC(+CBM!G229,4))=TRUE,\"\",TRUNC(+CBM!G229,4))","v":0},"--- na ---","--- na ---","--- na ---","--- na ---"]
["CMQNT_14210",{"$f":"+'Cover Sheet'!$C$24","v":0},"ENTITY_ID",{"$f":"+CBM!F230","v":""},{"$f":"TEXT(+'Cover Sheet'!C$22,\"yyyymmdd\")","v":"19000100"},14210,"--- na ---",{"$f":"IF(+CBM!H230=\"--- na ---\",\"--- na ---\",IF(ISERROR(TRUNC(+CBM!H230,4))=TRUE,\"\",TRUNC(+CBM!H230,4)))","v":0},"--- na ---",{"$f":"IF(ISERROR(TRUNC(+CBM!G230,4))=TRUE,\"\",TRUNC(+CBM!G230,4))","v":0},"--- na ---","--- na ---","--- na ---","--- na ---"]
["CMQNT_14210",{"$f":"+'Cover Sheet'!$C$24","v":0},"ENTITY_ID",{"$f":"+CBM!F231","v":""},{"$f":"TEXT(+'Cover Sheet'!C$22,\"yyyymmdd\")","v":"19000100"},14210,"--- na ---",{"$f":"IF(+CBM!H231=\"--- na ---\",\"--- na ---\",IF(ISERROR(TRUNC(+CBM!H231,4))=TRUE,\"\",TRUNC(+CBM!H231,4)))","v":0},"--- na ---",{"$f":"IF(ISERROR(TRUNC(+CBM!G231,4))=TRUE,\"\",TRUNC(+CBM!G231,4))","v":0},"--- na ---","--- na ---","--- na ---","--- na ---"]
["CMQNT_14210",{"$f":"+'Cover Sheet'!$C$24","v":0},"ENTITY_ID",{"$f":"+CBM!F232","v":""},{"$f":"TEXT(+'Cover Sheet'!C$22,\"yyyymmdd\")","v":"19000100"},14210,"--- na ---",{"$f":"IF(+CBM!H232=\"--- na ---\",\"--- na ---\",IF(ISERROR(TRUNC(+CBM!H232,4))=TRUE,\"\",TRUNC(+CBM!H232,4)))","v":0},"--- na ---",{"$f":"IF(ISERROR(TRUNC(+CBM!G232,4))=TRUE,\"\",TRUNC(+CBM!G232,4))","v":0},"--- na ---","--- na ---","--- na ---","--- na ---"]
["CMQNT_14210",{"$f":"+'Cover Sheet'!$C$24","v":0},"ENTITY_ID",{"$f":"+CBM!F233","v":""},{"$f":"TEXT(+'Cover Sheet'!C$22,\"yyyymmdd\")","v":"19000100"},14210,"--- na ---",{"$f":"IF(+CBM!H233=\"--- na ---\",\"--- na ---\",IF(ISERROR(TRUNC(+CBM!H233,4))=TRUE,\"\",TRUNC(+CBM!H233,4)))","v":0},"--- na ---",{"$f":"IF(ISERROR(TRUNC(+CBM!G233,4))=TRUE,\"\",TRUNC(+CBM!G233,4))","v":0},"--- na ---","--- na ---","--- na ---","--- na ---"]
["CMQNT_14210",{"$f":"+'Cover Sheet'!$C$24","v":0},"ENTITY_ID",{"$f":"+CBM!F234","v":""},{"$f":"TEXT(+'Cover Sheet'!C$22,\"yyyymmdd\")","v":"19000100"},14210,"--- na ---",{"$f":"IF(+CBM!H234=\"--- na ---\",\"--- na ---\",IF(ISERROR(TRUNC(+CBM!H234,4))=TRUE,\"\",TRUNC(+CBM!H234,4)))","v":0},"--- na ---",{"$f":"IF(ISERROR(TRUNC(+CBM!G234,4))=TRUE,\"\",TRUNC(+CBM!G234,4))","v":0},"--- na ---","--- na ---","--- na ---","--- na ---"]
["CMQNT_14210",{"$f":"+'Cover Sheet'!$C$24","v":0},"ENTITY_ID",{"$f":"+CBM!F235","v":""},{"$f":"TEXT(+'Cover Sheet'!C$22,\"yyyymmdd\")","v":"19000100"},14210,"--- na ---",{"$f":"IF(+CBM!H235=\"--- na ---\",\"--- na ---\",IF(ISERROR(TRUNC(+CBM!H235,4))=TRUE,\"\",TRUNC(+CBM!H235,4)))","v":0},"--- na ---",{"$f":"IF(ISERROR(TRUNC(+CBM!G235,4))=TRUE,\"\",TRUNC(+CBM!G235,4))","v":0},"--- na ---","--- na ---","--- na ---","--- na ---"]
["CMQNT_14210",{"$f":"+'Cover Sheet'!$C$24","v":0},"ENTITY_ID",{"$f":"+CBM!F236","v":""},{"$f":"TEXT(+'Cover Sheet'!C$22,\"yyyymmdd\")","v":"19000100"},14210,"--- na ---",{"$f":"IF(+CBM!H236=\"--- na ---\",\"--- na ---\",IF(ISERROR(TRUNC(+CBM!H236,4))=TRUE,\"\",TRUNC(+CBM!H236,4)))","v":0},"--- na ---",{"$f":"IF(ISERROR(TRUNC(+CBM!G236,4))=TRUE,\"\",TRUNC(+CBM!G236,4))","v":0},"--- na ---","--- na ---","--- na ---","--- na ---"]
["CMQNT_14210",{"$f":"+'Cover Sheet'!$C$24","v":0},"ENTITY_ID",{"$f":"+CBM!F237","v":""},{"$f":"TEXT(+'Cover Sheet'!C$22,\"yyyymmdd\")","v":"19000100"},14210,"--- na ---",{"$f":"IF(+CBM!H237=\"--- na ---\",\"--- na ---\",IF(ISERROR(TRUNC(+CBM!H237,4))=TRUE,\"\",TRUNC(+CBM!H237,4)))","v":0},"--- na ---",{"$f":"IF(ISERROR(TRUNC(+CBM!G237,4))=TRUE,\"\",TRUNC(+CBM!G237,4))","v":0},"--- na ---","--- na ---","--- na ---","--- na ---"]
["CMQNT_14210",{"$f":"+'Cover Sheet'!$C$24","v":0},"ENTITY_ID",{"$f":"+CBM!F238","v":""},{"$f":"TEXT(+'Cover Sheet'!C$22,\"yyyymmdd\")","v":"19000100"},14210,"--- na ---",{"$f":"IF(+CBM!H238=\"--- na ---\",\"--- na ---\",IF(ISERROR(TRUNC(+CBM!H238,4))=TRUE,\"\",TRUNC(+CBM!H238,4)))","v":0},"--- na ---",{"$f":"IF(ISERROR(TRUNC(+CBM!G238,4))=TRUE,\"\",TRUNC(+CBM!G238,4))","v":0},"--- na ---","--- na ---","--- na ---","--- na ---"]
["CMQNT_14210",{"$f":"+'Cover Sheet'!$C$24","v":0},"ENTITY_ID",{"$f":"+CBM!F239","v":""},{"$f":"TEXT(+'Cover Sheet'!C$22,\"yyyymmdd\")","v":"19000100"},14210,"--- na ---",{"$f":"IF(+CBM!H239=\"--- na ---\",\"--- na ---\",IF(ISERROR(TRUNC(+CBM!H239,4))=TRUE,\"\",TRUNC(+CBM!H239,4)))","v":0},"--- na ---",{"$f":"IF(ISERROR(TRUNC(+CBM!G239,4))=TRUE,\"\",TRUNC(+CBM!G239,4))","v":0},"--- na ---","--- na ---","--- na ---","--- na ---"]
["CMQNT_14210",{"$f":"+'Cover Sheet'!$C$24","v":0},"ENTITY_ID",{"$f":"+CBM!F240","v":""},{"$f":"TEXT(+'Cover Sheet'!C$22,\"yyyymmdd\")","v":"19000100"},14210,"--- na ---",{"$f":"IF(+CBM!H240=\"--- na ---\",\"--- na ---\",IF(ISERROR(TRUNC(+CBM!H240,4))=TRUE,\"\",TRUNC(+CBM!H240,4)))","v":0},"--- na ---",{"$f":"IF(ISERROR(TRUNC(+CBM!G240,4))=TRUE,\"\",TRUNC(+CBM!G240,4))","v":0},"--- na ---","--- na ---","--- na ---","--- na ---"]
["CMQNT_14210",{"$f":"+'Cover Sheet'!$C$24","v":0},"ENTITY_ID",{"$f":"+CBM!F241","v":""},{"$f":"TEXT(+'Cover Sheet'!C$22,\"yyyymmdd\")","v":"19000100"},14210,"--- na ---",{"$f":"IF(+CBM!H241=\"--- na ---\",\"--- na ---\",IF(ISERROR(TRUNC(+CBM!H241,4))=TRUE,\"\",TRUNC(+CBM!H241,4)))","v":0},"--- na ---",{"$f":"IF(ISERROR(TRUNC(+CBM!G241,4))=TRUE,\"\",TRUNC(+CBM!G241,4))","v":0},"--- na ---","--- na ---","--- na ---","--- na ---"]
["CMQNT_14210",{"$f":"+'Cover Sheet'!$C$24","v":0},"ENTITY_ID",{"$f":"+CBM!F242","v":""},{"$f":"TEXT(+'Cover Sheet'!C$22,\"yyyymmdd\")","v":"19000100"},14210,"--- na ---",{"$f":"IF(+CBM!H242=\"--- na ---\",\"--- na ---\",IF(ISERROR(TRUNC(+CBM!H242,4))=TRUE,\"\",TRUNC(+CBM!H242,4)))","v":0},"--- na ---",{"$f":"IF(ISERROR(TRUNC(+CBM!G242,4))=TRUE,\"\",TRUNC(+CBM!G242,4))","v":0},"--- na ---","--- na ---","--- na ---","--- na ---"]
["CMQNT_14210",{"$f":"+'Cover Sheet'!$C$24","v":0},"ENTITY_ID",{"$f":"+CBM!F243","v":""},{"$f":"TEXT(+'Cover Sheet'!C$22,\"yyyymmdd\")","v":"19000100"},14210,"--- na ---",{"$f":"IF(+CBM!H243=\"--- na ---\",\"--- na ---\",IF(ISERROR(TRUNC(+CBM!H243,4))=TRUE,\"\",TRUNC(+CBM!H243,4)))","v":0},"--- na ---",{"$f":"IF(ISERROR(TRUNC(+CBM!G243,4))=TRUE,\"\",TRUNC(+CBM!G243,4))","v":0},"--- na ---","--- na ---","--- na ---","--- na ---"]
["CMQNT_14210",{"$f":"+'Cover Sheet'!$C$24","v":0},"ENTITY_ID",{"$f":"+CBM!F244","v":""},{"$f":"TEXT(+'Cover Sheet'!C$22,\"yyyymmdd\")","v":"19000100"},14210,"--- na ---",{"$f":"IF(+CBM!H244=\"--- na ---\",\"--- na ---\",IF(ISERROR(TRUNC(+CBM!H244,4))=TRUE,\"\",TRUNC(+CBM!H244,4)))","v":0},"--- na ---",{"$f":"IF(ISERROR(TRUNC(+CBM!G244,4))=TRUE,\"\",TRUNC(+CBM!G244,4))","v":0},"--- na ---","--- na ---","--- na ---","--- na ---"]
["CMQNT_14220",{"$f":"+'Cover Sheet'!$C$24","v":0},"ENTITY_ID","W1",{"$f":"TEXT(+'Cover Sheet'!C$22,\"yyyymmdd\")","v":"19000100"},14220,"--- na ---",{"$f":"IF(+CBM!H245=\"--- na ---\",\"--- na ---\",IF(ISERROR(TRUNC(+CBM!H245,4))=TRUE,\"\",TRUNC(+CBM!H245,4)))","v":0},"--- na ---",{"$f":"IF(ISERROR(TRUNC(+CBM!G245,4))=TRUE,\"\",TRUNC(+CBM!G245,4))","v":0},"--- na ---","--- na ---","--- na ---","--- na ---"]
["CMQNT_14220",{"$f":"+'Cover Sheet'!$C$24","v":0},"ENTITY_ID",{"$f":"+CBM!F246","v":""},{"$f":"TEXT(+'Cover Sheet'!C$22,\"yyyymmdd\")","v":"19000100"},14220,"--- na ---",{"$f":"IF(+CBM!H246=\"--- na ---\",\"--- na ---\",IF(ISERROR(TRUNC(+CBM!H246,4))=TRUE,\"\",TRUNC(+CBM!H246,4)))","v":0},"--- na ---",{"$f":"IF(ISERROR(TRUNC(+CBM!G246,4))=TRUE,\"\",TRUNC(+CBM!G246,4))","v":0},"--- na ---","--- na ---","--- na ---","--- na ---"]
["CMQNT_14220",{"$f":"+'Cover Sheet'!$C$24","v":0},"ENTITY_ID",{"$f":"+CBM!F247","v":""},{"$f":"TEXT(+'Cover Sheet'!C$22,\"yyyymmdd\")","v":"19000100"},14220,"--- na ---",{"$f":"IF(+CBM!H247=\"--- na ---\",\"--- na ---\",IF(ISERROR(TRUNC(+CBM!H247,4))=TRUE,\"\",TRUNC(+CBM!H247,4)))","v":0},"--- na ---",{"$f":"IF(ISERROR(TRUNC(+CBM!G247,4))=TRUE,\"\",TRUNC(+CBM!G247,4))","v":0},"--- na ---","--- na ---","--- na ---","--- na ---"]
["CMQNT_14220",{"$f":"+'Cover Sheet'!$C$24","v":0},"ENTITY_ID",{"$f":"+CBM!F248","v":""},{"$f":"TEXT(+'Cover Sheet'!C$22,\"yyyymmdd\")","v":"19000100"},14220,"--- na ---",{"$f":"IF(+CBM!H248=\"--- na ---\",\"--- na ---\",IF(ISERROR(TRUNC(+CBM!H248,4))=TRUE,\"\",TRUNC(+CBM!H248,4)))","v":0},"--- na ---",{"$f":"IF(ISERROR(TRUNC(+CBM!G248,4))=TRUE,\"\",TRUNC(+CBM!G248,4))","v":0},"--- na ---","--- na ---","--- na ---","--- na ---"]
["CMQNT_14220",{"$f":"+'Cover Sheet'!$C$24","v":0},"ENTITY_ID",{"$f":"+CBM!F249","v":""},{"$f":"TEXT(+'Cover Sheet'!C$22,\"yyyymmdd\")","v":"19000100"},14220,"--- na ---",{"$f":"IF(+CBM!H249=\"--- na ---\",\"--- na ---\",IF(ISERROR(TRUNC(+CBM!H249,4))=TRUE,\"\",TRUNC(+CBM!H249,4)))","v":0},"--- na ---",{"$f":"IF(ISERROR(TRUNC(+CBM!G249,4))=TRUE,\"\",TRUNC(+CBM!G249,4))","v":0},"--- na ---","--- na ---","--- na ---","--- na ---"]
["CMQNT_14220",{"$f":"+'Cover Sheet'!$C$24","v":0},"ENTITY_ID",{"$f":"+CBM!F250","v":""},{"$f":"TEXT(+'Cover Sheet'!C$22,\"yyyymmdd\")","v":"19000100"},14220,"--- na ---",{"$f":"IF(+CBM!H250=\"--- na ---\",\"--- na ---\",IF(ISERROR(TRUNC(+CBM!H250,4))=TRUE,\"\",TRUNC(+CBM!H250,4)))","v":0},"--- na ---",{"$f":"IF(ISERROR(TRUNC(+CBM!G250,4))=TRUE,\"\",TRUNC(+CBM!G250,4))","v":0},"--- na ---","--- na ---","--- na ---","--- na ---"]
["CMQNT_14220",{"$f":"+'Cover Sheet'!$C$24","v":0},"ENTITY_ID",{"$f":"+CBM!F251","v":""},{"$f":"TEXT(+'Cover Sheet'!C$22,\"yyyymmdd\")","v":"19000100"},14220,"--- na ---",{"$f":"IF(+CBM!H251=\"--- na ---\",\"--- na ---\",IF(ISERROR(TRUNC(+CBM!H251,4))=TRUE,\"\",TRUNC(+CBM!H251,4)))","v":0},"--- na ---",{"$f":"IF(ISERROR(TRUNC(+CBM!G251,4))=TRUE,\"\",TRUNC(+CBM!G251,4))","v":0},"--- na ---","--- na ---","--- na ---","--- na ---"]
["CMQNT_14220",{"$f":"+'Cover Sheet'!$C$24","v":0},"ENTITY_ID",{"$f":"+CBM!F252","v":""},{"$f":"TEXT(+'Cover Sheet'!C$22,\"yyyymmdd\")","v":"19000100"},14220,"--- na ---",{"$f":"IF(+CBM!H252=\"--- na ---\",\"--- na ---\",IF(ISERROR(TRUNC(+CBM!H252,4))=TRUE,\"\",TRUNC(+CBM!H252,4)))","v":0},"--- na ---",{"$f":"IF(ISERROR(TRUNC(+CBM!G252,4))=TRUE,\"\",TRUNC(+CBM!G252,4))","v":0},"--- na ---","--- na ---","--- na ---","--- na ---"]
["CMQNT_14220",{"$f":"+'Cover Sheet'!$C$24","v":0},"ENTITY_ID",{"$f":"+CBM!F253","v":""},{"$f":"TEXT(+'Cover Sheet'!C$22,\"yyyymmdd\")","v":"19000100"},14220,"--- na ---",{"$f":"IF(+CBM!H253=\"--- na ---\",\"--- na ---\",IF(ISERROR(TRUNC(+CBM!H253,4))=TRUE,\"\",TRUNC(+CBM!H253,4)))","v":0},"--- na ---",{"$f":"IF(ISERROR(TRUNC(+CBM!G253,4))=TRUE,\"\",TRUNC(+CBM!G253,4))","v":0},"--- na ---","--- na ---","--- na ---","--- na ---"]
["CMQNT_14220",{"$f":"+'Cover Sheet'!$C$24","v":0},"ENTITY_ID",{"$f":"+CBM!F254","v":""},{"$f":"TEXT(+'Cover Sheet'!C$22,\"yyyymmdd\")","v":"19000100"},14220,"--- na ---",{"$f":"IF(+CBM!H254=\"--- na ---\",\"--- na ---\",IF(ISERROR(TRUNC(+CBM!H254,4))=TRUE,\"\",TRUNC(+CBM!H254,4)))","v":0},"--- na ---",{"$f":"IF(ISERROR(TRUNC(+CBM!G254,4))=TRUE,\"\",TRUNC(+CBM!G254,4))","v":0},"--- na ---","--- na ---","--- na ---","--- na ---"]
["CMQNT_14220",{"$f":"+'Cover Sheet'!$C$24","v":0},"ENTITY_ID",{"$f":"+CBM!F255","v":""},{"$f":"TEXT(+'Cover Sheet'!C$22,\"yyyymmdd\")","v":"19000100"},14220,"--- na ---",{"$f":"IF(+CBM!H255=\"--- na ---\",\"--- na ---\",IF(ISERROR(TRUNC(+CBM!H255,4))=TRUE,\"\",TRUNC(+CBM!H255,4)))","v":0},"--- na ---",{"$f":"IF(ISERROR(TRUNC(+CBM!G255,4))=TRUE,\"\",TRUNC(+CBM!G255,4))","v":0},"--- na ---","--- na ---","--- na ---","--- na ---"]
["CMQNT_14220",{"$f":"+'Cover Sheet'!$C$24","v":0},"ENTITY_ID",{"$f":"+CBM!F256","v":""},{"$f":"TEXT(+'Cover Sheet'!C$22,\"yyyymmdd\")","v":"19000100"},14220,"--- na ---",{"$f":"IF(+CBM!H256=\"--- na ---\",\"--- na ---\",IF(ISERROR(TRUNC(+CBM!H256,4))=TRUE,\"\",TRUNC(+CBM!H256,4)))","v":0},"--- na ---",{"$f":"IF(ISERROR(TRUNC(+CBM!G256,4))=TRUE,\"\",TRUNC(+CBM!G256,4))","v":0},"--- na ---","--- na ---","--- na ---","--- na ---"]
["CMQNT_14220",{"$f":"+'Cover Sheet'!$C$24","v":0},"ENTITY_ID",{"$f":"+CBM!F257","v":""},{"$f":"TEXT(+'Cover Sheet'!C$22,\"yyyymmdd\")","v":"19000100"},14220,"--- na ---",{"$f":"IF(+CBM!H257=\"--- na ---\",\"--- na ---\",IF(ISERROR(TRUNC(+CBM!H257,4))=TRUE,\"\",TRUNC(+CBM!H257,4)))","v":0},"--- na ---",{"$f":"IF(ISERROR(TRUNC(+CBM!G257,4))=TRUE,\"\",TRUNC(+CBM!G257,4))","v":0},"--- na ---","--- na ---","--- na ---","--- na ---"]
["CMQNT_14220",{"$f":"+'Cover Sheet'!$C$24","v":0},"ENTITY_ID",{"$f":"+CBM!F258","v":""},{"$f":"TEXT(+'Cover Sheet'!C$22,\"yyyymmdd\")","v":"19000100"},14220,"--- na ---",{"$f":"IF(+CBM!H258=\"--- na ---\",\"--- na ---\",IF(ISERROR(TRUNC(+CBM!H258,4))=TRUE,\"\",TRUNC(+CBM!H258,4)))","v":0},"--- na ---",{"$f":"IF(ISERROR(TRUNC(+CBM!G258,4))=TRUE,\"\",TRUNC(+CBM!G258,4))","v":0},"--- na ---","--- na ---","--- na ---","--- na ---"]
["CMQNT_14220",{"$f":"+'Cover Sheet'!$C$24","v":0},"ENTITY_ID",{"$f":"+CBM!F259","v":""},{"$f":"TEXT(+'Cover Sheet'!C$22,\"yyyymmdd\")","v":"19000100"},14220,"--- na ---",{"$f":"IF(+CBM!H259=\"--- na ---\",\"--- na ---\",IF(ISERROR(TRUNC(+CBM!H259,4))=TRUE,\"\",TRUNC(+CBM!H259,4)))","v":0},"--- na ---",{"$f":"IF(ISERROR(TRUNC(+CBM!G259,4))=TRUE,\"\",TRUNC(+CBM!G259,4))","v":0},"--- na ---","--- na ---","--- na ---","--- na ---"]
["CMQNT_14220",{"$f":"+'Cover Sheet'!$C$24","v":0},"ENTITY_ID",{"$f":"+CBM!F260","v":""},{"$f":"TEXT(+'Cover Sheet'!C$22,\"yyyymmdd\")","v":"19000100"},14220,"--- na ---",{"$f":"IF(+CBM!H260=\"--- na ---\",\"--- na ---\",IF(ISERROR(TRUNC(+CBM!H260,4))=TRUE,\"\",TRUNC(+CBM!H260,4)))","v":0},"--- na ---",{"$f":"IF(ISERROR(TRUNC(+CBM!G260,4))=TRUE,\"\",TRUNC(+CBM!G260,4))","v":0},"--- na ---","--- na ---","--- na ---","--- na ---"]
["CMQNT_14220",{"$f":"+'Cover Sheet'!$C$24","v":0},"ENTITY_ID",{"$f":"+CBM!F261","v":""},{"$f":"TEXT(+'Cover Sheet'!C$22,\"yyyymmdd\")","v":"19000100"},14220,"--- na ---",{"$f":"IF(+CBM!H261=\"--- na ---\",\"--- na ---\",IF(ISERROR(TRUNC(+CBM!H261,4))=TRUE,\"\",TRUNC(+CBM!H261,4)))","v":0},"--- na ---",{"$f":"IF(ISERROR(TRUNC(+CBM!G261,4))=TRUE,\"\",TRUNC(+CBM!G261,4))","v":0},"--- na ---","--- na ---","--- na ---","--- na ---"]
["CMQNT_14220",{"$f":"+'Cover Sheet'!$C$24","v":0},"ENTITY_ID",{"$f":"+CBM!F262","v":""},{"$f":"TEXT(+'Cover Sheet'!C$22,\"yyyymmdd\")","v":"19000100"},14220,"--- na ---",{"$f":"IF(+CBM!H262=\"--- na ---\",\"--- na ---\",IF(ISERROR(TRUNC(+CBM!H262,4))=TRUE,\"\",TRUNC(+CBM!H262,4)))","v":0},"--- na ---",{"$f":"IF(ISERROR(TRUNC(+CBM!G262,4))=TRUE,\"\",TRUNC(+CBM!G262,4))","v":0},"--- na ---","--- na ---","--- na ---","--- na ---"]
["CMQNT_14220",{"$f":"+'Cover Sheet'!$C$24","v":0},"ENTITY_ID",{"$f":"+CBM!F263","v":""},{"$f":"TEXT(+'Cover Sheet'!C$22,\"yyyymmdd\")","v":"19000100"},14220,"--- na ---",{"$f":"IF(+CBM!H263=\"--- na ---\",\"--- na ---\",IF(ISERROR(TRUNC(+CBM!H263,4))=TRUE,\"\",TRUNC(+CBM!H263,4)))","v":0},"--- na ---",{"$f":"IF(ISERROR(TRUNC(+CBM!G263,4))=TRUE,\"\",TRUNC(+CBM!G263,4))","v":0},"--- na ---","--- na ---","--- na ---","--- na ---"]
["CMQNT_14220",{"$f":"+'Cover Sheet'!$C$24","v":0},"ENTITY_ID",{"$f":"+CBM!F264","v":""},{"$f":"TEXT(+'Cover Sheet'!C$22,\"yyyymmdd\")","v":"19000100"},14220,"--- na ---",{"$f":"IF(+CBM!H264=\"--- na ---\",\"--- na ---\",IF(ISERROR(TRUNC(+CBM!H264,4))=TRUE,\"\",TRUNC(+CBM!H264,4)))","v":0},"--- na ---",{"$f":"IF(ISERROR(TRUNC(+CBM!G264,4))=TRUE,\"\",TRUNC(+CBM!G264,4))","v":0},"--- na ---","--- na ---","--- na ---","--- na ---"]
["CMQNT_14220",{"$f":"+'Cover Sheet'!$C$24","v":0},"ENTITY_ID",{"$f":"+CBM!F265","v":""},{"$f":"TEXT(+'Cover Sheet'!C$22,\"yyyymmdd\")","v":"19000100"},14220,"--- na ---",{"$f":"IF(+CBM!H265=\"--- na ---\",\"--- na ---\",IF(ISERROR(TRUNC(+CBM!H265,4))=TRUE,\"\",TRUNC(+CBM!H265,4)))","v":0},"--- na ---",{"$f":"IF(ISERROR(TRUNC(+CBM!G265,4))=TRUE,\"\",TRUNC(+CBM!G265,4))","v":0},"--- na ---","--- na ---","--- na ---","--- na ---"]
["CMQNT_14220",{"$f":"+'Cover Sheet'!$C$24","v":0},"ENTITY_ID",{"$f":"+CBM!F266","v":""},{"$f":"TEXT(+'Cover Sheet'!C$22,\"yyyymmdd\")","v":"19000100"},14220,"--- na ---",{"$f":"IF(+CBM!H266=\"--- na ---\",\"--- na ---\",IF(ISERROR(TRUNC(+CBM!H266,4))=TRUE,\"\",TRUNC(+CBM!H266,4)))","v":0},"--- na ---",{"$f":"IF(ISERROR(TRUNC(+CBM!G266,4))=TRUE,\"\",TRUNC(+CBM!G266,4))","v":0},"--- na ---","--- na ---","--- na ---","--- na ---"]
["CMQNT_14220",{"$f":"+'Cover Sheet'!$C$24","v":0},"ENTITY_ID",{"$f":"+CBM!F267","v":""},{"$f":"TEXT(+'Cover Sheet'!C$22,\"yyyymmdd\")","v":"19000100"},14220,"--- na ---",{"$f":"IF(+CBM!H267=\"--- na ---\",\"--- na ---\",IF(ISERROR(TRUNC(+CBM!H267,4))=TRUE,\"\",TRUNC(+CBM!H267,4)))","v":0},"--- na ---",{"$f":"IF(ISERROR(TRUNC(+CBM!G267,4))=TRUE,\"\",TRUNC(+CBM!G267,4))","v":0},"--- na ---","--- na ---","--- na ---","--- na ---"]
["CMQNT_14220",{"$f":"+'Cover Sheet'!$C$24","v":0},"ENTITY_ID",{"$f":"+CBM!F268","v":""},{"$f":"TEXT(+'Cover Sheet'!C$22,\"yyyymmdd\")","v":"19000100"},14220,"--- na ---",{"$f":"IF(+CBM!H268=\"--- na ---\",\"--- na ---\",IF(ISERROR(TRUNC(+CBM!H268,4))=TRUE,\"\",TRUNC(+CBM!H268,4)))","v":0},"--- na ---",{"$f":"IF(ISERROR(TRUNC(+CBM!G268,4))=TRUE,\"\",TRUNC(+CBM!G268,4))","v":0},"--- na ---","--- na ---","--- na ---","--- na ---"]
["CMQNT_14220",{"$f":"+'Cover Sheet'!$C$24","v":0},"ENTITY_ID",{"$f":"+CBM!F269","v":""},{"$f":"TEXT(+'Cover Sheet'!C$22,\"yyyymmdd\")","v":"19000100"},14220,"--- na ---",{"$f":"IF(+CBM!H269=\"--- na ---\",\"--- na ---\",IF(ISERROR(TRUNC(+CBM!H269,4))=TRUE,\"\",TRUNC(+CBM!H269,4)))","v":0},"--- na ---",{"$f":"IF(ISERROR(TRUNC(+CBM!G269,4))=TRUE,\"\",TRUNC(+CBM!G269,4))","v":0},"--- na ---","--- na ---","--- na ---","--- na ---"]
["CMQNT_14220",{"$f":"+'Cover Sheet'!$C$24","v":0},"ENTITY_ID",{"$f":"+CBM!F270","v":""},{"$f":"TEXT(+'Cover Sheet'!C$22,\"yyyymmdd\")","v":"19000100"},14220,"--- na ---",{"$f":"IF(+CBM!H270=\"--- na ---\",\"--- na ---\",IF(ISERROR(TRUNC(+CBM!H270,4))=TRUE,\"\",TRUNC(+CBM!H270,4)))","v":0},"--- na ---",{"$f":"IF(ISERROR(TRUNC(+CBM!G270,4))=TRUE,\"\",TRUNC(+CBM!G270,4))","v":0},"--- na ---","--- na ---","--- na ---","--- na ---"]
["CMQNT_14220",{"$f":"+'Cover Sheet'!$C$24","v":0},"ENTITY_ID",{"$f":"+CBM!F271","v":""},{"$f":"TEXT(+'Cover Sheet'!C$22,\"yyyymmdd\")","v":"19000100"},14220,"--- na ---",{"$f":"IF(+CBM!H271=\"--- na ---\",\"--- na ---\",IF(ISERROR(TRUNC(+CBM!H271,4))=TRUE,\"\",TRUNC(+CBM!H271,4)))","v":0},"--- na ---",{"$f":"IF(ISERROR(TRUNC(+CBM!G271,4))=TRUE,\"\",TRUNC(+CBM!G271,4))","v":0},"--- na ---","--- na ---","--- na ---","--- na ---"]
["CMQNT_14220",{"$f":"+'Cover Sheet'!$C$24","v":0},"ENTITY_ID",{"$f":"+CBM!F272","v":""},{"$f":"TEXT(+'Cover Sheet'!C$22,\"yyyymmdd\")","v":"19000100"},14220,"--- na ---",{"$f":"IF(+CBM!H272=\"--- na ---\",\"--- na ---\",IF(ISERROR(TRUNC(+CBM!H272,4))=TRUE,\"\",TRUNC(+CBM!H272,4)))","v":0},"--- na ---",{"$f":"IF(ISERROR(TRUNC(+CBM!G272,4))=TRUE,\"\",TRUNC(+CBM!G272,4))","v":0},"--- na ---","--- na ---","--- na ---","--- na ---"]
["CMQNT_14220",{"$f":"+'Cover Sheet'!$C$24","v":0},"ENTITY_ID",{"$f":"+CBM!F273","v":""},{"$f":"TEXT(+'Cover Sheet'!C$22,\"yyyymmdd\")","v":"19000100"},14220,"--- na ---",{"$f":"IF(+CBM!H273=\"--- na ---\",\"--- na ---\",IF(ISERROR(TRUNC(+CBM!H273,4))=TRUE,\"\",TRUNC(+CBM!H273,4)))","v":0},"--- na ---",{"$f":"IF(ISERROR(TRUNC(+CBM!G273,4))=TRUE,\"\",TRUNC(+CBM!G273,4))","v":0},"--- na ---","--- na ---","--- na ---","--- na ---"]
["CMQNT_14220",{"$f":"+'Cover Sheet'!$C$24","v":0},"ENTITY_ID",{"$f":"+CBM!F274","v":""},{"$f":"TEXT(+'Cover Sheet'!C$22,\"yyyymmdd\")","v":"19000100"},14220,"--- na ---",{"$f":"IF(+CBM!H274=\"--- na ---\",\"--- na ---\",IF(ISERROR(TRUNC(+CBM!H274,4))=TRUE,\"\",TRUNC(+CBM!H274,4)))","v":0},"--- na ---",{"$f":"IF(ISERROR(TRUNC(+CBM!G274,4))=TRUE,\"\",TRUNC(+CBM!G274,4))","v":0},"--- na ---","--- na ---","--- na ---","--- na ---"]
["CMQNT_14220",{"$f":"+'Cover Sheet'!$C$24","v":0},"ENTITY_ID",{"$f":"+CBM!F275","v":""},{"$f":"TEXT(+'Cover Sheet'!C$22,\"yyyymmdd\")","v":"19000100"},14220,"--- na ---",{"$f":"IF(+CBM!H275=\"--- na ---\",\"--- na ---\",IF(ISERROR(TRUNC(+CBM!H275,4))=TRUE,\"\",TRUNC(+CBM!H275,4)))","v":0},"--- na ---",{"$f":"IF(ISERROR(TRUNC(+CBM!G275,4))=TRUE,\"\",TRUNC(+CBM!G275,4))","v":0},"--- na ---","--- na ---","--- na ---","--- na ---"]
["CMQNT_14220",{"$f":"+'Cover Sheet'!$C$24","v":0},"ENTITY_ID",{"$f":"+CBM!F276","v":""},{"$f":"TEXT(+'Cover Sheet'!C$22,\"yyyymmdd\")","v":"19000100"},14220,"--- na ---",{"$f":"IF(+CBM!H276=\"--- na ---\",\"--- na ---\",IF(ISERROR(TRUNC(+CBM!H276,4))=TRUE,\"\",TRUNC(+CBM!H276,4)))","v":0},"--- na ---",{"$f":"IF(ISERROR(TRUNC(+CBM!G276,4))=TRUE,\"\",TRUNC(+CBM!G276,4))","v":0},"--- na ---","--- na ---","--- na ---","--- na ---"]
["CMQNT_14220",{"$f":"+'Cover Sheet'!$C$24","v":0},"ENTITY_ID",{"$f":"+CBM!F277","v":""},{"$f":"TEXT(+'Cover Sheet'!C$22,\"yyyymmdd\")","v":"19000100"},14220,"--- na ---",{"$f":"IF(+CBM!H277=\"--- na ---\",\"--- na ---\",IF(ISERROR(TRUNC(+CBM!H277,4))=TRUE,\"\",TRUNC(+CBM!H277,4)))","v":0},"--- na ---",{"$f":"IF(ISERROR(TRUNC(+CBM!G277,4))=TRUE,\"\",TRUNC(+CBM!G277,4))","v":0},"--- na ---","--- na ---","--- na ---","--- na ---"]
["CMQNT_14220",{"$f":"+'Cover Sheet'!$C$24","v":0},"ENTITY_ID",{"$f":"+CBM!F278","v":""},{"$f":"TEXT(+'Cover Sheet'!C$22,\"yyyymmdd\")","v":"19000100"},14220,"--- na ---",{"$f":"IF(+CBM!H278=\"--- na ---\",\"--- na ---\",IF(ISERROR(TRUNC(+CBM!H278,4))=TRUE,\"\",TRUNC(+CBM!H278,4)))","v":0},"--- na ---",{"$f":"IF(ISERROR(TRUNC(+CBM!G278,4))=TRUE,\"\",TRUNC(+CBM!G278,4))","v":0},"--- na ---","--- na ---","--- na ---","--- na ---"]
["CMQNT_14220",{"$f":"+'Cover Sheet'!$C$24","v":0},"ENTITY_ID",{"$f":"+CBM!F279","v":""},{"$f":"TEXT(+'Cover Sheet'!C$22,\"yyyymmdd\")","v":"19000100"},14220,"--- na ---",{"$f":"IF(+CBM!H279=\"--- na ---\",\"--- na ---\",IF(ISERROR(TRUNC(+CBM!H279,4))=TRUE,\"\",TRUNC(+CBM!H279,4)))","v":0},"--- na ---",{"$f":"IF(ISERROR(TRUNC(+CBM!G279,4))=TRUE,\"\",TRUNC(+CBM!G279,4))","v":0},"--- na ---","--- na ---","--- na ---","--- na ---"]
["CMQNT_14220",{"$f":"+'Cover Sheet'!$C$24","v":0},"ENTITY_ID",{"$f":"+CBM!F280","v":""},{"$f":"TEXT(+'Cover Sheet'!C$22,\"yyyymmdd\")","v":"19000100"},14220,"--- na ---",{"$f":"IF(+CBM!H280=\"--- na ---\",\"--- na ---\",IF(ISERROR(TRUNC(+CBM!H280,4))=TRUE,\"\",TRUNC(+CBM!H280,4)))","v":0},"--- na ---",{"$f":"IF(ISERROR(TRUNC(+CBM!G280,4))=TRUE,\"\",TRUNC(+CBM!G280,4))","v":0},"--- na ---","--- na ---","--- na ---","--- na ---"]
["CMQNT_14220",{"$f":"+'Cover Sheet'!$C$24","v":0},"ENTITY_ID",{"$f":"+CBM!F281","v":""},{"$f":"TEXT(+'Cover Sheet'!C$22,\"yyyymmdd\")","v":"19000100"},14220,"--- na ---",{"$f":"IF(+CBM!H281=\"--- na ---\",\"--- na ---\",IF(ISERROR(TRUNC(+CBM!H281,4))=TRUE,\"\",TRUNC(+CBM!H281,4)))","v":0},"--- na ---",{"$f":"IF(ISERROR(TRUNC(+CBM!G281,4))=TRUE,\"\",TRUNC(+CBM!G281,4))","v":0},"--- na ---","--- na ---","--- na ---","--- na ---"]
["CMQNT_14220",{"$f":"+'Cover Sheet'!$C$24","v":0},"ENTITY_ID",{"$f":"+CBM!F282","v":""},{"$f":"TEXT(+'Cover Sheet'!C$22,\"yyyymmdd\")","v":"19000100"},14220,"--- na ---",{"$f":"IF(+CBM!H282=\"--- na ---\",\"--- na ---\",IF(ISERROR(TRUNC(+CBM!H282,4))=TRUE,\"\",TRUNC(+CBM!H282,4)))","v":0},"--- na ---",{"$f":"IF(ISERROR(TRUNC(+CBM!G282,4))=TRUE,\"\",TRUNC(+CBM!G282,4))","v":0},"--- na ---","--- na ---","--- na ---","--- na ---"]
["CMQNT_14220",{"$f":"+'Cover Sheet'!$C$24","v":0},"ENTITY_ID",{"$f":"+CBM!F283","v":""},{"$f":"TEXT(+'Cover Sheet'!C$22,\"yyyymmdd\")","v":"19000100"},14220,"--- na ---",{"$f":"IF(+CBM!H283=\"--- na ---\",\"--- na ---\",IF(ISERROR(TRUNC(+CBM!H283,4))=TRUE,\"\",TRUNC(+CBM!H283,4)))","v":0},"--- na ---",{"$f":"IF(ISERROR(TRUNC(+CBM!G283,4))=TRUE,\"\",TRUNC(+CBM!G283,4))","v":0},"--- na ---","--- na ---","--- na ---","--- na ---"]
["CMQNT_14220",{"$f":"+'Cover Sheet'!$C$24","v":0},"ENTITY_ID",{"$f":"+CBM!F284","v":""},{"$f":"TEXT(+'Cover Sheet'!C$22,\"yyyymmdd\")","v":"19000100"},14220,"--- na ---",{"$f":"IF(+CBM!H284=\"--- na ---\",\"--- na ---\",IF(ISERROR(TRUNC(+CBM!H284,4))=TRUE,\"\",TRUNC(+CBM!H284,4)))","v":0},"--- na ---",{"$f":"IF(ISERROR(TRUNC(+CBM!G284,4))=TRUE,\"\",TRUNC(+CBM!G284,4))","v":0},"--- na ---","--- na ---","--- na ---","--- na ---"]
["CMQNT_14220",{"$f":"+'Cover Sheet'!$C$24","v":0},"ENTITY_ID",{"$f":"+CBM!F285","v":""},{"$f":"TEXT(+'Cover Sheet'!C$22,\"yyyymmdd\")","v":"19000100"},14220,"--- na ---",{"$f":"IF(+CBM!H285=\"--- na ---\",\"--- na ---\",IF(ISERROR(TRUNC(+CBM!H285,4))=TRUE,\"\",TRUNC(+CBM!H285,4)))","v":0},"--- na ---",{"$f":"IF(ISERROR(TRUNC(+CBM!G285,4))=TRUE,\"\",TRUNC(+CBM!G285,4))","v":0},"--- na ---","--- na ---","--- na ---","--- na ---"]
["CMQNT_14220",{"$f":"+'Cover Sheet'!$C$24","v":0},"ENTITY_ID",{"$f":"+CBM!F286","v":""},{"$f":"TEXT(+'Cover Sheet'!C$22,\"yyyymmdd\")","v":"19000100"},14220,"--- na ---",{"$f":"IF(+CBM!H286=\"--- na ---\",\"--- na ---\",IF(ISERROR(TRUNC(+CBM!H286,4))=TRUE,\"\",TRUNC(+CBM!H286,4)))","v":0},"--- na ---",{"$f":"IF(ISERROR(TRUNC(+CBM!G286,4))=TRUE,\"\",TRUNC(+CBM!G286,4))","v":0},"--- na ---","--- na ---","--- na ---","--- na ---"]
["CMQNT_14220",{"$f":"+'Cover Sheet'!$C$24","v":0},"ENTITY_ID",{"$f":"+CBM!F287","v":""},{"$f":"TEXT(+'Cover Sheet'!C$22,\"yyyymmdd\")","v":"19000100"},14220,"--- na ---",{"$f":"IF(+CBM!H287=\"--- na ---\",\"--- na ---\",IF(ISERROR(TRUNC(+CBM!H287,4))=TRUE,\"\",TRUNC(+CBM!H287,4)))","v":0},"--- na ---",{"$f":"IF(ISERROR(TRUNC(+CBM!G287,4))=TRUE,\"\",TRUNC(+CBM!G287,4))","v":0},"--- na ---","--- na ---","--- na ---","--- na ---"]
["CMQNT_14220",{"$f":"+'Cover Sheet'!$C$24","v":0},"ENTITY_ID",{"$f":"+CBM!F288","v":""},{"$f":"TEXT(+'Cover Sheet'!C$22,\"yyyymmdd\")","v":"19000100"},14220,"--- na ---",{"$f":"IF(+CBM!H288=\"--- na ---\",\"--- na ---\",IF(ISERROR(TRUNC(+CBM!H288,4))=TRUE,\"\",TRUNC(+CBM!H288,4)))","v":0},"--- na ---",{"$f":"IF(ISERROR(TRUNC(+CBM!G288,4))=TRUE,\"\",TRUNC(+CBM!G288,4))","v":0},"--- na ---","--- na ---","--- na ---","--- na ---"]
["CMQNT_14220",{"$f":"+'Cover Sheet'!$C$24","v":0},"ENTITY_ID",{"$f":"+CBM!F289","v":""},{"$f":"TEXT(+'Cover Sheet'!C$22,\"yyyymmdd\")","v":"19000100"},14220,"--- na ---",{"$f":"IF(+CBM!H289=\"--- na ---\",\"--- na ---\",IF(ISERROR(TRUNC(+CBM!H289,4))=TRUE,\"\",TRUNC(+CBM!H289,4)))","v":0},"--- na ---",{"$f":"IF(ISERROR(TRUNC(+CBM!G289,4))=TRUE,\"\",TRUNC(+CBM!G289,4))","v":0},"--- na ---","--- na ---","--- na ---","--- na ---"]
["CMQNT_14230",{"$f":"+'Cover Sheet'!$C$24","v":0},"ENTITY_ID","W1",{"$f":"TEXT(+'Cover Sheet'!C$22,\"yyyymmdd\")","v":"19000100"},14230,"--- na ---","--- na ---","--- na ---","--- na ---","--- na ---","--- na ---",{"$f":"IF(ISERROR(TRUNC(+CBM!G291,4))=TRUE,\"\",TRUNC(+CBM!G291,4))","v":0},{"$f":"IF(ISERROR(TRUNC(+CBM!H291,4))=TRUE,\"\",TRUNC(+CBM!H291,4))","v":0}]
["CMQNT_14230",{"$f":"+'Cover Sheet'!$C$24","v":0},"ENTITY_ID",{"$f":"+CBM!F292","v":""},{"$f":"TEXT(+'Cover Sheet'!C$22,\"yyyymmdd\")","v":"19000100"},14230,"--- na ---","--- na ---","--- na ---","--- na ---","--- na ---","--- na ---",{"$f":"IF(ISERROR(TRUNC(+CBM!G292,4))=TRUE,\"\",TRUNC(+CBM!G292,4))","v":0},{"$f":"IF(ISERROR(TRUNC(+CBM!H292,4))=TRUE,\"\",TRUNC(+CBM!H292,4))","v":0}]
["CMQNT_14230",{"$f":"+'Cover Sheet'!$C$24","v":0},"ENTITY_ID",{"$f":"+CBM!F293","v":""},{"$f":"TEXT(+'Cover Sheet'!C$22,\"yyyymmdd\")","v":"19000100"},14230,"--- na ---","--- na ---","--- na ---","--- na ---","--- na ---","--- na ---",{"$f":"IF(ISERROR(TRUNC(+CBM!G293,4))=TRUE,\"\",TRUNC(+CBM!G293,4))","v":0},{"$f":"IF(ISERROR(TRUNC(+CBM!H293,4))=TRUE,\"\",TRUNC(+CBM!H293,4))","v":0}]
["CMQNT_14230",{"$f":"+'Cover Sheet'!$C$24","v":0},"ENTITY_ID",{"$f":"+CBM!F294","v":""},{"$f":"TEXT(+'Cover Sheet'!C$22,\"yyyymmdd\")","v":"19000100"},14230,"--- na ---","--- na ---","--- na ---","--- na ---","--- na ---","--- na ---",{"$f":"IF(ISERROR(TRUNC(+CBM!G294,4))=TRUE,\"\",TRUNC(+CBM!G294,4))","v":0},{"$f":"IF(ISERROR(TRUNC(+CBM!H294,4))=TRUE,\"\",TRUNC(+CBM!H294,4))","v":0}]
["CMQNT_14230",{"$f":"+'Cover Sheet'!$C$24","v":0},"ENTITY_ID",{"$f":"+CBM!F295","v":""},{"$f":"TEXT(+'Cover Sheet'!C$22,\"yyyymmdd\")","v":"19000100"},14230,"--- na ---","--- na ---","--- na ---","--- na ---","--- na ---","--- na ---",{"$f":"IF(ISERROR(TRUNC(+CBM!G295,4))=TRUE,\"\",TRUNC(+CBM!G295,4))","v":0},{"$f":"IF(ISERROR(TRUNC(+CBM!H295,4))=TRUE,\"\",TRUNC(+CBM!H295,4))","v":0}]
["CMQNT_14230",{"$f":"+'Cover Sheet'!$C$24","v":0},"ENTITY_ID",{"$f":"+CBM!F296","v":""},{"$f":"TEXT(+'Cover Sheet'!C$22,\"yyyymmdd\")","v":"19000100"},14230,"--- na ---","--- na ---","--- na ---","--- na ---","--- na ---","--- na ---",{"$f":"IF(ISERROR(TRUNC(+CBM!G296,4))=TRUE,\"\",TRUNC(+CBM!G296,4))","v":0},{"$f":"IF(ISERROR(TRUNC(+CBM!H296,4))=TRUE,\"\",TRUNC(+CBM!H296,4))","v":0}]
["CMQNT_14230",{"$f":"+'Cover Sheet'!$C$24","v":0},"ENTITY_ID",{"$f":"+CBM!F297","v":""},{"$f":"TEXT(+'Cover Sheet'!C$22,\"yyyymmdd\")","v":"19000100"},14230,"--- na ---","--- na ---","--- na ---","--- na ---","--- na ---","--- na ---",{"$f":"IF(ISERROR(TRUNC(+CBM!G297,4))=TRUE,\"\",TRUNC(+CBM!G297,4))","v":0},{"$f":"IF(ISERROR(TRUNC(+CBM!H297,4))=TRUE,\"\",TRUNC(+CBM!H297,4))","v":0}]
["CMQNT_14230",{"$f":"+'Cover Sheet'!$C$24","v":0},"ENTITY_ID",{"$f":"+CBM!F298","v":""},{"$f":"TEXT(+'Cover Sheet'!C$22,\"yyyymmdd\")","v":"19000100"},14230,"--- na ---","--- na ---","--- na ---","--- na ---","--- na ---","--- na ---",{"$f":"IF(ISERROR(TRUNC(+CBM!G298,4))=TRUE,\"\",TRUNC(+CBM!G298,4))","v":0},{"$f":"IF(ISERROR(TRUNC(+CBM!H298,4))=TRUE,\"\",TRUNC(+CBM!H298,4))","v":0}]
["CMQNT_14230",{"$f":"+'Cover Sheet'!$C$24","v":0},"ENTITY_ID",{"$f":"+CBM!F299","v":""},{"$f":"TEXT(+'Cover Sheet'!C$22,\"yyyymmdd\")","v":"19000100"},14230,"--- na ---","--- na ---","--- na ---","--- na ---","--- na ---","--- na ---",{"$f":"IF(ISERROR(TRUNC(+CBM!G299,4))=TRUE,\"\",TRUNC(+CBM!G299,4))","v":0},{"$f":"IF(ISERROR(TRUNC(+CBM!H299,4))=TRUE,\"\",TRUNC(+CBM!H299,4))","v":0}]
["CMQNT_14230",{"$f":"+'Cover Sheet'!$C$24","v":0},"ENTITY_ID",{"$f":"+CBM!F300","v":""},{"$f":"TEXT(+'Cover Sheet'!C$22,\"yyyymmdd\")","v":"19000100"},14230,"--- na ---","--- na ---","--- na ---","--- na ---","--- na ---","--- na ---",{"$f":"IF(ISERROR(TRUNC(+CBM!G300,4))=TRUE,\"\",TRUNC(+CBM!G300,4))","v":0},{"$f":"IF(ISERROR(TRUNC(+CBM!H300,4))=TRUE,\"\",TRUNC(+CBM!H300,4))","v":0}]
["CMQNT_14230",{"$f":"+'Cover Sheet'!$C$24","v":0},"ENTITY_ID",{"$f":"+CBM!F301","v":""},{"$f":"TEXT(+'Cover Sheet'!C$22,\"yyyymmdd\")","v":"19000100"},14230,"--- na ---","--- na ---","--- na ---","--- na ---","--- na ---","--- na ---",{"$f":"IF(ISERROR(TRUNC(+CBM!G301,4))=TRUE,\"\",TRUNC(+CBM!G301,4))","v":0},{"$f":"IF(ISERROR(TRUNC(+CBM!H301,4))=TRUE,\"\",TRUNC(+CBM!H301,4))","v":0}]
["CMQNT_14230",{"$f":"+'Cover Sheet'!$C$24","v":0},"ENTITY_ID",{"$f":"+CBM!F302","v":""},{"$f":"TEXT(+'Cover Sheet'!C$22,\"yyyymmdd\")","v":"19000100"},14230,"--- na ---","--- na ---","--- na ---","--- na ---","--- na ---","--- na ---",{"$f":"IF(ISERROR(TRUNC(+CBM!G302,4))=TRUE,\"\",TRUNC(+CBM!G302,4))","v":0},{"$f":"IF(ISERROR(TRUNC(+CBM!H302,4))=TRUE,\"\",TRUNC(+CBM!H302,4))","v":0}]
["CMQNT_14230",{"$f":"+'Cover Sheet'!$C$24","v":0},"ENTITY_ID",{"$f":"+CBM!F303","v":""},{"$f":"TEXT(+'Cover Sheet'!C$22,\"yyyymmdd\")","v":"19000100"},14230,"--- na ---","--- na ---","--- na ---","--- na ---","--- na ---","--- na ---",{"$f":"IF(ISERROR(TRUNC(+CBM!G303,4))=TRUE,\"\",TRUNC(+CBM!G303,4))","v":0},{"$f":"IF(ISERROR(TRUNC(+CBM!H303,4))=TRUE,\"\",TRUNC(+CBM!H303,4))","v":0}]
["CMQNT_14230",{"$f":"+'Cover Sheet'!$C$24","v":0},"ENTITY_ID",{"$f":"+CBM!F304","v":""},{"$f":"TEXT(+'Cover Sheet'!C$22,\"yyyymmdd\")","v":"19000100"},14230,"--- na ---","--- na ---","--- na ---","--- na ---","--- na ---","--- na ---",{"$f":"IF(ISERROR(TRUNC(+CBM!G304,4))=TRUE,\"\",TRUNC(+CBM!G304,4))","v":0},{"$f":"IF(ISERROR(TRUNC(+CBM!H304,4))=TRUE,\"\",TRUNC(+CBM!H304,4))","v":0}]
["CMQNT_14230",{"$f":"+'Cover Sheet'!$C$24","v":0},"ENTITY_ID",{"$f":"+CBM!F305","v":""},{"$f":"TEXT(+'Cover Sheet'!C$22,\"yyyymmdd\")","v":"19000100"},14230,"--- na ---","--- na ---","--- na ---","--- na ---","--- na ---","--- na ---",{"$f":"IF(ISERROR(TRUNC(+CBM!G305,4))=TRUE,\"\",TRUNC(+CBM!G305,4))","v":0},{"$f":"IF(ISERROR(TRUNC(+CBM!H305,4))=TRUE,\"\",TRUNC(+CBM!H305,4))","v":0}]
["CMQNT_14230",{"$f":"+'Cover Sheet'!$C$24","v":0},"ENTITY_ID",{"$f":"+CBM!F306","v":""},{"$f":"TEXT(+'Cover Sheet'!C$22,\"yyyymmdd\")","v":"19000100"},14230,"--- na ---","--- na ---","--- na ---","--- na ---","--- na ---","--- na ---",{"$f":"IF(ISERROR(TRUNC(+CBM!G306,4))=TRUE,\"\",TRUNC(+CBM!G306,4))","v":0},{"$f":"IF(ISERROR(TRUNC(+CBM!H306,4))=TRUE,\"\",TRUNC(+CBM!H306,4))","v":0}]
["CMQNT_14230",{"$f":"+'Cover Sheet'!$C$24","v":0},"ENTITY_ID",{"$f":"+CBM!F307","v":""},{"$f":"TEXT(+'Cover Sheet'!C$22,\"yyyymmdd\")","v":"19000100"},14230,"--- na ---","--- na ---","--- na ---","--- na ---","--- na ---","--- na ---",{"$f":"IF(ISERROR(TRUNC(+CBM!G307,4))=TRUE,\"\",TRUNC(+CBM!G307,4))","v":0},{"$f":"IF(ISERROR(TRUNC(+CBM!H307,4))=TRUE,\"\",TRUNC(+CBM!H307,4))","v":0}]
["CMQNT_14230",{"$f":"+'Cover Sheet'!$C$24","v":0},"ENTITY_ID",{"$f":"+CBM!F308","v":""},{"$f":"TEXT(+'Cover Sheet'!C$22,\"yyyymmdd\")","v":"19000100"},14230,"--- na ---","--- na ---","--- na ---","--- na ---","--- na ---","--- na ---",{"$f":"IF(ISERROR(TRUNC(+CBM!G308,4))=TRUE,\"\",TRUNC(+CBM!G308,4))","v":0},{"$f":"IF(ISERROR(TRUNC(+CBM!H308,4))=TRUE,\"\",TRUNC(+CBM!H308,4))","v":0}]
["CMQNT_14230",{"$f":"+'Cover Sheet'!$C$24","v":0},"ENTITY_ID",{"$f":"+CBM!F309","v":""},{"$f":"TEXT(+'Cover Sheet'!C$22,\"yyyymmdd\")","v":"19000100"},14230,"--- na ---","--- na ---","--- na ---","--- na ---","--- na ---","--- na ---",{"$f":"IF(ISERROR(TRUNC(+CBM!G309,4))=TRUE,\"\",TRUNC(+CBM!G309,4))","v":0},{"$f":"IF(ISERROR(TRUNC(+CBM!H309,4))=TRUE,\"\",TRUNC(+CBM!H309,4))","v":0}]
["CMQNT_14230",{"$f":"+'Cover Sheet'!$C$24","v":0},"ENTITY_ID",{"$f":"+CBM!F310","v":""},{"$f":"TEXT(+'Cover Sheet'!C$22,\"yyyymmdd\")","v":"19000100"},14230,"--- na ---","--- na ---","--- na ---","--- na ---","--- na ---","--- na ---",{"$f":"IF(ISERROR(TRUNC(+CBM!G310,4))=TRUE,\"\",TRUNC(+CBM!G310,4))","v":0},{"$f":"IF(ISERROR(TRUNC(+CBM!H310,4))=TRUE,\"\",TRUNC(+CBM!H310,4))","v":0}]
["CMQNT_14230",{"$f":"+'Cover Sheet'!$C$24","v":0},"ENTITY_ID",{"$f":"+CBM!F311","v":""},{"$f":"TEXT(+'Cover Sheet'!C$22,\"yyyymmdd\")","v":"19000100"},14230,"--- na ---","--- na ---","--- na ---","--- na ---","--- na ---","--- na ---",{"$f":"IF(ISERROR(TRUNC(+CBM!G311,4))=TRUE,\"\",TRUNC(+CBM!G311,4))","v":0},{"$f":"IF(ISERROR(TRUNC(+CBM!H311,4))=TRUE,\"\",TRUNC(+CBM!H311,4))","v":0}]
["CMQNT_14230",{"$f":"+'Cover Sheet'!$C$24","v":0},"ENTITY_ID",{"$f":"+CBM!F312","v":""},{"$f":"TEXT(+'Cover Sheet'!C$22,\"yyyymmdd\")","v":"19000100"},14230,"--- na ---","--- na ---","--- na ---","--- na ---","--- na ---","--- na ---",{"$f":"IF(ISERROR(TRUNC(+CBM!G312,4))=TRUE,\"\",TRUNC(+CBM!G312,4))","v":0},{"$f":"IF(ISERROR(TRUNC(+CBM!H312,4))=TRUE,\"\",TRUNC(+CBM!H312,4))","v":0}]
["CMQNT_14230",{"$f":"+'Cover Sheet'!$C$24","v":0},"ENTITY_ID",{"$f":"+CBM!F313","v":""},{"$f":"TEXT(+'Cover Sheet'!C$22,\"yyyymmdd\")","v":"19000100"},14230,"--- na ---","--- na ---","--- na ---","--- na ---","--- na ---","--- na ---",{"$f":"IF(ISERROR(TRUNC(+CBM!G313,4))=TRUE,\"\",TRUNC(+CBM!G313,4))","v":0},{"$f":"IF(ISERROR(TRUNC(+CBM!H313,4))=TRUE,\"\",TRUNC(+CBM!H313,4))","v":0}]
["CMQNT_14230",{"$f":"+'Cover Sheet'!$C$24","v":0},"ENTITY_ID",{"$f":"+CBM!F314","v":""},{"$f":"TEXT(+'Cover Sheet'!C$22,\"yyyymmdd\")","v":"19000100"},14230,"--- na ---","--- na ---","--- na ---","--- na ---","--- na ---","--- na ---",{"$f":"IF(ISERROR(TRUNC(+CBM!G314,4))=TRUE,\"\",TRUNC(+CBM!G314,4))","v":0},{"$f":"IF(ISERROR(TRUNC(+CBM!H314,4))=TRUE,\"\",TRUNC(+CBM!H314,4))","v":0}]
["CMQNT_14230",{"$f":"+'Cover Sheet'!$C$24","v":0},"ENTITY_ID",{"$f":"+CBM!F315","v":""},{"$f":"TEXT(+'Cover Sheet'!C$22,\"yyyymmdd\")","v":"19000100"},14230,"--- na ---","--- na ---","--- na ---","--- na ---","--- na ---","--- na ---",{"$f":"IF(ISERROR(TRUNC(+CBM!G315,4))=TRUE,\"\",TRUNC(+CBM!G315,4))","v":0},{"$f":"IF(ISERROR(TRUNC(+CBM!H315,4))=TRUE,\"\",TRUNC(+CBM!H315,4))","v":0}]
["CMQNT_14230",{"$f":"+'Cover Sheet'!$C$24","v":0},"ENTITY_ID",{"$f":"+CBM!F316","v":""},{"$f":"TEXT(+'Cover Sheet'!C$22,\"yyyymmdd\")","v":"19000100"},14230,"--- na ---","--- na ---","--- na ---","--- na ---","--- na ---","--- na ---",{"$f":"IF(ISERROR(TRUNC(+CBM!G316,4))=TRUE,\"\",TRUNC(+CBM!G316,4))","v":0},{"$f":"IF(ISERROR(TRUNC(+CBM!H316,4))=TRUE,\"\",TRUNC(+CBM!H316,4))","v":0}]
["CMQNT_14230",{"$f":"+'Cover Sheet'!$C$24","v":0},"ENTITY_ID",{"$f":"+CBM!F317","v":""},{"$f":"TEXT(+'Cover Sheet'!C$22,\"yyyymmdd\")","v":"19000100"},14230,"--- na ---","--- na ---","--- na ---","--- na ---","--- na ---","--- na ---",{"$f":"IF(ISERROR(TRUNC(+CBM!G317,4))=TRUE,\"\",TRUNC(+CBM!G317,4))","v":0},{"$f":"IF(ISERROR(TRUNC(+CBM!H317,4))=TRUE,\"\",TRUNC(+CBM!H317,4))","v":0}]
["CMQNT_14230",{"$f":"+'Cover Sheet'!$C$24","v":0},"ENTITY_ID",{"$f":"+CBM!F318","v":""},{"$f":"TEXT(+'Cover Sheet'!C$22,\"yyyymmdd\")","v":"19000100"},14230,"--- na ---","--- na ---","--- na ---","--- na ---","--- na ---","--- na ---",{"$f":"IF(ISERROR(TRUNC(+CBM!G318,4))=TRUE,\"\",TRUNC(+CBM!G318,4))","v":0},{"$f":"IF(ISERROR(TRUNC(+CBM!H318,4))=TRUE,\"\",TRUNC(+CBM!H318,4))","v":0}]
["CMQNT_14230",{"$f":"+'Cover Sheet'!$C$24","v":0},"ENTITY_ID",{"$f":"+CBM!F319","v":""},{"$f":"TEXT(+'Cover Sheet'!C$22,\"yyyymmdd\")","v":"19000100"},14230,"--- na ---","--- na ---","--- na ---","--- na ---","--- na ---","--- na ---",{"$f":"IF(ISERROR(TRUNC(+CBM!G319,4))=TRUE,\"\",TRUNC(+CBM!G319,4))","v":0},{"$f":"IF(ISERROR(TRUNC(+CBM!H319,4))=TRUE,\"\",TRUNC(+CBM!H319,4))","v":0}]
["CMQNT_14230",{"$f":"+'Cover Sheet'!$C$24","v":0},"ENTITY_ID",{"$f":"+CBM!F320","v":""},{"$f":"TEXT(+'Cover Sheet'!C$22,\"yyyymmdd\")","v":"19000100"},14230,"--- na ---","--- na ---","--- na ---","--- na ---","--- na ---","--- na ---",{"$f":"IF(ISERROR(TRUNC(+CBM!G320,4))=TRUE,\"\",TRUNC(+CBM!G320,4))","v":0},{"$f":"IF(ISERROR(TRUNC(+CBM!H320,4))=TRUE,\"\",TRUNC(+CBM!H320,4))","v":0}]
["CMQNT_14230",{"$f":"+'Cover Sheet'!$C$24","v":0},"ENTITY_ID",{"$f":"+CBM!F321","v":""},{"$f":"TEXT(+'Cover Sheet'!C$22,\"yyyymmdd\")","v":"19000100"},14230,"--- na ---","--- na ---","--- na ---","--- na ---","--- na ---","--- na ---",{"$f":"IF(ISERROR(TRUNC(+CBM!G321,4))=TRUE,\"\",TRUNC(+CBM!G321,4))","v":0},{"$f":"IF(ISERROR(TRUNC(+CBM!H321,4))=TRUE,\"\",TRUNC(+CBM!H321,4))","v":0}]
["CMQNT_14230",{"$f":"+'Cover Sheet'!$C$24","v":0},"ENTITY_ID",{"$f":"+CBM!F322","v":""},{"$f":"TEXT(+'Cover Sheet'!C$22,\"yyyymmdd\")","v":"19000100"},14230,"--- na ---","--- na ---","--- na ---","--- na ---","--- na ---","--- na ---",{"$f":"IF(ISERROR(TRUNC(+CBM!G322,4))=TRUE,\"\",TRUNC(+CBM!G322,4))","v":0},{"$f":"IF(ISERROR(TRUNC(+CBM!H322,4))=TRUE,\"\",TRUNC(+CBM!H322,4))","v":0}]
["CMQNT_14230",{"$f":"+'Cover Sheet'!$C$24","v":0},"ENTITY_ID",{"$f":"+CBM!F323","v":""},{"$f":"TEXT(+'Cover Sheet'!C$22,\"yyyymmdd\")","v":"19000100"},14230,"--- na ---","--- na ---","--- na ---","--- na ---","--- na ---","--- na ---",{"$f":"IF(ISERROR(TRUNC(+CBM!G323,4))=TRUE,\"\",TRUNC(+CBM!G323,4))","v":0},{"$f":"IF(ISERROR(TRUNC(+CBM!H323,4))=TRUE,\"\",TRUNC(+CBM!H323,4))","v":0}]
["CMQNT_14230",{"$f":"+'Cover Sheet'!$C$24","v":0},"ENTITY_ID",{"$f":"+CBM!F324","v":""},{"$f":"TEXT(+'Cover Sheet'!C$22,\"yyyymmdd\")","v":"19000100"},14230,"--- na ---","--- na ---","--- na ---","--- na ---","--- na ---","--- na ---",{"$f":"IF(ISERROR(TRUNC(+CBM!G324,4))=TRUE,\"\",TRUNC(+CBM!G324,4))","v":0},{"$f":"IF(ISERROR(TRUNC(+CBM!H324,4))=TRUE,\"\",TRUNC(+CBM!H324,4))","v":0}]
["CMQNT_14230",{"$f":"+'Cover Sheet'!$C$24","v":0},"ENTITY_ID",{"$f":"+CBM!F325","v":""},{"$f":"TEXT(+'Cover Sheet'!C$22,\"yyyymmdd\")","v":"19000100"},14230,"--- na ---","--- na ---","--- na ---","--- na ---","--- na ---","--- na ---",{"$f":"IF(ISERROR(TRUNC(+CBM!G325,4))=TRUE,\"\",TRUNC(+CBM!G325,4))","v":0},{"$f":"IF(ISERROR(TRUNC(+CBM!H325,4))=TRUE,\"\",TRUNC(+CBM!H325,4))","v":0}]
["CMQNT_14230",{"$f":"+'Cover Sheet'!$C$24","v":0},"ENTITY_ID",{"$f":"+CBM!F326","v":""},{"$f":"TEXT(+'Cover Sheet'!C$22,\"yyyymmdd\")","v":"19000100"},14230,"--- na ---","--- na ---","--- na ---","--- na ---","--- na ---","--- na ---",{"$f":"IF(ISERROR(TRUNC(+CBM!G326,4))=TRUE,\"\",TRUNC(+CBM!G326,4))","v":0},{"$f":"IF(ISERROR(TRUNC(+CBM!H326,4))=TRUE,\"\",TRUNC(+CBM!H326,4))","v":0}]
["CMQNT_14230",{"$f":"+'Cover Sheet'!$C$24","v":0},"ENTITY_ID",{"$f":"+CBM!F327","v":""},{"$f":"TEXT(+'Cover Sheet'!C$22,\"yyyymmdd\")","v":"19000100"},14230,"--- na ---","--- na ---","--- na ---","--- na ---","--- na ---","--- na ---",{"$f":"IF(ISERROR(TRUNC(+CBM!G327,4))=TRUE,\"\",TRUNC(+CBM!G327,4))","v":0},{"$f":"IF(ISERROR(TRUNC(+CBM!H327,4))=TRUE,\"\",TRUNC(+CBM!H327,4))","v":0}]
["CMQNT_14230",{"$f":"+'Cover Sheet'!$C$24","v":0},"ENTITY_ID",{"$f":"+CBM!F328","v":""},{"$f":"TEXT(+'Cover Sheet'!C$22,\"yyyymmdd\")","v":"19000100"},14230,"--- na ---","--- na ---","--- na ---","--- na ---","--- na ---","--- na ---",{"$f":"IF(ISERROR(TRUNC(+CBM!G328,4))=TRUE,\"\",TRUNC(+CBM!G328,4))","v":0},{"$f":"IF(ISERROR(TRUNC(+CBM!H328,4))=TRUE,\"\",TRUNC(+CBM!H328,4))","v":0}]
["CMQNT_14230",{"$f":"+'Cover Sheet'!$C$24","v":0},"ENTITY_ID",{"$f":"+CBM!F329","v":""},{"$f":"TEXT(+'Cover Sheet'!C$22,\"yyyymmdd\")","v":"19000100"},14230,"--- na ---","--- na ---","--- na ---","--- na ---","--- na ---","--- na ---",{"$f":"IF(ISERROR(TRUNC(+CBM!G329,4))=TRUE,\"\",TRUNC(+CBM!G329,4))","v":0},{"$f":"IF(ISERROR(TRUNC(+CBM!H329,4))=TRUE,\"\",TRUNC(+CBM!H329,4))","v":0}]
["CMQNT_14230",{"$f":"+'Cover Sheet'!$C$24","v":0},"ENTITY_ID",{"$f":"+CBM!F330","v":""},{"$f":"TEXT(+'Cover Sheet'!C$22,\"yyyymmdd\")","v":"19000100"},14230,"--- na ---","--- na ---","--- na ---","--- na ---","--- na ---","--- na ---",{"$f":"IF(ISERROR(TRUNC(+CBM!G330,4))=TRUE,\"\",TRUNC(+CBM!G330,4))","v":0},{"$f":"IF(ISERROR(TRUNC(+CBM!H330,4))=TRUE,\"\",TRUNC(+CBM!H330,4))","v":0}]
["CMQNT_14230",{"$f":"+'Cover Sheet'!$C$24","v":0},"ENTITY_ID",{"$f":"+CBM!F331","v":""},{"$f":"TEXT(+'Cover Sheet'!C$22,\"yyyymmdd\")","v":"19000100"},14230,"--- na ---","--- na ---","--- na ---","--- na ---","--- na ---","--- na ---",{"$f":"IF(ISERROR(TRUNC(+CBM!G331,4))=TRUE,\"\",TRUNC(+CBM!G331,4))","v":0},{"$f":"IF(ISERROR(TRUNC(+CBM!H331,4))=TRUE,\"\",TRUNC(+CBM!H331,4))","v":0}]
["CMQNT_14230",{"$f":"+'Cover Sheet'!$C$24","v":0},"ENTITY_ID",{"$f":"+CBM!F332","v":""},{"$f":"TEXT(+'Cover Sheet'!C$22,\"yyyymmdd\")","v":"19000100"},14230,"--- na ---","--- na ---","--- na ---","--- na ---","--- na ---","--- na ---",{"$f":"IF(ISERROR(TRUNC(+CBM!G332,4))=TRUE,\"\",TRUNC(+CBM!G332,4))","v":0},{"$f":"IF(ISERROR(TRUNC(+CBM!H332,4))=TRUE,\"\",TRUNC(+CBM!H332,4))","v":0}]
["CMQNT_14230",{"$f":"+'Cover Sheet'!$C$24","v":0},"ENTITY_ID",{"$f":"+CBM!F333","v":""},{"$f":"TEXT(+'Cover Sheet'!C$22,\"yyyymmdd\")","v":"19000100"},14230,"--- na ---","--- na ---","--- na ---","--- na ---","--- na ---","--- na ---",{"$f":"IF(ISERROR(TRUNC(+CBM!G333,4))=TRUE,\"\",TRUNC(+CBM!G333,4))","v":0},{"$f":"IF(ISERROR(TRUNC(+CBM!H333,4))=TRUE,\"\",TRUNC(+CBM!H333,4))","v":0}]
["CMQNT_14230",{"$f":"+'Cover Sheet'!$C$24","v":0},"ENTITY_ID",{"$f":"+CBM!F334","v":""},{"$f":"TEXT(+'Cover Sheet'!C$22,\"yyyymmdd\")","v":"19000100"},14230,"--- na ---","--- na ---","--- na ---","--- na ---","--- na ---","--- na ---",{"$f":"IF(ISERROR(TRUNC(+CBM!G334,4))=TRUE,\"\",TRUNC(+CBM!G334,4))","v":0},{"$f":"IF(ISERROR(TRUNC(+CBM!H334,4))=TRUE,\"\",TRUNC(+CBM!H334,4))","v":0}]
["CMQNT_14230",{"$f":"+'Cover Sheet'!$C$24","v":0},"ENTITY_ID",{"$f":"+CBM!F335","v":""},{"$f":"TEXT(+'Cover Sheet'!C$22,\"yyyymmdd\")","v":"19000100"},14230,"--- na ---","--- na ---","--- na ---","--- na ---","--- na ---","--- na ---",{"$f":"IF(ISERROR(TRUNC(+CBM!G335,4))=TRUE,\"\",TRUNC(+CBM!G335,4))","v":0},{"$f":"IF(ISERROR(TRUNC(+CBM!H335,4))=TRUE,\"\",TRUNC(+CBM!H335,4))","v":0}]
["CMQNT_14240",{"$f":"+'Cover Sheet'!$C$24","v":0},"ENTITY_ID","W1",{"$f":"TEXT(+'Cover Sheet'!C$22,\"yyyymmdd\")","v":"19000100"},14240,"--- na ---","--- na ---","--- na ---","--- na ---","--- na ---","--- na ---",{"$f":"IF(ISERROR(TRUNC(+CBM!G336,4))=TRUE,\"\",TRUNC(+CBM!G336,4))","v":0},{"$f":"IF(ISERROR(TRUNC(+CBM!H336,4))=TRUE,\"\",TRUNC(+CBM!H336,4))","v":0}]
["CMQNT_14240",{"$f":"+'Cover Sheet'!$C$24","v":0},"ENTITY_ID",{"$f":"+CBM!F337","v":""},{"$f":"TEXT(+'Cover Sheet'!C$22,\"yyyymmdd\")","v":"19000100"},14240,"--- na ---","--- na ---","--- na ---","--- na ---","--- na ---","--- na ---",{"$f":"IF(ISERROR(TRUNC(+CBM!G337,4))=TRUE,\"\",TRUNC(+CBM!G337,4))","v":0},{"$f":"IF(ISERROR(TRUNC(+CBM!H337,4))=TRUE,\"\",TRUNC(+CBM!H337,4))","v":0}]
["CMQNT_14240",{"$f":"+'Cover Sheet'!$C$24","v":0},"ENTITY_ID",{"$f":"+CBM!F338","v":""},{"$f":"TEXT(+'Cover Sheet'!C$22,\"yyyymmdd\")","v":"19000100"},14240,"--- na ---","--- na ---","--- na ---","--- na ---","--- na ---","--- na ---",{"$f":"IF(ISERROR(TRUNC(+CBM!G338,4))=TRUE,\"\",TRUNC(+CBM!G338,4))","v":0},{"$f":"IF(ISERROR(TRUNC(+CBM!H338,4))=TRUE,\"\",TRUNC(+CBM!H338,4))","v":0}]
["CMQNT_14240",{"$f":"+'Cover Sheet'!$C$24","v":0},"ENTITY_ID",{"$f":"+CBM!F339","v":""},{"$f":"TEXT(+'Cover Sheet'!C$22,\"yyyymmdd\")","v":"19000100"},14240,"--- na ---","--- na ---","--- na ---","--- na ---","--- na ---","--- na ---",{"$f":"IF(ISERROR(TRUNC(+CBM!G339,4))=TRUE,\"\",TRUNC(+CBM!G339,4))","v":0},{"$f":"IF(ISERROR(TRUNC(+CBM!H339,4))=TRUE,\"\",TRUNC(+CBM!H339,4))","v":0}]
["CMQNT_14240",{"$f":"+'Cover Sheet'!$C$24","v":0},"ENTITY_ID",{"$f":"+CBM!F340","v":""},{"$f":"TEXT(+'Cover Sheet'!C$22,\"yyyymmdd\")","v":"19000100"},14240,"--- na ---","--- na ---","--- na ---","--- na ---","--- na ---","--- na ---",{"$f":"IF(ISERROR(TRUNC(+CBM!G340,4))=TRUE,\"\",TRUNC(+CBM!G340,4))","v":0},{"$f":"IF(ISERROR(TRUNC(+CBM!H340,4))=TRUE,\"\",TRUNC(+CBM!H340,4))","v":0}]
["CMQNT_14240",{"$f":"+'Cover Sheet'!$C$24","v":0},"ENTITY_ID",{"$f":"+CBM!F341","v":""},{"$f":"TEXT(+'Cover Sheet'!C$22,\"yyyymmdd\")","v":"19000100"},14240,"--- na ---","--- na ---","--- na ---","--- na ---","--- na ---","--- na ---",{"$f":"IF(ISERROR(TRUNC(+CBM!G341,4))=TRUE,\"\",TRUNC(+CBM!G341,4))","v":0},{"$f":"IF(ISERROR(TRUNC(+CBM!H341,4))=TRUE,\"\",TRUNC(+CBM!H341,4))","v":0}]
["CMQNT_14240",{"$f":"+'Cover Sheet'!$C$24","v":0},"ENTITY_ID",{"$f":"+CBM!F342","v":""},{"$f":"TEXT(+'Cover Sheet'!C$22,\"yyyymmdd\")","v":"19000100"},14240,"--- na ---","--- na ---","--- na ---","--- na ---","--- na ---","--- na ---",{"$f":"IF(ISERROR(TRUNC(+CBM!G342,4))=TRUE,\"\",TRUNC(+CBM!G342,4))","v":0},{"$f":"IF(ISERROR(TRUNC(+CBM!H342,4))=TRUE,\"\",TRUNC(+CBM!H342,4))","v":0}]
["CMQNT_14240",{"$f":"+'Cover Sheet'!$C$24","v":0},"ENTITY_ID",{"$f":"+CBM!F343","v":""},{"$f":"TEXT(+'Cover Sheet'!C$22,\"yyyymmdd\")","v":"19000100"},14240,"--- na ---","--- na ---","--- na ---","--- na ---","--- na ---","--- na ---",{"$f":"IF(ISERROR(TRUNC(+CBM!G343,4))=TRUE,\"\",TRUNC(+CBM!G343,4))","v":0},{"$f":"IF(ISERROR(TRUNC(+CBM!H343,4))=TRUE,\"\",TRUNC(+CBM!H343,4))","v":0}]
["CMQNT_14240",{"$f":"+'Cover Sheet'!$C$24","v":0},"ENTITY_ID",{"$f":"+CBM!F344","v":""},{"$f":"TEXT(+'Cover Sheet'!C$22,\"yyyymmdd\")","v":"19000100"},14240,"--- na ---","--- na ---","--- na ---","--- na ---","--- na ---","--- na ---",{"$f":"IF(ISERROR(TRUNC(+CBM!G344,4))=TRUE,\"\",TRUNC(+CBM!G344,4))","v":0},{"$f":"IF(ISERROR(TRUNC(+CBM!H344,4))=TRUE,\"\",TRUNC(+CBM!H344,4))","v":0}]
["CMQNT_14240",{"$f":"+'Cover Sheet'!$C$24","v":0},"ENTITY_ID",{"$f":"+CBM!F345","v":""},{"$f":"TEXT(+'Cover Sheet'!C$22,\"yyyymmdd\")","v":"19000100"},14240,"--- na ---","--- na ---","--- na ---","--- na ---","--- na ---","--- na ---",{"$f":"IF(ISERROR(TRUNC(+CBM!G345,4))=TRUE,\"\",TRUNC(+CBM!G345,4))","v":0},{"$f":"IF(ISERROR(TRUNC(+CBM!H345,4))=TRUE,\"\",TRUNC(+CBM!H345,4))","v":0}]
["CMQNT_14240",{"$f":"+'Cover Sheet'!$C$24","v":0},"ENTITY_ID",{"$f":"+CBM!F346","v":""},{"$f":"TEXT(+'Cover Sheet'!C$22,\"yyyymmdd\")","v":"19000100"},14240,"--- na ---","--- na ---","--- na ---","--- na ---","--- na ---","--- na ---",{"$f":"IF(ISERROR(TRUNC(+CBM!G346,4))=TRUE,\"\",TRUNC(+CBM!G346,4))","v":0},{"$f":"IF(ISERROR(TRUNC(+CBM!H346,4))=TRUE,\"\",TRUNC(+CBM!H346,4))","v":0}]
["CMQNT_14240",{"$f":"+'Cover Sheet'!$C$24","v":0},"ENTITY_ID",{"$f":"+CBM!F347","v":""},{"$f":"TEXT(+'Cover Sheet'!C$22,\"yyyymmdd\")","v":"19000100"},14240,"--- na ---","--- na ---","--- na ---","--- na ---","--- na ---","--- na ---",{"$f":"IF(ISERROR(TRUNC(+CBM!G347,4))=TRUE,\"\",TRUNC(+CBM!G347,4))","v":0},{"$f":"IF(ISERROR(TRUNC(+CBM!H347,4))=TRUE,\"\",TRUNC(+CBM!H347,4))","v":0}]
["CMQNT_14240",{"$f":"+'Cover Sheet'!$C$24","v":0},"ENTITY_ID",{"$f":"+CBM!F348","v":""},{"$f":"TEXT(+'Cover Sheet'!C$22,\"yyyymmdd\")","v":"19000100"},14240,"--- na ---","--- na ---","--- na ---","--- na ---","--- na ---","--- na ---",{"$f":"IF(ISERROR(TRUNC(+CBM!G348,4))=TRUE,\"\",TRUNC(+CBM!G348,4))","v":0},{"$f":"IF(ISERROR(TRUNC(+CBM!H348,4))=TRUE,\"\",TRUNC(+CBM!H348,4))","v":0}]
["CMQNT_14240",{"$f":"+'Cover Sheet'!$C$24","v":0},"ENTITY_ID",{"$f":"+CBM!F349","v":""},{"$f":"TEXT(+'Cover Sheet'!C$22,\"yyyymmdd\")","v":"19000100"},14240,"--- na ---","--- na ---","--- na ---","--- na ---","--- na ---","--- na ---",{"$f":"IF(ISERROR(TRUNC(+CBM!G349,4))=TRUE,\"\",TRUNC(+CBM!G349,4))","v":0},{"$f":"IF(ISERROR(TRUNC(+CBM!H349,4))=TRUE,\"\",TRUNC(+CBM!H349,4))","v":0}]
["CMQNT_14240",{"$f":"+'Cover Sheet'!$C$24","v":0},"ENTITY_ID",{"$f":"+CBM!F350","v":""},{"$f":"TEXT(+'Cover Sheet'!C$22,\"yyyymmdd\")","v":"19000100"},14240,"--- na ---","--- na ---","--- na ---","--- na ---","--- na ---","--- na ---",{"$f":"IF(ISERROR(TRUNC(+CBM!G350,4))=TRUE,\"\",TRUNC(+CBM!G350,4))","v":0},{"$f":"IF(ISERROR(TRUNC(+CBM!H350,4))=TRUE,\"\",TRUNC(+CBM!H350,4))","v":0}]
["CMQNT_14240",{"$f":"+'Cover Sheet'!$C$24","v":0},"ENTITY_ID",{"$f":"+CBM!F351","v":""},{"$f":"TEXT(+'Cover Sheet'!C$22,\"yyyymmdd\")","v":"19000100"},14240,"--- na ---","--- na ---","--- na ---","--- na ---","--- na ---","--- na ---",{"$f":"IF(ISERROR(TRUNC(+CBM!G351,4))=TRUE,\"\",TRUNC(+CBM!G351,4))","v":0},{"$f":"IF(ISERROR(TRUNC(+CBM!H351,4))=TRUE,\"\",TRUNC(+CBM!H351,4))","v":0}]
["CMQNT_14240",{"$f":"+'Cover Sheet'!$C$24","v":0},"ENTITY_ID",{"$f":"+CBM!F352","v":""},{"$f":"TEXT(+'Cover Sheet'!C$22,\"yyyymmdd\")","v":"19000100"},14240,"--- na ---","--- na ---","--- na ---","--- na ---","--- na ---","--- na ---",{"$f":"IF(ISERROR(TRUNC(+CBM!G352,4))=TRUE,\"\",TRUNC(+CBM!G352,4))","v":0},{"$f":"IF(ISERROR(TRUNC(+CBM!H352,4))=TRUE,\"\",TRUNC(+CBM!H352,4))","v":0}]
["CMQNT_14240",{"$f":"+'Cover Sheet'!$C$24","v":0},"ENTITY_ID",{"$f":"+CBM!F353","v":""},{"$f":"TEXT(+'Cover Sheet'!C$22,\"yyyymmdd\")","v":"19000100"},14240,"--- na ---","--- na ---","--- na ---","--- na ---","--- na ---","--- na ---",{"$f":"IF(ISERROR(TRUNC(+CBM!G353,4))=TRUE,\"\",TRUNC(+CBM!G353,4))","v":0},{"$f":"IF(ISERROR(TRUNC(+CBM!H353,4))=TRUE,\"\",TRUNC(+CBM!H353,4))","v":0}]
["CMQNT_14240",{"$f":"+'Cover Sheet'!$C$24","v":0},"ENTITY_ID",{"$f":"+CBM!F354","v":""},{"$f":"TEXT(+'Cover Sheet'!C$22,\"yyyymmdd\")","v":"19000100"},14240,"--- na ---","--- na ---","--- na ---","--- na ---","--- na ---","--- na ---",{"$f":"IF(ISERROR(TRUNC(+CBM!G354,4))=TRUE,\"\",TRUNC(+CBM!G354,4))","v":0},{"$f":"IF(ISERROR(TRUNC(+CBM!H354,4))=TRUE,\"\",TRUNC(+CBM!H354,4))","v":0}]
["CMQNT_14240",{"$f":"+'Cover Sheet'!$C$24","v":0},"ENTITY_ID",{"$f":"+CBM!F355","v":""},{"$f":"TEXT(+'Cover Sheet'!C$22,\"yyyymmdd\")","v":"19000100"},14240,"--- na ---","--- na ---","--- na ---","--- na ---","--- na ---","--- na ---",{"$f":"IF(ISERROR(TRUNC(+CBM!G355,4))=TRUE,\"\",TRUNC(+CBM!G355,4))","v":0},{"$f":"IF(ISERROR(TRUNC(+CBM!H355,4))=TRUE,\"\",TRUNC(+CBM!H355,4))","v":0}]
["CMQNT_14240",{"$f":"+'Cover Sheet'!$C$24","v":0},"ENTITY_ID",{"$f":"+CBM!F356","v":""},{"$f":"TEXT(+'Cover Sheet'!C$22,\"yyyymmdd\")","v":"19000100"},14240,"--- na ---","--- na ---","--- na ---","--- na ---","--- na ---","--- na ---",{"$f":"IF(ISERROR(TRUNC(+CBM!G356,4))=TRUE,\"\",TRUNC(+CBM!G356,4))","v":0},{"$f":"IF(ISERROR(TRUNC(+CBM!H356,4))=TRUE,\"\",TRUNC(+CBM!H356,4))","v":0}]
["CMQNT_14240",{"$f":"+'Cover Sheet'!$C$24","v":0},"ENTITY_ID",{"$f":"+CBM!F357","v":""},{"$f":"TEXT(+'Cover Sheet'!C$22,\"yyyymmdd\")","v":"19000100"},14240,"--- na ---","--- na ---","--- na ---","--- na ---","--- na ---","--- na ---",{"$f":"IF(ISERROR(TRUNC(+CBM!G357,4))=TRUE,\"\",TRUNC(+CBM!G357,4))","v":0},{"$f":"IF(ISERROR(TRUNC(+CBM!H357,4))=TRUE,\"\",TRUNC(+CBM!H357,4))","v":0}]
["CMQNT_14240",{"$f":"+'Cover Sheet'!$C$24","v":0},"ENTITY_ID",{"$f":"+CBM!F358","v":""},{"$f":"TEXT(+'Cover Sheet'!C$22,\"yyyymmdd\")","v":"19000100"},14240,"--- na ---","--- na ---","--- na ---","--- na ---","--- na ---","--- na ---",{"$f":"IF(ISERROR(TRUNC(+CBM!G358,4))=TRUE,\"\",TRUNC(+CBM!G358,4))","v":0},{"$f":"IF(ISERROR(TRUNC(+CBM!H358,4))=TRUE,\"\",TRUNC(+CBM!H358,4))","v":0}]
["CMQNT_14240",{"$f":"+'Cover Sheet'!$C$24","v":0},"ENTITY_ID",{"$f":"+CBM!F359","v":""},{"$f":"TEXT(+'Cover Sheet'!C$22,\"yyyymmdd\")","v":"19000100"},14240,"--- na ---","--- na ---","--- na ---","--- na ---","--- na ---","--- na ---",{"$f":"IF(ISERROR(TRUNC(+CBM!G359,4))=TRUE,\"\",TRUNC(+CBM!G359,4))","v":0},{"$f":"IF(ISERROR(TRUNC(+CBM!H359,4))=TRUE,\"\",TRUNC(+CBM!H359,4))","v":0}]
["CMQNT_14240",{"$f":"+'Cover Sheet'!$C$24","v":0},"ENTITY_ID",{"$f":"+CBM!F360","v":""},{"$f":"TEXT(+'Cover Sheet'!C$22,\"yyyymmdd\")","v":"19000100"},14240,"--- na ---","--- na ---","--- na ---","--- na ---","--- na ---","--- na ---",{"$f":"IF(ISERROR(TRUNC(+CBM!G360,4))=TRUE,\"\",TRUNC(+CBM!G360,4))","v":0},{"$f":"IF(ISERROR(TRUNC(+CBM!H360,4))=TRUE,\"\",TRUNC(+CBM!H360,4))","v":0}]
["CMQNT_14240",{"$f":"+'Cover Sheet'!$C$24","v":0},"ENTITY_ID",{"$f":"+CBM!F361","v":""},{"$f":"TEXT(+'Cover Sheet'!C$22,\"yyyymmdd\")","v":"19000100"},14240,"--- na ---","--- na ---","--- na ---","--- na ---","--- na ---","--- na ---",{"$f":"IF(ISERROR(TRUNC(+CBM!G361,4))=TRUE,\"\",TRUNC(+CBM!G361,4))","v":0},{"$f":"IF(ISERROR(TRUNC(+CBM!H361,4))=TRUE,\"\",TRUNC(+CBM!H361,4))","v":0}]
["CMQNT_14240",{"$f":"+'Cover Sheet'!$C$24","v":0},"ENTITY_ID",{"$f":"+CBM!F362","v":""},{"$f":"TEXT(+'Cover Sheet'!C$22,\"yyyymmdd\")","v":"19000100"},14240,"--- na ---","--- na ---","--- na ---","--- na ---","--- na ---","--- na ---",{"$f":"IF(ISERROR(TRUNC(+CBM!G362,4))=TRUE,\"\",TRUNC(+CBM!G362,4))","v":0},{"$f":"IF(ISERROR(TRUNC(+CBM!H362,4))=TRUE,\"\",TRUNC(+CBM!H362,4))","v":0}]
["CMQNT_14240",{"$f":"+'Cover Sheet'!$C$24","v":0},"ENTITY_ID",{"$f":"+CBM!F363","v":""},{"$f":"TEXT(+'Cover Sheet'!C$22,\"yyyymmdd\")","v":"19000100"},14240,"--- na ---","--- na ---","--- na ---","--- na ---","--- na ---","--- na ---",{"$f":"IF(ISERROR(TRUNC(+CBM!G363,4))=TRUE,\"\",TRUNC(+CBM!G363,4))","v":0},{"$f":"IF(ISERROR(TRUNC(+CBM!H363,4))=TRUE,\"\",TRUNC(+CBM!H363,4))","v":0}]
["CMQNT_14240",{"$f":"+'Cover Sheet'!$C$24","v":0},"ENTITY_ID",{"$f":"+CBM!F364","v":""},{"$f":"TEXT(+'Cover Sheet'!C$22,\"yyyymmdd\")","v":"19000100"},14240,"--- na ---","--- na ---","--- na ---","--- na ---","--- na ---","--- na ---",{"$f":"IF(ISERROR(TRUNC(+CBM!G364,4))=TRUE,\"\",TRUNC(+CBM!G364,4))","v":0},{"$f":"IF(ISERROR(TRUNC(+CBM!H364,4))=TRUE,\"\",TRUNC(+CBM!H364,4))","v":0}]
["CMQNT_14240",{"$f":"+'Cover Sheet'!$C$24","v":0},"ENTITY_ID",{"$f":"+CBM!F365","v":""},{"$f":"TEXT(+'Cover Sheet'!C$22,\"yyyymmdd\")","v":"19000100"},14240,"--- na ---","--- na ---","--- na ---","--- na ---","--- na ---","--- na ---",{"$f":"IF(ISERROR(TRUNC(+CBM!G365,4))=TRUE,\"\",TRUNC(+CBM!G365,4))","v":0},{"$f":"IF(ISERROR(TRUNC(+CBM!H365,4))=TRUE,\"\",TRUNC(+CBM!H365,4))","v":0}]
["CMQNT_14240",{"$f":"+'Cover Sheet'!$C$24","v":0},"ENTITY_ID",{"$f":"+CBM!F366","v":""},{"$f":"TEXT(+'Cover Sheet'!C$22,\"yyyymmdd\")","v":"19000100"},14240,"--- na ---","--- na ---","--- na ---","--- na ---","--- na ---","--- na ---",{"$f":"IF(ISERROR(TRUNC(+CBM!G366,4))=TRUE,\"\",TRUNC(+CBM!G366,4))","v":0},{"$f":"IF(ISERROR(TRUNC(+CBM!H366,4))=TRUE,\"\",TRUNC(+CBM!H366,4))","v":0}]
["CMQNT_14240",{"$f":"+'Cover Sheet'!$C$24","v":0},"ENTITY_ID",{"$f":"+CBM!F367","v":""},{"$f":"TEXT(+'Cover Sheet'!C$22,\"yyyymmdd\")","v":"19000100"},14240,"--- na ---","--- na ---","--- na ---","--- na ---","--- na ---","--- na ---",{"$f":"IF(ISERROR(TRUNC(+CBM!G367,4))=TRUE,\"\",TRUNC(+CBM!G367,4))","v":0},{"$f":"IF(ISERROR(TRUNC(+CBM!H367,4))=TRUE,\"\",TRUNC(+CBM!H367,4))","v":0}]
["CMQNT_14240",{"$f":"+'Cover Sheet'!$C$24","v":0},"ENTITY_ID",{"$f":"+CBM!F368","v":""},{"$f":"TEXT(+'Cover Sheet'!C$22,\"yyyymmdd\")","v":"19000100"},14240,"--- na ---","--- na ---","--- na ---","--- na ---","--- na ---","--- na ---",{"$f":"IF(ISERROR(TRUNC(+CBM!G368,4))=TRUE,\"\",TRUNC(+CBM!G368,4))","v":0},{"$f":"IF(ISERROR(TRUNC(+CBM!H368,4))=TRUE,\"\",TRUNC(+CBM!H368,4))","v":0}]
["CMQNT_14240",{"$f":"+'Cover Sheet'!$C$24","v":0},"ENTITY_ID",{"$f":"+CBM!F369","v":""},{"$f":"TEXT(+'Cover Sheet'!C$22,\"yyyymmdd\")","v":"19000100"},14240,"--- na ---","--- na ---","--- na ---","--- na ---","--- na ---","--- na ---",{"$f":"IF(ISERROR(TRUNC(+CBM!G369,4))=TRUE,\"\",TRUNC(+CBM!G369,4))","v":0},{"$f":"IF(ISERROR(TRUNC(+CBM!H369,4))=TRUE,\"\",TRUNC(+CBM!H369,4))","v":0}]
["CMQNT_14240",{"$f":"+'Cover Sheet'!$C$24","v":0},"ENTITY_ID",{"$f":"+CBM!F370","v":""},{"$f":"TEXT(+'Cover Sheet'!C$22,\"yyyymmdd\")","v":"19000100"},14240,"--- na ---","--- na ---","--- na ---","--- na ---","--- na ---","--- na ---",{"$f":"IF(ISERROR(TRUNC(+CBM!G370,4))=TRUE,\"\",TRUNC(+CBM!G370,4))","v":0},{"$f":"IF(ISERROR(TRUNC(+CBM!H370,4))=TRUE,\"\",TRUNC(+CBM!H370,4))","v":0}]
["CMQNT_14240",{"$f":"+'Cover Sheet'!$C$24","v":0},"ENTITY_ID",{"$f":"+CBM!F371","v":""},{"$f":"TEXT(+'Cover Sheet'!C$22,\"yyyymmdd\")","v":"19000100"},14240,"--- na ---","--- na ---","--- na ---","--- na ---","--- na ---","--- na ---",{"$f":"IF(ISERROR(TRUNC(+CBM!G371,4))=TRUE,\"\",TRUNC(+CBM!G371,4))","v":0},{"$f":"IF(ISERROR(TRUNC(+CBM!H371,4))=TRUE,\"\",TRUNC(+CBM!H371,4))","v":0}]
["CMQNT_14240",{"$f":"+'Cover Sheet'!$C$24","v":0},"ENTITY_ID",{"$f":"+CBM!F372","v":""},{"$f":"TEXT(+'Cover Sheet'!C$22,\"yyyymmdd\")","v":"19000100"},14240,"--- na ---","--- na ---","--- na ---","--- na ---","--- na ---","--- na ---",{"$f":"IF(ISERROR(TRUNC(+CBM!G372,4))=TRUE,\"\",TRUNC(+CBM!G372,4))","v":0},{"$f":"IF(ISERROR(TRUNC(+CBM!H372,4))=TRUE,\"\",TRUNC(+CBM!H372,4))","v":0}]
["CMQNT_14240",{"$f":"+'Cover Sheet'!$C$24","v":0},"ENTITY_ID",{"$f":"+CBM!F373","v":""},{"$f":"TEXT(+'Cover Sheet'!C$22,\"yyyymmdd\")","v":"19000100"},14240,"--- na ---","--- na ---","--- na ---","--- na ---","--- na ---","--- na ---",{"$f":"IF(ISERROR(TRUNC(+CBM!G373,4))=TRUE,\"\",TRUNC(+CBM!G373,4))","v":0},{"$f":"IF(ISERROR(TRUNC(+CBM!H373,4))=TRUE,\"\",TRUNC(+CBM!H373,4))","v":0}]
["CMQNT_14240",{"$f":"+'Cover Sheet'!$C$24","v":0},"ENTITY_ID",{"$f":"+CBM!F374","v":""},{"$f":"TEXT(+'Cover Sheet'!C$22,\"yyyymmdd\")","v":"19000100"},14240,"--- na ---","--- na ---","--- na ---","--- na ---","--- na ---","--- na ---",{"$f":"IF(ISERROR(TRUNC(+CBM!G374,4))=TRUE,\"\",TRUNC(+CBM!G374,4))","v":0},{"$f":"IF(ISERROR(TRUNC(+CBM!H374,4))=TRUE,\"\",TRUNC(+CBM!H374,4))","v":0}]
["CMQNT_14240",{"$f":"+'Cover Sheet'!$C$24","v":0},"ENTITY_ID",{"$f":"+CBM!F375","v":""},{"$f":"TEXT(+'Cover Sheet'!C$22,\"yyyymmdd\")","v":"19000100"},14240,"--- na ---","--- na ---","--- na ---","--- na ---","--- na ---","--- na ---",{"$f":"IF(ISERROR(TRUNC(+CBM!G375,4))=TRUE,\"\",TRUNC(+CBM!G375,4))","v":0},{"$f":"IF(ISERROR(TRUNC(+CBM!H375,4))=TRUE,\"\",TRUNC(+CBM!H375,4))","v":0}]
["CMQNT_14240",{"$f":"+'Cover Sheet'!$C$24","v":0},"ENTITY_ID",{"$f":"+CBM!F376","v":""},{"$f":"TEXT(+'Cover Sheet'!C$22,\"yyyymmdd\")","v":"19000100"},14240,"--- na ---","--- na ---","--- na ---","--- na ---","--- na ---","--- na ---",{"$f":"IF(ISERROR(TRUNC(+CBM!G376,4))=TRUE,\"\",TRUNC(+CBM!G376,4))","v":0},{"$f":"IF(ISERROR(TRUNC(+CBM!H376,4))=TRUE,\"\",TRUNC(+CBM!H376,4))","v":0}]
["CMQNT_14240",{"$f":"+'Cover Sheet'!$C$24","v":0},"ENTITY_ID",{"$f":"+CBM!F377","v":""},{"$f":"TEXT(+'Cover Sheet'!C$22,\"yyyymmdd\")","v":"19000100"},14240,"--- na ---","--- na ---","--- na ---","--- na ---","--- na ---","--- na ---",{"$f":"IF(ISERROR(TRUNC(+CBM!G377,4))=TRUE,\"\",TRUNC(+CBM!G377,4))","v":0},{"$f":"IF(ISERROR(TRUNC(+CBM!H377,4))=TRUE,\"\",TRUNC(+CBM!H377,4))","v":0}]
["CMQNT_14240",{"$f":"+'Cover Sheet'!$C$24","v":0},"ENTITY_ID",{"$f":"+CBM!F378","v":""},{"$f":"TEXT(+'Cover Sheet'!C$22,\"yyyymmdd\")","v":"19000100"},14240,"--- na ---","--- na ---","--- na ---","--- na ---","--- na ---","--- na ---",{"$f":"IF(ISERROR(TRUNC(+CBM!G378,4))=TRUE,\"\",TRUNC(+CBM!G378,4))","v":0},{"$f":"IF(ISERROR(TRUNC(+CBM!H378,4))=TRUE,\"\",TRUNC(+CBM!H378,4))","v":0}]
["CMQNT_14240",{"$f":"+'Cover Sheet'!$C$24","v":0},"ENTITY_ID",{"$f":"+CBM!F379","v":""},{"$f":"TEXT(+'Cover Sheet'!C$22,\"yyyymmdd\")","v":"19000100"},14240,"--- na ---","--- na ---","--- na ---","--- na ---","--- na ---","--- na ---",{"$f":"IF(ISERROR(TRUNC(+CBM!G379,4))=TRUE,\"\",TRUNC(+CBM!G379,4))","v":0},{"$f":"IF(ISERROR(TRUNC(+CBM!H379,4))=TRUE,\"\",TRUNC(+CBM!H379,4))","v":0}]
["CMQNT_14240",{"$f":"+'Cover Sheet'!$C$24","v":0},"ENTITY_ID",{"$f":"+CBM!F380","v":""},{"$f":"TEXT(+'Cover Sheet'!C$22,\"yyyymmdd\")","v":"19000100"},14240,"--- na ---","--- na ---","--- na ---","--- na ---","--- na ---","--- na ---",{"$f":"IF(ISERROR(TRUNC(+CBM!G380,4))=TRUE,\"\",TRUNC(+CBM!G380,4))","v":0},{"$f":"IF(ISERROR(TRUNC(+CBM!H380,4))=TRUE,\"\",TRUNC(+CBM!H380,4))","v":0}]
["CMQNT_14250",{"$f":"+'Cover Sheet'!$C$24","v":0},"ENTITY_ID","W1",{"$f":"TEXT(+'Cover Sheet'!C$22,\"yyyymmdd\")","v":"19000100"},14250,"--- na ---","--- na ---","--- na ---","--- na ---","--- na ---","--- na ---",{"$f":"IF(ISERROR(TRUNC(+CBM!G381,4))=TRUE,\"\",TRUNC(+CBM!G381,4))","v":0},{"$f":"IF(ISERROR(TRUNC(+CBM!H381,4))=TRUE,\"\",TRUNC(+CBM!H381,4))","v":0}]
["CMQNT_14250",{"$f":"+'Cover Sheet'!$C$24","v":0},"ENTITY_ID",{"$f":"+CBM!F382","v":""},{"$f":"TEXT(+'Cover Sheet'!C$22,\"yyyymmdd\")","v":"19000100"},14250,"--- na ---","--- na ---","--- na ---","--- na ---","--- na ---","--- na ---",{"$f":"IF(ISERROR(TRUNC(+CBM!G382,4))=TRUE,\"\",TRUNC(+CBM!G382,4))","v":0},{"$f":"IF(ISERROR(TRUNC(+CBM!H382,4))=TRUE,\"\",TRUNC(+CBM!H382,4))","v":0}]
["CMQNT_14250",{"$f":"+'Cover Sheet'!$C$24","v":0},"ENTITY_ID",{"$f":"+CBM!F383","v":""},{"$f":"TEXT(+'Cover Sheet'!C$22,\"yyyymmdd\")","v":"19000100"},14250,"--- na ---","--- na ---","--- na ---","--- na ---","--- na ---","--- na ---",{"$f":"IF(ISERROR(TRUNC(+CBM!G383,4))=TRUE,\"\",TRUNC(+CBM!G383,4))","v":0},{"$f":"IF(ISERROR(TRUNC(+CBM!H383,4))=TRUE,\"\",TRUNC(+CBM!H383,4))","v":0}]
["CMQNT_14250",{"$f":"+'Cover Sheet'!$C$24","v":0},"ENTITY_ID",{"$f":"+CBM!F384","v":""},{"$f":"TEXT(+'Cover Sheet'!C$22,\"yyyymmdd\")","v":"19000100"},14250,"--- na ---","--- na ---","--- na ---","--- na ---","--- na ---","--- na ---",{"$f":"IF(ISERROR(TRUNC(+CBM!G384,4))=TRUE,\"\",TRUNC(+CBM!G384,4))","v":0},{"$f":"IF(ISERROR(TRUNC(+CBM!H384,4))=TRUE,\"\",TRUNC(+CBM!H384,4))","v":0}]
["CMQNT_14250",{"$f":"+'Cover Sheet'!$C$24","v":0},"ENTITY_ID",{"$f":"+CBM!F385","v":""},{"$f":"TEXT(+'Cover Sheet'!C$22,\"yyyymmdd\")","v":"19000100"},14250,"--- na ---","--- na ---","--- na ---","--- na ---","--- na ---","--- na ---",{"$f":"IF(ISERROR(TRUNC(+CBM!G385,4))=TRUE,\"\",TRUNC(+CBM!G385,4))","v":0},{"$f":"IF(ISERROR(TRUNC(+CBM!H385,4))=TRUE,\"\",TRUNC(+CBM!H385,4))","v":0}]
["CMQNT_14250",{"$f":"+'Cover Sheet'!$C$24","v":0},"ENTITY_ID",{"$f":"+CBM!F386","v":""},{"$f":"TEXT(+'Cover Sheet'!C$22,\"yyyymmdd\")","v":"19000100"},14250,"--- na ---","--- na ---","--- na ---","--- na ---","--- na ---","--- na ---",{"$f":"IF(ISERROR(TRUNC(+CBM!G386,4))=TRUE,\"\",TRUNC(+CBM!G386,4))","v":0},{"$f":"IF(ISERROR(TRUNC(+CBM!H386,4))=TRUE,\"\",TRUNC(+CBM!H386,4))","v":0}]
["CMQNT_14250",{"$f":"+'Cover Sheet'!$C$24","v":0},"ENTITY_ID",{"$f":"+CBM!F387","v":""},{"$f":"TEXT(+'Cover Sheet'!C$22,\"yyyymmdd\")","v":"19000100"},14250,"--- na ---","--- na ---","--- na ---","--- na ---","--- na ---","--- na ---",{"$f":"IF(ISERROR(TRUNC(+CBM!G387,4))=TRUE,\"\",TRUNC(+CBM!G387,4))","v":0},{"$f":"IF(ISERROR(TRUNC(+CBM!H387,4))=TRUE,\"\",TRUNC(+CBM!H387,4))","v":0}]
["CMQNT_14250",{"$f":"+'Cover Sheet'!$C$24","v":0},"ENTITY_ID",{"$f":"+CBM!F388","v":""},{"$f":"TEXT(+'Cover Sheet'!C$22,\"yyyymmdd\")","v":"19000100"},14250,"--- na ---","--- na ---","--- na ---","--- na ---","--- na ---","--- na ---",{"$f":"IF(ISERROR(TRUNC(+CBM!G388,4))=TRUE,\"\",TRUNC(+CBM!G388,4))","v":0},{"$f":"IF(ISERROR(TRUNC(+CBM!H388,4))=TRUE,\"\",TRUNC(+CBM!H388,4))","v":0}]
["CMQNT_14250",{"$f":"+'Cover Sheet'!$C$24","v":0},"ENTITY_ID",{"$f":"+CBM!F389","v":""},{"$f":"TEXT(+'Cover Sheet'!C$22,\"yyyymmdd\")","v":"19000100"},14250,"--- na ---","--- na ---","--- na ---","--- na ---","--- na ---","--- na ---",{"$f":"IF(ISERROR(TRUNC(+CBM!G389,4))=TRUE,\"\",TRUNC(+CBM!G389,4))","v":0},{"$f":"IF(ISERROR(TRUNC(+CBM!H389,4))=TRUE,\"\",TRUNC(+CBM!H389,4))","v":0}]
["CMQNT_14250",{"$f":"+'Cover Sheet'!$C$24","v":0},"ENTITY_ID",{"$f":"+CBM!F390","v":""},{"$f":"TEXT(+'Cover Sheet'!C$22,\"yyyymmdd\")","v":"19000100"},14250,"--- na ---","--- na ---","--- na ---","--- na ---","--- na ---","--- na ---",{"$f":"IF(ISERROR(TRUNC(+CBM!G390,4))=TRUE,\"\",TRUNC(+CBM!G390,4))","v":0},{"$f":"IF(ISERROR(TRUNC(+CBM!H390,4))=TRUE,\"\",TRUNC(+CBM!H390,4))","v":0}]
["CMQNT_14250",{"$f":"+'Cover Sheet'!$C$24","v":0},"ENTITY_ID",{"$f":"+CBM!F391","v":""},{"$f":"TEXT(+'Cover Sheet'!C$22,\"yyyymmdd\")","v":"19000100"},14250,"--- na ---","--- na ---","--- na ---","--- na ---","--- na ---","--- na ---",{"$f":"IF(ISERROR(TRUNC(+CBM!G391,4))=TRUE,\"\",TRUNC(+CBM!G391,4))","v":0},{"$f":"IF(ISERROR(TRUNC(+CBM!H391,4))=TRUE,\"\",TRUNC(+CBM!H391,4))","v":0}]
["CMQNT_14250",{"$f":"+'Cover Sheet'!$C$24","v":0},"ENTITY_ID",{"$f":"+CBM!F392","v":""},{"$f":"TEXT(+'Cover Sheet'!C$22,\"yyyymmdd\")","v":"19000100"},14250,"--- na ---","--- na ---","--- na ---","--- na ---","--- na ---","--- na ---",{"$f":"IF(ISERROR(TRUNC(+CBM!G392,4))=TRUE,\"\",TRUNC(+CBM!G392,4))","v":0},{"$f":"IF(ISERROR(TRUNC(+CBM!H392,4))=TRUE,\"\",TRUNC(+CBM!H392,4))","v":0}]
["CMQNT_14250",{"$f":"+'Cover Sheet'!$C$24","v":0},"ENTITY_ID",{"$f":"+CBM!F393","v":""},{"$f":"TEXT(+'Cover Sheet'!C$22,\"yyyymmdd\")","v":"19000100"},14250,"--- na ---","--- na ---","--- na ---","--- na ---","--- na ---","--- na ---",{"$f":"IF(ISERROR(TRUNC(+CBM!G393,4))=TRUE,\"\",TRUNC(+CBM!G393,4))","v":0},{"$f":"IF(ISERROR(TRUNC(+CBM!H393,4))=TRUE,\"\",TRUNC(+CBM!H393,4))","v":0}]
["CMQNT_14250",{"$f":"+'Cover Sheet'!$C$24","v":0},"ENTITY_ID",{"$f":"+CBM!F394","v":""},{"$f":"TEXT(+'Cover Sheet'!C$22,\"yyyymmdd\")","v":"19000100"},14250,"--- na ---","--- na ---","--- na ---","--- na ---","--- na ---","--- na ---",{"$f":"IF(ISERROR(TRUNC(+CBM!G394,4))=TRUE,\"\",TRUNC(+CBM!G394,4))","v":0},{"$f":"IF(ISERROR(TRUNC(+CBM!H394,4))=TRUE,\"\",TRUNC(+CBM!H394,4))","v":0}]
["CMQNT_14250",{"$f":"+'Cover Sheet'!$C$24","v":0},"ENTITY_ID",{"$f":"+CBM!F395","v":""},{"$f":"TEXT(+'Cover Sheet'!C$22,\"yyyymmdd\")","v":"19000100"},14250,"--- na ---","--- na ---","--- na ---","--- na ---","--- na ---","--- na ---",{"$f":"IF(ISERROR(TRUNC(+CBM!G395,4))=TRUE,\"\",TRUNC(+CBM!G395,4))","v":0},{"$f":"IF(ISERROR(TRUNC(+CBM!H395,4))=TRUE,\"\",TRUNC(+CBM!H395,4))","v":0}]
["CMQNT_14250",{"$f":"+'Cover Sheet'!$C$24","v":0},"ENTITY_ID",{"$f":"+CBM!F396","v":""},{"$f":"TEXT(+'Cover Sheet'!C$22,\"yyyymmdd\")","v":"19000100"},14250,"--- na ---","--- na ---","--- na ---","--- na ---","--- na ---","--- na ---",{"$f":"IF(ISERROR(TRUNC(+CBM!G396,4))=TRUE,\"\",TRUNC(+CBM!G396,4))","v":0},{"$f":"IF(ISERROR(TRUNC(+CBM!H396,4))=TRUE,\"\",TRUNC(+CBM!H396,4))","v":0}]
["CMQNT_14250",{"$f":"+'Cover Sheet'!$C$24","v":0},"ENTITY_ID",{"$f":"+CBM!F397","v":""},{"$f":"TEXT(+'Cover Sheet'!C$22,\"yyyymmdd\")","v":"19000100"},14250,"--- na ---","--- na ---","--- na ---","--- na ---","--- na ---","--- na ---",{"$f":"IF(ISERROR(TRUNC(+CBM!G397,4))=TRUE,\"\",TRUNC(+CBM!G397,4))","v":0},{"$f":"IF(ISERROR(TRUNC(+CBM!H397,4))=TRUE,\"\",TRUNC(+CBM!H397,4))","v":0}]
["CMQNT_14250",{"$f":"+'Cover Sheet'!$C$24","v":0},"ENTITY_ID",{"$f":"+CBM!F398","v":""},{"$f":"TEXT(+'Cover Sheet'!C$22,\"yyyymmdd\")","v":"19000100"},14250,"--- na ---","--- na ---","--- na ---","--- na ---","--- na ---","--- na ---",{"$f":"IF(ISERROR(TRUNC(+CBM!G398,4))=TRUE,\"\",TRUNC(+CBM!G398,4))","v":0},{"$f":"IF(ISERROR(TRUNC(+CBM!H398,4))=TRUE,\"\",TRUNC(+CBM!H398,4))","v":0}]
["CMQNT_14250",{"$f":"+'Cover Sheet'!$C$24","v":0},"ENTITY_ID",{"$f":"+CBM!F399","v":""},{"$f":"TEXT(+'Cover Sheet'!C$22,\"yyyymmdd\")","v":"19000100"},14250,"--- na ---","--- na ---","--- na ---","--- na ---","--- na ---","--- na ---",{"$f":"IF(ISERROR(TRUNC(+CBM!G399,4))=TRUE,\"\",TRUNC(+CBM!G399,4))","v":0},{"$f":"IF(ISERROR(TRUNC(+CBM!H399,4))=TRUE,\"\",TRUNC(+CBM!H399,4))","v":0}]
["CMQNT_14250",{"$f":"+'Cover Sheet'!$C$24","v":0},"ENTITY_ID",{"$f":"+CBM!F400","v":""},{"$f":"TEXT(+'Cover Sheet'!C$22,\"yyyymmdd\")","v":"19000100"},14250,"--- na ---","--- na ---","--- na ---","--- na ---","--- na ---","--- na ---",{"$f":"IF(ISERROR(TRUNC(+CBM!G400,4))=TRUE,\"\",TRUNC(+CBM!G400,4))","v":0},{"$f":"IF(ISERROR(TRUNC(+CBM!H400,4))=TRUE,\"\",TRUNC(+CBM!H400,4))","v":0}]
["CMQNT_14250",{"$f":"+'Cover Sheet'!$C$24","v":0},"ENTITY_ID",{"$f":"+CBM!F401","v":""},{"$f":"TEXT(+'Cover Sheet'!C$22,\"yyyymmdd\")","v":"19000100"},14250,"--- na ---","--- na ---","--- na ---","--- na ---","--- na ---","--- na ---",{"$f":"IF(ISERROR(TRUNC(+CBM!G401,4))=TRUE,\"\",TRUNC(+CBM!G401,4))","v":0},{"$f":"IF(ISERROR(TRUNC(+CBM!H401,4))=TRUE,\"\",TRUNC(+CBM!H401,4))","v":0}]
["CMQNT_14250",{"$f":"+'Cover Sheet'!$C$24","v":0},"ENTITY_ID",{"$f":"+CBM!F402","v":""},{"$f":"TEXT(+'Cover Sheet'!C$22,\"yyyymmdd\")","v":"19000100"},14250,"--- na ---","--- na ---","--- na ---","--- na ---","--- na ---","--- na ---",{"$f":"IF(ISERROR(TRUNC(+CBM!G402,4))=TRUE,\"\",TRUNC(+CBM!G402,4))","v":0},{"$f":"IF(ISERROR(TRUNC(+CBM!H402,4))=TRUE,\"\",TRUNC(+CBM!H402,4))","v":0}]
["CMQNT_14250",{"$f":"+'Cover Sheet'!$C$24","v":0},"ENTITY_ID",{"$f":"+CBM!F403","v":""},{"$f":"TEXT(+'Cover Sheet'!C$22,\"yyyymmdd\")","v":"19000100"},14250,"--- na ---","--- na ---","--- na ---","--- na ---","--- na ---","--- na ---",{"$f":"IF(ISERROR(TRUNC(+CBM!G403,4))=TRUE,\"\",TRUNC(+CBM!G403,4))","v":0},{"$f":"IF(ISERROR(TRUNC(+CBM!H403,4))=TRUE,\"\",TRUNC(+CBM!H403,4))","v":0}]
["CMQNT_14250",{"$f":"+'Cover Sheet'!$C$24","v":0},"ENTITY_ID",{"$f":"+CBM!F404","v":""},{"$f":"TEXT(+'Cover Sheet'!C$22,\"yyyymmdd\")","v":"19000100"},14250,"--- na ---","--- na ---","--- na ---","--- na ---","--- na ---","--- na ---",{"$f":"IF(ISERROR(TRUNC(+CBM!G404,4))=TRUE,\"\",TRUNC(+CBM!G404,4))","v":0},{"$f":"IF(ISERROR(TRUNC(+CBM!H404,4))=TRUE,\"\",TRUNC(+CBM!H404,4))","v":0}]
["CMQNT_14250",{"$f":"+'Cover Sheet'!$C$24","v":0},"ENTITY_ID",{"$f":"+CBM!F405","v":""},{"$f":"TEXT(+'Cover Sheet'!C$22,\"yyyymmdd\")","v":"19000100"},14250,"--- na ---","--- na ---","--- na ---","--- na ---","--- na ---","--- na ---",{"$f":"IF(ISERROR(TRUNC(+CBM!G405,4))=TRUE,\"\",TRUNC(+CBM!G405,4))","v":0},{"$f":"IF(ISERROR(TRUNC(+CBM!H405,4))=TRUE,\"\",TRUNC(+CBM!H405,4))","v":0}]
["CMQNT_14250",{"$f":"+'Cover Sheet'!$C$24","v":0},"ENTITY_ID",{"$f":"+CBM!F406","v":""},{"$f":"TEXT(+'Cover Sheet'!C$22,\"yyyymmdd\")","v":"19000100"},14250,"--- na ---","--- na ---","--- na ---","--- na ---","--- na ---","--- na ---",{"$f":"IF(ISERROR(TRUNC(+CBM!G406,4))=TRUE,\"\",TRUNC(+CBM!G406,4))","v":0},{"$f":"IF(ISERROR(TRUNC(+CBM!H406,4))=TRUE,\"\",TRUNC(+CBM!H406,4))","v":0}]
["CMQNT_14250",{"$f":"+'Cover Sheet'!$C$24","v":0},"ENTITY_ID",{"$f":"+CBM!F407","v":""},{"$f":"TEXT(+'Cover Sheet'!C$22,\"yyyymmdd\")","v":"19000100"},14250,"--- na ---","--- na ---","--- na ---","--- na ---","--- na ---","--- na ---",{"$f":"IF(ISERROR(TRUNC(+CBM!G407,4))=TRUE,\"\",TRUNC(+CBM!G407,4))","v":0},{"$f":"IF(ISERROR(TRUNC(+CBM!H407,4))=TRUE,\"\",TRUNC(+CBM!H407,4))","v":0}]
["CMQNT_14250",{"$f":"+'Cover Sheet'!$C$24","v":0},"ENTITY_ID",{"$f":"+CBM!F408","v":""},{"$f":"TEXT(+'Cover Sheet'!C$22,\"yyyymmdd\")","v":"19000100"},14250,"--- na ---","--- na ---","--- na ---","--- na ---","--- na ---","--- na ---",{"$f":"IF(ISERROR(TRUNC(+CBM!G408,4))=TRUE,\"\",TRUNC(+CBM!G408,4))","v":0},{"$f":"IF(ISERROR(TRUNC(+CBM!H408,4))=TRUE,\"\",TRUNC(+CBM!H408,4))","v":0}]
["CMQNT_14250",{"$f":"+'Cover Sheet'!$C$24","v":0},"ENTITY_ID",{"$f":"+CBM!F409","v":""},{"$f":"TEXT(+'Cover Sheet'!C$22,\"yyyymmdd\")","v":"19000100"},14250,"--- na ---","--- na ---","--- na ---","--- na ---","--- na ---","--- na ---",{"$f":"IF(ISERROR(TRUNC(+CBM!G409,4))=TRUE,\"\",TRUNC(+CBM!G409,4))","v":0},{"$f":"IF(ISERROR(TRUNC(+CBM!H409,4))=TRUE,\"\",TRUNC(+CBM!H409,4))","v":0}]
["CMQNT_14250",{"$f":"+'Cover Sheet'!$C$24","v":0},"ENTITY_ID",{"$f":"+CBM!F410","v":""},{"$f":"TEXT(+'Cover Sheet'!C$22,\"yyyymmdd\")","v":"19000100"},14250,"--- na ---","--- na ---","--- na ---","--- na ---","--- na ---","--- na ---",{"$f":"IF(ISERROR(TRUNC(+CBM!G410,4))=TRUE,\"\",TRUNC(+CBM!G410,4))","v":0},{"$f":"IF(ISERROR(TRUNC(+CBM!H410,4))=TRUE,\"\",TRUNC(+CBM!H410,4))","v":0}]
["CMQNT_14250",{"$f":"+'Cover Sheet'!$C$24","v":0},"ENTITY_ID",{"$f":"+CBM!F411","v":""},{"$f":"TEXT(+'Cover Sheet'!C$22,\"yyyymmdd\")","v":"19000100"},14250,"--- na ---","--- na ---","--- na ---","--- na ---","--- na ---","--- na ---",{"$f":"IF(ISERROR(TRUNC(+CBM!G411,4))=TRUE,\"\",TRUNC(+CBM!G411,4))","v":0},{"$f":"IF(ISERROR(TRUNC(+CBM!H411,4))=TRUE,\"\",TRUNC(+CBM!H411,4))","v":0}]
["CMQNT_14250",{"$f":"+'Cover Sheet'!$C$24","v":0},"ENTITY_ID",{"$f":"+CBM!F412","v":""},{"$f":"TEXT(+'Cover Sheet'!C$22,\"yyyymmdd\")","v":"19000100"},14250,"--- na ---","--- na ---","--- na ---","--- na ---","--- na ---","--- na ---",{"$f":"IF(ISERROR(TRUNC(+CBM!G412,4))=TRUE,\"\",TRUNC(+CBM!G412,4))","v":0},{"$f":"IF(ISERROR(TRUNC(+CBM!H412,4))=TRUE,\"\",TRUNC(+CBM!H412,4))","v":0}]
["CMQNT_14250",{"$f":"+'Cover Sheet'!$C$24","v":0},"ENTITY_ID",{"$f":"+CBM!F413","v":""},{"$f":"TEXT(+'Cover Sheet'!C$22,\"yyyymmdd\")","v":"19000100"},14250,"--- na ---","--- na ---","--- na ---","--- na ---","--- na ---","--- na ---",{"$f":"IF(ISERROR(TRUNC(+CBM!G413,4))=TRUE,\"\",TRUNC(+CBM!G413,4))","v":0},{"$f":"IF(ISERROR(TRUNC(+CBM!H413,4))=TRUE,\"\",TRUNC(+CBM!H413,4))","v":0}]
["CMQNT_14250",{"$f":"+'Cover Sheet'!$C$24","v":0},"ENTITY_ID",{"$f":"+CBM!F414","v":""},{"$f":"TEXT(+'Cover Sheet'!C$22,\"yyyymmdd\")","v":"19000100"},14250,"--- na ---","--- na ---","--- na ---","--- na ---","--- na ---","--- na ---",{"$f":"IF(ISERROR(TRUNC(+CBM!G414,4))=TRUE,\"\",TRUNC(+CBM!G414,4))","v":0},{"$f":"IF(ISERROR(TRUNC(+CBM!H414,4))=TRUE,\"\",TRUNC(+CBM!H414,4))","v":0}]
["CMQNT_14250",{"$f":"+'Cover Sheet'!$C$24","v":0},"ENTITY_ID",{"$f":"+CBM!F415","v":""},{"$f":"TEXT(+'Cover Sheet'!C$22,\"yyyymmdd\")","v":"19000100"},14250,"--- na ---","--- na ---","--- na ---","--- na ---","--- na ---","--- na ---",{"$f":"IF(ISERROR(TRUNC(+CBM!G415,4))=TRUE,\"\",TRUNC(+CBM!G415,4))","v":0},{"$f":"IF(ISERROR(TRUNC(+CBM!H415,4))=TRUE,\"\",TRUNC(+CBM!H415,4))","v":0}]
["CMQNT_14250",{"$f":"+'Cover Sheet'!$C$24","v":0},"ENTITY_ID",{"$f":"+CBM!F416","v":""},{"$f":"TEXT(+'Cover Sheet'!C$22,\"yyyymmdd\")","v":"19000100"},14250,"--- na ---","--- na ---","--- na ---","--- na ---","--- na ---","--- na ---",{"$f":"IF(ISERROR(TRUNC(+CBM!G416,4))=TRUE,\"\",TRUNC(+CBM!G416,4))","v":0},{"$f":"IF(ISERROR(TRUNC(+CBM!H416,4))=TRUE,\"\",TRUNC(+CBM!H416,4))","v":0}]
["CMQNT_14250",{"$f":"+'Cover Sheet'!$C$24","v":0},"ENTITY_ID",{"$f":"+CBM!F417","v":""},{"$f":"TEXT(+'Cover Sheet'!C$22,\"yyyymmdd\")","v":"19000100"},14250,"--- na ---","--- na ---","--- na ---","--- na ---","--- na ---","--- na ---",{"$f":"IF(ISERROR(TRUNC(+CBM!G417,4))=TRUE,\"\",TRUNC(+CBM!G417,4))","v":0},{"$f":"IF(ISERROR(TRUNC(+CBM!H417,4))=TRUE,\"\",TRUNC(+CBM!H417,4))","v":0}]
["CMQNT_14250",{"$f":"+'Cover Sheet'!$C$24","v":0},"ENTITY_ID",{"$f":"+CBM!F418","v":""},{"$f":"TEXT(+'Cover Sheet'!C$22,\"yyyymmdd\")","v":"19000100"},14250,"--- na ---","--- na ---","--- na ---","--- na ---","--- na ---","--- na ---",{"$f":"IF(ISERROR(TRUNC(+CBM!G418,4))=TRUE,\"\",TRUNC(+CBM!G418,4))","v":0},{"$f":"IF(ISERROR(TRUNC(+CBM!H418,4))=TRUE,\"\",TRUNC(+CBM!H418,4))","v":0}]
["CMQNT_14250",{"$f":"+'Cover Sheet'!$C$24","v":0},"ENTITY_ID",{"$f":"+CBM!F419","v":""},{"$f":"TEXT(+'Cover Sheet'!C$22,\"yyyymmdd\")","v":"19000100"},14250,"--- na ---","--- na ---","--- na ---","--- na ---","--- na ---","--- na ---",{"$f":"IF(ISERROR(TRUNC(+CBM!G419,4))=TRUE,\"\",TRUNC(+CBM!G419,4))","v":0},{"$f":"IF(ISERROR(TRUNC(+CBM!H419,4))=TRUE,\"\",TRUNC(+CBM!H419,4))","v":0}]
["CMQNT_14250",{"$f":"+'Cover Sheet'!$C$24","v":0},"ENTITY_ID",{"$f":"+CBM!F420","v":""},{"$f":"TEXT(+'Cover Sheet'!C$22,\"yyyymmdd\")","v":"19000100"},14250,"--- na ---","--- na ---","--- na ---","--- na ---","--- na ---","--- na ---",{"$f":"IF(ISERROR(TRUNC(+CBM!G420,4))=TRUE,\"\",TRUNC(+CBM!G420,4))","v":0},{"$f":"IF(ISERROR(TRUNC(+CBM!H420,4))=TRUE,\"\",TRUNC(+CBM!H420,4))","v":0}]
["CMQNT_14250",{"$f":"+'Cover Sheet'!$C$24","v":0},"ENTITY_ID",{"$f":"+CBM!F421","v":""},{"$f":"TEXT(+'Cover Sheet'!C$22,\"yyyymmdd\")","v":"19000100"},14250,"--- na ---","--- na ---","--- na ---","--- na ---","--- na ---","--- na ---",{"$f":"IF(ISERROR(TRUNC(+CBM!G421,4))=TRUE,\"\",TRUNC(+CBM!G421,4))","v":0},{"$f":"IF(ISERROR(TRUNC(+CBM!H421,4))=TRUE,\"\",TRUNC(+CBM!H421,4))","v":0}]
["CMQNT_14250",{"$f":"+'Cover Sheet'!$C$24","v":0},"ENTITY_ID",{"$f":"+CBM!F422","v":""},{"$f":"TEXT(+'Cover Sheet'!C$22,\"yyyymmdd\")","v":"19000100"},14250,"--- na ---","--- na ---","--- na ---","--- na ---","--- na ---","--- na ---",{"$f":"IF(ISERROR(TRUNC(+CBM!G422,4))=TRUE,\"\",TRUNC(+CBM!G422,4))","v":0},{"$f":"IF(ISERROR(TRUNC(+CBM!H422,4))=TRUE,\"\",TRUNC(+CBM!H422,4))","v":0}]
["CMQNT_14250",{"$f":"+'Cover Sheet'!$C$24","v":0},"ENTITY_ID",{"$f":"+CBM!F423","v":""},{"$f":"TEXT(+'Cover Sheet'!C$22,\"yyyymmdd\")","v":"19000100"},14250,"--- na ---","--- na ---","--- na ---","--- na ---","--- na ---","--- na ---",{"$f":"IF(ISERROR(TRUNC(+CBM!G423,4))=TRUE,\"\",TRUNC(+CBM!G423,4))","v":0},{"$f":"IF(ISERROR(TRUNC(+CBM!H423,4))=TRUE,\"\",TRUNC(+CBM!H423,4))","v":0}]
["CMQNT_14250",{"$f":"+'Cover Sheet'!$C$24","v":0},"ENTITY_ID",{"$f":"+CBM!F424","v":""},{"$f":"TEXT(+'Cover Sheet'!C$22,\"yyyymmdd\")","v":"19000100"},14250,"--- na ---","--- na ---","--- na ---","--- na ---","--- na ---","--- na ---",{"$f":"IF(ISERROR(TRUNC(+CBM!G424,4))=TRUE,\"\",TRUNC(+CBM!G424,4))","v":0},{"$f":"IF(ISERROR(TRUNC(+CBM!H424,4))=TRUE,\"\",TRUNC(+CBM!H424,4))","v":0}]
["CMQNT_14250",{"$f":"+'Cover Sheet'!$C$24","v":0},"ENTITY_ID",{"$f":"+CBM!F425","v":""},{"$f":"TEXT(+'Cover Sheet'!C$22,\"yyyymmdd\")","v":"19000100"},14250,"--- na ---","--- na ---","--- na ---","--- na ---","--- na ---","--- na ---",{"$f":"IF(ISERROR(TRUNC(+CBM!G425,4))=TRUE,\"\",TRUNC(+CBM!G425,4))","v":0},{"$f":"IF(ISERROR(TRUNC(+CBM!H425,4))=TRUE,\"\",TRUNC(+CBM!H425,4))","v":0}]
["CMQNT_14260",{"$f":"+'Cover Sheet'!$C$24","v":0},"ENTITY_ID","W1",{"$f":"TEXT(+'Cover Sheet'!C$22,\"yyyymmdd\")","v":"19000100"},14260,"--- na ---","--- na ---","--- na ---","--- na ---","--- na ---","--- na ---",{"$f":"IF(ISERROR(TRUNC(+CBM!G426,4))=TRUE,\"\",TRUNC(+CBM!G426,4))","v":0},{"$f":"IF(ISERROR(TRUNC(+CBM!H426,4))=TRUE,\"\",TRUNC(+CBM!H426,4))","v":0}]
["CMQNT_14260",{"$f":"+'Cover Sheet'!$C$24","v":0},"ENTITY_ID",{"$f":"+CBM!F427","v":""},{"$f":"TEXT(+'Cover Sheet'!C$22,\"yyyymmdd\")","v":"19000100"},14260,"--- na ---","--- na ---","--- na ---","--- na ---","--- na ---","--- na ---",{"$f":"IF(ISERROR(TRUNC(+CBM!G427,4))=TRUE,\"\",TRUNC(+CBM!G427,4))","v":0},{"$f":"IF(ISERROR(TRUNC(+CBM!H427,4))=TRUE,\"\",TRUNC(+CBM!H427,4))","v":0}]
["CMQNT_14260",{"$f":"+'Cover Sheet'!$C$24","v":0},"ENTITY_ID",{"$f":"+CBM!F428","v":""},{"$f":"TEXT(+'Cover Sheet'!C$22,\"yyyymmdd\")","v":"19000100"},14260,"--- na ---","--- na ---","--- na ---","--- na ---","--- na ---","--- na ---",{"$f":"IF(ISERROR(TRUNC(+CBM!G428,4))=TRUE,\"\",TRUNC(+CBM!G428,4))","v":0},{"$f":"IF(ISERROR(TRUNC(+CBM!H428,4))=TRUE,\"\",TRUNC(+CBM!H428,4))","v":0}]
["CMQNT_14260",{"$f":"+'Cover Sheet'!$C$24","v":0},"ENTITY_ID",{"$f":"+CBM!F429","v":""},{"$f":"TEXT(+'Cover Sheet'!C$22,\"yyyymmdd\")","v":"19000100"},14260,"--- na ---","--- na ---","--- na ---","--- na ---","--- na ---","--- na ---",{"$f":"IF(ISERROR(TRUNC(+CBM!G429,4))=TRUE,\"\",TRUNC(+CBM!G429,4))","v":0},{"$f":"IF(ISERROR(TRUNC(+CBM!H429,4))=TRUE,\"\",TRUNC(+CBM!H429,4))","v":0}]
["CMQNT_14260",{"$f":"+'Cover Sheet'!$C$24","v":0},"ENTITY_ID",{"$f":"+CBM!F430","v":""},{"$f":"TEXT(+'Cover Sheet'!C$22,\"yyyymmdd\")","v":"19000100"},14260,"--- na ---","--- na ---","--- na ---","--- na ---","--- na ---","--- na ---",{"$f":"IF(ISERROR(TRUNC(+CBM!G430,4))=TRUE,\"\",TRUNC(+CBM!G430,4))","v":0},{"$f":"IF(ISERROR(TRUNC(+CBM!H430,4))=TRUE,\"\",TRUNC(+CBM!H430,4))","v":0}]
["CMQNT_14260",{"$f":"+'Cover Sheet'!$C$24","v":0},"ENTITY_ID",{"$f":"+CBM!F431","v":""},{"$f":"TEXT(+'Cover Sheet'!C$22,\"yyyymmdd\")","v":"19000100"},14260,"--- na ---","--- na ---","--- na ---","--- na ---","--- na ---","--- na ---",{"$f":"IF(ISERROR(TRUNC(+CBM!G431,4))=TRUE,\"\",TRUNC(+CBM!G431,4))","v":0},{"$f":"IF(ISERROR(TRUNC(+CBM!H431,4))=TRUE,\"\",TRUNC(+CBM!H431,4))","v":0}]
["CMQNT_14260",{"$f":"+'Cover Sheet'!$C$24","v":0},"ENTITY_ID",{"$f":"+CBM!F432","v":""},{"$f":"TEXT(+'Cover Sheet'!C$22,\"yyyymmdd\")","v":"19000100"},14260,"--- na ---","--- na ---","--- na ---","--- na ---","--- na ---","--- na ---",{"$f":"IF(ISERROR(TRUNC(+CBM!G432,4))=TRUE,\"\",TRUNC(+CBM!G432,4))","v":0},{"$f":"IF(ISERROR(TRUNC(+CBM!H432,4))=TRUE,\"\",TRUNC(+CBM!H432,4))","v":0}]
["CMQNT_14260",{"$f":"+'Cover Sheet'!$C$24","v":0},"ENTITY_ID",{"$f":"+CBM!F433","v":""},{"$f":"TEXT(+'Cover Sheet'!C$22,\"yyyymmdd\")","v":"19000100"},14260,"--- na ---","--- na ---","--- na ---","--- na ---","--- na ---","--- na ---",{"$f":"IF(ISERROR(TRUNC(+CBM!G433,4))=TRUE,\"\",TRUNC(+CBM!G433,4))","v":0},{"$f":"IF(ISERROR(TRUNC(+CBM!H433,4))=TRUE,\"\",TRUNC(+CBM!H433,4))","v":0}]
["CMQNT_14260",{"$f":"+'Cover Sheet'!$C$24","v":0},"ENTITY_ID",{"$f":"+CBM!F434","v":""},{"$f":"TEXT(+'Cover Sheet'!C$22,\"yyyymmdd\")","v":"19000100"},14260,"--- na ---","--- na ---","--- na ---","--- na ---","--- na ---","--- na ---",{"$f":"IF(ISERROR(TRUNC(+CBM!G434,4))=TRUE,\"\",TRUNC(+CBM!G434,4))","v":0},{"$f":"IF(ISERROR(TRUNC(+CBM!H434,4))=TRUE,\"\",TRUNC(+CBM!H434,4))","v":0}]
["CMQNT_14260",{"$f":"+'Cover Sheet'!$C$24","v":0},"ENTITY_ID",{"$f":"+CBM!F435","v":""},{"$f":"TEXT(+'Cover Sheet'!C$22,\"yyyymmdd\")","v":"19000100"},14260,"--- na ---","--- na ---","--- na ---","--- na ---","--- na ---","--- na ---",{"$f":"IF(ISERROR(TRUNC(+CBM!G435,4))=TRUE,\"\",TRUNC(+CBM!G435,4))","v":0},{"$f":"IF(ISERROR(TRUNC(+CBM!H435,4))=TRUE,\"\",TRUNC(+CBM!H435,4))","v":0}]
["CMQNT_14260",{"$f":"+'Cover Sheet'!$C$24","v":0},"ENTITY_ID",{"$f":"+CBM!F436","v":""},{"$f":"TEXT(+'Cover Sheet'!C$22,\"yyyymmdd\")","v":"19000100"},14260,"--- na ---","--- na ---","--- na ---","--- na ---","--- na ---","--- na ---",{"$f":"IF(ISERROR(TRUNC(+CBM!G436,4))=TRUE,\"\",TRUNC(+CBM!G436,4))","v":0},{"$f":"IF(ISERROR(TRUNC(+CBM!H436,4))=TRUE,\"\",TRUNC(+CBM!H436,4))","v":0}]
["CMQNT_14260",{"$f":"+'Cover Sheet'!$C$24","v":0},"ENTITY_ID",{"$f":"+CBM!F437","v":""},{"$f":"TEXT(+'Cover Sheet'!C$22,\"yyyymmdd\")","v":"19000100"},14260,"--- na ---","--- na ---","--- na ---","--- na ---","--- na ---","--- na ---",{"$f":"IF(ISERROR(TRUNC(+CBM!G437,4))=TRUE,\"\",TRUNC(+CBM!G437,4))","v":0},{"$f":"IF(ISERROR(TRUNC(+CBM!H437,4))=TRUE,\"\",TRUNC(+CBM!H437,4))","v":0}]
["CMQNT_14260",{"$f":"+'Cover Sheet'!$C$24","v":0},"ENTITY_ID",{"$f":"+CBM!F438","v":""},{"$f":"TEXT(+'Cover Sheet'!C$22,\"yyyymmdd\")","v":"19000100"},14260,"--- na ---","--- na ---","--- na ---","--- na ---","--- na ---","--- na ---",{"$f":"IF(ISERROR(TRUNC(+CBM!G438,4))=TRUE,\"\",TRUNC(+CBM!G438,4))","v":0},{"$f":"IF(ISERROR(TRUNC(+CBM!H438,4))=TRUE,\"\",TRUNC(+CBM!H438,4))","v":0}]
["CMQNT_14260",{"$f":"+'Cover Sheet'!$C$24","v":0},"ENTITY_ID",{"$f":"+CBM!F439","v":""},{"$f":"TEXT(+'Cover Sheet'!C$22,\"yyyymmdd\")","v":"19000100"},14260,"--- na ---","--- na ---","--- na ---","--- na ---","--- na ---","--- na ---",{"$f":"IF(ISERROR(TRUNC(+CBM!G439,4))=TRUE,\"\",TRUNC(+CBM!G439,4))","v":0},{"$f":"IF(ISERROR(TRUNC(+CBM!H439,4))=TRUE,\"\",TRUNC(+CBM!H439,4))","v":0}]
["CMQNT_14260",{"$f":"+'Cover Sheet'!$C$24","v":0},"ENTITY_ID",{"$f":"+CBM!F440","v":""},{"$f":"TEXT(+'Cover Sheet'!C$22,\"yyyymmdd\")","v":"19000100"},14260,"--- na ---","--- na ---","--- na ---","--- na ---","--- na ---","--- na ---",{"$f":"IF(ISERROR(TRUNC(+CBM!G440,4))=TRUE,\"\",TRUNC(+CBM!G440,4))","v":0},{"$f":"IF(ISERROR(TRUNC(+CBM!H440,4))=TRUE,\"\",TRUNC(+CBM!H440,4))","v":0}]
["CMQNT_14260",{"$f":"+'Cover Sheet'!$C$24","v":0},"ENTITY_ID",{"$f":"+CBM!F441","v":""},{"$f":"TEXT(+'Cover Sheet'!C$22,\"yyyymmdd\")","v":"19000100"},14260,"--- na ---","--- na ---","--- na ---","--- na ---","--- na ---","--- na ---",{"$f":"IF(ISERROR(TRUNC(+CBM!G441,4))=TRUE,\"\",TRUNC(+CBM!G441,4))","v":0},{"$f":"IF(ISERROR(TRUNC(+CBM!H441,4))=TRUE,\"\",TRUNC(+CBM!H441,4))","v":0}]
["CMQNT_14260",{"$f":"+'Cover Sheet'!$C$24","v":0},"ENTITY_ID",{"$f":"+CBM!F442","v":""},{"$f":"TEXT(+'Cover Sheet'!C$22,\"yyyymmdd\")","v":"19000100"},14260,"--- na ---","--- na ---","--- na ---","--- na ---","--- na ---","--- na ---",{"$f":"IF(ISERROR(TRUNC(+CBM!G442,4))=TRUE,\"\",TRUNC(+CBM!G442,4))","v":0},{"$f":"IF(ISERROR(TRUNC(+CBM!H442,4))=TRUE,\"\",TRUNC(+CBM!H442,4))","v":0}]
["CMQNT_14260",{"$f":"+'Cover Sheet'!$C$24","v":0},"ENTITY_ID",{"$f":"+CBM!F443","v":""},{"$f":"TEXT(+'Cover Sheet'!C$22,\"yyyymmdd\")","v":"19000100"},14260,"--- na ---","--- na ---","--- na ---","--- na ---","--- na ---","--- na ---",{"$f":"IF(ISERROR(TRUNC(+CBM!G443,4))=TRUE,\"\",TRUNC(+CBM!G443,4))","v":0},{"$f":"IF(ISERROR(TRUNC(+CBM!H443,4))=TRUE,\"\",TRUNC(+CBM!H443,4))","v":0}]
["CMQNT_14260",{"$f":"+'Cover Sheet'!$C$24","v":0},"ENTITY_ID",{"$f":"+CBM!F444","v":""},{"$f":"TEXT(+'Cover Sheet'!C$22,\"yyyymmdd\")","v":"19000100"},14260,"--- na ---","--- na ---","--- na ---","--- na ---","--- na ---","--- na ---",{"$f":"IF(ISERROR(TRUNC(+CBM!G444,4))=TRUE,\"\",TRUNC(+CBM!G444,4))","v":0},{"$f":"IF(ISERROR(TRUNC(+CBM!H444,4))=TRUE,\"\",TRUNC(+CBM!H444,4))","v":0}]
["CMQNT_14260",{"$f":"+'Cover Sheet'!$C$24","v":0},"ENTITY_ID",{"$f":"+CBM!F445","v":""},{"$f":"TEXT(+'Cover Sheet'!C$22,\"yyyymmdd\")","v":"19000100"},14260,"--- na ---","--- na ---","--- na ---","--- na ---","--- na ---","--- na ---",{"$f":"IF(ISERROR(TRUNC(+CBM!G445,4))=TRUE,\"\",TRUNC(+CBM!G445,4))","v":0},{"$f":"IF(ISERROR(TRUNC(+CBM!H445,4))=TRUE,\"\",TRUNC(+CBM!H445,4))","v":0}]
["CMQNT_14260",{"$f":"+'Cover Sheet'!$C$24","v":0},"ENTITY_ID",{"$f":"+CBM!F446","v":""},{"$f":"TEXT(+'Cover Sheet'!C$22,\"yyyymmdd\")","v":"19000100"},14260,"--- na ---","--- na ---","--- na ---","--- na ---","--- na ---","--- na ---",{"$f":"IF(ISERROR(TRUNC(+CBM!G446,4))=TRUE,\"\",TRUNC(+CBM!G446,4))","v":0},{"$f":"IF(ISERROR(TRUNC(+CBM!H446,4))=TRUE,\"\",TRUNC(+CBM!H446,4))","v":0}]
["CMQNT_14260",{"$f":"+'Cover Sheet'!$C$24","v":0},"ENTITY_ID",{"$f":"+CBM!F447","v":""},{"$f":"TEXT(+'Cover Sheet'!C$22,\"yyyymmdd\")","v":"19000100"},14260,"--- na ---","--- na ---","--- na ---","--- na ---","--- na ---","--- na ---",{"$f":"IF(ISERROR(TRUNC(+CBM!G447,4))=TRUE,\"\",TRUNC(+CBM!G447,4))","v":0},{"$f":"IF(ISERROR(TRUNC(+CBM!H447,4))=TRUE,\"\",TRUNC(+CBM!H447,4))","v":0}]
["CMQNT_14260",{"$f":"+'Cover Sheet'!$C$24","v":0},"ENTITY_ID",{"$f":"+CBM!F448","v":""},{"$f":"TEXT(+'Cover Sheet'!C$22,\"yyyymmdd\")","v":"19000100"},14260,"--- na ---","--- na ---","--- na ---","--- na ---","--- na ---","--- na ---",{"$f":"IF(ISERROR(TRUNC(+CBM!G448,4))=TRUE,\"\",TRUNC(+CBM!G448,4))","v":0},{"$f":"IF(ISERROR(TRUNC(+CBM!H448,4))=TRUE,\"\",TRUNC(+CBM!H448,4))","v":0}]
["CMQNT_14260",{"$f":"+'Cover Sheet'!$C$24","v":0},"ENTITY_ID",{"$f":"+CBM!F449","v":""},{"$f":"TEXT(+'Cover Sheet'!C$22,\"yyyymmdd\")","v":"19000100"},14260,"--- na ---","--- na ---","--- na ---","--- na ---","--- na ---","--- na ---",{"$f":"IF(ISERROR(TRUNC(+CBM!G449,4))=TRUE,\"\",TRUNC(+CBM!G449,4))","v":0},{"$f":"IF(ISERROR(TRUNC(+CBM!H449,4))=TRUE,\"\",TRUNC(+CBM!H449,4))","v":0}]
["CMQNT_14260",{"$f":"+'Cover Sheet'!$C$24","v":0},"ENTITY_ID",{"$f":"+CBM!F450","v":""},{"$f":"TEXT(+'Cover Sheet'!C$22,\"yyyymmdd\")","v":"19000100"},14260,"--- na ---","--- na ---","--- na ---","--- na ---","--- na ---","--- na ---",{"$f":"IF(ISERROR(TRUNC(+CBM!G450,4))=TRUE,\"\",TRUNC(+CBM!G450,4))","v":0},{"$f":"IF(ISERROR(TRUNC(+CBM!H450,4))=TRUE,\"\",TRUNC(+CBM!H450,4))","v":0}]
["CMQNT_14260",{"$f":"+'Cover Sheet'!$C$24","v":0},"ENTITY_ID",{"$f":"+CBM!F451","v":""},{"$f":"TEXT(+'Cover Sheet'!C$22,\"yyyymmdd\")","v":"19000100"},14260,"--- na ---","--- na ---","--- na ---","--- na ---","--- na ---","--- na ---",{"$f":"IF(ISERROR(TRUNC(+CBM!G451,4))=TRUE,\"\",TRUNC(+CBM!G451,4))","v":0},{"$f":"IF(ISERROR(TRUNC(+CBM!H451,4))=TRUE,\"\",TRUNC(+CBM!H451,4))","v":0}]
["CMQNT_14260",{"$f":"+'Cover Sheet'!$C$24","v":0},"ENTITY_ID",{"$f":"+CBM!F452","v":""},{"$f":"TEXT(+'Cover Sheet'!C$22,\"yyyymmdd\")","v":"19000100"},14260,"--- na ---","--- na ---","--- na ---","--- na ---","--- na ---","--- na ---",{"$f":"IF(ISERROR(TRUNC(+CBM!G452,4))=TRUE,\"\",TRUNC(+CBM!G452,4))","v":0},{"$f":"IF(ISERROR(TRUNC(+CBM!H452,4))=TRUE,\"\",TRUNC(+CBM!H452,4))","v":0}]
["CMQNT_14260",{"$f":"+'Cover Sheet'!$C$24","v":0},"ENTITY_ID",{"$f":"+CBM!F453","v":""},{"$f":"TEXT(+'Cover Sheet'!C$22,\"yyyymmdd\")","v":"19000100"},14260,"--- na ---","--- na ---","--- na ---","--- na ---","--- na ---","--- na ---",{"$f":"IF(ISERROR(TRUNC(+CBM!G453,4))=TRUE,\"\",TRUNC(+CBM!G453,4))","v":0},{"$f":"IF(ISERROR(TRUNC(+CBM!H453,4))=TRUE,\"\",TRUNC(+CBM!H453,4))","v":0}]
["CMQNT_14260",{"$f":"+'Cover Sheet'!$C$24","v":0},"ENTITY_ID",{"$f":"+CBM!F454","v":""},{"$f":"TEXT(+'Cover Sheet'!C$22,\"yyyymmdd\")","v":"19000100"},14260,"--- na ---","--- na ---","--- na ---","--- na ---","--- na ---","--- na ---",{"$f":"IF(ISERROR(TRUNC(+CBM!G454,4))=TRUE,\"\",TRUNC(+CBM!G454,4))","v":0},{"$f":"IF(ISERROR(TRUNC(+CBM!H454,4))=TRUE,\"\",TRUNC(+CBM!H454,4))","v":0}]
["CMQNT_14260",{"$f":"+'Cover Sheet'!$C$24","v":0},"ENTITY_ID",{"$f":"+CBM!F455","v":""},{"$f":"TEXT(+'Cover Sheet'!C$22,\"yyyymmdd\")","v":"19000100"},14260,"--- na ---","--- na ---","--- na ---","--- na ---","--- na ---","--- na ---",{"$f":"IF(ISERROR(TRUNC(+CBM!G455,4))=TRUE,\"\",TRUNC(+CBM!G455,4))","v":0},{"$f":"IF(ISERROR(TRUNC(+CBM!H455,4))=TRUE,\"\",TRUNC(+CBM!H455,4))","v":0}]
["CMQNT_14260",{"$f":"+'Cover Sheet'!$C$24","v":0},"ENTITY_ID",{"$f":"+CBM!F456","v":""},{"$f":"TEXT(+'Cover Sheet'!C$22,\"yyyymmdd\")","v":"19000100"},14260,"--- na ---","--- na ---","--- na ---","--- na ---","--- na ---","--- na ---",{"$f":"IF(ISERROR(TRUNC(+CBM!G456,4))=TRUE,\"\",TRUNC(+CBM!G456,4))","v":0},{"$f":"IF(ISERROR(TRUNC(+CBM!H456,4))=TRUE,\"\",TRUNC(+CBM!H456,4))","v":0}]
["CMQNT_14260",{"$f":"+'Cover Sheet'!$C$24","v":0},"ENTITY_ID",{"$f":"+CBM!F457","v":""},{"$f":"TEXT(+'Cover Sheet'!C$22,\"yyyymmdd\")","v":"19000100"},14260,"--- na ---","--- na ---","--- na ---","--- na ---","--- na ---","--- na ---",{"$f":"IF(ISERROR(TRUNC(+CBM!G457,4))=TRUE,\"\",TRUNC(+CBM!G457,4))","v":0},{"$f":"IF(ISERROR(TRUNC(+CBM!H457,4))=TRUE,\"\",TRUNC(+CBM!H457,4))","v":0}]
["CMQNT_14260",{"$f":"+'Cover Sheet'!$C$24","v":0},"ENTITY_ID",{"$f":"+CBM!F458","v":""},{"$f":"TEXT(+'Cover Sheet'!C$22,\"yyyymmdd\")","v":"19000100"},14260,"--- na ---","--- na ---","--- na ---","--- na ---","--- na ---","--- na ---",{"$f":"IF(ISERROR(TRUNC(+CBM!G458,4))=TRUE,\"\",TRUNC(+CBM!G458,4))","v":0},{"$f":"IF(ISERROR(TRUNC(+CBM!H458,4))=TRUE,\"\",TRUNC(+CBM!H458,4))","v":0}]
["CMQNT_14260",{"$f":"+'Cover Sheet'!$C$24","v":0},"ENTITY_ID",{"$f":"+CBM!F459","v":""},{"$f":"TEXT(+'Cover Sheet'!C$22,\"yyyymmdd\")","v":"19000100"},14260,"--- na ---","--- na ---","--- na ---","--- na ---","--- na ---","--- na ---",{"$f":"IF(ISERROR(TRUNC(+CBM!G459,4))=TRUE,\"\",TRUNC(+CBM!G459,4))","v":0},{"$f":"IF(ISERROR(TRUNC(+CBM!H459,4))=TRUE,\"\",TRUNC(+CBM!H459,4))","v":0}]
["CMQNT_14260",{"$f":"+'Cover Sheet'!$C$24","v":0},"ENTITY_ID",{"$f":"+CBM!F460","v":""},{"$f":"TEXT(+'Cover Sheet'!C$22,\"yyyymmdd\")","v":"19000100"},14260,"--- na ---","--- na ---","--- na ---","--- na ---","--- na ---","--- na ---",{"$f":"IF(ISERROR(TRUNC(+CBM!G460,4))=TRUE,\"\",TRUNC(+CBM!G460,4))","v":0},{"$f":"IF(ISERROR(TRUNC(+CBM!H460,4))=TRUE,\"\",TRUNC(+CBM!H460,4))","v":0}]
["CMQNT_14260",{"$f":"+'Cover Sheet'!$C$24","v":0},"ENTITY_ID",{"$f":"+CBM!F461","v":""},{"$f":"TEXT(+'Cover Sheet'!C$22,\"yyyymmdd\")","v":"19000100"},14260,"--- na ---","--- na ---","--- na ---","--- na ---","--- na ---","--- na ---",{"$f":"IF(ISERROR(TRUNC(+CBM!G461,4))=TRUE,\"\",TRUNC(+CBM!G461,4))","v":0},{"$f":"IF(ISERROR(TRUNC(+CBM!H461,4))=TRUE,\"\",TRUNC(+CBM!H461,4))","v":0}]
["CMQNT_14260",{"$f":"+'Cover Sheet'!$C$24","v":0},"ENTITY_ID",{"$f":"+CBM!F462","v":""},{"$f":"TEXT(+'Cover Sheet'!C$22,\"yyyymmdd\")","v":"19000100"},14260,"--- na ---","--- na ---","--- na ---","--- na ---","--- na ---","--- na ---",{"$f":"IF(ISERROR(TRUNC(+CBM!G462,4))=TRUE,\"\",TRUNC(+CBM!G462,4))","v":0},{"$f":"IF(ISERROR(TRUNC(+CBM!H462,4))=TRUE,\"\",TRUNC(+CBM!H462,4))","v":0}]
["CMQNT_14260",{"$f":"+'Cover Sheet'!$C$24","v":0},"ENTITY_ID",{"$f":"+CBM!F463","v":""},{"$f":"TEXT(+'Cover Sheet'!C$22,\"yyyymmdd\")","v":"19000100"},14260,"--- na ---","--- na ---","--- na ---","--- na ---","--- na ---","--- na ---",{"$f":"IF(ISERROR(TRUNC(+CBM!G463,4))=TRUE,\"\",TRUNC(+CBM!G463,4))","v":0},{"$f":"IF(ISERROR(TRUNC(+CBM!H463,4))=TRUE,\"\",TRUNC(+CBM!H463,4))","v":0}]
["CMQNT_14260",{"$f":"+'Cover Sheet'!$C$24","v":0},"ENTITY_ID",{"$f":"+CBM!F464","v":""},{"$f":"TEXT(+'Cover Sheet'!C$22,\"yyyymmdd\")","v":"19000100"},14260,"--- na ---","--- na ---","--- na ---","--- na ---","--- na ---","--- na ---",{"$f":"IF(ISERROR(TRUNC(+CBM!G464,4))=TRUE,\"\",TRUNC(+CBM!G464,4))","v":0},{"$f":"IF(ISERROR(TRUNC(+CBM!H464,4))=TRUE,\"\",TRUNC(+CBM!H464,4))","v":0}]
["CMQNT_14260",{"$f":"+'Cover Sheet'!$C$24","v":0},"ENTITY_ID",{"$f":"+CBM!F465","v":""},{"$f":"TEXT(+'Cover Sheet'!C$22,\"yyyymmdd\")","v":"19000100"},14260,"--- na ---","--- na ---","--- na ---","--- na ---","--- na ---","--- na ---",{"$f":"IF(ISERROR(TRUNC(+CBM!G465,4))=TRUE,\"\",TRUNC(+CBM!G465,4))","v":0},{"$f":"IF(ISERROR(TRUNC(+CBM!H465,4))=TRUE,\"\",TRUNC(+CBM!H465,4))","v":0}]
["CMQNT_14260",{"$f":"+'Cover Sheet'!$C$24","v":0},"ENTITY_ID",{"$f":"+CBM!F466","v":""},{"$f":"TEXT(+'Cover Sheet'!C$22,\"yyyymmdd\")","v":"19000100"},14260,"--- na ---","--- na ---","--- na ---","--- na ---","--- na ---","--- na ---",{"$f":"IF(ISERROR(TRUNC(+CBM!G466,4))=TRUE,\"\",TRUNC(+CBM!G466,4))","v":0},{"$f":"IF(ISERROR(TRUNC(+CBM!H466,4))=TRUE,\"\",TRUNC(+CBM!H466,4))","v":0}]
["CMQNT_14260",{"$f":"+'Cover Sheet'!$C$24","v":0},"ENTITY_ID",{"$f":"+CBM!F467","v":""},{"$f":"TEXT(+'Cover Sheet'!C$22,\"yyyymmdd\")","v":"19000100"},14260,"--- na ---","--- na ---","--- na ---","--- na ---","--- na ---","--- na ---",{"$f":"IF(ISERROR(TRUNC(+CBM!G467,4))=TRUE,\"\",TRUNC(+CBM!G467,4))","v":0},{"$f":"IF(ISERROR(TRUNC(+CBM!H467,4))=TRUE,\"\",TRUNC(+CBM!H467,4))","v":0}]
["CMQNT_14260",{"$f":"+'Cover Sheet'!$C$24","v":0},"ENTITY_ID",{"$f":"+CBM!F468","v":""},{"$f":"TEXT(+'Cover Sheet'!C$22,\"yyyymmdd\")","v":"19000100"},14260,"--- na ---","--- na ---","--- na ---","--- na ---","--- na ---","--- na ---",{"$f":"IF(ISERROR(TRUNC(+CBM!G468,4))=TRUE,\"\",TRUNC(+CBM!G468,4))","v":0},{"$f":"IF(ISERROR(TRUNC(+CBM!H468,4))=TRUE,\"\",TRUNC(+CBM!H468,4))","v":0}]
["CMQNT_14260",{"$f":"+'Cover Sheet'!$C$24","v":0},"ENTITY_ID",{"$f":"+CBM!F469","v":""},{"$f":"TEXT(+'Cover Sheet'!C$22,\"yyyymmdd\")","v":"19000100"},14260,"--- na ---","--- na ---","--- na ---","--- na ---","--- na ---","--- na ---",{"$f":"IF(ISERROR(TRUNC(+CBM!G469,4))=TRUE,\"\",TRUNC(+CBM!G469,4))","v":0},{"$f":"IF(ISERROR(TRUNC(+CBM!H469,4))=TRUE,\"\",TRUNC(+CBM!H469,4))","v":0}]
["CMQNT_14260",{"$f":"+'Cover Sheet'!$C$24","v":0},"ENTITY_ID",{"$f":"+CBM!F470","v":""},{"$f":"TEXT(+'Cover Sheet'!C$22,\"yyyymmdd\")","v":"19000100"},14260,"--- na ---","--- na ---","--- na ---","--- na ---","--- na ---","--- na ---",{"$f":"IF(ISERROR(TRUNC(+CBM!G470,4))=TRUE,\"\",TRUNC(+CBM!G470,4))","v":0},{"$f":"IF(ISERROR(TRUNC(+CBM!H470,4))=TRUE,\"\",TRUNC(+CBM!H470,4))","v":0}]
["CMQNT_14270",{"$f":"+'Cover Sheet'!$C$24","v":0},"ENTITY_ID","W1",{"$f":"TEXT(+'Cover Sheet'!C$22,\"yyyymmdd\")","v":"19000100"},14270,"--- na ---","--- na ---","--- na ---","--- na ---","--- na ---","--- na ---",{"$f":"IF(ISERROR(TRUNC(+CBM!G471,4))=TRUE,\"\",TRUNC(+CBM!G471,4))","v":0},{"$f":"IF(ISERROR(TRUNC(+CBM!H471,4))=TRUE,\"\",TRUNC(+CBM!H471,4))","v":0}]
["CMQNT_14270",{"$f":"+'Cover Sheet'!$C$24","v":0},"ENTITY_ID",{"$f":"+CBM!F472","v":""},{"$f":"TEXT(+'Cover Sheet'!C$22,\"yyyymmdd\")","v":"19000100"},14270,"--- na ---","--- na ---","--- na ---","--- na ---","--- na ---","--- na ---",{"$f":"IF(ISERROR(TRUNC(+CBM!G472,4))=TRUE,\"\",TRUNC(+CBM!G472,4))","v":0},{"$f":"IF(ISERROR(TRUNC(+CBM!H472,4))=TRUE,\"\",TRUNC(+CBM!H472,4))","v":0}]
["CMQNT_14270",{"$f":"+'Cover Sheet'!$C$24","v":0},"ENTITY_ID",{"$f":"+CBM!F473","v":""},{"$f":"TEXT(+'Cover Sheet'!C$22,\"yyyymmdd\")","v":"19000100"},14270,"--- na ---","--- na ---","--- na ---","--- na ---","--- na ---","--- na ---",{"$f":"IF(ISERROR(TRUNC(+CBM!G473,4))=TRUE,\"\",TRUNC(+CBM!G473,4))","v":0},{"$f":"IF(ISERROR(TRUNC(+CBM!H473,4))=TRUE,\"\",TRUNC(+CBM!H473,4))","v":0}]
["CMQNT_14270",{"$f":"+'Cover Sheet'!$C$24","v":0},"ENTITY_ID",{"$f":"+CBM!F474","v":""},{"$f":"TEXT(+'Cover Sheet'!C$22,\"yyyymmdd\")","v":"19000100"},14270,"--- na ---","--- na ---","--- na ---","--- na ---","--- na ---","--- na ---",{"$f":"IF(ISERROR(TRUNC(+CBM!G474,4))=TRUE,\"\",TRUNC(+CBM!G474,4))","v":0},{"$f":"IF(ISERROR(TRUNC(+CBM!H474,4))=TRUE,\"\",TRUNC(+CBM!H474,4))","v":0}]
["CMQNT_14270",{"$f":"+'Cover Sheet'!$C$24","v":0},"ENTITY_ID",{"$f":"+CBM!F475","v":""},{"$f":"TEXT(+'Cover Sheet'!C$22,\"yyyymmdd\")","v":"19000100"},14270,"--- na ---","--- na ---","--- na ---","--- na ---","--- na ---","--- na ---",{"$f":"IF(ISERROR(TRUNC(+CBM!G475,4))=TRUE,\"\",TRUNC(+CBM!G475,4))","v":0},{"$f":"IF(ISERROR(TRUNC(+CBM!H475,4))=TRUE,\"\",TRUNC(+CBM!H475,4))","v":0}]
["CMQNT_14270",{"$f":"+'Cover Sheet'!$C$24","v":0},"ENTITY_ID",{"$f":"+CBM!F476","v":""},{"$f":"TEXT(+'Cover Sheet'!C$22,\"yyyymmdd\")","v":"19000100"},14270,"--- na ---","--- na ---","--- na ---","--- na ---","--- na ---","--- na ---",{"$f":"IF(ISERROR(TRUNC(+CBM!G476,4))=TRUE,\"\",TRUNC(+CBM!G476,4))","v":0},{"$f":"IF(ISERROR(TRUNC(+CBM!H476,4))=TRUE,\"\",TRUNC(+CBM!H476,4))","v":0}]
["CMQNT_14270",{"$f":"+'Cover Sheet'!$C$24","v":0},"ENTITY_ID",{"$f":"+CBM!F477","v":""},{"$f":"TEXT(+'Cover Sheet'!C$22,\"yyyymmdd\")","v":"19000100"},14270,"--- na ---","--- na ---","--- na ---","--- na ---","--- na ---","--- na ---",{"$f":"IF(ISERROR(TRUNC(+CBM!G477,4))=TRUE,\"\",TRUNC(+CBM!G477,4))","v":0},{"$f":"IF(ISERROR(TRUNC(+CBM!H477,4))=TRUE,\"\",TRUNC(+CBM!H477,4))","v":0}]
["CMQNT_14270",{"$f":"+'Cover Sheet'!$C$24","v":0},"ENTITY_ID",{"$f":"+CBM!F478","v":""},{"$f":"TEXT(+'Cover Sheet'!C$22,\"yyyymmdd\")","v":"19000100"},14270,"--- na ---","--- na ---","--- na ---","--- na ---","--- na ---","--- na ---",{"$f":"IF(ISERROR(TRUNC(+CBM!G478,4))=TRUE,\"\",TRUNC(+CBM!G478,4))","v":0},{"$f":"IF(ISERROR(TRUNC(+CBM!H478,4))=TRUE,\"\",TRUNC(+CBM!H478,4))","v":0}]
["CMQNT_14270",{"$f":"+'Cover Sheet'!$C$24","v":0},"ENTITY_ID",{"$f":"+CBM!F479","v":""},{"$f":"TEXT(+'Cover Sheet'!C$22,\"yyyymmdd\")","v":"19000100"},14270,"--- na ---","--- na ---","--- na ---","--- na ---","--- na ---","--- na ---",{"$f":"IF(ISERROR(TRUNC(+CBM!G479,4))=TRUE,\"\",TRUNC(+CBM!G479,4))","v":0},{"$f":"IF(ISERROR(TRUNC(+CBM!H479,4))=TRUE,\"\",TRUNC(+CBM!H479,4))","v":0}]
["CMQNT_14270",{"$f":"+'Cover Sheet'!$C$24","v":0},"ENTITY_ID",{"$f":"+CBM!F480","v":""},{"$f":"TEXT(+'Cover Sheet'!C$22,\"yyyymmdd\")","v":"19000100"},14270,"--- na ---","--- na ---","--- na ---","--- na ---","--- na ---","--- na ---",{"$f":"IF(ISERROR(TRUNC(+CBM!G480,4))=TRUE,\"\",TRUNC(+CBM!G480,4))","v":0},{"$f":"IF(ISERROR(TRUNC(+CBM!H480,4))=TRUE,\"\",TRUNC(+CBM!H480,4))","v":0}]
["CMQNT_14270",{"$f":"+'Cover Sheet'!$C$24","v":0},"ENTITY_ID",{"$f":"+CBM!F481","v":""},{"$f":"TEXT(+'Cover Sheet'!C$22,\"yyyymmdd\")","v":"19000100"},14270,"--- na ---","--- na ---","--- na ---","--- na ---","--- na ---","--- na ---",{"$f":"IF(ISERROR(TRUNC(+CBM!G481,4))=TRUE,\"\",TRUNC(+CBM!G481,4))","v":0},{"$f":"IF(ISERROR(TRUNC(+CBM!H481,4))=TRUE,\"\",TRUNC(+CBM!H481,4))","v":0}]
["CMQNT_14270",{"$f":"+'Cover Sheet'!$C$24","v":0},"ENTITY_ID",{"$f":"+CBM!F482","v":""},{"$f":"TEXT(+'Cover Sheet'!C$22,\"yyyymmdd\")","v":"19000100"},14270,"--- na ---","--- na ---","--- na ---","--- na ---","--- na ---","--- na ---",{"$f":"IF(ISERROR(TRUNC(+CBM!G482,4))=TRUE,\"\",TRUNC(+CBM!G482,4))","v":0},{"$f":"IF(ISERROR(TRUNC(+CBM!H482,4))=TRUE,\"\",TRUNC(+CBM!H482,4))","v":0}]
["CMQNT_14270",{"$f":"+'Cover Sheet'!$C$24","v":0},"ENTITY_ID",{"$f":"+CBM!F483","v":""},{"$f":"TEXT(+'Cover Sheet'!C$22,\"yyyymmdd\")","v":"19000100"},14270,"--- na ---","--- na ---","--- na ---","--- na ---","--- na ---","--- na ---",{"$f":"IF(ISERROR(TRUNC(+CBM!G483,4))=TRUE,\"\",TRUNC(+CBM!G483,4))","v":0},{"$f":"IF(ISERROR(TRUNC(+CBM!H483,4))=TRUE,\"\",TRUNC(+CBM!H483,4))","v":0}]
["CMQNT_14270",{"$f":"+'Cover Sheet'!$C$24","v":0},"ENTITY_ID",{"$f":"+CBM!F484","v":""},{"$f":"TEXT(+'Cover Sheet'!C$22,\"yyyymmdd\")","v":"19000100"},14270,"--- na ---","--- na ---","--- na ---","--- na ---","--- na ---","--- na ---",{"$f":"IF(ISERROR(TRUNC(+CBM!G484,4))=TRUE,\"\",TRUNC(+CBM!G484,4))","v":0},{"$f":"IF(ISERROR(TRUNC(+CBM!H484,4))=TRUE,\"\",TRUNC(+CBM!H484,4))","v":0}]
["CMQNT_14270",{"$f":"+'Cover Sheet'!$C$24","v":0},"ENTITY_ID",{"$f":"+CBM!F485","v":""},{"$f":"TEXT(+'Cover Sheet'!C$22,\"yyyymmdd\")","v":"19000100"},14270,"--- na ---","--- na ---","--- na ---","--- na ---","--- na ---","--- na ---",{"$f":"IF(ISERROR(TRUNC(+CBM!G485,4))=TRUE,\"\",TRUNC(+CBM!G485,4))","v":0},{"$f":"IF(ISERROR(TRUNC(+CBM!H485,4))=TRUE,\"\",TRUNC(+CBM!H485,4))","v":0}]
["CMQNT_14270",{"$f":"+'Cover Sheet'!$C$24","v":0},"ENTITY_ID",{"$f":"+CBM!F486","v":""},{"$f":"TEXT(+'Cover Sheet'!C$22,\"yyyymmdd\")","v":"19000100"},14270,"--- na ---","--- na ---","--- na ---","--- na ---","--- na ---","--- na ---",{"$f":"IF(ISERROR(TRUNC(+CBM!G486,4))=TRUE,\"\",TRUNC(+CBM!G486,4))","v":0},{"$f":"IF(ISERROR(TRUNC(+CBM!H486,4))=TRUE,\"\",TRUNC(+CBM!H486,4))","v":0}]
["CMQNT_14270",{"$f":"+'Cover Sheet'!$C$24","v":0},"ENTITY_ID",{"$f":"+CBM!F487","v":""},{"$f":"TEXT(+'Cover Sheet'!C$22,\"yyyymmdd\")","v":"19000100"},14270,"--- na ---","--- na ---","--- na ---","--- na ---","--- na ---","--- na ---",{"$f":"IF(ISERROR(TRUNC(+CBM!G487,4))=TRUE,\"\",TRUNC(+CBM!G487,4))","v":0},{"$f":"IF(ISERROR(TRUNC(+CBM!H487,4))=TRUE,\"\",TRUNC(+CBM!H487,4))","v":0}]
["CMQNT_14270",{"$f":"+'Cover Sheet'!$C$24","v":0},"ENTITY_ID",{"$f":"+CBM!F488","v":""},{"$f":"TEXT(+'Cover Sheet'!C$22,\"yyyymmdd\")","v":"19000100"},14270,"--- na ---","--- na ---","--- na ---","--- na ---","--- na ---","--- na ---",{"$f":"IF(ISERROR(TRUNC(+CBM!G488,4))=TRUE,\"\",TRUNC(+CBM!G488,4))","v":0},{"$f":"IF(ISERROR(TRUNC(+CBM!H488,4))=TRUE,\"\",TRUNC(+CBM!H488,4))","v":0}]
["CMQNT_14270",{"$f":"+'Cover Sheet'!$C$24","v":0},"ENTITY_ID",{"$f":"+CBM!F489","v":""},{"$f":"TEXT(+'Cover Sheet'!C$22,\"yyyymmdd\")","v":"19000100"},14270,"--- na ---","--- na ---","--- na ---","--- na ---","--- na ---","--- na ---",{"$f":"IF(ISERROR(TRUNC(+CBM!G489,4))=TRUE,\"\",TRUNC(+CBM!G489,4))","v":0},{"$f":"IF(ISERROR(TRUNC(+CBM!H489,4))=TRUE,\"\",TRUNC(+CBM!H489,4))","v":0}]
["CMQNT_14270",{"$f":"+'Cover Sheet'!$C$24","v":0},"ENTITY_ID",{"$f":"+CBM!F490","v":""},{"$f":"TEXT(+'Cover Sheet'!C$22,\"yyyymmdd\")","v":"19000100"},14270,"--- na ---","--- na ---","--- na ---","--- na ---","--- na ---","--- na ---",{"$f":"IF(ISERROR(TRUNC(+CBM!G490,4))=TRUE,\"\",TRUNC(+CBM!G490,4))","v":0},{"$f":"IF(ISERROR(TRUNC(+CBM!H490,4))=TRUE,\"\",TRUNC(+CBM!H490,4))","v":0}]
["CMQNT_14270",{"$f":"+'Cover Sheet'!$C$24","v":0},"ENTITY_ID",{"$f":"+CBM!F491","v":""},{"$f":"TEXT(+'Cover Sheet'!C$22,\"yyyymmdd\")","v":"19000100"},14270,"--- na ---","--- na ---","--- na ---","--- na ---","--- na ---","--- na ---",{"$f":"IF(ISERROR(TRUNC(+CBM!G491,4))=TRUE,\"\",TRUNC(+CBM!G491,4))","v":0},{"$f":"IF(ISERROR(TRUNC(+CBM!H491,4))=TRUE,\"\",TRUNC(+CBM!H491,4))","v":0}]
["CMQNT_14270",{"$f":"+'Cover Sheet'!$C$24","v":0},"ENTITY_ID",{"$f":"+CBM!F492","v":""},{"$f":"TEXT(+'Cover Sheet'!C$22,\"yyyymmdd\")","v":"19000100"},14270,"--- na ---","--- na ---","--- na ---","--- na ---","--- na ---","--- na ---",{"$f":"IF(ISERROR(TRUNC(+CBM!G492,4))=TRUE,\"\",TRUNC(+CBM!G492,4))","v":0},{"$f":"IF(ISERROR(TRUNC(+CBM!H492,4))=TRUE,\"\",TRUNC(+CBM!H492,4))","v":0}]
["CMQNT_14270",{"$f":"+'Cover Sheet'!$C$24","v":0},"ENTITY_ID",{"$f":"+CBM!F493","v":""},{"$f":"TEXT(+'Cover Sheet'!C$22,\"yyyymmdd\")","v":"19000100"},14270,"--- na ---","--- na ---","--- na ---","--- na ---","--- na ---","--- na ---",{"$f":"IF(ISERROR(TRUNC(+CBM!G493,4))=TRUE,\"\",TRUNC(+CBM!G493,4))","v":0},{"$f":"IF(ISERROR(TRUNC(+CBM!H493,4))=TRUE,\"\",TRUNC(+CBM!H493,4))","v":0}]
["CMQNT_14270",{"$f":"+'Cover Sheet'!$C$24","v":0},"ENTITY_ID",{"$f":"+CBM!F494","v":""},{"$f":"TEXT(+'Cover Sheet'!C$22,\"yyyymmdd\")","v":"19000100"},14270,"--- na ---","--- na ---","--- na ---","--- na ---","--- na ---","--- na ---",{"$f":"IF(ISERROR(TRUNC(+CBM!G494,4))=TRUE,\"\",TRUNC(+CBM!G494,4))","v":0},{"$f":"IF(ISERROR(TRUNC(+CBM!H494,4))=TRUE,\"\",TRUNC(+CBM!H494,4))","v":0}]
["CMQNT_14270",{"$f":"+'Cover Sheet'!$C$24","v":0},"ENTITY_ID",{"$f":"+CBM!F495","v":""},{"$f":"TEXT(+'Cover Sheet'!C$22,\"yyyymmdd\")","v":"19000100"},14270,"--- na ---","--- na ---","--- na ---","--- na ---","--- na ---","--- na ---",{"$f":"IF(ISERROR(TRUNC(+CBM!G495,4))=TRUE,\"\",TRUNC(+CBM!G495,4))","v":0},{"$f":"IF(ISERROR(TRUNC(+CBM!H495,4))=TRUE,\"\",TRUNC(+CBM!H495,4))","v":0}]
["CMQNT_14270",{"$f":"+'Cover Sheet'!$C$24","v":0},"ENTITY_ID",{"$f":"+CBM!F496","v":""},{"$f":"TEXT(+'Cover Sheet'!C$22,\"yyyymmdd\")","v":"19000100"},14270,"--- na ---","--- na ---","--- na ---","--- na ---","--- na ---","--- na ---",{"$f":"IF(ISERROR(TRUNC(+CBM!G496,4))=TRUE,\"\",TRUNC(+CBM!G496,4))","v":0},{"$f":"IF(ISERROR(TRUNC(+CBM!H496,4))=TRUE,\"\",TRUNC(+CBM!H496,4))","v":0}]
["CMQNT_14270",{"$f":"+'Cover Sheet'!$C$24","v":0},"ENTITY_ID",{"$f":"+CBM!F497","v":""},{"$f":"TEXT(+'Cover Sheet'!C$22,\"yyyymmdd\")","v":"19000100"},14270,"--- na ---","--- na ---","--- na ---","--- na ---","--- na ---","--- na ---",{"$f":"IF(ISERROR(TRUNC(+CBM!G497,4))=TRUE,\"\",TRUNC(+CBM!G497,4))","v":0},{"$f":"IF(ISERROR(TRUNC(+CBM!H497,4))=TRUE,\"\",TRUNC(+CBM!H497,4))","v":0}]
["CMQNT_14270",{"$f":"+'Cover Sheet'!$C$24","v":0},"ENTITY_ID",{"$f":"+CBM!F498","v":""},{"$f":"TEXT(+'Cover Sheet'!C$22,\"yyyymmdd\")","v":"19000100"},14270,"--- na ---","--- na ---","--- na ---","--- na ---","--- na ---","--- na ---",{"$f":"IF(ISERROR(TRUNC(+CBM!G498,4))=TRUE,\"\",TRUNC(+CBM!G498,4))","v":0},{"$f":"IF(ISERROR(TRUNC(+CBM!H498,4))=TRUE,\"\",TRUNC(+CBM!H498,4))","v":0}]
["CMQNT_14270",{"$f":"+'Cover Sheet'!$C$24","v":0},"ENTITY_ID",{"$f":"+CBM!F499","v":""},{"$f":"TEXT(+'Cover Sheet'!C$22,\"yyyymmdd\")","v":"19000100"},14270,"--- na ---","--- na ---","--- na ---","--- na ---","--- na ---","--- na ---",{"$f":"IF(ISERROR(TRUNC(+CBM!G499,4))=TRUE,\"\",TRUNC(+CBM!G499,4))","v":0},{"$f":"IF(ISERROR(TRUNC(+CBM!H499,4))=TRUE,\"\",TRUNC(+CBM!H499,4))","v":0}]
["CMQNT_14270",{"$f":"+'Cover Sheet'!$C$24","v":0},"ENTITY_ID",{"$f":"+CBM!F500","v":""},{"$f":"TEXT(+'Cover Sheet'!C$22,\"yyyymmdd\")","v":"19000100"},14270,"--- na ---","--- na ---","--- na ---","--- na ---","--- na ---","--- na ---",{"$f":"IF(ISERROR(TRUNC(+CBM!G500,4))=TRUE,\"\",TRUNC(+CBM!G500,4))","v":0},{"$f":"IF(ISERROR(TRUNC(+CBM!H500,4))=TRUE,\"\",TRUNC(+CBM!H500,4))","v":0}]
["CMQNT_14270",{"$f":"+'Cover Sheet'!$C$24","v":0},"ENTITY_ID",{"$f":"+CBM!F501","v":""},{"$f":"TEXT(+'Cover Sheet'!C$22,\"yyyymmdd\")","v":"19000100"},14270,"--- na ---","--- na ---","--- na ---","--- na ---","--- na ---","--- na ---",{"$f":"IF(ISERROR(TRUNC(+CBM!G501,4))=TRUE,\"\",TRUNC(+CBM!G501,4))","v":0},{"$f":"IF(ISERROR(TRUNC(+CBM!H501,4))=TRUE,\"\",TRUNC(+CBM!H501,4))","v":0}]
["CMQNT_14270",{"$f":"+'Cover Sheet'!$C$24","v":0},"ENTITY_ID",{"$f":"+CBM!F502","v":""},{"$f":"TEXT(+'Cover Sheet'!C$22,\"yyyymmdd\")","v":"19000100"},14270,"--- na ---","--- na ---","--- na ---","--- na ---","--- na ---","--- na ---",{"$f":"IF(ISERROR(TRUNC(+CBM!G502,4))=TRUE,\"\",TRUNC(+CBM!G502,4))","v":0},{"$f":"IF(ISERROR(TRUNC(+CBM!H502,4))=TRUE,\"\",TRUNC(+CBM!H502,4))","v":0}]
["CMQNT_14270",{"$f":"+'Cover Sheet'!$C$24","v":0},"ENTITY_ID",{"$f":"+CBM!F503","v":""},{"$f":"TEXT(+'Cover Sheet'!C$22,\"yyyymmdd\")","v":"19000100"},14270,"--- na ---","--- na ---","--- na ---","--- na ---","--- na ---","--- na ---",{"$f":"IF(ISERROR(TRUNC(+CBM!G503,4))=TRUE,\"\",TRUNC(+CBM!G503,4))","v":0},{"$f":"IF(ISERROR(TRUNC(+CBM!H503,4))=TRUE,\"\",TRUNC(+CBM!H503,4))","v":0}]
["CMQNT_14270",{"$f":"+'Cover Sheet'!$C$24","v":0},"ENTITY_ID",{"$f":"+CBM!F504","v":""},{"$f":"TEXT(+'Cover Sheet'!C$22,\"yyyymmdd\")","v":"19000100"},14270,"--- na ---","--- na ---","--- na ---","--- na ---","--- na ---","--- na ---",{"$f":"IF(ISERROR(TRUNC(+CBM!G504,4))=TRUE,\"\",TRUNC(+CBM!G504,4))","v":0},{"$f":"IF(ISERROR(TRUNC(+CBM!H504,4))=TRUE,\"\",TRUNC(+CBM!H504,4))","v":0}]
["CMQNT_14270",{"$f":"+'Cover Sheet'!$C$24","v":0},"ENTITY_ID",{"$f":"+CBM!F505","v":""},{"$f":"TEXT(+'Cover Sheet'!C$22,\"yyyymmdd\")","v":"19000100"},14270,"--- na ---","--- na ---","--- na ---","--- na ---","--- na ---","--- na ---",{"$f":"IF(ISERROR(TRUNC(+CBM!G505,4))=TRUE,\"\",TRUNC(+CBM!G505,4))","v":0},{"$f":"IF(ISERROR(TRUNC(+CBM!H505,4))=TRUE,\"\",TRUNC(+CBM!H505,4))","v":0}]
["CMQNT_14270",{"$f":"+'Cover Sheet'!$C$24","v":0},"ENTITY_ID",{"$f":"+CBM!F506","v":""},{"$f":"TEXT(+'Cover Sheet'!C$22,\"yyyymmdd\")","v":"19000100"},14270,"--- na ---","--- na ---","--- na ---","--- na ---","--- na ---","--- na ---",{"$f":"IF(ISERROR(TRUNC(+CBM!G506,4))=TRUE,\"\",TRUNC(+CBM!G506,4))","v":0},{"$f":"IF(ISERROR(TRUNC(+CBM!H506,4))=TRUE,\"\",TRUNC(+CBM!H506,4))","v":0}]
["CMQNT_14270",{"$f":"+'Cover Sheet'!$C$24","v":0},"ENTITY_ID",{"$f":"+CBM!F507","v":""},{"$f":"TEXT(+'Cover Sheet'!C$22,\"yyyymmdd\")","v":"19000100"},14270,"--- na ---","--- na ---","--- na ---","--- na ---","--- na ---","--- na ---",{"$f":"IF(ISERROR(TRUNC(+CBM!G507,4))=TRUE,\"\",TRUNC(+CBM!G507,4))","v":0},{"$f":"IF(ISERROR(TRUNC(+CBM!H507,4))=TRUE,\"\",TRUNC(+CBM!H507,4))","v":0}]
["CMQNT_14270",{"$f":"+'Cover Sheet'!$C$24","v":0},"ENTITY_ID",{"$f":"+CBM!F508","v":""},{"$f":"TEXT(+'Cover Sheet'!C$22,\"yyyymmdd\")","v":"19000100"},14270,"--- na ---","--- na ---","--- na ---","--- na ---","--- na ---","--- na ---",{"$f":"IF(ISERROR(TRUNC(+CBM!G508,4))=TRUE,\"\",TRUNC(+CBM!G508,4))","v":0},{"$f":"IF(ISERROR(TRUNC(+CBM!H508,4))=TRUE,\"\",TRUNC(+CBM!H508,4))","v":0}]
["CMQNT_14270",{"$f":"+'Cover Sheet'!$C$24","v":0},"ENTITY_ID",{"$f":"+CBM!F509","v":""},{"$f":"TEXT(+'Cover Sheet'!C$22,\"yyyymmdd\")","v":"19000100"},14270,"--- na ---","--- na ---","--- na ---","--- na ---","--- na ---","--- na ---",{"$f":"IF(ISERROR(TRUNC(+CBM!G509,4))=TRUE,\"\",TRUNC(+CBM!G509,4))","v":0},{"$f":"IF(ISERROR(TRUNC(+CBM!H509,4))=TRUE,\"\",TRUNC(+CBM!H509,4))","v":0}]
["CMQNT_14270",{"$f":"+'Cover Sheet'!$C$24","v":0},"ENTITY_ID",{"$f":"+CBM!F510","v":""},{"$f":"TEXT(+'Cover Sheet'!C$22,\"yyyymmdd\")","v":"19000100"},14270,"--- na ---","--- na ---","--- na ---","--- na ---","--- na ---","--- na ---",{"$f":"IF(ISERROR(TRUNC(+CBM!G510,4))=TRUE,\"\",TRUNC(+CBM!G510,4))","v":0},{"$f":"IF(ISERROR(TRUNC(+CBM!H510,4))=TRUE,\"\",TRUNC(+CBM!H510,4))","v":0}]
["CMQNT_14270",{"$f":"+'Cover Sheet'!$C$24","v":0},"ENTITY_ID",{"$f":"+CBM!F511","v":""},{"$f":"TEXT(+'Cover Sheet'!C$22,\"yyyymmdd\")","v":"19000100"},14270,"--- na ---","--- na ---","--- na ---","--- na ---","--- na ---","--- na ---",{"$f":"IF(ISERROR(TRUNC(+CBM!G511,4))=TRUE,\"\",TRUNC(+CBM!G511,4))","v":0},{"$f":"IF(ISERROR(TRUNC(+CBM!H511,4))=TRUE,\"\",TRUNC(+CBM!H511,4))","v":0}]
["CMQNT_14270",{"$f":"+'Cover Sheet'!$C$24","v":0},"ENTITY_ID",{"$f":"+CBM!F512","v":""},{"$f":"TEXT(+'Cover Sheet'!C$22,\"yyyymmdd\")","v":"19000100"},14270,"--- na ---","--- na ---","--- na ---","--- na ---","--- na ---","--- na ---",{"$f":"IF(ISERROR(TRUNC(+CBM!G512,4))=TRUE,\"\",TRUNC(+CBM!G512,4))","v":0},{"$f":"IF(ISERROR(TRUNC(+CBM!H512,4))=TRUE,\"\",TRUNC(+CBM!H512,4))","v":0}]
["CMQNT_14270",{"$f":"+'Cover Sheet'!$C$24","v":0},"ENTITY_ID",{"$f":"+CBM!F513","v":""},{"$f":"TEXT(+'Cover Sheet'!C$22,\"yyyymmdd\")","v":"19000100"},14270,"--- na ---","--- na ---","--- na ---","--- na ---","--- na ---","--- na ---",{"$f":"IF(ISERROR(TRUNC(+CBM!G513,4))=TRUE,\"\",TRUNC(+CBM!G513,4))","v":0},{"$f":"IF(ISERROR(TRUNC(+CBM!H513,4))=TRUE,\"\",TRUNC(+CBM!H513,4))","v":0}]
["CMQNT_14270",{"$f":"+'Cover Sheet'!$C$24","v":0},"ENTITY_ID",{"$f":"+CBM!F514","v":""},{"$f":"TEXT(+'Cover Sheet'!C$22,\"yyyymmdd\")","v":"19000100"},14270,"--- na ---","--- na ---","--- na ---","--- na ---","--- na ---","--- na ---",{"$f":"IF(ISERROR(TRUNC(+CBM!G514,4))=TRUE,\"\",TRUNC(+CBM!G514,4))","v":0},{"$f":"IF(ISERROR(TRUNC(+CBM!H514,4))=TRUE,\"\",TRUNC(+CBM!H514,4))","v":0}]
["CMQNT_14270",{"$f":"+'Cover Sheet'!$C$24","v":0},"ENTITY_ID",{"$f":"+CBM!F515","v":""},{"$f":"TEXT(+'Cover Sheet'!C$22,\"yyyymmdd\")","v":"19000100"},14270,"--- na ---","--- na ---","--- na ---","--- na ---","--- na ---","--- na ---",{"$f":"IF(ISERROR(TRUNC(+CBM!G515,4))=TRUE,\"\",TRUNC(+CBM!G515,4))","v":0},{"$f":"IF(ISERROR(TRUNC(+CBM!H515,4))=TRUE,\"\",TRUNC(+CBM!H515,4))","v":0}]
["CMQNT_22000",{"$f":"+'Cover Sheet'!$C$24","v":0},"ENTITY_ID","--- na ---",{"$f":"TEXT(+'Cover Sheet'!C$22,\"yyyymmdd\")","v":"19000100"},22000,"--- na ---","--- na ---",{"$f":"IF(ISERROR(TRUNC(QNST04!E10,4))=TRUE,\"\",TRUNC(QNST04!E10,4))","v":0},"--- na ---","--- na ---","--- na ---","--- na ---","--- na ---"]
["CMQNT_22010",{"$f":"+'Cover Sheet'!$C$24","v":0},"ENTITY_ID","--- na ---",{"$f":"TEXT(+'Cover Sheet'!C$22,\"yyyymmdd\")","v":"19000100"},22010,"--- na ---","--- na ---",{"$f":"IF(ISERROR(TRUNC(QNST04!E11,4))=TRUE,\"\",TRUNC(QNST04!E11,4))","v":0},"--- na ---","--- na ---","--- na ---","--- na ---","--- na ---"]
["CMQNT_22020",{"$f":"+'Cover Sheet'!$C$24","v":0},"ENTITY_ID","--- na ---",{"$f":"TEXT(+'Cover Sheet'!C$22,\"yyyymmdd\")","v":"19000100"},22020,"--- na ---","--- na ---",{"$f":"IF(ISERROR(TRUNC(QNST04!E12,4))=TRUE,\"\",TRUNC(QNST04!E12,4))","v":0},"--- na ---","--- na ---",{"$f":"IF(ISERROR(TRUNC(+QNST04!D12,4))=TRUE,\"\",TRUNC(+QNST04!D12,4))","v":0},"--- na ---","--- na ---"]
["CMQNT_22030",{"$f":"+'Cover Sheet'!$C$24","v":0},"ENTITY_ID","--- na ---",{"$f":"TEXT(+'Cover Sheet'!C$22,\"yyyymmdd\")","v":"19000100"},22030,"--- na ---","--- na ---",{"$f":"IF(ISERROR(TRUNC(QNST04!E13,4))=TRUE,\"\",TRUNC(QNST04!E13,4))","v":0},"--- na ---","--- na ---",{"$f":"IF(ISERROR(TRUNC(+QNST04!D13,4))=TRUE,\"\",TRUNC(+QNST04!D13,4))","v":0},"--- na ---","--- na ---"]
["CMQNT_22040",{"$f":"+'Cover Sheet'!$C$24","v":0},"ENTITY_ID","--- na ---",{"$f":"TEXT(+'Cover Sheet'!C$22,\"yyyymmdd\")","v":"19000100"},22040,"--- na ---","--- na ---",{"$f":"IF(ISERROR(TRUNC(QNST04!E14,4))=TRUE,\"\",TRUNC(QNST04!E14,4))","v":0},"--- na ---","--- na ---",{"$f":"IF(ISERROR(TRUNC(+QNST04!D14,4))=TRUE,\"\",TRUNC(+QNST04!D14,4))","v":0},"--- na ---","--- na ---"]
["CMQNT_22050",{"$f":"+'Cover Sheet'!$C$24","v":0},"ENTITY_ID","--- na ---",{"$f":"TEXT(+'Cover Sheet'!C$22,\"yyyymmdd\")","v":"19000100"},22050,"--- na ---","--- na ---",{"$f":"IF(ISERROR(TRUNC(QNST04!E15,4))=TRUE,\"\",TRUNC(QNST04!E15,4))","v":0},"--- na ---","--- na ---",{"$f":"IF(ISERROR(TRUNC(+QNST04!D15,4))=TRUE,\"\",TRUNC(+QNST04!D15,4))","v":0},"--- na ---","--- na ---"]
["CMQNT_22060",{"$f":"+'Cover Sheet'!$C$24","v":0},"ENTITY_ID","--- na ---",{"$f":"TEXT(+'Cover Sheet'!C$22,\"yyyymmdd\")","v":"19000100"},22060,"--- na ---","--- na ---",{"$f":"IF(ISERROR(TRUNC(QNST04!E16,4))=TRUE,\"\",TRUNC(QNST04!E16,4))","v":0},"--- na ---","--- na ---",{"$f":"IF(ISERROR(TRUNC(+QNST04!D16,4))=TRUE,\"\",TRUNC(+QNST04!D16,4))","v":0},"--- na ---","--- na ---"]
["CMQNT_22070",{"$f":"+'Cover Sheet'!$C$24","v":0},"ENTITY_ID","--- na ---",{"$f":"TEXT(+'Cover Sheet'!C$22,\"yyyymmdd\")","v":"19000100"},22070,"--- na ---","--- na ---",{"$f":"IF(ISERROR(TRUNC(QNST04!E17,4))=TRUE,\"\",TRUNC(QNST04!E17,4))","v":0},"--- na ---","--- na ---",{"$f":"IF(ISERROR(TRUNC(+QNST04!D17,4))=TRUE,\"\",TRUNC(+QNST04!D17,4))","v":0},"--- na ---","--- na ---"]
["CMQNT_22080",{"$f":"+'Cover Sheet'!$C$24","v":0},"ENTITY_ID","--- na ---",{"$f":"TEXT(+'Cover Sheet'!C$22,\"yyyymmdd\")","v":"19000100"},22080,"--- na ---","--- na ---",{"$f":"IF(ISERROR(TRUNC(QNST04!E18,4))=TRUE,\"\",TRUNC(QNST04!E18,4))","v":0},"--- na ---","--- na ---",{"$f":"IF(ISERROR(TRUNC(+QNST04!D18,4))=TRUE,\"\",TRUNC(+QNST04!D18,4))","v":0},"--- na ---","--- na ---"]
["CMQNT_22090",{"$f":"+'Cover Sheet'!$C$24","v":0},"ENTITY_ID","--- na ---",{"$f":"TEXT(+'Cover Sheet'!C$22,\"yyyymmdd\")","v":"19000100"},22090,"--- na ---","--- na ---",{"$f":"IF(ISERROR(TRUNC(QNST04!E19,4))=TRUE,\"\",TRUNC(QNST04!E19,4))","v":0},"--- na ---","--- na ---",{"$f":"IF(ISERROR(TRUNC(+QNST04!D19,4))=TRUE,\"\",TRUNC(+QNST04!D19,4))","v":0},"--- na ---","--- na ---"]
["CMQNT_22100",{"$f":"+'Cover Sheet'!$C$24","v":0},"ENTITY_ID","--- na ---",{"$f":"TEXT(+'Cover Sheet'!C$22,\"yyyymmdd\")","v":"19000100"},22100,"--- na ---","--- na ---",{"$f":"IF(ISERROR(TRUNC(QNST04!E20,4))=TRUE,\"\",TRUNC(QNST04!E20,4))","v":0},"--- na ---","--- na ---",{"$f":"IF(ISERROR(TRUNC(+QNST04!D20,4))=TRUE,\"\",TRUNC(+QNST04!D20,4))","v":0},"--- na ---","--- na ---"]
["CMQNT_22110",{"$f":"+'Cover Sheet'!$C$24","v":0},"ENTITY_ID","--- na ---",{"$f":"TEXT(+'Cover Sheet'!C$22,\"yyyymmdd\")","v":"19000100"},22110,"--- na ---","--- na ---",{"$f":"IF(ISERROR(TRUNC(QNST04!E21,4))=TRUE,\"\",TRUNC(QNST04!E21,4))","v":0},"--- na ---","--- na ---",{"$f":"IF(ISERROR(TRUNC(+QNST04!D21,4))=TRUE,\"\",TRUNC(+QNST04!D21,4))","v":0},"--- na ---","--- na ---"]
["CMQNT_22120",{"$f":"+'Cover Sheet'!$C$24","v":0},"ENTITY_ID","--- na ---",{"$f":"TEXT(+'Cover Sheet'!C$22,\"yyyymmdd\")","v":"19000100"},22120,"--- na ---","--- na ---",{"$f":"IF(ISERROR(TRUNC(QNST04!E22,4))=TRUE,\"\",TRUNC(QNST04!E22,4))","v":0},"--- na ---","--- na ---",{"$f":"IF(ISERROR(TRUNC(+QNST04!D22,4))=TRUE,\"\",TRUNC(+QNST04!D22,4))","v":0},"--- na ---","--- na ---"]
["CMQNT_22130",{"$f":"+'Cover Sheet'!$C$24","v":0},"ENTITY_ID","--- na ---",{"$f":"TEXT(+'Cover Sheet'!C$22,\"yyyymmdd\")","v":"19000100"},22130,"--- na ---","--- na ---",{"$f":"IF(ISERROR(TRUNC(QNST04!E23,4))=TRUE,\"\",TRUNC(QNST04!E23,4))","v":0},"--- na ---","--- na ---",{"$f":"IF(ISERROR(TRUNC(+QNST04!D23,4))=TRUE,\"\",TRUNC(+QNST04!D23,4))","v":0},"--- na ---","--- na ---"]
["CMQNT_22140",{"$f":"+'Cover Sheet'!$C$24","v":0},"ENTITY_ID","--- na ---",{"$f":"TEXT(+'Cover Sheet'!C$22,\"yyyymmdd\")","v":"19000100"},22140,"--- na ---","--- na ---",{"$f":"IF(ISERROR(TRUNC(QNST04!E24,4))=TRUE,\"\",TRUNC(QNST04!E24,4))","v":0},"--- na ---","--- na ---",{"$f":"IF(ISERROR(TRUNC(+QNST04!D24,4))=TRUE,\"\",TRUNC(+QNST04!D24,4))","v":0},"--- na ---","--- na ---"]
["CMQNT_22150",{"$f":"+'Cover Sheet'!$C$24","v":0},"ENTITY_ID","--- na ---",{"$f":"TEXT(+'Cover Sheet'!C$22,\"yyyymmdd\")","v":"19000100"},22150,"--- na ---","--- na ---",{"$f":"IF(ISERROR(TRUNC(QNST04!E25,4))=TRUE,\"\",TRUNC(QNST04!E25,4))","v":0},"--- na ---","--- na ---",{"$f":"IF(ISERROR(TRUNC(+QNST04!D25,4))=TRUE,\"\",TRUNC(+QNST04!D25,4))","v":0},"--- na ---","--- na ---"]
["CMQNT_22160",{"$f":"+'Cover Sheet'!$C$24","v":0},"ENTITY_ID","--- na ---",{"$f":"TEXT(+'Cover Sheet'!C$22,\"yyyymmdd\")","v":"19000100"},22160,"--- na ---","--- na ---",{"$f":"IF(ISERROR(TRUNC(QNST04!E26,4))=TRUE,\"\",TRUNC(QNST04!E26,4))","v":0},"--- na ---","--- na ---",{"$f":"IF(ISERROR(TRUNC(+QNST04!D26,4))=TRUE,\"\",TRUNC(+QNST04!D26,4))","v":0},"--- na ---","--- na ---"]
["CMQNT_22170",{"$f":"+'Cover Sheet'!$C$24","v":0},"ENTITY_ID","--- na ---",{"$f":"TEXT(+'Cover Sheet'!C$22,\"yyyymmdd\")","v":"19000100"},22170,"--- na ---","--- na ---",{"$f":"IF(ISERROR(TRUNC(QNST04!E27,4))=TRUE,\"\",TRUNC(QNST04!E27,4))","v":0},"--- na ---","--- na ---",{"$f":"IF(ISERROR(TRUNC(+QNST04!D27,4))=TRUE,\"\",TRUNC(+QNST04!D27,4))","v":0},"--- na ---","--- na ---"]
["CMQNT_22180",{"$f":"+'Cover Sheet'!$C$24","v":0},"ENTITY_ID","--- na ---",{"$f":"TEXT(+'Cover Sheet'!C$22,\"yyyymmdd\")","v":"19000100"},22180,"--- na ---","--- na ---",{"$f":"IF(ISERROR(TRUNC(QNST04!E28,4))=TRUE,\"\",TRUNC(QNST04!E28,4))","v":0},"--- na ---","--- na ---",{"$f":"IF(ISERROR(TRUNC(+QNST04!D28,4))=TRUE,\"\",TRUNC(+QNST04!D28,4))","v":0},"--- na ---","--- na ---"]
["CMQNT_22190",{"$f":"+'Cover Sheet'!$C$24","v":0},"ENTITY_ID","--- na ---",{"$f":"TEXT(+'Cover Sheet'!C$22,\"yyyymmdd\")","v":"19000100"},22190,"--- na ---","--- na ---",{"$f":"IF(ISERROR(TRUNC(QNST04!E29,4))=TRUE,\"\",TRUNC(QNST04!E29,4))","v":0},"--- na ---","--- na ---",{"$f":"IF(ISERROR(TRUNC(+QNST04!D29,4))=TRUE,\"\",TRUNC(+QNST04!D29,4))","v":0},"--- na ---","--- na ---"]
["CMQNT_22200",{"$f":"+'Cover Sheet'!$C$24","v":0},"ENTITY_ID","--- na ---",{"$f":"TEXT(+'Cover Sheet'!C$22,\"yyyymmdd\")","v":"19000100"},22200,"--- na ---","--- na ---",{"$f":"IF(ISERROR(TRUNC(QNST04!E30,4))=TRUE,\"\",TRUNC(QNST04!E30,4))","v":0},"--- na ---","--- na ---",{"$f":"IF(ISERROR(TRUNC(+QNST04!D30,4))=TRUE,\"\",TRUNC(+QNST04!D30,4))","v":0},"--- na ---","--- na ---"]
["CMQNT_22210",{"$f":"+'Cover Sheet'!$C$24","v":0},"ENTITY_ID","--- na ---",{"$f":"TEXT(+'Cover Sheet'!C$22,\"yyyymmdd\")","v":"19000100"},22210,"--- na ---","--- na ---",{"$f":"IF(ISERROR(TRUNC(QNST04!E31,4))=TRUE,\"\",TRUNC(QNST04!E31,4))","v":0},"--- na ---","--- na ---",{"$f":"IF(ISERROR(TRUNC(+QNST04!D31,4))=TRUE,\"\",TRUNC(+QNST04!D31,4))","v":0},"--- na ---","--- na ---"]
["CMQNT_22220",{"$f":"+'Cover Sheet'!$C$24","v":0},"ENTITY_ID","--- na ---",{"$f":"TEXT(+'Cover Sheet'!C$22,\"yyyymmdd\")","v":"19000100"},22220,"--- na ---","--- na ---",{"$f":"IF(ISERROR(TRUNC(QNST04!E32,4))=TRUE,\"\",TRUNC(QNST04!E32,4))","v":0},"--- na ---","--- na ---",{"$f":"IF(ISERROR(TRUNC(+QNST04!D32,4))=TRUE,\"\",TRUNC(+QNST04!D32,4))","v":0},"--- na ---","--- na ---"]
["CMQNT_22230",{"$f":"+'Cover Sheet'!$C$24","v":0},"ENTITY_ID","--- na ---",{"$f":"TEXT(+'Cover Sheet'!C$22,\"yyyymmdd\")","v":"19000100"},22230,"--- na ---","--- na ---",{"$f":"IF(ISERROR(TRUNC(QNST04!E33,4))=TRUE,\"\",TRUNC(QNST04!E33,4))","v":0},"--- na ---","--- na ---",{"$f":"IF(ISERROR(TRUNC(+QNST04!D33,4))=TRUE,\"\",TRUNC(+QNST04!D33,4))","v":0},"--- na ---","--- na ---"]
["CMQNT_22240",{"$f":"+'Cover Sheet'!$C$24","v":0},"ENTITY_ID","--- na ---",{"$f":"TEXT(+'Cover Sheet'!C$22,\"yyyymmdd\")","v":"19000100"},22240,"--- na ---","--- na ---",{"$f":"IF(ISERROR(TRUNC(QNST04!E34,4))=TRUE,\"\",TRUNC(QNST04!E34,4))","v":0},"--- na ---","--- na ---",{"$f":"IF(ISERROR(TRUNC(+QNST04!D34,4))=TRUE,\"\",TRUNC(+QNST04!D34,4))","v":0},"--- na ---","--- na ---"]
["CMQNT_22250",{"$f":"+'Cover Sheet'!$C$24","v":0},"ENTITY_ID","--- na ---",{"$f":"TEXT(+'Cover Sheet'!C$22,\"yyyymmdd\")","v":"19000100"},22250,"--- na ---","--- na ---",{"$f":"IF(ISERROR(TRUNC(QNST04!E35,4))=TRUE,\"\",TRUNC(QNST04!E35,4))","v":0},"--- na ---","--- na ---",{"$f":"IF(ISERROR(TRUNC(+QNST04!D35,4))=TRUE,\"\",TRUNC(+QNST04!D35,4))","v":0},"--- na ---","--- na ---"]
["CMQNT_22260",{"$f":"+'Cover Sheet'!$C$24","v":0},"ENTITY_ID","--- na ---",{"$f":"TEXT(+'Cover Sheet'!C$22,\"yyyymmdd\")","v":"19000100"},22260,"--- na ---","--- na ---",{"$f":"IF(ISERROR(TRUNC(QNST04!E36,4))=TRUE,\"\",TRUNC(QNST04!E36,4))","v":0},"--- na ---","--- na ---",{"$f":"IF(ISERROR(TRUNC(+QNST04!D36,4))=TRUE,\"\",TRUNC(+QNST04!D36,4))","v":0},"--- na ---","--- na ---"]
["CMQNT_22270",{"$f":"+'Cover Sheet'!$C$24","v":0},"ENTITY_ID","--- na ---",{"$f":"TEXT(+'Cover Sheet'!C$22,\"yyyymmdd\")","v":"19000100"},22270,"--- na ---","--- na ---",{"$f":"IF(ISERROR(TRUNC(QNST04!E37,4))=TRUE,\"\",TRUNC(QNST04!E37,4))","v":0},"--- na ---","--- na ---",{"$f":"IF(ISERROR(TRUNC(+QNST04!D37,4))=TRUE,\"\",TRUNC(+QNST04!D37,4))","v":0},"--- na ---","--- na ---"]
["CMQNT_22280",{"$f":"+'Cover Sheet'!$C$24","v":0},"ENTITY_ID","--- na ---",{"$f":"TEXT(+'Cover Sheet'!C$22,\"yyyymmdd\")","v":"19000100"},22280,"--- na ---","--- na ---",{"$f":"IF(ISERROR(TRUNC(QNST04!E38,4))=TRUE,\"\",TRUNC(QNST04!E38,4))","v":0},"--- na ---","--- na ---",{"$f":"IF(ISERROR(TRUNC(+QNST04!D38,4))=TRUE,\"\",TRUNC(+QNST04!D38,4))","v":0},"--- na ---","--- na ---"]
["CMQNT_22290",{"$f":"+'Cover Sheet'!$C$24","v":0},"ENTITY_ID","--- na ---",{"$f":"TEXT(+'Cover Sheet'!C$22,\"yyyymmdd\")","v":"19000100"},22290,"--- na ---","--- na ---",{"$f":"IF(ISERROR(TRUNC(QNST04!E39,4))=TRUE,\"\",TRUNC(QNST04!E39,4))","v":0},"--- na ---","--- na ---",{"$f":"IF(ISERROR(TRUNC(+QNST04!D39,4))=TRUE,\"\",TRUNC(+QNST04!D39,4))","v":0},"--- na ---","--- na ---"]
["CMQNT_22300",{"$f":"+'Cover Sheet'!$C$24","v":0},"ENTITY_ID","--- na ---",{"$f":"TEXT(+'Cover Sheet'!C$22,\"yyyymmdd\")","v":"19000100"},22300,"--- na ---","--- na ---",{"$f":"IF(ISERROR(TRUNC(QNST04!E40,4))=TRUE,\"\",TRUNC(QNST04!E40,4))","v":0},"--- na ---","--- na ---",{"$f":"IF(ISERROR(TRUNC(+QNST04!D40,4))=TRUE,\"\",TRUNC(+QNST04!D40,4))","v":0},"--- na ---","--- na ---"]
["CMQNT_22310",{"$f":"+'Cover Sheet'!$C$24","v":0},"ENTITY_ID","--- na ---",{"$f":"TEXT(+'Cover Sheet'!C$22,\"yyyymmdd\")","v":"19000100"},22310,"--- na ---","--- na ---",{"$f":"IF(ISERROR(TRUNC(QNST04!E41,4))=TRUE,\"\",TRUNC(QNST04!E41,4))","v":0},"--- na ---","--- na ---",{"$f":"IF(ISERROR(TRUNC(+QNST04!D41,4))=TRUE,\"\",TRUNC(+QNST04!D41,4))","v":0},"--- na ---","--- na ---"]
["CMQNT_22320",{"$f":"+'Cover Sheet'!$C$24","v":0},"ENTITY_ID","--- na ---",{"$f":"TEXT(+'Cover Sheet'!C$22,\"yyyymmdd\")","v":"19000100"},22320,"--- na ---","--- na ---",{"$f":"IF(ISERROR(TRUNC(QNST04!E42,4))=TRUE,\"\",TRUNC(QNST04!E42,4))","v":0},"--- na ---","--- na ---",{"$f":"IF(ISERROR(TRUNC(+QNST04!D42,4))=TRUE,\"\",TRUNC(+QNST04!D42,4))","v":0},"--- na ---","--- na ---"]
["CMQNT_22330",{"$f":"+'Cover Sheet'!$C$24","v":0},"ENTITY_ID","--- na ---",{"$f":"TEXT(+'Cover Sheet'!C$22,\"yyyymmdd\")","v":"19000100"},22330,"--- na ---","--- na ---",{"$f":"IF(ISERROR(TRUNC(QNST04!E43,4))=TRUE,\"\",TRUNC(QNST04!E43,4))","v":0},"--- na ---","--- na ---",{"$f":"IF(ISERROR(TRUNC(+QNST04!D43,4))=TRUE,\"\",TRUNC(+QNST04!D43,4))","v":0},"--- na ---","--- na ---"]
["CMQNT_22340",{"$f":"+'Cover Sheet'!$C$24","v":0},"ENTITY_ID","--- na ---",{"$f":"TEXT(+'Cover Sheet'!C$22,\"yyyymmdd\")","v":"19000100"},22340,"--- na ---","--- na ---",{"$f":"IF(ISERROR(TRUNC(QNST04!E44,4))=TRUE,\"\",TRUNC(QNST04!E44,4))","v":0},"--- na ---","--- na ---",{"$f":"IF(ISERROR(TRUNC(+QNST04!D44,4))=TRUE,\"\",TRUNC(+QNST04!D44,4))","v":0},"--- na ---","--- na ---"]
["CMQNT_22350",{"$f":"+'Cover Sheet'!$C$24","v":0},"ENTITY_ID","--- na ---",{"$f":"TEXT(+'Cover Sheet'!C$22,\"yyyymmdd\")","v":"19000100"},22350,"--- na ---","--- na ---",{"$f":"IF(ISERROR(TRUNC(QNST04!E45,4))=TRUE,\"\",TRUNC(QNST04!E45,4))","v":0},"--- na ---","--- na ---",{"$f":"IF(ISERROR(TRUNC(+QNST04!D45,4))=TRUE,\"\",TRUNC(+QNST04!D45,4))","v":0},"--- na ---","--- na ---"]
["CMQNT_22360",{"$f":"+'Cover Sheet'!$C$24","v":0},"ENTITY_ID","--- na ---",{"$f":"TEXT(+'Cover Sheet'!C$22,\"yyyymmdd\")","v":"19000100"},22360,"--- na ---","--- na ---",{"$f":"IF(ISERROR(TRUNC(QNST04!E46,4))=TRUE,\"\",TRUNC(QNST04!E46,4))","v":0},"--- na ---","--- na ---",{"$f":"IF(ISERROR(TRUNC(+QNST04!D46,4))=TRUE,\"\",TRUNC(+QNST04!D46,4))","v":0},"--- na ---","--- na ---"]
["CMQNT_22370",{"$f":"+'Cover Sheet'!$C$24","v":0},"ENTITY_ID","--- na ---",{"$f":"TEXT(+'Cover Sheet'!C$22,\"yyyymmdd\")","v":"19000100"},22370,"--- na ---","--- na ---",{"$f":"IF(ISERROR(TRUNC(QNST04!E47,4))=TRUE,\"\",TRUNC(QNST04!E47,4))","v":0},"--- na ---","--- na ---",{"$f":"IF(ISERROR(TRUNC(+QNST04!D47,4))=TRUE,\"\",TRUNC(+QNST04!D47,4))","v":0},"--- na ---","--- na ---"]
["CMQNT_22380",{"$f":"+'Cover Sheet'!$C$24","v":0},"ENTITY_ID","--- na ---",{"$f":"TEXT(+'Cover Sheet'!C$22,\"yyyymmdd\")","v":"19000100"},22380,"--- na ---","--- na ---",{"$f":"IF(ISERROR(TRUNC(QNST04!E48,4))=TRUE,\"\",TRUNC(QNST04!E48,4))","v":0},"--- na ---","--- na ---",{"$f":"IF(ISERROR(TRUNC(+QNST04!D48,4))=TRUE,\"\",TRUNC(+QNST04!D48,4))","v":0},"--- na ---","--- na ---"]
["CMQNT_22390",{"$f":"+'Cover Sheet'!$C$24","v":0},"ENTITY_ID","--- na ---",{"$f":"TEXT(+'Cover Sheet'!C$22,\"yyyymmdd\")","v":"19000100"},22390,"--- na ---","--- na ---",{"$f":"IF(ISERROR(TRUNC(QNST04!E49,4))=TRUE,\"\",TRUNC(QNST04!E49,4))","v":0},"--- na ---","--- na ---",{"$f":"IF(ISERROR(TRUNC(+QNST04!D49,4))=TRUE,\"\",TRUNC(+QNST04!D49,4))","v":0},"--- na ---","--- na ---"]
["CMQNT_22400",{"$f":"+'Cover Sheet'!$C$24","v":0},"ENTITY_ID","--- na ---",{"$f":"TEXT(+'Cover Sheet'!C$22,\"yyyymmdd\")","v":"19000100"},22400,"--- na ---","--- na ---",{"$f":"IF(ISERROR(TRUNC(QNST04!E50,4))=TRUE,\"\",TRUNC(QNST04!E50,4))","v":0},"--- na ---","--- na ---",{"$f":"IF(ISERROR(TRUNC(+QNST04!D50,4))=TRUE,\"\",TRUNC(+QNST04!D50,4))","v":0},"--- na ---","--- na ---"]
["CMQNT_22410",{"$f":"+'Cover Sheet'!$C$24","v":0},"ENTITY_ID","--- na ---",{"$f":"TEXT(+'Cover Sheet'!C$22,\"yyyymmdd\")","v":"19000100"},22410,"--- na ---","--- na ---",{"$f":"IF(ISERROR(TRUNC(QNST04!E51,4))=TRUE,\"\",TRUNC(QNST04!E51,4))","v":0},"--- na ---","--- na ---",{"$f":"IF(ISERROR(TRUNC(+QNST04!D51,4))=TRUE,\"\",TRUNC(+QNST04!D51,4))","v":0},"--- na ---","--- na ---"]
["CMQNT_22420",{"$f":"+'Cover Sheet'!$C$24","v":0},"ENTITY_ID","--- na ---",{"$f":"TEXT(+'Cover Sheet'!C$22,\"yyyymmdd\")","v":"19000100"},22420,"--- na ---","--- na ---",{"$f":"IF(ISERROR(TRUNC(QNST04!E52,4))=TRUE,\"\",TRUNC(QNST04!E52,4))","v":0},"--- na ---","--- na ---",{"$f":"IF(ISERROR(TRUNC(+QNST04!D52,4))=TRUE,\"\",TRUNC(+QNST04!D52,4))","v":0},"--- na ---","--- na ---"]
["CMQNT_22430",{"$f":"+'Cover Sheet'!$C$24","v":0},"ENTITY_ID","--- na ---",{"$f":"TEXT(+'Cover Sheet'!C$22,\"yyyymmdd\")","v":"19000100"},22430,"--- na ---","--- na ---",{"$f":"IF(ISERROR(TRUNC(QNST04!E55,4))=TRUE,\"\",TRUNC(QNST04!E55,4))","v":0},"--- na ---","--- na ---","--- na ---","--- na ---","--- na ---"]
["CMQNT_22440",{"$f":"+'Cover Sheet'!$C$24","v":0},"ENTITY_ID","--- na ---",{"$f":"TEXT(+'Cover Sheet'!C$22,\"yyyymmdd\")","v":"19000100"},22440,"--- na ---","--- na ---",{"$f":"IF(ISERROR(TRUNC(QNST04!E56,4))=TRUE,\"\",TRUNC(QNST04!E56,4))","v":0},"--- na ---","--- na ---","--- na ---","--- na ---","--- na ---"]
["CMQNT_22450",{"$f":"+'Cover Sheet'!$C$24","v":0},"ENTITY_ID","--- na ---",{"$f":"TEXT(+'Cover Sheet'!C$22,\"yyyymmdd\")","v":"19000100"},22450,"--- na ---","--- na ---",{"$f":"IF(ISERROR(TRUNC(QNST04!E57,4))=TRUE,\"\",TRUNC(QNST04!E57,4))","v":0},"--- na ---","--- na ---","--- na ---","--- na ---","--- na ---"]
["CMQNT_22460",{"$f":"+'Cover Sheet'!$C$24","v":0},"ENTITY_ID","--- na ---",{"$f":"TEXT(+'Cover Sheet'!C$22,\"yyyymmdd\")","v":"19000100"},22460,"--- na ---","--- na ---",{"$f":"IF(ISERROR(TRUNC(QNST04!E58,4))=TRUE,\"\",TRUNC(QNST04!E58,4))","v":0},"--- na ---","--- na ---","--- na ---","--- na ---","--- na ---"]
["CMQNT_22470",{"$f":"+'Cover Sheet'!$C$24","v":0},"ENTITY_ID","--- na ---",{"$f":"TEXT(+'Cover Sheet'!C$22,\"yyyymmdd\")","v":"19000100"},22470,"--- na ---","--- na ---",{"$f":"IF(ISERROR(TRUNC(QNST04!E59,4))=TRUE,\"\",TRUNC(QNST04!E59,4))","v":0},"--- na ---","--- na ---","--- na ---","--- na ---","--- na ---"]
["CMQNT_22480",{"$f":"+'Cover Sheet'!$C$24","v":0},"ENTITY_ID","--- na ---",{"$f":"TEXT(+'Cover Sheet'!C$22,\"yyyymmdd\")","v":"19000100"},22480,"--- na ---","--- na ---","--- na ---","--- na ---","--- na ---",{"$f":"IF(ISERROR(TRUNC(+QNST04!D60,4))=TRUE,\"\",TRUNC(+QNST04!D60,4))","v":0},"--- na ---","--- na ---"]
["CMQNT_22490",{"$f":"+'Cover Sheet'!$C$24","v":0},"ENTITY_ID","--- na ---",{"$f":"TEXT(+'Cover Sheet'!C$22,\"yyyymmdd\")","v":"19000100"},22490,"--- na ---","--- na ---","--- na ---","--- na ---","--- na ---",{"$f":"IF(ISERROR(TRUNC(+QNST04!D61,4))=TRUE,\"\",TRUNC(+QNST04!D61,4))","v":0},"--- na ---","--- na ---"]
["CMQNT_22500",{"$f":"+'Cover Sheet'!$C$24","v":0},"ENTITY_ID","--- na ---",{"$f":"TEXT(+'Cover Sheet'!C$22,\"yyyymmdd\")","v":"19000100"},22500,"--- na ---","--- na ---","--- na ---","--- na ---","--- na ---",{"$f":"IF(ISERROR(TRUNC(+QNST04!D62,4))=TRUE,\"\",TRUNC(+QNST04!D62,4))","v":0},"--- na ---","--- na ---"]
["CMQNT_22510",{"$f":"+'Cover Sheet'!$C$24","v":0},"ENTITY_ID","--- na ---",{"$f":"TEXT(+'Cover Sheet'!C$22,\"yyyymmdd\")","v":"19000100"},22510,"--- na ---","--- na ---","--- na ---","--- na ---","--- na ---",{"$f":"IF(ISERROR(TRUNC(+QNST04!D63,4))=TRUE,\"\",TRUNC(+QNST04!D63,4))","v":0},"--- na ---","--- na ---"]
["CMQNT_22520",{"$f":"+'Cover Sheet'!$C$24","v":0},"ENTITY_ID","--- na ---",{"$f":"TEXT(+'Cover Sheet'!C$22,\"yyyymmdd\")","v":"19000100"},22520,"--- na ---","--- na ---","--- na ---","--- na ---","--- na ---",{"$f":"IF(ISERROR(TRUNC(+QNST04!D64,4))=TRUE,\"\",TRUNC(+QNST04!D64,4))","v":0},"--- na ---","--- na ---"]
["CMQNT_22530",{"$f":"+'Cover Sheet'!$C$24","v":0},"ENTITY_ID","--- na ---",{"$f":"TEXT(+'Cover Sheet'!C$22,\"yyyymmdd\")","v":"19000100"},22530,"--- na ---","--- na ---","--- na ---","--- na ---","--- na ---",{"$f":"IF(ISERROR(TRUNC(+QNST04!D65,4))=TRUE,\"\",TRUNC(+QNST04!D65,4))","v":0},"--- na ---","--- na ---"]
["CMQNT_22540",{"$f":"+'Cover Sheet'!$C$24","v":0},"ENTITY_ID","--- na ---",{"$f":"TEXT(+'Cover Sheet'!C$22,\"yyyymmdd\")","v":"19000100"},22540,"--- na ---","--- na ---","--- na ---","--- na ---","--- na ---",{"$f":"IF(ISERROR(TRUNC(+QNST04!D66,4))=TRUE,\"\",TRUNC(+QNST04!D66,4))","v":0},"--- na ---","--- na ---"]
["CMQNT_22550",{"$f":"+'Cover Sheet'!$C$24","v":0},"ENTITY_ID","--- na ---",{"$f":"TEXT(+'Cover Sheet'!C$22,\"yyyymmdd\")","v":"19000100"},22550,"--- na ---","--- na ---","--- na ---","--- na ---","--- na ---",{"$f":"IF(ISERROR(TRUNC(+QNST04!D67,4))=TRUE,\"\",TRUNC(+QNST04!D67,4))","v":0},"--- na ---","--- na ---"]
["CMQNT_22560",{"$f":"+'Cover Sheet'!$C$24","v":0},"ENTITY_ID","--- na ---",{"$f":"TEXT(+'Cover Sheet'!C$22,\"yyyymmdd\")","v":"19000100"},22560,"--- na ---","--- na ---","--- na ---","--- na ---","--- na ---",{"$f":"IF(ISERROR(TRUNC(+QNST04!D68,4))=TRUE,\"\",TRUNC(+QNST04!D68,4))","v":0},"--- na ---","--- na ---"]
["CMQNT_22570",{"$f":"+'Cover Sheet'!$C$24","v":0},"ENTITY_ID","--- na ---",{"$f":"TEXT(+'Cover Sheet'!C$22,\"yyyymmdd\")","v":"19000100"},22570,"--- na ---","--- na ---",{"$f":"IF(ISERROR(TRUNC(+QNST04!E69,4))=TRUE,\"\",TRUNC(+QNST04!E69,4))","v":0},"--- na ---","--- na ---","--- na ---","--- na ---","--- na ---"]
["CMQNT_22580",{"$f":"+'Cover Sheet'!$C$24","v":0},"ENTITY_ID","--- na ---",{"$f":"TEXT(+'Cover Sheet'!C$22,\"yyyymmdd\")","v":"19000100"},22580,"--- na ---","--- na ---",{"$f":"IF(ISERROR(TRUNC(+QNST04!E70,4))=TRUE,\"\",TRUNC(+QNST04!E70,4))","v":0},"--- na ---","--- na ---","--- na ---","--- na ---","--- na ---"]
["CMQNT_22590",{"$f":"+'Cover Sheet'!$C$24","v":0},"ENTITY_ID","--- na ---",{"$f":"TEXT(+'Cover Sheet'!C$22,\"yyyymmdd\")","v":"19000100"},22590,"--- na ---","--- na ---",{"$f":"IF(ISERROR(TRUNC(+QNST04!E71,4))=TRUE,\"\",TRUNC(+QNST04!E71,4))","v":0},"--- na ---","--- na ---","--- na ---","--- na ---","--- na ---"]
["CMQNT_22600",{"$f":"+'Cover Sheet'!$C$24","v":0},"ENTITY_ID","--- na ---",{"$f":"TEXT(+'Cover Sheet'!C$22,\"yyyymmdd\")","v":"19000100"},22600,"--- na ---","--- na ---",{"$f":"IF(ISERROR(TRUNC(+QNST04!E72,4))=TRUE,\"\",TRUNC(+QNST04!E72,4))","v":0},"--- na ---","--- na ---","--- na ---","--- na ---","--- na ---"]
["CMQNT_22610",{"$f":"+'Cover Sheet'!$C$24","v":0},"ENTITY_ID","--- na ---",{"$f":"TEXT(+'Cover Sheet'!C$22,\"yyyymmdd\")","v":"19000100"},22610,"--- na ---","--- na ---",{"$f":"IF(ISERROR(TRUNC(+QNST04!E73,4))=TRUE,\"\",TRUNC(+QNST04!E73,4))","v":0},"--- na ---","--- na ---","--- na ---","--- na ---","--- na ---"]
["CMQNT_22620",{"$f":"+'Cover Sheet'!$C$24","v":0},"ENTITY_ID","--- na ---",{"$f":"TEXT(+'Cover Sheet'!C$22,\"yyyymmdd\")","v":"19000100"},22620,"--- na ---","--- na ---",{"$f":"IF(ISERROR(TRUNC(+QNST04!E74,4))=TRUE,\"\",TRUNC(+QNST04!E74,4))","v":0},"--- na ---","--- na ---","--- na ---","--- na ---","--- na ---"]
["CMQNT_22630",{"$f":"+'Cover Sheet'!$C$24","v":0},"ENTITY_ID","--- na ---",{"$f":"TEXT(+'Cover Sheet'!C$22,\"yyyymmdd\")","v":"19000100"},22630,"--- na ---","--- na ---",{"$f":"IF(ISERROR(TRUNC(+QNST04!E75,4))=TRUE,\"\",TRUNC(+QNST04!E75,4))","v":0},"--- na ---","--- na ---","--- na ---","--- na ---","--- na ---"]
["CMQNT_22640",{"$f":"+'Cover Sheet'!$C$24","v":0},"ENTITY_ID","--- na ---",{"$f":"TEXT(+'Cover Sheet'!C$22,\"yyyymmdd\")","v":"19000100"},22640,"--- na ---","--- na ---",{"$f":"IF(ISERROR(TRUNC(+QNST04!E76,4))=TRUE,\"\",TRUNC(+QNST04!E76,4))","v":0},"--- na ---","--- na ---","--- na ---","--- na ---","--- na ---"]
["CMQNT_22650",{"$f":"+'Cover Sheet'!$C$24","v":0},"ENTITY_ID","--- na ---",{"$f":"TEXT(+'Cover Sheet'!C$22,\"yyyymmdd\")","v":"19000100"},22650,"--- na ---","--- na ---",{"$f":"IF(ISERROR(TRUNC(+QNST04!E77,4))=TRUE,\"\",TRUNC(+QNST04!E77,4))","v":0},"--- na ---","--- na ---","--- na ---","--- na ---","--- na ---"]
["CMQNT_22660",{"$f":"+'Cover Sheet'!$C$24","v":0},"ENTITY_ID","--- na ---",{"$f":"TEXT(+'Cover Sheet'!C$22,\"yyyymmdd\")","v":"19000100"},22660,"--- na ---","--- na ---",{"$f":"IF(ISERROR(TRUNC(+QNST04!E78,4))=TRUE,\"\",TRUNC(+QNST04!E78,4))","v":0},"--- na ---","--- na ---","--- na ---","--- na ---","--- na ---"]
["CMQNT_22670",{"$f":"+'Cover Sheet'!$C$24","v":0},"ENTITY_ID","--- na ---",{"$f":"TEXT(+'Cover Sheet'!C$22,\"yyyymmdd\")","v":"19000100"},22670,"--- na ---","--- na ---",{"$f":"IF(ISERROR(TRUNC(+QNST04!E79,4))=TRUE,\"\",TRUNC(+QNST04!E79,4))","v":0},"--- na ---","--- na ---","--- na ---","--- na ---","--- na ---"]
["CMQNT_22680",{"$f":"+'Cover Sheet'!$C$24","v":0},"ENTITY_ID","--- na ---",{"$f":"TEXT(+'Cover Sheet'!C$22,\"yyyymmdd\")","v":"19000100"},22680,"--- na ---","--- na ---",{"$f":"IF(ISERROR(TRUNC(+QNST04!E80,4))=TRUE,\"\",TRUNC(+QNST04!E80,4))","v":0},"--- na ---","--- na ---","--- na ---","--- na ---","--- na ---"]
["CMQNT_22690",{"$f":"+'Cover Sheet'!$C$24","v":0},"ENTITY_ID","--- na ---",{"$f":"TEXT(+'Cover Sheet'!C$22,\"yyyymmdd\")","v":"19000100"},22690,"--- na ---","--- na ---","--- na ---","--- na ---","--- na ---",{"$f":"IF(ISERROR(TRUNC(+QNST04!D81,4))=TRUE,\"\",TRUNC(+QNST04!D81,4))","v":0},"--- na ---","--- na ---"]
["CMQNT_22700",{"$f":"+'Cover Sheet'!$C$24","v":0},"ENTITY_ID","--- na ---",{"$f":"TEXT(+'Cover Sheet'!C$22,\"yyyymmdd\")","v":"19000100"},22700,"--- na ---","--- na ---","--- na ---","--- na ---","--- na ---",{"$f":"IF(ISERROR(TRUNC(+QNST04!D82,4))=TRUE,\"\",TRUNC(+QNST04!D82,4))","v":0},"--- na ---","--- na ---"]
["CMQNT_22710",{"$f":"+'Cover Sheet'!$C$24","v":0},"ENTITY_ID","--- na ---",{"$f":"TEXT(+'Cover Sheet'!C$22,\"yyyymmdd\")","v":"19000100"},22710,"--- na ---","--- na ---","--- na ---","--- na ---","--- na ---",{"$f":"IF(ISERROR(TRUNC(+QNST04!D83,4))=TRUE,\"\",TRUNC(+QNST04!D83,4))","v":0},"--- na ---","--- na ---"]
["CMQNT_22720",{"$f":"+'Cover Sheet'!$C$24","v":0},"ENTITY_ID","--- na ---",{"$f":"TEXT(+'Cover Sheet'!C$22,\"yyyymmdd\")","v":"19000100"},22720,"--- na ---","--- na ---","--- na ---","--- na ---","--- na ---",{"$f":"IF(ISERROR(TRUNC(+QNST04!D84,4))=TRUE,\"\",TRUNC(+QNST04!D84,4))","v":0},"--- na ---","--- na ---"]
["CMQNT_22730",{"$f":"+'Cover Sheet'!$C$24","v":0},"ENTITY_ID","--- na ---",{"$f":"TEXT(+'Cover Sheet'!C$22,\"yyyymmdd\")","v":"19000100"},22730,"--- na ---","--- na ---","--- na ---","--- na ---","--- na ---",{"$f":"IF(ISERROR(TRUNC(+QNST04!D85,4))=TRUE,\"\",TRUNC(+QNST04!D85,4))","v":0},"--- na ---","--- na ---"]
["CMQNT_22740",{"$f":"+'Cover Sheet'!$C$24","v":0},"ENTITY_ID","--- na ---",{"$f":"TEXT(+'Cover Sheet'!C$22,\"yyyymmdd\")","v":"19000100"},22740,"--- na ---","--- na ---","--- na ---","--- na ---","--- na ---",{"$f":"IF(ISERROR(TRUNC(+QNST04!D86,4))=TRUE,\"\",TRUNC(+QNST04!D86,4))","v":0},"--- na ---","--- na ---"]
["CMQNT_22750",{"$f":"+'Cover Sheet'!$C$24","v":0},"ENTITY_ID","--- na ---",{"$f":"TEXT(+'Cover Sheet'!C$22,\"yyyymmdd\")","v":"19000100"},22750,"--- na ---","--- na ---","--- na ---","--- na ---","--- na ---",{"$f":"IF(ISERROR(TRUNC(+QNST04!D87,4))=TRUE,\"\",TRUNC(+QNST04!D87,4))","v":0},"--- na ---","--- na ---"]
["CMQNT_22760",{"$f":"+'Cover Sheet'!$C$24","v":0},"ENTITY_ID","--- na ---",{"$f":"TEXT(+'Cover Sheet'!C$22,\"yyyymmdd\")","v":"19000100"},22760,"--- na ---","--- na ---","--- na ---","--- na ---","--- na ---",{"$f":"IF(ISERROR(TRUNC(+QNST04!D88,4))=TRUE,\"\",TRUNC(+QNST04!D88,4))","v":0},"--- na ---","--- na ---"]
["CMQNT_22770",{"$f":"+'Cover Sheet'!$C$24","v":0},"ENTITY_ID","--- na ---",{"$f":"TEXT(+'Cover Sheet'!C$22,\"yyyymmdd\")","v":"19000100"},22770,"--- na ---","--- na ---","--- na ---","--- na ---","--- na ---",{"$f":"IF(ISERROR(TRUNC(+QNST04!D89,4))=TRUE,\"\",TRUNC(+QNST04!D89,4))","v":0},"--- na ---","--- na ---"]
["CMQNT_22780",{"$f":"+'Cover Sheet'!$C$24","v":0},"ENTITY_ID","--- na ---",{"$f":"TEXT(+'Cover Sheet'!C$22,\"yyyymmdd\")","v":"19000100"},22780,"--- na ---","--- na ---","--- na ---","--- na ---","--- na ---",{"$f":"IF(ISERROR(TRUNC(+QNST04!D90,4))=TRUE,\"\",TRUNC(+QNST04!D90,4))","v":0},"--- na ---","--- na ---"]
["CMQNT_22790",{"$f":"+'Cover Sheet'!$C$24","v":0},"ENTITY_ID","--- na ---",{"$f":"TEXT(+'Cover Sheet'!C$22,\"yyyymmdd\")","v":"19000100"},22790,"--- na ---","--- na ---","--- na ---","--- na ---","--- na ---",{"$f":"IF(ISERROR(TRUNC(+QNST04!D91,4))=TRUE,\"\",TRUNC(+QNST04!D91,4))","v":0},"--- na ---","--- na ---"]
["CMQNT_22800",{"$f":"+'Cover Sheet'!$C$24","v":0},"ENTITY_ID","--- na ---",{"$f":"TEXT(+'Cover Sheet'!C$22,\"yyyymmdd\")","v":"19000100"},22800,"--- na ---","--- na ---","--- na ---","--- na ---","--- na ---",{"$f":"IF(ISERROR(TRUNC(+QNST04!D92,4))=TRUE,\"\",TRUNC(+QNST04!D92,4))","v":0},"--- na ---","--- na ---"]
["CMQNT_22810",{"$f":"+'Cover Sheet'!$C$24","v":0},"ENTITY_ID","--- na ---",{"$f":"TEXT(+'Cover Sheet'!C$22,\"yyyymmdd\")","v":"19000100"},22810,"--- na ---","--- na ---","--- na ---","--- na ---","--- na ---",{"$f":"IF(ISERROR(TRUNC(+QNST04!D93,4))=TRUE,\"\",TRUNC(+QNST04!D93,4))","v":0},"--- na ---","--- na ---"]
["CMQNT_22820",{"$f":"+'Cover Sheet'!$C$24","v":0},"ENTITY_ID","--- na ---",{"$f":"TEXT(+'Cover Sheet'!C$22,\"yyyymmdd\")","v":"19000100"},22820,"--- na ---","--- na ---",{"$f":"IF(ISERROR(TRUNC(QNST04!E94,4))=TRUE,\"\",TRUNC(QNST04!E94,4))","v":0},"--- na ---","--- na ---","--- na ---","--- na ---","--- na ---"]
["CMQNT_22830",{"$f":"+'Cover Sheet'!$C$24","v":0},"ENTITY_ID","--- na ---",{"$f":"TEXT(+'Cover Sheet'!C$22,\"yyyymmdd\")","v":"19000100"},22830,"--- na ---","--- na ---","--- na ---","--- na ---","--- na ---",{"$f":"IF(ISERROR(TRUNC(+QNST04!D95,4))=TRUE,\"\",TRUNC(+QNST04!D95,4))","v":0},"--- na ---","--- na ---"]
["CMQNT_22840",{"$f":"+'Cover Sheet'!$C$24","v":0},"ENTITY_ID","--- na ---",{"$f":"TEXT(+'Cover Sheet'!C$22,\"yyyymmdd\")","v":"19000100"},22840,"--- na ---","--- na ---",{"$f":"IF(ISERROR(TRUNC(QNST04!E96,4))=TRUE,\"\",TRUNC(QNST04!E96,4))","v":0},"--- na ---","--- na ---",{"$f":"IF(ISERROR(TRUNC(+QNST04!D96,4))=TRUE,\"\",TRUNC(+QNST04!D96,4))","v":0},"--- na ---","--- na ---"]
["CMQNT_22850",{"$f":"+'Cover Sheet'!$C$24","v":0},"ENTITY_ID","--- na ---",{"$f":"TEXT(+'Cover Sheet'!C$22,\"yyyymmdd\")","v":"19000100"},22850,"--- na ---","--- na ---",{"$f":"IF(ISERROR(TRUNC(QNST04!E97,4))=TRUE,\"\",TRUNC(QNST04!E97,4))","v":0},"--- na ---","--- na ---",{"$f":"IF(ISERROR(TRUNC(+QNST04!D97,4))=TRUE,\"\",TRUNC(+QNST04!D97,4))","v":0},"--- na ---","--- na ---"]
["CMQNT_22860",{"$f":"+'Cover Sheet'!$C$24","v":0},"ENTITY_ID","--- na ---",{"$f":"TEXT(+'Cover Sheet'!C$22,\"yyyymmdd\")","v":"19000100"},22860,"--- na ---","--- na ---",{"$f":"IF(ISERROR(TRUNC(QNST04!E98,4))=TRUE,\"\",TRUNC(QNST04!E98,4))","v":0},"--- na ---","--- na ---",{"$f":"IF(ISERROR(TRUNC(+QNST04!D98,4))=TRUE,\"\",TRUNC(+QNST04!D98,4))","v":0},"--- na ---","--- na ---"]
["CMQNT_22870",{"$f":"+'Cover Sheet'!$C$24","v":0},"ENTITY_ID","--- na ---",{"$f":"TEXT(+'Cover Sheet'!C$22,\"yyyymmdd\")","v":"19000100"},22870,"--- na ---","--- na ---",{"$f":"IF(ISERROR(TRUNC(QNST04!E99,4))=TRUE,\"\",TRUNC(QNST04!E99,4))","v":0},"--- na ---","--- na ---",{"$f":"IF(ISERROR(TRUNC(+QNST04!D99,4))=TRUE,\"\",TRUNC(+QNST04!D99,4))","v":0},"--- na ---","--- na ---"]
["CMQNT_22880",{"$f":"+'Cover Sheet'!$C$24","v":0},"ENTITY_ID","--- na ---",{"$f":"TEXT(+'Cover Sheet'!C$22,\"yyyymmdd\")","v":"19000100"},22880,"--- na ---","--- na ---",{"$f":"IF(ISERROR(TRUNC(QNST04!E100,4))=TRUE,\"\",TRUNC(QNST04!E100,4))","v":0},"--- na ---","--- na ---",{"$f":"IF(ISERROR(TRUNC(+QNST04!D100,4))=TRUE,\"\",TRUNC(+QNST04!D100,4))","v":0},"--- na ---","--- na ---"]
["CMQNT_22890",{"$f":"+'Cover Sheet'!$C$24","v":0},"ENTITY_ID","--- na ---",{"$f":"TEXT(+'Cover Sheet'!C$22,\"yyyymmdd\")","v":"19000100"},22890,"--- na ---","--- na ---",{"$f":"IF(ISERROR(TRUNC(QNST04!E101,4))=TRUE,\"\",TRUNC(QNST04!E101,4))","v":0},"--- na ---","--- na ---",{"$f":"IF(ISERROR(TRUNC(+QNST04!D101,4))=TRUE,\"\",TRUNC(+QNST04!D101,4))","v":0},"--- na ---","--- na ---"]
["CMQNT_22900",{"$f":"+'Cover Sheet'!$C$24","v":0},"ENTITY_ID","--- na ---",{"$f":"TEXT(+'Cover Sheet'!C$22,\"yyyymmdd\")","v":"19000100"},22900,"--- na ---","--- na ---",{"$f":"IF(ISERROR(TRUNC(QNST04!E102,4))=TRUE,\"\",TRUNC(QNST04!E102,4))","v":0},"--- na ---","--- na ---",{"$f":"IF(ISERROR(TRUNC(+QNST04!D102,4))=TRUE,\"\",TRUNC(+QNST04!D102,4))","v":0},"--- na ---","--- na ---"]
["CMQNT_22910",{"$f":"+'Cover Sheet'!$C$24","v":0},"ENTITY_ID","--- na ---",{"$f":"TEXT(+'Cover Sheet'!C$22,\"yyyymmdd\")","v":"19000100"},22910,"--- na ---","--- na ---",{"$f":"IF(ISERROR(TRUNC(QNST04!E103,4))=TRUE,\"\",TRUNC(QNST04!E103,4))","v":0},"--- na ---","--- na ---",{"$f":"IF(ISERROR(TRUNC(+QNST04!D103,4))=TRUE,\"\",TRUNC(+QNST04!D103,4))","v":0},"--- na ---","--- na ---"]
["CMQNT_22920",{"$f":"+'Cover Sheet'!$C$24","v":0},"ENTITY_ID","--- na ---",{"$f":"TEXT(+'Cover Sheet'!C$22,\"yyyymmdd\")","v":"19000100"},22920,"--- na ---","--- na ---",{"$f":"IF(ISERROR(TRUNC(QNST04!E104,4))=TRUE,\"\",TRUNC(QNST04!E104,4))","v":0},"--- na ---","--- na ---",{"$f":"IF(ISERROR(TRUNC(+QNST04!D104,4))=TRUE,\"\",TRUNC(+QNST04!D104,4))","v":0},"--- na ---","--- na ---"]
["CMQNT_22930",{"$f":"+'Cover Sheet'!$C$24","v":0},"ENTITY_ID","--- na ---",{"$f":"TEXT(+'Cover Sheet'!C$22,\"yyyymmdd\")","v":"19000100"},22930,"--- na ---","--- na ---",{"$f":"IF(ISERROR(TRUNC(QNST04!E105,4))=TRUE,\"\",TRUNC(QNST04!E105,4))","v":0},"--- na ---","--- na ---",{"$f":"IF(ISERROR(TRUNC(+QNST04!D105,4))=TRUE,\"\",TRUNC(+QNST04!D105,4))","v":0},"--- na ---","--- na ---"]
["CMQNT_22940",{"$f":"+'Cover Sheet'!$C$24","v":0},"ENTITY_ID","--- na ---",{"$f":"TEXT(+'Cover Sheet'!C$22,\"yyyymmdd\")","v":"19000100"},22940,"--- na ---","--- na ---",{"$f":"IF(ISERROR(TRUNC(QNST04!E106,4))=TRUE,\"\",TRUNC(QNST04!E106,4))","v":0},"--- na ---","--- na ---",{"$f":"IF(ISERROR(TRUNC(+QNST04!D106,4))=TRUE,\"\",TRUNC(+QNST04!D106,4))","v":0},"--- na ---","--- na ---"]
["CMQNT_22950",{"$f":"+'Cover Sheet'!$C$24","v":0},"ENTITY_ID","--- na ---",{"$f":"TEXT(+'Cover Sheet'!C$22,\"yyyymmdd\")","v":"19000100"},22950,"--- na ---","--- na ---",{"$f":"IF(ISERROR(TRUNC(QNST04!E107,4))=TRUE,\"\",TRUNC(QNST04!E107,4))","v":0},"--- na ---","--- na ---",{"$f":"IF(ISERROR(TRUNC(+QNST04!D107,4))=TRUE,\"\",TRUNC(+QNST04!D107,4))","v":0},"--- na ---","--- na ---"]
["CMQNT_22960",{"$f":"+'Cover Sheet'!$C$24","v":0},"ENTITY_ID","--- na ---",{"$f":"TEXT(+'Cover Sheet'!C$22,\"yyyymmdd\")","v":"19000100"},22960,"--- na ---","--- na ---",{"$f":"IF(ISERROR(TRUNC(QNST04!E108,4))=TRUE,\"\",TRUNC(QNST04!E108,4))","v":0},"--- na ---","--- na ---",{"$f":"IF(ISERROR(TRUNC(+QNST04!D108,4))=TRUE,\"\",TRUNC(+QNST04!D108,4))","v":0},"--- na ---","--- na ---"]
["CMQNT_22970",{"$f":"+'Cover Sheet'!$C$24","v":0},"ENTITY_ID","--- na ---",{"$f":"TEXT(+'Cover Sheet'!C$22,\"yyyymmdd\")","v":"19000100"},22970,"--- na ---","--- na ---",{"$f":"IF(ISERROR(TRUNC(QNST04!E109,4))=TRUE,\"\",TRUNC(QNST04!E109,4))","v":0},"--- na ---","--- na ---",{"$f":"IF(ISERROR(TRUNC(+QNST04!D109,4))=TRUE,\"\",TRUNC(+QNST04!D109,4))","v":0},"--- na ---","--- na ---"]
["CMQNT_22980",{"$f":"+'Cover Sheet'!$C$24","v":0},"ENTITY_ID","--- na ---",{"$f":"TEXT(+'Cover Sheet'!C$22,\"yyyymmdd\")","v":"19000100"},22980,"--- na ---","--- na ---",{"$f":"IF(ISERROR(TRUNC(QNST04!E110,4))=TRUE,\"\",TRUNC(QNST04!E110,4))","v":0},"--- na ---","--- na ---",{"$f":"IF(ISERROR(TRUNC(+QNST04!D110,4))=TRUE,\"\",TRUNC(+QNST04!D110,4))","v":0},"--- na ---","--- na ---"]
["CMQNT_22990",{"$f":"+'Cover Sheet'!$C$24","v":0},"ENTITY_ID","--- na ---",{"$f":"TEXT(+'Cover Sheet'!C$22,\"yyyymmdd\")","v":"19000100"},22990,"--- na ---","--- na ---","--- na ---","--- na ---","--- na ---",{"$f":"IF(ISERROR(TRUNC(+QNST04!D112,4))=TRUE,\"\",TRUNC(+QNST04!D112,4))","v":0},"--- na ---","--- na ---"]
["CMQNT_23000",{"$f":"+'Cover Sheet'!$C$24","v":0},"ENTITY_ID","--- na ---",{"$f":"TEXT(+'Cover Sheet'!C$22,\"yyyymmdd\")","v":"19000100"},23000,"--- na ---","--- na ---",{"$f":"IF(ISERROR(TRUNC(QNST04!E115,4))=TRUE,\"\",TRUNC(QNST04!E115,4))","v":0},"--- na ---","--- na ---","--- na ---","--- na ---","--- na ---"]
["CMQNT_23010",{"$f":"+'Cover Sheet'!$C$24","v":0},"ENTITY_ID","--- na ---",{"$f":"TEXT(+'Cover Sheet'!C$22,\"yyyymmdd\")","v":"19000100"},23010,"--- na ---","--- na ---",{"$f":"IF(ISERROR(TRUNC(QNST04!E116,4))=TRUE,\"\",TRUNC(QNST04!E116,4))","v":0},"--- na ---","--- na ---","--- na ---","--- na ---","--- na ---"]
["CMQNT_23020",{"$f":"+'Cover Sheet'!$C$24","v":0},"ENTITY_ID","--- na ---",{"$f":"TEXT(+'Cover Sheet'!C$22,\"yyyymmdd\")","v":"19000100"},23020,"--- na ---","--- na ---",{"$f":"IF(ISERROR(TRUNC(QNST04!E117,4))=TRUE,\"\",TRUNC(QNST04!E117,4))","v":0},"--- na ---","--- na ---","--- na ---","--- na ---","--- na ---"]
["CMQNT_23030",{"$f":"+'Cover Sheet'!$C$24","v":0},"ENTITY_ID","--- na ---",{"$f":"TEXT(+'Cover Sheet'!C$22,\"yyyymmdd\")","v":"19000100"},23030,"--- na ---","--- na ---",{"$f":"IF(ISERROR(TRUNC(QNST04!E118,4))=TRUE,\"\",TRUNC(QNST04!E118,4))","v":0},"--- na ---","--- na ---","--- na ---","--- na ---","--- na ---"]
["CMQNT_23040",{"$f":"+'Cover Sheet'!$C$24","v":0},"ENTITY_ID","--- na ---",{"$f":"TEXT(+'Cover Sheet'!C$22,\"yyyymmdd\")","v":"19000100"},23040,"--- na ---","--- na ---",{"$f":"IF(ISERROR(TRUNC(QNST04!E119,4))=TRUE,\"\",TRUNC(QNST04!E119,4))","v":0},"--- na ---","--- na ---","--- na ---","--- na ---","--- na ---"]
["CMQNT_23050",{"$f":"+'Cover Sheet'!$C$24","v":0},"ENTITY_ID","--- na ---",{"$f":"TEXT(+'Cover Sheet'!C$22,\"yyyymmdd\")","v":"19000100"},23050,"--- na ---","--- na ---",{"$f":"IF(ISERROR(TRUNC(QNST04!E120,4))=TRUE,\"\",TRUNC(QNST04!E120,4))","v":0},"--- na ---","--- na ---","--- na ---","--- na ---","--- na ---"]
["CMQNT_23060",{"$f":"+'Cover Sheet'!$C$24","v":0},"ENTITY_ID","--- na ---",{"$f":"TEXT(+'Cover Sheet'!C$22,\"yyyymmdd\")","v":"19000100"},23060,"--- na ---","--- na ---",{"$f":"IF(ISERROR(TRUNC(QNST04!E121,4))=TRUE,\"\",TRUNC(QNST04!E121,4))","v":0},"--- na ---","--- na ---","--- na ---","--- na ---","--- na ---"]
["CMQNT_23070",{"$f":"+'Cover Sheet'!$C$24","v":0},"ENTITY_ID","--- na ---",{"$f":"TEXT(+'Cover Sheet'!C$22,\"yyyymmdd\")","v":"19000100"},23070,"--- na ---","--- na ---",{"$f":"IF(ISERROR(TRUNC(QNST04!E122,4))=TRUE,\"\",TRUNC(QNST04!E122,4))","v":0},"--- na ---","--- na ---","--- na ---","--- na ---","--- na ---"]
[]
[]
[]
[]
[]
[]
[]
[]
[]
[]
[]
[]
[]
[]
[]
[]
[]
[]
[]
[]
[]
[]
[]
[]
[]
[]
[]
[]
[]
[]
[]
[]
[]
[]
[]
[]
[]
[]
[]
[]
[]
[]
[]
[]
[]
[]
[]
[]
[]
[]
[]
[]
[]
[]
[]
[]
[]
[]
[]
[]
[]
[]
[]
[]
[]
[]
[]
[]
[]
[]
[]
[]
[]
[]
[]
[]
[]
[]
[]
[]
[]
[]
[]
[]
[]
[]
[]
[]
[]
[]
[]
[]
[]
[]
[]
[]
[]
[]
[]
[]
[]
[]
[]
[]
[]
[]
[]
[]
[]
[]
[]
[]
[]
[]
[]
[]
[]
[]
[]
[]
[]
[]
[]
[]
[]
[]
[]
[]
[]
[]
[]
[]
[]
[]
[]
[]
[]
[]
[]
[]
[]
[]
[]
[]
[]
[]
[]
[]
[]
[]
[]
[]
[]
[]
[]
[]
[]
[]
[]
[]
[]
[]
[]
[]
[]
[]
[]
[]
[]
[]
[]
[]
[]
[]
[]
[]
[]
[]
[]
[]
[]
[]
[]
[]
[]
[]
[]
[]
[]
[]
[]
[]
[]
[]
[]
[]
[]
[]
[]
[]
[]
[]
[]
[]
[]
[]
[]
[]
[]
[]
[]
[]
[]
[]
[]
[]
[]
[]
[]
[]
[]
[]
[]
[]
[]
[]
[]
[]
[]
[]
[]
[]
[]
[]
[]
[]
[]
[]
[]
[]
[]
[]
[]
[]
[]
[]
[]
[]
[]
[]
[]
[]
[]
[]
[]
[]
[]
[]
[]
[]
[]
[]
[]
[]
[]
[]
[]
[]
[]
[]
[]
[]
[]
[]
[]
[]
[]
[]
[]
[]
[]
[]
[]
[]
[]
[]
[]
[]
[]
[]
[]
[]
[]
[]
[]
[]
[]
[]
[]
[]
[]
[]
[]
[]
[]
[]
[]
[]
[]
[]
[]
[]
[]
[]
[]
[]
[]
[]
[]
[]
[]
[]
[]
[]
[]
[]
[]
[]
[]
[]
[]
[]
[]
[]
[]
[]
[]
[]
[]
[]
[]
[]
[]
[]
[]
[]
[]
[]
[]
[]
[]
[]
[]
[]
[]
[]
[]
[]
[]
[]
[]
[]
[]
[]
[]
[]
[]
[]
[]
[]
[]
[]
[]
[]
[]
[]
[]
[]
[]
[]
[]
[]
[]
[]
[]
[]
[]
[]
[]
[]
[]
[]
[]
[]
[]
[]
[]
[]
[]
[]
[]
[]
[]
[]
[]
[]
[]
[]
[]
[]
[]
[]
[]
[]
[]
[]
[]
[]
[]
[]
[]
[]
[]
[]
[]
[]
[]
[]
[]
[]
[]
[]
[]
[]
[]
[]
[]
[]
[]
[]
[]
[]
[]
[]
[]
[]
[]
[]
[]
[]
[]
[]
[]
[]
[]
[]
[]
[]
[]
[]
[]
[]
[]
[]
[]
[]
[]
[]
[]
[]
[]
[]
[]
[]
[]
[]
[]
[]
[]
[]
[]
[]
[]
[]
[]
[]
[]
[]
[]
[]
[]
[]
[]
[]
[]
[]
[]
[]
[]
[]
[]
[]
[]
[]
[]
[]
[]
[]
[]
[]
[]
[]
[]
[]
[]
[]
[]
[]
[]
[]
[]
[]
[]
[]
[]
[]
[]
[]
[]
[]
[]
[]
[]
[]
[]
[]
[]
[]
[]
[]
[]
[]
[]
[]
[]
[]
[]
[]
[]
[]
[]
[]
[]
[]
[]
[]
[]
[]
[]
[]
[]
[]
[]
[]
[]
[]
[]
[]
[]
[]
[]
[]
[]
[]
[]
[]
[]
[]
[]
[]
[]
[]
[]
[]
[]
[]
[]
[]
[]
[]
[]
[]
[]
[]
[]
[]
[]
[]
[]
[]
[]
[]
[]
[]
[]
[]
[]
[]
[]
[]
[]
[]
[]
[]
[]
[]
[]
[]
[]
[]
[]
[]
[]
[]
[]
[]
[]
[]
[]
[]
[]
[]
[]
[]
[]
[]
[]
[]
[]
[]
[]
[]
[]
[]
[]
[]
[]
[]
[]
[]
[]
[]
[]
[]
[]
[]
[]
[]
[]
[]
[]
[]
[]
[]
[]
[]
[]
[]
[]
[]
[]
[]
[]
[]
[]
[]
[]
[]
[]
[]
[]
[]
[]
[]
[]
[]
[]
[]
[]
[]
[]
[]
[]
[]
[]
[]
[]
[]
[]
[]
[]
[]
[]
[]
[]
[]
[]
[]
[]
[]
[]
[]
[]
[]
[]
[]
[]
[]
[]
[]
[]
[]
[]
[]
[]
[]
[]
[]
[]
[]
[]
[]
[]
[]
[]
[]
[]
[]
[]
[]
[]
[]
[]
[]
[]
[]
[]
[]
[]
[]
[]
[]
[]
[]
[]
[]
[]
[]
[]
[]
[]
[]
[]
[]
[]
[]
[]
[]
[]
[]
[]
[]
[]
[]
[]
[]
[]
[]
[]
[]
[]
[]
[]
[]
[]
[]
[]
[]
[]
[]
[]
[]
[]
[]
[]
[]
[]
[]
[]
[]
[]
[]
[]
[]
[]
[]
[]
[]
[]
[]
[]
[]
[]
[]
[]
[]
[]
[]
[]
[]
[]
[]
[]
[]
[]
[]
[]
[]
[]
[]
[]
[]
[]
[]
[]
[]
[]
[]
[]
[]
[]
[]
[]
[]
[]
[]
[]
[]
[]
[]
[]
[]
[]
[]
[]
[]
[]
[]
[]
[]
[]
[]
[]
[]
[]
[]
[]
[]
[]
[]
[]
[]
[]
[]
[]
[]
[]
[]
[]
[]
[]
[]
[]
[]
[]
[]
[]
[]
[]
[]
[]
[]
[]
[]
[]
[]
[]
[]
[]
[]
[]
[]
[]
[]
[]
[]
[]
[]
[]
[]
[]
[]
[]
[]
[]
[]
[]
[]
[]
[]
[]
[]
[]
[]
[]
[]
[]
[]
[]
[]
[]
[]
[]
[]
[]
[]
[]
[]
[]
[]
[]
[]
[]
[]
[]
[]
[]
[]
[]
[]
[]
[]
[]
[]
[]
[]
[]
[]
[]
[]
[]
[]
[]
[]
[]
[]
[]
[]
[]
[]
[]
[]
[]
[]
[]
[]
[]
[]
[]
[]
[]
[]
[]
[]
[]
[]
[]
[]
[]
[]
[]
[]
[]
[]
[]
[]
[]
[]
[]
[]
[]
[]
[]
[]
[]
[]
[]
[]
[]
[]
[]
[]
[]
[]
[]
[]
[]
[]
[]
[]
[]
[]
[]
[]
[]
[]
[]
[]
[]
[]
[]
[]
[]
[]
[]
[]
[]
[]
[]
[]
[]
[]
[]
[]
[]
[]
[]
[]
[]
[]
[]
[]
[]
[]
[]
[]
[]
[]
[]
[]
[]
[]
[]
[]
[]
[]
[]
[]
[]
[]
[]
[]
[]
[]
[]
[]
[]
[]
[]
[]
[]
[]
[]
[]
[]
[]
[]
[]
[]
[]
[]
[]
[]
[]
[]
[]
[]
[]
[]
[]
[]
[]
[]
[]
[]
[]
[]
[]
[]
[]
[]
[]
[]
[]
[]
[]
[]
[]
[]
[]
[]
[]
[]
[]
[]
[]
[]
[]
[]
[]
[]
[]
[]
[]
[]
[]
[]
[]
[]
[]
[]
[]
[]
[]
[]
[]
[]
[]
[]
[]
[]
[]
[]
[]
[]
[]
[]
[]
[]
[]
[]
[]
[]
[]
[]
[]
[]
[]
[]
[]
[]
[]
[]
[]
[]
[]
[]
[]
[]
[]
[]
[]
[]
[]
[]
[]
[]
[]
[]
[]
[]
[]
[]
[]
[]
[]
[]
[]
[]
[]
[]
[]
[]
[]
[]
[]
[]
[]
[]
[]
[]
[]
[]
[]
[]
[]
[]
[]
[]
[]
[]
[]
[]
[]
[]
[]
[]
[]
[]
[]
[]
[]
[]
[]
[]
[]
[]
[]
[]
[]
[]
[]
[]
[]
[]
[]
[]
[]
[]
[]
[]
[]
[]
[]
[]
[]
[]
[]
[]
[]
[]
[]
[]
[]
[]
[]
[]
[]
[]
[]
[]
[]
[]
[]
[]
[]
[]
[]
[]
[]
[]
[]
[]
[]
[]
[]
[]
[]
[]
[]
[]
[]
[]
[]
[]
[]
[]
[]
[]
[]
[]
[]
[]
[]
[]
[]
[]
[]
[]
[]
[]
[]
[]
[]
[]
[]
[]
[]
[]
[]
[]
[]
[]
[]
[]
[]
[]
[]
[]
[]
[]
[]
[]
[]
[]
[]
[]
[]
[]
[]
[]
[]
[]
[]
[]
[]
[]
[]
[]
[]
[]
[]
[]
[]
[]
[]
[]
[]
[]
[]
[]
[]
[]
[]
[]
[]
[]
[]
[]
[]
[]
[]
[]
[]
[]
[]
[]
[]
[]
[]
[]
[]
[]
[]
[]
[]
[]
[]
[]
[]
[]
[]
[]
[]
[]
[]
[]
[]
[]
[]
[]
[]
[]
[]
[]
[]
[]
[]
[]
[]
[]
[]
[]
[]
[]
[]
[]
[]
[]
[]
[]
[]
[]
[]
[]
[]
[]
[]
[]
[]
[]
[]
[]
[]
[]
[]
[]
[]
[]
[]
[]
[]
[]
[]
[]
[]
[]
[]
[]
[]
[]
[]
[]
[]
[]
[]
[]
[]
[]
[]
[]
[]
[]
[]
[]
[]
[]
[]
[]
[]
[]
[]
[]
[]
[]
[]
[]
[]
[]
[]
[]
[]
[]
[]
[]
[]
[]
[]
[]
[]
[]
[]
[]
[]
[]
[]
[]
[]
[]
[]
[]
[]
[]
[]
[]
[]
[]
[]
[]
[]
[]
[]
[]
[]
[]
[]
[]
[]
[]
[]
[]
[]
[]
[]
[]
[]
[]
[]
[]
[]
[]
[]
[]
[]
[]
[]
[]
[]
[]
[]
[]
[]
[]
[]
[]
[]
[]
[]
[]
[]
[]
[]
[]
[]
[]
[]
[]
[]
[]
[]
[]
[]
[]
[]
[]
[]
[]
[]
[]
[]
[]
[]
[]
[]
[]
[]
[]
[]
[]
[]
[]
[]
[]
[]
[]
[]
[]
[]
[]
[]
[]
[]
[]
[]
[]
[]
[]
[]
[]
[]
[]
[]
[]
[]
[]
[]
[]
[]
[]
[]
[]
[]
[]
[]
[]
[]
[]
[]
[]
[]
[]
[]
[]
[]
[]
[]
[]
[]
[]
[]
[]
[]
[]
[]
[]
[]
[]
[]
[]
[]
[]
[]
[]
[]
[]
[]
[]
[]
[]
[]
[]
[]
[]
[]
[]
[]
[]
[]
[]
[]
[]
[]
[]
[]
[]
[]
[]
[]
[]
[]
[]
[]
[]
[]
[]
[]
[]
[]
[]
[]
[]
[]
[]
[]
[]
[]
[]
[]
[]
[]
[]
[]
[]
[]
[]
[]
[]
[]
[]
[]
[]
[]
[]
[]
[]
[]
[]
[]
[]
[]
[]
[]
[]
[]
[]
[]
[]
[]
[]
[]
[]
[]
[]
[]
[]
[]
[]
[]
[]
[]
[]
[]
[]
[]
[]
[]
[]
[]
[]
[]
[]
[]
[]
[]
[]
[]
[]
[]
[]
[]
[]
[]
[]
[]
[]
[]
[]
[]
[]
[]
[]
[]
[]
[]
[]
[]
[]
[]
[]
[]
[]
[]
[]
[]
[]
[]
[]
[]
[]
[]
[]
[]
[]
[]
[]
[]
[]
[]
[]
[]
[]
[]
[]
[]
[]
[]
[]
[]
[]
[]
[]
[]
[]
[]
[]
[]
[]
[]
[]
[]
[]
[]
[]
[]
[]
[]
[]
[]
[]
[]
[]
[]
[]
[]
[]
[]
[]
[]
[]
[]
[]
[]
[]
[]
[]
[]
[]
[]
[]
[]
[]
[]
[]
[]
[]
[]
[]
[]
[]
[]
[]
[]
[]
[]
[]
[]
[]
[]
[]
[]
[]
[]
[]
[]
[]
[]
[]
[]
[]
[]
[]
[]
[]
[]
[]
[]
[]
[]
[]
[]
[]
[]
[]
[]
[]
[]
[]
[]
[]
[]
[]
[]
[]
[]
[]
[]
[]
[]
[]
[]
[]
[]
[]
[]
[]
[]
[]
[]
[]
[]
[]
[]
[]
[]
[]
[]
[]
[]
[]
[]
[]
[]
[]
[]
[]
[]
[]
[]
[]
[]
[]
[]
[]
[]
[]
[]
[]
[]
[]
[]
[]
[]
[]
[]
[]
[]
[]
[]
[]
[]
[]
[]
[]
[]
[]
[]
[]
[]
[]
[]
[]
[]
[]
[]
[]
[]
[]
[]
[]
[]
[]
[]
[]
[]
[]
[]
[]
[]
[]
[]
[]
[]
[]
[]
[]
[]
[]
[]
[]
[]
[]
[]
[]
[]
[]
[]
[]
[]
[]
[]
[]
[]
[]
[]
[]
[]
[]
[]
[]
[]
[]
[]
[]
[]
[]
[]
[]
[]
[]
[]
[]
[]
[]
[]
[]
[]
[]
[]
[]
[]
[]
[]
[]
[]
[]
[]
[]
[]
[]
[]
[]
[]
[]
[]
[]
[]
[]
[]
[]
[]
[]
[]
[]
[]
[]
[]
[]
[]
[]
[]
[]
[]
[]
[]
[]
[]
[]
[]
[]
[]
[]
[]
[]
[]
[]
[]
[]
[]
[]
[]
[]
[]
[]
[]
[]
[]
[]
[]
[]
[]
[]
[]
[]
[]
[]
[]
[]
[]
[]
[]
[]
[]
[]
[]
[]
[]
[]
[]
[]
[]
[]
[]
[]
[]
[]
[]
[]
[]
[]
[]
[]
[]
[]
[]
[]
[]
[]
[]
[]
[]
[]
[]
[]
[]
[]
[]
[]
[]
[]
[]
[]
[]
[]
[]
[]
[]
[]
[]
[]
[]
[]
[]
[]
[]
[]
[]
[]
[]
[]
[]
[]
[]
[]
[]
[]
[]
[]
[]
[]
[]
[]
[]
[]
[]
[]
[]
[]
[]
[]
[]
[]
[]
[]
[]
[]
[]
[]
[]
[]
[]
[]
[]
[]
[]
[]
[]
[]
[]
[]
[]
[]
[]
[]
[]
[]
[]
[]
[]
[]
[]
[]
[]
[]
[]
[]
[]
[]
[]
[]
[]
[]
[]
[]
[]
[]
[]
[]
[]
[]
[]
[]
[]
[]
[]
[]
[]
[]
[]
[]
[]
[]
[]
[]
[]
[]
[]
[]
[]
[]
[]
[]
[]
[]
[]
[]
[]
[]
[]
[]
[]
[]
[]
[]
[]
[]
[]
[]
[]
[]
[]
[]
[]
[]
[]
[]
[]
[]
[]
[]
[]
[]
[]
[]
[]
[]
[]
[]
[]
[]
[]
[]
[]
[]
[]
[]
[]
[]
[]
[]
[]
[]
[]
[]
[]
[]
[]
[]
[]
[]
[]
[]
[]
[]
[]
[]
[]
[]
[]
[]
[]
[]
[]
[]
[]
[]
[]
[]
[]
[]
[]
[]
[]
[]
[]
[]
[]
[]
[]
[]
[]
[]
[]
[]
[]
[]
[]
[]
[]
[]
[]
[]
[]
[]
[]
[]
[]
[]
[]
[]
[]
[]
[]
[]
[]
[]
[]
[]
[]
[]
[]
[]
[]
[]
[]
[]
[]
[]
[]
[]
[]
[]
[]
[]
[]
[]
[]
[]
[]
[]
[]
[]
[]
[]
[]
[]
[]
[]
[]
[]
[]
[]
[]
[]
[]
[]
[]
[]
[]
[]
[]
[]
[]
[]
[]
[]
[]
[]
[]
[]
[]
[]
[]
[]
[]
[]
[]
[]
[]
[]
[]
[]
[]
[]
[]
[]
[]
[]
[]
[]
[]
[]
[]
[]
[]
[]
[]
[]
[]
[]
[]
[]
[]
[]
[]
[]
[]
[]
[]
[]
[]
[]
[]
[]
[]
[]
[]
[]
[]
[]
[]
[]
[]
[]
[]
[]
[]
[]
[]
[]
[]
[]
[]
[]
[]
[]
[]
[]
[]
[]
[]
[]
[]
[]
[]
[]
[]
[]
[]
[]
[]
[]
[]
[]
[]
[]
[]
[]
[]
[]
[]
[]
[]
[]
[]
[]
[]
[]
[]
[]
[]
[]
[]
[]
[]
[]
[]
[]
[]
[]
[]
[]
[]
[]
[]
[]
[]
[]
[]
[]
[]
[]
[]
[]
[]
[]
[]
[]
[]
[]
[]
[]
[]
[]
[]
[]
[]
[]
[]
[]
[]
[]
[]
[]
[]
[]
[]
[]
[]
[]
[]
[]
[]
[]
[]
[]
[]
[]
[]
[]
[]
[]
[]
[]
[]
[]
[]
[]
[]
[]
[]
[]
[]
[]
[]
[]
[]
[]
[]
[]
[]
[]
[]
[]
[]
[]
[]
[]
[]
[]
[]
[]
[]
[]
[]
[]
[]
[]
[]
[]
[]
[]
[]
[]
[]
[]
[]
[]
[]
[]
[]
[]
[]
[]
[]
[]
[]
[]
[]
[]
[]
[]
[]
[]
[]
[]
[]
[]
[]
[]
[]
[]
[]
[]
[]
[]
[]
[]
[]
[]
[]
[]
[]
[]
[]
[]
[]
[]
[]
[]
[]
[]
[]
[]
[]
[]
[]
[]
[]
[]
[]
[]
[]
[]
[]
[]
[]
[]
[]
[]
[]
[]
[]
[]
[]
[]
[]
[]
[]
[]
[]
[]
[]
[]
[]
[]
[]
[]
[]
[]
[]
[]
[]
[]
[]
[]
[]
[]
[]
[]
[]
[]
[]
[]
[]
[]
[]
[]
[]
[]
[]
[]
[]
[]
[]
[]
[]
[]
[]
[]
[]
[]
[]
[]
[]
[]
[]
[]
[]
[]
[]
[]
[]
[]
[]
[]
[]
[]
[]
[]
[]
[]
[]
[]
[]
[]
[]
[]
[]
[]
[]
[]
[]
[]
[]
[]
[]
[]
[]
[]
[]
[]
[]
[]
[]
[]
[]
[]
[]
[]
[]
[]
[]
[]
[]
[]
[]
[]
[]
[]
[]
[]
[]
[]
[]
[]
[]
[]
[]
[]
[]
[]
[]
[]
[]
[]
[]
[]
[]
[]
[]
[]
[]
[]
[]
[]
[]
[]
[]
[]
[]
[]
[]
[]
[]
[]
[]
[]
[]
[]
[]
[]
[]
[]
[]
[]
[]
[]
[]
[]
[]
[]
[]
[]
[]
[]
[]
[]
[]
[]
[]
[]
[]
[]
[]
[]
[]
[]
[]
[]
[]
[]
[]
[]
[]
[]
[]
[]
[]
[]
[]
[]
[]
[]
[]
[]
[]
[]
[]
[]
[]
[]
[]
[]
[]
[]
[]
[]
[]
[]
[]
[]
[]
[]
[]
[]
[]
[]
[]
[]
[]
[]
[]
[]
[]
[]
[]
[]
[]
[]
[]
[]
[]
[]
[]
[]
[]
[]
[]
[]
[]
[]
[]
[]
[]
[]
[]
[]
[]
[]
[]
[]
[]
[]
[]
[]
[]
[]
[]
[]
[]
[]
[]
[]
[]
[]
[]
[]
[]
[]
[]
[]
[]
[]
[]
[]
[]
[]
[]
[]
[]
[]
[]
[]
[]
[]
[]
[]
[]
[]
[]
[]
[]
[]
[]
[]
[]
[]
[]
[]
[]
[]
[]
[]
[]
[]
[]
[]
[]
[]
[]
[]
[]
[]
[]
[]
[]
[]
[]
[]
[]
[]
[]
[]
[]
[]
[]
[]
[]
[]
[]
[]
[]
[]
[]
[]
[]
[]
[]
[]
[]
[]
[]
[]
[]
[]
[]
[]
[]
[]
[]
[]
[]
[]
[]
[]
[]
[]
[]
[]
[]
[]
[]
[]
[]
[]
[]
[]
[]
[]
[]
[]
[]
[]
[]
[]
[]
[]
[]
[]
[]
[]
[]
[]
[]
[]
[]
[]
[]
[]
[]
[]
[]
[]
[]
[]
[]
[]
[]
[]
[]
[]
[]
[]
[]
[]
[]
[]
[]
[]
[]
[]
[]
[]
[]
[]
[]
[]
[]
[]
[]
[]
[]
[]
[]
[]
[]
[]
[]
[]
[]
[]
[]
[]
[]
[]
[]
[]
[]
[]
[]
[]
[]
[]
[]
[]
[]
[]
[]
[]
[]
[]
[]
[]
[]
[]
[]
[]
[]
[]
[]
[]
[]
[]
[]
[]
[]
[]
[]
[]
[]
[]
[]
[]
[]
[]
[]
[]
[]
[]
[]
[]
[]
[]
[]
[]
[]
[]
[]
[]
[]
[]
[]
[]
[]
[]
[]
[]
[]
[]
[]
[]
[]
[]
[]
[]
[]
[]
[]
[]
[]
[]
[]
[]
[]
[]
[]
[]
[]
[]
[]
[]
[]
[]
[]
[]
[]
[]
[]
[]
[]
[]
[]
[]
[]
[]
[]
[]
[]
[]
[]
[]
[]
[]
[]
[]
[]
[]
[]
[]
[]
[]
[]
[]
[]
[]
[]
[]
[]
[]
[]
[]
[]
[]
[]
[]
[]
[]
[]
[]
[]
[]
[]
[]
[]
[]
[]
[]
[]
[]
[]
[]
[]
[]
[]
[]
[]
[]
[]
[]
[]
[]
[]
[]
[]
[]
[]
[]
[]
[]
[]
[]
[]
[]
[]
[]
[]
[]
[]
[]
[]
[]
[]
[]
[]
[]
[]
[]
[]
[]
[]
[]
[]
[]
[]
[]
[]
[]
[]
[]
[]
[]
[]
[]
[]
[]
[]
[]
[]
[]
[]
[]
[]
[]
[]
[]
[]
[]
[]
[]
[]
[]
[]
[]
[]
[]
[]
[]
[]
[]
[]
[]
[]
[]
[]
[]
[]
[]
[]
[]
[]
[]
[]
[]
[]
[]
[]
[]
[]
[]
[]
[]
[]
[]
[]
[]
[]
[]
[]
[]
[]
[]
[]
[]
[]
[]
[]
[]
[]
[]
[]
[]
[]
[]
[]
[]
[]
[]
[]
[]
[]
[]
[]
[]
[]
[]
[]
[]
[]
[]
[]
[]
[]
[]
[]
[]
[]
[]
[]
[]
[]
[]
[]
[]
[]
[]
[]
[]
[]
[]
[]
[]
[]
[]
[]
[]
[]
[]
[]
[]
[]
[]
[]
[]
[]
[]
[]
[]
[]
[]
[]
[]
[]
[]
[]
[]
[]
[]
[]
[]
[]
[]
[]
[]
[]
[]
[]
[]
[]
[]
[]
[]
[]
[]
[]
[]
[]
[]
[]
[]
[]
[]
[]
[]
[]
[]
[]
[]
[]
[]
[]
[]
[]
[]
[]
[]
[]
[]
[]
[]
[]
[]
[]
[]
[]
[]
[]
[]
[]
[]
[]
[]
[]
[]
[]
[]
[]
[]
[]
[]
[]
[]
[]
[]
[]
[]
[]
[]
[]
[]
[]
[]
[]
[]
[]
[]
[]
[]
[]
[]
[]
[]
[]
[]
[]
[]
[]
[]
[]
[]
[]
[]
[]
[]
[]
[]
[]
[]
[]
[]
[]
[]
[]
[]
[]
[]
[]
[]
[]
[]
[]
[]
[]
[]
[]
[]
[]
[]
[]
[]
[]
[]
[]
[]
[]
[]
[]
[]
[]
[]
[]
[]
[]
[]
[]
[]
[]
[]
[]
[]
[]
[]
[]
[]
[]
[]
[]
[]
[]
[]
[]
[]
[]
[]
[]
[]
[]
[]
[]
[]
[]
[]
[]
[]
[]
[]
[]
[]
[]
[]
[]
[]
[]
[]
[]
[]
[]
[]
[]
[]
[]
[]
[]
[]
[]
[]
[]
[]
[]
[]
[]
[]
[]
[]
[]
[]
[]
[]
[]
[]
[]
[]
[]
[]
[]
[]
[]
[]
[]
[]
[]
[]
[]
[]
[]
[]
[]
[]
[]
[]
[]
[]
[]
[]
[]
[]
[]
[]
[]
[]
[]
[]
[]
[]
[]
[]
[]
[]
[]
[]
[]
[]
[]
[]
[]
[]
[]
[]
[]
[]
[]
[]
[]
[]
[]
[]
[]
[]
[]
[]
[]
[]
[]
[]
[]
[]
[]
[]
[]
[]
[]
[]
[]
[]
[]
[]
[]
[]
[]
[]
[]
[]
[]
[]
[]
[]
[]
[]
[]
[]
[]
[]
[]
[]
[]
[]
[]
[]
[]
[]
[]
[]
[]
[]
[]
[]
[]
[]
[]
[]
[]
[]
[]
[]
[]
[]
[]
[]
[]
[]
[]
[]
[]
[]
[]
[]
[]
[]
[]
[]
[]
[]
[]
[]
[]
[]
[]
[]
[null,null,null,null,null,null,null,null,null,null,null,null,null,null,null,null,null,null,null,null,null,null,null,null,null,null,null,null,null,null,null,null,null,null,null,null,null,null,null,null,null,null,null,null,null,null,null,null,null,null,null,null,null,null,null,null,null,null,null,null,null,null,null,null,null,null,null,null,null,null,null,null,null,null,null,null,null,null,null,null,null,null,null,null,null,null,null,null,null,null,null,null,null,null,null,null,null,null,null,null,null,null,null,null,null,null,null,null,null,null,null,null,null,null,null,null,null,null,null,null,null,null,null,null,null,null,null,null,null,null,null,null,null,null,null,null,null,null,null,null,null,null,null,null,null,null,null,null,null,null,null,null,null,null,null,null,null,null,null,null,null,null,null,null,null,null,null,null,null,null,null,null,null,null,null,null,null,null,null,null,null,null,null,null,null,null,null,null,null,null,null,null,null,null,null,null,null,null,null,null,null,null,null,null,null,null,null,null,null,null,null,null,null,null,null,null,null,null,null,null,null,null,null,null,null,null,null,null,null,null,null,null,null,null,null,null,null,null,null,null,null,null,null,null,null,null,null,null,null,null,null,null,null,null,null,null,null,null,null,null,null,null,null,null,null,null,null,null,null,null,null,null,null,null,null,null,null,null,null,null,null,null,null,null,null,null,null,null,null,null,null,null,null,null,null,null,null,null,null,null,null,null,null,null,null,null,null,null,null,null,null,null,null,null,null,null,null,null,null,null,null,null,null,null,null,null,null,null,null,null,null,null,null,null,null,null,null,null,null,null,null,null,null,null,null,null,null,null,null,null,null,null,null,null,null,null,null,null,null,null,null,null,null,null,null,null,null,null,null,null,null,null,null,null,null,null,null,null,null,null,null,null,null,null,null,null,null,null,null,null,null,null,null,null,null,null,null,null,null,null,null,null,null,null,null,null,null,null,null,null,null,null,null,null,null,null,null,null,null,null,null,null,null,null,null,null,null,null,null,null,null,null,null,null,null,null,null,null,null,null,null,null,null,null,null,null,null,null,null,null,null,null,null,null,null,null,null,null,null,null,null,null,null,null,null,null,null,null,null,null,null,null,null,null,null,null,null,null,null,null,null,null,null,null,null,null,null,null,null,null,null,null,null,null,null,null,null,null,null,null,null,null,null,null,null,null,null,null,null,null,null,null,null,null,null,null,null,null,null,null,null,null,null,null,null,null,null,null,null,null,null,null,null,null,null,null,null,null,null,null,null,null,null,null,null,null,null,null,null,null,null,null,null,null,null,null,null,null,null,null,null,null,null,null,null,null,null,null,null,null,null,null,null,null,null,null,null,null,null,null,null,null,null,null,null,null,null,null,null,null,null,null,null,null,null,null,null,null,null,null,null,null,null,null,null,null,null,null,null,null,null,null,null,null,null,null,null,null,null,null,null,null,null,null,null,null,null,null,null,null,null,null,null,null,null,null,null,null,null,null,null,null,null,null,null,null,null,null,null,null,null,null,null,null,null,null,null,null,null,null,null,null,null,null,null,null,null,null,null,null,null,null,null,null,null,null,null,null,null,null,null,null,null,null,null,null,null,null,null,null,null,null,null,null,null,null,null,null,null,null,null,null,null,null,null,null,null,null,null,null,null,null,null,null,null,null,null,null,null,null,null,null,null,null,null,null,null,null,null,null,null,null,null,null,null,null,null,null,null,null,null,null,null,null,null,null,null,null,null,null,null,null,null,null,null,null,null,null,null,null,null,null,null,null,null,null,null,null,null,null,null,null,null,null,null,null,null,null,null,null,null,null,null,null,null,null,null,null,null,null,null,null,null,null,null,null,null,null,null,null,null,null,null,null,null,null,null,null,null,null,null,null,null,null,null,null,null,null,null,null,null,null,null,null,null,null,null,null,null,null,null,null,null,null,null,null,null,null,null,null,null,null,null,null,null,null,null,null,null,null,null,null,null,null,null,null,null,null,null,null,null,null,null,null,null,null,null,null,null,null,null,null,null,null,null,null,null,null,null,null,null,null,null,null,null,null,null,null,null,null,null,null,null,null,null,null,null,null,null,null,null,null,null,null,null,null,null,null,null,null,null,null,null,null,null,null,null,null,null,null,null,null,null,null,null,null,null,null,null,null,null,null,null,null,null,null,null,null,null,null,null,null,null,null,null,null,null,null,null,null,null,null,null,null,null,null,null,null,null,null,null,null,null,null,null,null,null,null,null,null,null,null,null,null,null,null,null,null,null,null,null,null,null,null,null,null,null,null,null,null,null,null,null,null,null,null,null,null,null,null,null,null,null,null,null,null,null,null,null,null,null,null,null,null,null,null,null,null,null,null,null,null,null,null,null,null,null,null,null,null,null,null,null,null,null,null,null,null,null,null,null,null,null,null,null,null,null,null,null,null,null,null,null,null,null,null,null,null,null,null,null,null,null,null,null,null,null,null,null,null,null,null,null,null,null,null,null,null,null,null,null,null,null,null,null,null,null,null,null,null,null,null,null,null,null,null,null,null,null,null,null,null,null,null,null,null,null,null,null,null,null,null,null,null,null,null,null,null,null,null,null,null,null,null,null,null,null,null,null,null,null,null,null,null,null,null,null,null,null,null,null,null,null,null,null,null,null,null,null,null,null,null,null,null,null,null,null,null,null,null,null,null,null,null,null,null,null,null,null,null,null,null,null,null,null,null,null,null,null,null,null,null,null,null,null,null,null,null,null,null,null,null,null,null,null,null,null,null,null,null,null,null,null,null,null,null,null,null,null,null,null,null,null,null,null,null,null,null,null,null,null,null,null,null,null,null,null,null,null,null,null,null,null,null,null,null,null,null,null,null,null,null,null,null,null,null,null,null,null,null,null,null,null,null,null,null,null,null,null,null,null,null,null,null,null,null,null,null,null,null,null,null,null,null,null,null,null,null,null,null,null,null,null,null,null,null,null,null,null,null,null,null,null,null,null,null,null,null,null,null,null,null,null,null,null,null,null,null,null,null,null,null,null,null,null,null,null,null,null,null,null,null,null,null,null,null,null,null,null,null,null,null,null,null,null,null,null,null,null,null,null,null,null,null,null,null,null,null,null,null,null,null,null,null,null,null,null,null,null,null,null,null,null,null,null,null,null,null,null,null,null,null,null,null,null,null,null,null,null,null,null,null,null,null,null,null,null,null,null,null,null,null,null,null,null,null,null,null,null,null,null,null,null,null,null,null,null,null,null,null,null,null,null,null,null,null,null,null,null,null,null,null,null,null,null,null,null,null,null,null,null,null,null,null,null,null,null,null,null,null,null,null,null,null,null,null,null,null,null,null,null,null,null,null,null,null,null,null,null,null,null,null,null,null,null,null,null,null,null,null,null,null,null,null,null,null,null,null,null,null,null,null,null,null,null,null,null,null,null,null,null,null,null,null,null,null,null,null,null,null,null,null,null,null,null,null,null,null,null,null,null,null,null,null,null,null,null,null,null,null,null,null,null,null,null,null,null,null,null,null,null,null,null,null,null,null,null,null,null,null,null,null,null,null,null,null,null,null,null,null,null,null,null,null,null,null,null,null,null,null,null,null,null,null,null,null,null,null,null,null,null,null,null,null,null,null,null,null,null,null,null,null,null,null,null,null,null,null,null,null,null,null,null,null,null,null,null,null,null,null,null,null,null,null,null,null,null,null,null,null,null,null,null,null,null,null,null,null,null,null,null,null,null,null,null,null,null,null,null,null,null,null,null,null,null,null,null,null,null,null,null,null,null,null,null,null,null,null,null,null,null,null,null,null,null,null,null,null,null,null,null,null,null,null,null,null,null,null,null,null,null,null,null,null,null,null,null,null,null,null,null,null,null,null,null,null,null,null,null,null,null,null,null,null,null,null,null,null,null,null,null,null,null,null,null,null,null,null,null,null,null,null,null,null,null,null,null,null,null,null,null,null,null,null,null,null,null,null,null,null,null,null,null,null,null,null,null,null,null,null,null,null,null,null,null,null,null,null,null,null,null,null,null,null,null,null,null,null,null,null,null,null,null,null,null,null,null,null,null,null,null,null,null,null,null,null,null,null,null,null,null,null,null,null,null,null,null,null,null,null,null,null,null,null,null,null,null,null,null,null,null,null,null,null,null,null,null,null,null,null,null,null,null,null,null,null,null,null,null,null,null,null,null,null,null,null,null,null,null,null,null,null,null,null,null,null,null,null,null,null,null,null,null,null,null,null,null,null,null,null,null,null,null,null,null,null,null,null,null,null,null,null,null,null,null,null,null,null,null,null,null,null,null,null,null,null,null,null,null,null,null,null,null,null,null,null,null,null,null,null,null,null,null,null,null,null,null,null,null,null,null,null,null,null,null,null,null,null,null,null,null,null,null,null,null,null,null,null,null,null,null,null,null,null,null,null,null,null,null,null,null,null,null,null,null,null,null,null,null,null,null,null,null,null,null,null,null,null,null,null,null,null,null,null,null,null,null,null,null,null,null,null,null,null,null,null,null,null,null,null,null,null,null,null,null,null,null,null,null,null,null,null,null,null,null,null,null,null,null,null,null,null,null,null,null,null,null,null,null,null,null,null,null,null,null,null,null,null,null,null,null,null,null,null,null,null,null,null,null,null,null,null,null,null,null,null,null,null,null,null,null,null,null,null,null,null,null,null,null,null,null,null,null,null,null,null,null,null,null,null,null,null,null,null,null,null,null,null,null,null,null,null,null,null,null,null,null,null,null,null,null,null,null,null,null,null,null,null,null,null,null,null,null,null,null,null,null,null,null,null,null,null,null,null,null,null,null,null,null,null,null,null,null,null,null,null,null,null,null,null,null,null,null,null,null,null,null,null,null,null,null,null,null,null,null,null,null,null,null,null,null,null,null,null,null,null,null,null,null,null,null,null,null,null,null,null,null,null,null,null,null,null,null,null,null,null,null,null,null,null,null,null,null,null,null,null,null,null,null,null,null,null,null,null,null,null,null,null,null,null,null,null,null,null,null,null,null,null,null,null,null,null,null,null,null,null,null,null,null,null,null,null,null,null,null,null,null,null,null,null,null,null,null,null,null,null,null,null,null,null,null,null,null,null,null,null,null,null,null,null,null,null,null,null,null,null,null,null,null,null,null,null,null,null,null,null,null,null,null,null,null,null,null,null,null,null,null,null,null,null,null,null,null,null,null,null,null,null,null,null,null,null,null,null,null,null,null,null,null,null,null,null,null,null,null,null,null,null,null,null,null,null,null,null,null,null,null,null,null,null,null,null,null,null,null,null,null,null,null,null,null,null,null,null,null,null,null,null,null,null,null,null,null,null,null,null,null,null,null,null,null,null,null,null,null,null,null,null,null,null,null,null,null,null,null,null,null,null,null,null,null,null,null,null,null,null,null,null,null,null,null,null,null,null,null,null,null,null,null,null,null,null,null,null,null,null,null,null,null,null,null,null,null,null,null,null,null,null,null,null,null,null,null,null,null,null,null,null,null,null,null,null,null,null,null,null,null,null,null,null,null,null,null,null,null,null,null,null,null,null,null,null,null,null,null,null,null,null,null,null,null,null,null,null,null,null,null,null,null,null,null,null,null,null,null,null,null,null,null,null,null,null,null,null,null,null,null,null,null,null,null,null,null,null,null,null,null,null,null,null,null,null,null,null,null,null,null,null,null,null,null,null,null,null,null,null,null,null,null,null,null,null,null,null,null,null,null,null,null,null,null,null,null,null,null,null,null,null,null,null,null,null,null,null,null,null,null,null,null,null,null,null,null,null,null,null,null,null,null,null,null,null,null,null,null,null,null,null,null,null,null,null,null,null,null,null,null,null,null,null,null,null,null,null,null,null,null,null,null,null,null,null,null,null,null,null,null,null,null,null,null,null,null,null,null,null,null,null,null,null,null,null,null,null,null,null,null,null,null,null,null,null,null,null,null,null,null,null,null,null,null,null,null,null,null,null,null,null,null,null,null,null,null,null,null,null,null,null,null,null,null,null,null,null,null,null,null,null,null,null,null,null,null,null,null,null,null,null,null,null,null,null,null,null,null,null,null,null,null,null,null,null,null,null,null,null,null,null,null,null,null,null,null,null,null,null,null,null,null,null,null,null,null,null,null,null,null,null,null,null,null,null,null,null,null,null,null,null,null,null,null,null,null,null,null,null,null,null,null,null,null,null,null,null,null,null,null,null,null,null,null,null,null,null,null,null,null,null,null,null,null,null,null,null,null,null,null,null,null,null,null,null,null,null,null,null,null,null,null,null,null,null,null,null,null,null,null,null,null,null,null,null,null,null,null,null,null,null,null,null,null,null,null,null,null,null,null,null,null,null,null,null,null,null,null,null,null,null,null,null,null,null,null,null,null,null,null,null,null,null,null,null,null,null,null,null,null,null,null,null,null,null,null,null,null,null,null,null,null,null,null,null,null,null,null,null,null,null,null,null,null,null,null,null,null,null,null,null,null,null,null,null,null,null,null,null,null,null,null,null,null,null,null,null,null,null,null,null,null,null,null,null,null,null,null,null,null,null,null,null,null,null,null,null,null,null,null,null,null,null,null,null,null,null,null,null,null,null,null,null,null,null,null,null,null,null,null,null,null,null,null,null,null,null,null,null,null,null,null,null,null,null,null,null,null,null,null,null,null,null,null,null,null,null,null,null,null,null,null,null,null,null,null,null,null,null,null,null,null,null,null,null,null,null,null,null,null,null,null,null,null,null,null,null,null,null,null,null,null,null,null,null,null,null,null,null,null,null,null,null,null,null,null,null,null,null,null,null,null,null,null,null,null,null,null,null,null,null,null,null,null,null,null,null,null,null,null,null,null,null,null,null,null,null,null,null,null,null,null,null,null,null,null,null,null,null,null,null,null,null,null,null,null,null,null,null,null,null,null,null,null,null,null,null,null,null,null,null,null,null,null,null,null,null,null,null,null,null,null,null,null,null,null,null,null,null,null,null,null,null,null,null,null,null,null,null,null,null,null,null,null,null,null,null,null,null,null,null,null,null,null,null,null,null,null,null,null,null,null,null,null,null,null,null,null,null,null,null,null,null,null,null,null,null,null,null,null,null,null,null,null,null,null,null,null,null,null,null,null,null,null,null,null,null,null,null,null,null,null,null,null,null,null,null,null,null,null,null,null,null,null,null,null,null,null,null,null,null,null,null,null,null,null,null,null,null,null,null,null,null,null,null,null,null,null,null,null,null,null,null,null,null,null,null,null,null,null,null,null,null,null,null,null,null,null,null,null,null,null,null,null,null,null,null,null,null,null,null,null,null,null,null,null,null,null,null,null,null,null,null,null,null,null,null,null,null,null,null,null,null,null,null,null,null,null,null,null,null,null,null,null,null,null,null,null,null,null,null,null,null,null,null,null,null,null,null,null,null,null,null,null,null,null,null,null,null,null,null,null,null,null,null,null,null,null,null,null,null,null,null,null,null,null,null,null,null,null,null,null,null,null,null,null,null,null,null,null,null,null,null,null,null,null,null,null,null,null,null,null,null,null,null,null,null,null,null,null,null,null,null,null,null,null,null,null,null,null,null,null,null,null,null,null,null,null,null,null,null,null,null,null,null,null,null,null,null,null,null,null,null,null,null,null,null,null,null,null,null,null,null,null,null,null,null,null,null,null,null,null,null,null,null,null,null,null,null,null,null,null,null,null,null,null,null,null,null,null,null,null,null,null,null,null,null,null,null,null,null,null,null,null,null,null,null,null,null,null,null,null,null,null,null,null,null,null,null,null,null,null,null,null,null,null,null,null,null,null,null,null,null,null,null,null,null,null,null,null,null,null,null,null,null,null,null,null,null,null,null,null,null,null,null,null,null,null,null,null,null,null,null,null,null,null,null,null,null,null,null,null,null,null,null,null,null,null,null,null,null,null,null,null,null,null,null,null,null,null,null,null,null,null,null,null,null,null,null,null,null,null,null,null,null,null,null,null,null,null,null,null,null,null,null,null,null,null,null,null,null,null,null,null,null,null,null,null,null,null,null,null,null,null,null,null,null,null,null,null,null,null,null,null,null,null,null,null,null,null,null,null,null,null,null,null,null,null,null,null,null,null,null,null,null,null,null,null,null,null,null,null,null,null,null,null,null,null,null,null,null,null,null,null,null,null,null,null,null,null,null,null,null,null,null,null,null,null,null,null,null,null,null,null,null,null,null,null,null,null,null,null,null,null,null,null,null,null,null,null,null,null,null,null,null,null,null,null,null,null,null,null,null,null,null,null,null,null,null,null,null,null,null,null,null,null,null,null,null,null,null,null,null,null,null,null,null,null,null,null,null,null,null,null,null,null,null,null,null,null,null,null,null,null,null,null,null,null,null,null,null,null,null,null,null,null,null,null,null,null,null,null,null,null,null,null,null,null,null,null,null,null,null,null,null,null,null,null,null,null,null,null,null,null,null,null,null,null,null,null,null,null,null,null,null,null,null,null,null,null,null,null,null,null,null,null,null,null,null,null,null,null,null,null,null,null,null,null,null,null,null,null,null,null,null,null,null,null,null,null,null,null,null,null,null,null,null,null,null,null,null,null,null,null,null,null,null,null,null,null,null,null,null,null,null,null,null,null,null,null,null,null,null,null,null,null,null,null,null,null,null,null,null,null,null,null,null,null,null,null,null,null,null,null,null,null,null,null,null,null,null,null,null,null,null,null,null,null,null,null,null,null,null,null,null,null,null,null,null,null,null,null,null,null,null,null,null,null,null,null,null,null,null,null,null,null,null,null,null,null,null,null,null,null,null,null,null,null,null,null,null,null,null,null,null,null,null,null,null,null,null,null,null,null,null,null,null,null,null,null,null,null,null,null,null,null,null,null,null,null,null,null,null,null,null,null,null,null,null,null,null,null,null,null,null,null,null,null,null,null,null,null,null,null,null,null,null,null,null,null,null,null,null,null,null,null,null,null,null,null,null,null,null,null,null,null,null,null,null,null,null,null,null,null,null,null,null,null,null,null,null,null,null,null,null,null,null,null,null,null,null,null,null,null,null,null,null,null,null,null,null,null,null,null,null,null,null,null,null,null,null,null,null,null,null,null,null,null,null,null,null,null,null,null,null,null,null,null,null,null,null,null,null,null,null,null,null,null,null,null,null,null,null,null,null,null,null,null,null,null,null,null,null,null,null,null,null,null,null,null,null,null,null,null,null,null,null,null,null,null,null,null,null,null,null,null,null,null,null,null,null,null,null,null,null,null,null,null,null,null,null,null,null,null,null,null,null,null,null,null,null,null,null,null,null,null,null,null,null,null,null,null,null,null,null,null,null,null,null,null,null,null,null,null,null,null,null,null,null,null,null,null,null,null,null,null,null,null,null,null,null,null,null,null,null,null,null,null,null,null,null,null,null,null,null,null,null,null,null,null,null,null,null,null,null,null,null,null,null,null,null,null,null,null,null,null,null,null,null,null,null,null,null,null,null,null,null,null,null,null,null,null,null,null,null,null,null,null,null,null,null,null,null,null,null,null,null,null,null,null,null,null,null,null,null,null,null,null,null,null,null,null,null,null,null,null,null,null,null,null,null,null,null,null,null,null,null,null,null,null,null,null,null,null,null,null,null,null,null,null,null,null,null,null,null,null,null,null,null,null,null,null,null,null,null,null,null,null,null,null,null,null,null,null,null,null,null,null,null,null,null,null,null,null,null,null,null,null,null,null,null,null,null,null,null,null,null,null,null,null,null,null,null,null,null,null,null,null,null,null,null,null,null,null,null,null,null,null,null,null,null,null,null,null,null,null,null,null,null,null,null,null,null,null,null,null,null,null,null,null,null,null,null,null,null,null,null,null,null,null,null,null,null,null,null,null,null,null,null,null,null,null,null,null,null,null,null,null,null,null,null,null,null,null,null,null,null,null,null,null,null,null,null,null,null,null,null,null,null,null,null,null,null,null,null,null,null,null,null,null,null,null,null,null,null,null,null,null,null,null,null,null,null,null,null,null,null,null,null,null,null,null,null,null,null,null,null,null,null,null,null,null,null,null,null,null,null,null,null,null,null,null,null,null,null,null,null,null,null,null,null,null,null,null,null,null,null,null,null,null,null,null,null,null,null,null,null,null,null,null,null,null,null,null,null,null,null,null,null,null,null,null,null,null,null,null,null,null,null,null,null,null,null,null,null,null,null,null,null,null,null,null,null,null,null,null,null,null,null,null,null,null,null,null,null,null,null,null,null,null,null,null,null,null,null,null,null,null,null,null,null,null,null,null,null,null,null,null,null,null,null,null,null,null,null,null,null,null,null,null,null,null,null,null,null,null,null,null,null,null,null,null,null,null,null,null,null,null,null,null,null,null,null,null,null,null,null,null,null,null,null,null,null,null,null,null,null,null,null,null,null,null,null,null,null,null,null,null,null,null,null,null,null,null,null,null,null,null,null,null,null,null,null,null,null,null,null,null,null,null,null,null,null,null,null,null,null,null,null,null,null,null,null,null,null,null,null,null,null,null,null,null,null,null,null,null,null,null,null,null,null,null,null,null,null,null,null,null,null,null,null,null,null,null,null,null,null,null,null,null,null,null,null,null,null,null,null,null,null,null,null,null,null,null,null,null,null,null,null,null,null,null,null,null,null,null,null,null,null,null,null,null,null,null,null,null,null,null,null,null,null,null,null,null,null,null,null,null,null,null,null,null,null,null,null,null,null,null,null,null,null,null,null,null,null,null,null,null,null,null,null,null,null,null,null,null,null,null,null,null,null,null,null,null,null,null,null,null,null,null,null,null,null,null,null,null,null,null,null,null,null,null,null,null,null,null,null,null,null,null,null,null,null,null,null,null,null,null,null,null,null,null,null,null,null,null,null,null,null,null,null,null,null,null,null,null,null,null,null,null,null,null,null,null,null,null,null,null,null,null,null,null,null,null,null,null,null,null,null,null,null,null,null,null,null,null,null,null,null,null,null,null,null,null,null,null,null,null,null,null,null,null,null,null,null,null,null,null,null,null,null,null,null,null,null,null,null,null,null,null,null,null,null,null,null,null,null,null,null,null,null,null,null,null,null,null,null,null,null,null,null,null,null,null,null,null,null,null,null,null,null,null,null,null,null,null,null,null,null,null,null,null,null,null,null,null,null,null,null,null,null,null,null,null,null,null,null,null,null,null,null,null,null,null,null,null,null,null,null,null,null,null,null,null,null,null,null,null,null,null,null,null,null,null,null,null,null,null,null,null,null,null,null,null,null,null,null,null,null,null,null,null,null,null,null,null,null,null,null,null,null,null,null,null,null,null,null,null,null,null,null,null,null,null,null,null,null,null,null,null,null,null,null,null,null,null,null,null,null,null,null,null,null,null,null,null,null,null,null,null,null,null,null,null,null,null,null,null,null,null,null,null,null,null,null,null,null,null,null,null,null,null,null,null,null,null,null,null,null,null,null,null,null,null,null,null,null,null,null,null,null,null,null,null,null,null,null,null,null,null,null,null,null,null,null,null,null,null,null,null,null,null,null,null,null,null,null,null,null,null,null,null,null,null,null,null,null,null,null,null,null,null,null,null,null,null,null,null,null,null,null,null,null,null,null,null,null,null,null,null,null,null,null,null,null,null,null,null,null,null,null,null,null,null,null,null,null,null,null,null,null,null,null,null,null,null,null,null,null,null,null,null,null,null,null,null,null,null,null,null,null,null,null,null,null,null,null,null,null,null,null,null,null,null,null,null,null,null,null,null,null,null,null,null,null,null,null,null,null,null,null,null,null,null,null,null,null,null,null,null,null,null,null,null,null,null,null,null,null,null,null,null,null,null,null,null,null,null,null,null,null,null,null,null,null,null,null,null,null,null,null,null,null,null,null,null,null,null,null,null,null,null,null,null,null,null,null,null,null,null,null,null,null,null,null,null,null,null,null,null,null,null,null,null,null,null,null,null,null,null,null,null,null,null,null,null,null,null,null,null,null,null,null,null,null,null,null,null,null,null,null,null,null,null,null,null,null,null,null,null,null,null,null,null,null,null,null,null,null,null,null,null,null,null,null,null,null,null,null,null,null,null,null,null,null,null,null,null,null,null,null,null,null,null,null,null,null,null,null,null,null,null,null,null,null,null,null,null,null,null,null,null,null,null,null,null,null,null,null,null,null,null,null,null,null,null,null,null,null,null,null,null,null,null,null,null,null,null,null,null,null,null,null,null,null,null,null,null,null,null,null,null,null,null,null,null,null,null,null,null,null,null,null,null,null,null,null,null,null,null,null,null,null,null,null,null,null,null,null,null,null,null,null,null,null,null,null,null,null,null,null,null,null,null,null,null,null,null,null,null,null,null,null,null,null,null,null,null,null,null,null,null,null,null,null,null,null,null,null,null,null,null,null,null,null,null,null,null,null,null,null,null,null,null,null,null,null,null,null,null,null,null,null,null,null,null,null,null,null,null,null,null,null,null,null,null,null,null,null,null,null,null,null,null,null,null,null,null,null,null,null,null,null,null,null,null,null,null,null,null,null,null,null,null,null,null,null,null,null,null,null,null,null,null,null,null,null,null,null,null,null,null,null,null,null,null,null,null,null,null,null,null,null,null,null,null,null,null,null,null,null,null,null,null,null,null,null,null,null,null,null,null,null,null,null,null,null,null,null,null,null,null,null,null,null,null,null,null,null,null,null,null,null,null,null,null,null,null,null,null,null,null,null,null,null,null,null,null,null,null,null,null,null,null,null,null,null,null,null,null,null,null,null,null,null,null,null,null,null,null,null,null,null,null,null,null,null,null,null,null,null,null,null,null,null,null,null,null,null,null,null,null,null,null,null,null,null,null,null,null,null,null,null,null,null,null,null,null,null,null,null,null,null,null,null,null,null,null,null,null,null,null,null,null,null,null,null,null,null,null,null,null,null,null,null,null,null,null,null,null,null,null,null,null,null,null,null,null,null,null,null,null,null,null,null,null,null,null,null,null,null,null,null,null,null,null,null,null,null,null,null,null,null,null,null,null,null,null,null,null,null,null,null,null,null,null,null,null,null,null,null,null,null,null,null,null,null,null,null,null,null,null,null,null,null,null,null,null,null,null,null,null,null,null,null,null,null,null,null,null,null,null,null,null,null,null,null,null,null,null,null,null,null,null,null,null,null,null,null,null,null,null,null,null,null,null,null,null,null,null,null,null,null,null,null,null,null,null,null,null,null,null,null,null,null,null,null,null,null,null,null,null,null,null,null,null,null,null,null,null,null,null,null,null,null,null,null,null,null,null,null,null,null,null,null,null,null,null,null,null,null,null,null,null,null,null,null,null,null,null,null,null,null,null,null,null,null,null,null,null,null,null,null,null,null,null,null,null,null,null,null,null,null,null,null,null,null,null,null,null,null,null,null,null,null,null,null,null,null,null,null,null,null,null,null,null,null,null,null,null,null,null,null,null,null,null,null,null,null,null,null,null,null,null,null,null,null,null,null,null,null,null,null,null,null,null,null,null,null,null,null,null,null,null,null,null,null,null,null,null,null,null,null,null,null,null,null,null,null,null,null,null,null,null,null,null,null,null,null,null,null,null,null,null,null,null,null,null,null,null,null,null,null,null,null,null,null,null,null,null,null,null,null,null,null,null,null,null,null,null,null,null,null,null,null,null,null,null,null,null,null,null,null,null,null,null,null,null,null,null,null,null,null,null,null,null,null,null,null,null,null,null,null,null,null,null,null,null,null,null,null,null,null,null,null,null,null,null,null,null,null,null,null,null,null,null,null,null,null,null,null,null,null,null,null,null,null,null,null,null,null,null,null,null,null,null,null,null,null,null,null,null,null,null,null,null,null,null,null,null,null,null,null,null,null,null,null,null,null,null,null,null,null,null,null,null,null,null,null,null,null,null,null,null,null,null,null,null,null,null,null,null,null,null,null,null,null,null,null,null,null,null,null,null,null,null,null,null,null,null,null,null,null,null,null,null,null,null,null,null,null,null,null,null,null,null,null,null,null,null,null,null,null,null,null,null,null,null,null,null,null,null,null,null,null,null,null,null,null,null,null,null,null,null,null,null,null,null,null,null,null,null,null,null,null,null,null,null,null,null,null,null,null,null,null,null,null,null,null,null,null,null,null,null,null,null,null,null,null,null,null,null,null,null,null,null,null,null,null,null,null,null,null,null,null,null,null,null,null,null,null,null,null,null,null,null,null,null,null,null,null,null,null,null,null,null,null,null,null,null,null,null,null,null,null,null,null,null,null,null,null,null,null,null,null,null,null,null,null,null,null,null,null,null,null,null,null,null,null,null,null,null,null,null,null,null,null,null,null,null,null,null,null,null,null,null,null,null,null,null,null,null,null,null,null,null,null,null,null,null,null,null,null,null,null,null,null,null,null,null,null,null,null,null,null,null,null,null,null,null,null,null,null,null,null,null,null,null,null,null,null,null,null,null,null,null,null,null,null,null,null,null,null,null,null,null,null,null,null,null,null,null,null,null,null,null,null,null,null,null,null,null,null,null,null,null,null,null,null,null,null,null,null,null,null,null,null,null,null,null,null,null,null,null,null,null,null,null,null,null,null,null,null,null,null,null,null,null,null,null,null,null,null,null,null,null,null,null,null,null,null,null,null,null,null,null,null,null,null,null,null,null,null,null,null,null,null,null,null,null,null,null,null,null,null,null,null,null,null,null,null,null,null,null,null,null,null,null,null,null,null,null,null,null,null,null,null,null,null,null,null,null,null,null,null,null,null,null,null,null,null,null,null,null,null,null,null,null,null,null,null,null,null,null,null,null,null,null,null,null,null,null,null,null,null,null,null,null,null,null,null,null,null,null,null,null,null,null,null,null,null,null,null,null,null,null,null,null,null,null,null,null,null,null,null,null,null,null,null,null,null,null,null,null,null,null,null,null,null,null,null,null,null,null,null,null,null,null,null,null,null,null,null,null,null,null,null,null,null,null,null,null,null,null,null,null,null,null,null,null,null,null,null,null,null,null,null,null,null,null,null,null,null,null,null,null,null,null,null,null,null,null,null,null,null,null,null,null,null,null,null,null,null,null,null,null,null,null,null,null,null,null,null,null,null,null,null,null,null,null,null,null,null,null,null,null,null,null,null,null,null,null,null,null,null,null,null,null,null,null,null,null,null,null,null,null,null,null,null,null,null,null,null,null,null,null,null,null,null,null,null,null,null,null,null,null,null,null,null,null,null,null,null,null,null,null,null,null,null,null,null,null,null,null,null,null,null,null,null,null,null,null,null,null,null,null,null,null,null,null,null,null,null,null,null,null,null,null,null,null,null,null,null,null,null,null,null,null,null,null,null,null,null,null,null,null,null,null,null,null,null,null,null,null,null,null,null,null,null,null,null,null,null,null,null,null,null,null,null,null,null,null,null,null,null,null,null,null,null,null,null,null,null,null,null,null,null,null,null,null,null,null,null,null,null,null,null,null,null,null,null,null,null,null,null,null,null,null,null,null,null,null,null,null,null,null,null,null,null,null,null,null,null,null,null,null,null,null,null,null,null,null,null,null,null,null,null,null,null,null,null,null,null,null,null,null,null,null,null,null,null,null,null,null,null,null,null,null,null,null,null,null,null,null,null,null,null,null,null,null,null,null,null,null,null,null,null,null,null,null,null,null,null,null,null,null,null,null,null,null,null,null,null,null,null,null,null,null,null,null,null,null,null,null,null,null,null,null,null,null,null,null,null,null,null,null,null,null,null,null,null,null,null,null,null,null,null,null,null,null,null,null,null,null,null,null,null,null,null,null,null,null,null,null,null,null,null,null,null,null,null,null,null,null,null,null,null,null,null,null,null,null,null,null,null,null,null,null,null,null,null,null,null,null,null,null,null,null,null,null,null,null,null,null,null,null,null,null,null,null,null,null,null,null,null,null,null,null,null,null,null,null,null,null,null,null,null,null,null,null,null,null,null,null,null,null,null,null,null,null,null,null,null,null,null,null,null,null,null,null,null,null,null,null,null,null,null,null,null,null,null,null,null,null,null,null,null,null,null,null,null,null,null,null,null,null,null,null,null,null,null,null,null,null,null,null,null,null,null,null,null,null,null,null,null,null,null,null,null,null,null,null,null,null,null,null,null,null,null,null,null,null,null,null,null,null,null,null,null,null,null,null,null,null,null,null,null,null,null,null,null,null,null,null,null,null,null,null,null,null,null,null,null,null,null,null,null,null,null,null,null,null,null,null,null,null,null,null,null,null,null,null,null,null,null,null,null,null,null,null,null,null,null,null,null,null,null,null,null,null,null,null,null,null,null,null,null,null,null,null,null,null,null,null,null,null,null,null,null,null,null,null,null,null,null,null,null,null,null,null,null,null,null,null,null,null,null,null,null,null,null,null,null,null,null,null,null,null,null,null,null,null,null,null,null,null,null,null,null,null,null,null,null,null,null,null,null,null,null,null,null,null,null,null,null,null,null,null,null,null,null,null,null,null,null,null,null,null,null,null,null,null,null,null,null,null,null,null,null,null,null,null,null,null,null,null,null,null,null,null,null,null,null,null,null,null,null,null,null,null,null,null,null,null,null,null,null,null,null,null,null,null,null,null,null,null,null,null,null,null,null,null,null,null,null,null,null,null,null,null,null,null,null,null,null,null,null,null,null,null,null,null,null,null,null,null,null,null,null,null,null,null,null,null,null,null,null,null,null,null,null,null,null,null,null,null,null,null,null,null,null,null,null,null,null,null,null,null,null,null,null,null,null,null,null,null,null,null,null,null,null,null,null,null,null,null,null,null,null,null,null,null,null,null,null,null,null,null,null,null,null,null,null,null,null,null,null,null,null,null,null,null,null,null,null,null,null,null,null,null,null,null,null,null,null,null,null,null,null,null,null,null,null,null,null,null,null,null,null,null,null,null,null,null,null,null,null,null,null,null,null,null,null,null,null,null,null,null,null,null,null,null,null,null,null,null,null,null,null,null,null,null,null,null,null,null,null,null,null,null,null,null,null,null,null,null,null,null,null,null,null,null,null,null,null,null,null,null,null,null,null,null,null,null,null,null,null,null,null,null,null,null,null,null,null,null,null,null,null,null,null,null,null,null,null,null,null,null,null,null,null,null,null,null,null,null,null,null,null,null,null,null,null,null,null,null,null,null,null,null,null,null,null,null,null,null,null,null,null,null,null,null,null,null,null,null,null,null,null,null,null,null,null,null,null,null,null,null,null,null,null,null,null,null,null,null,null,null,null,null,null,null,null,null,null,null,null,null,null,null,null,null,null,null,null,null,null,null,null,null,null,null,null,null,null,null,null,null,null,null,null,null,null,null,null,null,null,null,null,null,null,null,null,null,null,null,null,null,null,null,null,null,null,null,null,null,null,null,null,null,null,null,null,null,null,null,null,null,null,null,null,null,null,null,null,null,null,null,null,null,null,null,null,null,null,null,null,null,null,null,null,null,null,null,null,null,null,null,null,null,null,null,null,null,null,null,null,null,null,null,null,null,null,null,null,null,null,null,null,null,null,null,null,null,null,null,null,null,null,null,null,null,null,null,null,null,null,null,null,null,null,null,null,null,null,null,null,null,null,null,null,null,null,null,null,null,null,null,null,null,null,null,null,null,null,null,null,null,null,null,null,null,null,null,null,null,null,null,null,null,null,null,null,null,null,null,null,null,null,null,null,null,null,null,null,null,null,null,null,null,null,null,null,null,null,null,null,null,null,null,null,null,null,null,null,null,null,null,null,null,null,null,null,null,null,null,null,null,null,null,null,null,null,null,null,null,null,null,null,null,null,null,null,null,null,null,null,null,null,null,null,null,null,null,null,null,null,null,null,null,null,null,null,null,null,null,null,null,null,null,null,null,null,null,null,null,null,null,null,null,null,null,null,null,null,null,null,null,null,null,null,null,null,null,null,null,null,null,null,null,null,null,null,null,null,null,null,null,null,null,null,null,null,null,null,null,null,null,null,null,null,null,null,null,null,null,null,null,null,null,null,null,null,null,null,null,null,null,null,null,null,null,null,null,null,null,null,null,null,null,null,null,null,null,null,null,null,null,null,null,null,null,null,null,null,null,null,null,null,null,null,null,null,null,null,null,null,null,null,null,null,null,null,null,null,null,null,null,null,null,null,null,null,null,null,null,null,null,null,null,null,null,null,null,null,null,null,null,null,null,null,null,null,null,null,null,null,null,null,null,null,null,null,null,null,null,null,null,null,null,null,null,null,null,null,null,null,null,null,null,null,null,null,null,null,null,null,null,null,null,null,null,null,null,null,null,null,null,null,null,null,null,null,null,null,null,null,null,null,null,null,null,null,null,null,null,null,null,null,null,null,null,null,null,null,null,null,null,null,null,null,null,null,null,null,null,null,null,null,null,null,null,null,null,null,null,null,null,null,null,null,null,null,null,null,null,null,null,null,null,null,null,null,null,null,null,null,null,null,null,null,null,null,null,null,null,null,null,null,null,null,null,null,null,null,null,null,null,null,null,null,null,null,null,null,null,null,null,null,null,null,null,null,null,null,null,null,null,null,null,null,null,null,null,null,null,null,null,null,null,null,null,null,null,null,null,null,null,null,null,null,null,null,null,null,null,null,null,null,null,null,null,null,null,null,null,null,null,null,null,null,null,null,null,null,null,null,null,null,null,null,null,null,null,null,null,null,null,null,null,null,null,null,null,null,null,null,null,null,null,null,null,null,null,null,null,null,null,null,null,null,null,null,null,null,null,null,null,null,null,null,null,null,null,null,null,null,null,null,null,null,null,null,null,null,null,null,null,null,null,null,null,null,null,null,null,null,null,null,null,null,null,null,null,null,null,null,null,null,null,null,null,null,null,null,null,null,null,null,null,null,null,null,null,null,null,null,null,null,null,null,null,null,null,null,null,null,null,null,null,null,null,null,null,null,null,null,null,null,null,null,null,null,null,null,null,null,null,null,null,null,null,null,null,null,null,null,null,null,null,null,null,null,null,null,null,null,null,null,null,null,null,null,null,null,null,null,null,null,null,null,null,null,null,null,null,null,null,null,null,null,null,null,null,null,null,null,null,null,null,null,null,null,null,null,null,null,null,null,null,null,null,null,null,null,null,null,null,null,null,null,null,null,null,null,null,null,null,null,null,null,null,null,null,null,null,null,null,null,null,null,null,null,null,null,null,null,null,null,null,null,null,null,null,null,null,null,null,null,null,null,null,null,null,null,null,null,null,null,null,null,null,null,null,null,null,null,null,null,null,null,null,null,null,null,null,null,null,null,null,null,null,null,null,null,null,null,null,null,null,null,null,null,null,null,null,null,null,null,null,null,null,null,null,null,null,null,null,null,null,null,null,null,null,null,null,null,null,null,null,null,null,null,null,null,null,null,null,null,null,null,null,null,null,null,null,null,null,null,null,null,null,null,null,null,null,null,null,null,null,null,null,null,null,null,null,null,null,null,null,null,null,null,null,null,null,null,null,null,null,null,null,null,null,null,null,null,null,null,null,null,null,null,null,null,null,null,null,null,null,null,null,null,null,null,null,null,null,null,null,null,null,null,null,null,null,null,null,null,null,null,null,null,null,null,null,null,null,null,null,null,null,null,null,null,null,null,null,null,null,null,null,null,null,null,null,null,null,null,null,null,null,null,null,null,null,null,null,null,null,null,null,null,null,null,null,null,null,null,null,null,null,null,null,null,null,null,null,null,null,null,null,null,null,null,null,null,null,null,null,null,null,null,null,null,null,null,null,null,null,null,null,null,null,null,null,null,null,null,null,null,null,null,null,null,null,null,null,null,null,null,null,null,null,null,null,null,null,null,null,null,null,null,null,null,null,null,null,null,null,null,null,null,null,null,null,null,null,null,null,null,null,null,null,null,null,null,null,null,null,null,null,null,null,null,null,null,null,null,null,null,null,null,null,null,null,null,null,null,null,null,null,null,null,null,null,null,null,null,null,null,null,null,null,null,null,null,null,null,null,null,null,null,null,null,null,null,null,null,null,null,null,null,null,null,null,null,null,null,null,null,null,null,null,null,null,null,null,null,null,null,null,null,null,null,null,null,null,null,null,null,null,null,null,null,null,null,null,null,null,null,null,null,null,null,null,null,null,null,null,null,null,null,null,null,null,null,null,null,null,null,null,null,null,null,null,null,null,null,null,null,null,null,null,null,null,null,null,null,null,null,null,null,null,null,null,null,null,null,null,null,null,null,null,null,null,null,null,null,null,null,null,null,null,null,null,null,null,null,null,null,null,null,null,null,null,null,null,null,null,null,null,null,null,null,null,null,null,null,null,null,null,null,null,null,null,null,null,null,null,null,null,null,null,null,null,null,null,null,null,null,null,null,null,null,null,null,null,null,null,null,null,null,null,null,null,null,null,null,null,null,null,null,null,null,null,null,null,null,null,null,null,null,null,null,null,null,null,null,null,null,null,null,null,null,null,null,null,null,null,null,null,null,null,null,null,null,null,null,null,null,null,null,null,null,null,null,null,null,null,null,null,null,null,null,null,null,null,null,null,null,null,null,null,null,null,null,null,null,null,null,null,null,null,null,null,null,null,null,null,null,null,null,null,null,null,null,null,null,null,null,null,null,null,null,null,null,null,null,null,null,null,null,null,null,null,null,null,null,null,null,null,null,null,null,null,null,null,null,null,null,null,null,null,null,null,null,null,null,null,null,null,null,null,null,null,null,null,null,null,null,null,null,null,null,null,null,null,null,null,null,null,null,null,null,null,null,null,null,null,null,null,null,null,null,null,null,null,null,null,null,null,null,null,null,null,null,null,null,null,null,null,null,null,null,null,null,null,null,null,null,null,null,null,null,null,null,null,null,null,null,null,null,null,null,null,null,null,null,null,null,null,null,null,null,null,null,null,null,null,null,null,null,null,null,null,null,null,null,null,null,null,null,null,null,null,null,null,null,null,null,null,null,null,null,null,null,null,null,null,null,null,null,null,null,null,null,null,null,null,null,null,null,null,null,null,null,null,null,null,null,null,null,null,null,null,null,null,null,null,null,null,null,null,null,null,null,null,null,null,null,null,null,null,null,null,null,null,null,null,null,null,null,null,null,null,null,null,null,null,null,null,null,null,null,null,null,null,null,null,null,null,null,null,null,null,null,null,null,null,null,null,null,null,null,null,null,null,null,null,null,null,null,null,null,null,null,null,null,null,null,null,null,null,null,null,null,null,null,null,null,null,null,null,null,null,null,null,null,null,null,null,null,null,null,null,null,null,null,null,null,null,null,null,null,null,null,null,null,null,null,null,null,null,null,null,null,null,null,null,null,null,null,null,null,null,null,null,null,null,null,null,null,null,null,null,null,null,null,null,null,null,null,null,null,null,null,null,null,null,null,null,null,null,null,null,null,null,null,null,null,null,null,null,null,null,null,null,null,null,null,null,null,null,null,null,null,null,null,null,null,null,null,null,null,null,null,null,null,null,null,null,null,null,null,null,null,null,null,null,null,null,null,null,null,null,null,null,null,null,null,null,null,null,null,null,null,null,null,null,null,null,null,null,null,null,null,null,null,null,null,null,null,null,null,null,null,null,null,null,null,null,null,null,null,null,null,null,null,null,null,null,null,null,null,null,null,null,null,null,null,null,null,null,null,null,null,null,null,null,null,null,null,null,null,null,null,null,null,null,null,null,null,null,null,null,null,null,null,null,null,null,null,null,null,null,null,null,null,null,null,null,null,null,null,null,null,null,null,null,null,null,null,null,null,null,null,null,null,null,null,null,null,null,null,null,null,null,null,null,null,null,null,null,null,null,null,null,null,null,null,null,null,null,null,null,null,null,null,null,null,null,null,null,null,null,null,null,null,null,null,null,null,null,null,null,null,null,null,null,null,null,null,null,null,null,null,null,null,null,null,null,null,null,null,null,null,null,null,null,null,null,null,null,null,null,null,null,null,null,null,null,null,null,null,null,null,null,null,null,null,null,null,null,null,null,null,null,null,null,null,null,null,null,null,null,null,null,null,null,null,null,null,null,null,null,null,null,null,null,null,null,null,null,null,null,null,null,null,null,null,null,null,null,null,null,null,null,null,null,null,null,null,null,null,null,null,null,null,null,null,null,null,null,null,null,null,null,null,null,null,null,null,null,null,null,null,null,null,null,null,null,null,null,null,null,null,null,null,null,null,null,null,null,null,null,null,null,null,null,null,null,null,null,null,null,null,null,null,null,null,null,null,null,null,null,null,null,null,null,null,null,null,null,null,null,null,null,null,null,null,null,null,null,null,null,null,null,null,null,null,null,null,null,null,null,null,null,null,null,null,null,null,null,null,null,null,null,null,null,null,null,null,null,null,null,null,null,null,null,null,null,null,null,null,null,null,null,null,null,null,null,null,null,null,null,null,null,null,null,null,null,null,null,null,null,null,null,null,null,null,null,null,null,null,null,null,null,null,null,null,null,null,null,null,null,null,null,null,null,null,null,null,null,null,null,null,null,null,null,null,null,null,null,null,null,null,null,null,null,null,null,null,null,null,null,null,null,null,null,null,null,null,null,null,null,null,null,null,null,null,null,null,null,null,null,null,null,null,null,null,null,null,null,null,null,null,null,null,null,null,null,null,null,null,null,null,null,null,null,null,null,null,null,null,null,null,null,null,null,null,null,null,null,null,null,null,null,null,null,null,null,null,null,null,null,null,null,null,null,null,null,null,null,null,null,null,null,null,null,null,null,null,null,null,null,null,null,null,null,null,null,null,null,null,null,null,null,null,null,null,null,null,null,null,null,null,null,null,null,null,null,null,null,null,null,null,null,null,null,null,null,null,null,null,null,null,null,null,null,null,null,null,null,null,null,null,null,null,null,null,null,null,null,null,null,null,null,null,null,null,null,null,null,null,null,null,null,null,null,null,null,null,null,null,null,null,null,null,null,null,null,null,null,null,null,null,null,null,null,null,null,null,null,null,null,null,null,null,null,null,null,null,null,null,null,null,null,null,null,null,null,null,null,null,null,null,null,null,null,null,null,null,null,null,null,null,null,null,null,null,null,null,null,null,null,null,null,null,null,null,null,null,null,null,null,null,null,null,null,null,null,null,null,null,null,null,null,null,null,null,null,null,null,null,null,null,null,null,null,null,null,null,null,null,null,null,null,null,null,null,null,null,null,null,null,null,null,null,null,null,null,null,null,null,null,null,null,null,null,null,null,null,null,null,null,null,null,null,null,null,null,null,null,null,null,null,null,null,null,null,null,null,null,null,null,null,null,null,null,null,null,null,null,null,null,null,null,null,null,null,null,null,null,null,null,null,null,null,null,null,null,null,null,null,null,null,null,null,null,null,null,null,null,null,null,null,null,null,null,null,null,null,null,null,null,null,null,null,null,null,null,null,null,null,null,null,null,null,null,null,null,null,null,null,null,null,null,null,null,null,null,null,null,null,null,null,null,null,null,null,null,null,null,null,null,null,null,null,null,null,null,null,null,null,null,null,null,null,null,null,null,null,null,null,null,null,null,null,null,null,null,null,null,null,null,null,null,null,null,null,null,null,null,null,null,null,null,null,null,null,null,null,null,null,null,null,null,null,null,null,null,null,null,null,null,null,null,null,null,null,null,null,null,null,null,null,null,null,null,null,null,null,null,null,null,null,null,null,null,null,null,null,null,null,null,null,null,null,null,null,null,null,null,null,null,null,null,null,null,null,null,null,null,null,null,null,null,null,null,null,null,null,null,null,null,null,null,null,null,null,null,null,null,null,null,null,null,null,null,null,null,null,null,null,null,null,null,null,null,null,null,null,null,null,null,null,null,null,null,null,null,null,null,null,null,null,null,null,null,null,null,null,null,null,null,null,null,null,null,null,null,null,null,null,null,null,null,null,null,null,null,null,null,null,null,null,null,null,null,null,null,null,null,null,null,null,null,null,null,null,null,null,null,null,null,null,null,null,null,null,null,null,null,null,null,null,null,null,null,null,null,null,null,null,null,null,null,null,null,null,null,null,null,null,null,null,null,null,null,null,null,null,null,null,null,null,null,null,null,null,null,null,null,null,null,null,null,null,null,null,null,null,null,null,null,null,null,null,null,null,null,null,null,null,null,null,null,null,null,null,null,null,null,null,null,null,null,null,null,null,null,null,null,null,null,null,null,null,null,null,null,null,null,null,null,null,null,null,null,null,null,null,null,null,null,null,null,null,null,null,null,null,null,null,null,null,null,null,null,null,null,null,null,null,null,null,null,null,null,null,null,null,null,null,null,null,null,null,null,null,null,null,null,null,null,null,null,null,null,null,null,null,null,null,null,null,null,null,null,null,null,null,null,null,null,null,null,null,null,null,null,null,null,null,null,null,null,null,null,null,null,null,null,null,null,null,null,null,null,null,null,null,null,null,null,null,null,null,null,null,null,null,null,null,null,null,null,null,null,null,null,null,null,null,null,null,null,null,null,null,null,null,null,null,null,null,null,null,null,null,null,null,null,null,null,null,null,null,null,null,null,null,null,null,null,null,null,null,null,null,null,null,null,null,null,null,null,null,null,null,null,null,null,null,null,null,null,null,null,null,null,null,null,null,null,null,null,null,null,null,null,null,null,null,null,null,null,null,null,null,null,null,null,null,null,null,null,null,null,null,null,null,null,null,null,null,null,null,null,null,null,null,null,null,null,null,null,null,null,null,null,null,null,null,null,null,null,null,null,null,null,null,null,null,null,null,null,null,null,null,null,null,null,null,null,null,null,null,null,null,null,null,null,null,null,null,null,null,null,null,null,null,null,null,null,null,null,null,null,null,null,null,null,null,null,null,null,null,null,null,null,null,null,null,null,null,null,null,null,null,null,null,null,null,null,null,null,null,null,null,null,null,null,null,null,null,null,null,null,null,null,null,null,null,null,null,null,null,null,null,null,null,null,null,null,null,null,null,null,null,null,null,null,null,null,null,null,null,null,null,null,null,null,null,null,null,null,null,null,null,null,null,null,null,null,null,null,null,null,null,null,null,null,null,null,null,null,null,null,null,null,null,null,null,null,null,null,null,null,null,null,null,null,null,null,null,null,null,null,null,null,null,null,null,null,null,null,null,null,null,null,null,null,null,null,null,null,null,null,null,null,null,null,null,null,null,null,null,null,null,null,null,null,null,null,null,null,null,null,null,null,null,null,null,null,null,null,null,null,null,null,null,null,null,null,null,null,null,null,null,null,null,null,null,null,null,null,null,null,null,null,null,null,null,null,null,null,null,null,null,null,null,null,null,null,null,null,null,null,null,null,null,null,null,null,null,null,null,null,null,null,null,null,null,null,null,null,null,null,null,null,null,null,null,null,null,null,null,null,null,null,null,null,null,null,null,null,null,null,null,null,null,null,null,null,null,null,null,null,null,null,null,null,null,null,null,null,null,null,null,null,null,null,null,null,null,null,null,null,null,null,null,null,null,null,null,null,null,null,null,null,null,null,null,null,null,null,null,null,null,null,null,null,null,null,null,null,null,null,null,null,null,null,null,null,null,null,null,null,null,null,null,null,null,null,null,null,null,null,null,null,null,null,null,null,null,null,null,null,null,null,null,null,null,null,null,null,null,null,null,null,null,null,null,null,null,null,null,null,null,null,null,null,null,null,null,null,null,null,null,null,null,null,null,null,null,null,null,null,null,null,null,null,null,null,null,null,null,null,null,null,null,null,null,null,null,null,null,null,null,null,null,null,null,null,null,null,null,null,null,null,null,null,null,null,null,null,null,null,null,null,null,null,null,null,null,null,null,null,null,null,null,null,null,null,null,null,null,null,null,null,null,null,null,null,null,null,null,null,null,null,null,null,null,null,null,null,null,null,null,null,null,null,null,null,null,null,null,null,null,null,null,null,null,null,null,null,null,null,null,null,null,null,null,null,null,null,null,null,null,null,null,null,null,null,null,null,null,null,null,null,null,null,null,null,null,null,null,null,null,null,null,null,null,null,null,null,null,null,null,null,null,null,null,null,null,null,null,null,null,null,null,null,null,null,null,null,null,null,null,null,null,null,null,null,null,null,null,null,null,null,null,null,null,null,null,null,null,null,null,null,null,null,null,null,null,null,null,null,null,null,null,null,null,null,null,null,null,null,null,null,null,null,null,null,null,null,null,null,null,null,null,null,null,null,null,null,null,null,null,null,null,null,null,null,null,null,null,null,null,null,null,null,null,null,null,null,null,null,null,null,null,null,null,null,null,null,null,null,null,null,null,null,null,null,null,null,null,null,null,null,null,null,null,null,null,null,null,null,null,null,null,null,null,null,null,null,null,null,null,null,null,null,null,null,null,null,null,null,null,null,null,null,null,null,null,null,null,null,null,null,null,null,null,null,null,null,null,null,null,null,null,null,null,null,null,null,null,null,null,null,null,null,null,null,null,null,null,null,null,null,null,null,null,null,null,null,null,null,null,null,null,null,null,null,null,null,null,null,null,null,null,null,null,null,null,null,null,null,null,null,null,null,null,null,null,null,null,null,null,null,null,null,null,null,null,null,null,null,null,null,null,null,null,null,null,null,null,null,null,null,null,null,null,null,null,null,null,null,null,null,null,null,null,null,null,null,null,null,null,null,null,null,null,null,null,null,null,null,null,null,null,null,null,null,null,null,null,null,null,null,null,null,null,null,null,null,null,null,null,null,null,null,null,null,null,null,null,null,null,null,null,null,null,null,null,null,null,null,null,null,null,null,null,null,null,null,null,null,null,null,null,null,null,null,null,null,null,null,null,null,null,null,null,null,null,null,null,null,null,null,null,null,null,null,null,null,null,null,null,null,null,null,null,null,null,null,null,null,null,null,null,null,null,null,null,null,null,null,null,null,null,null,null,null,null,null,null,null,null,null,null,null,null,null,null,null,null,null,null,null,null,null,null,null,null,null,null,null,null,null,null,null,null,null,null,null,null,null,null,null,null,null,null,null,null,null,null,null,null,null,null,null,null,null,null,null,null,null,null,null,null,null,null,null,null,null,null,null,null,null,null,null,null,null,null,null,null,null,null,null,null,null,null,null,null,null,null,null,null,null,null,null,null,null,null,null,null,null,null,null,null,null,null,null,null,null,null,null,null,null,null,null,null,null,null,null,null,null,null,null,null,null,null,null,null,null,null,null,null,null,null,null,null,null,null,null,null,null,null,null,null,null,null,null,null,null,null,null,null,null,null,null,null,null,null,null,null,null,null,null,null,null,null,null,null,null,null,null,null,null,null,null,null,null,null,null,null,null,null,null,null,null,null,null,null,null,null,null,null,null,null,null,null,null,null,null,null,null,null,null,null,null,null,null,null,null,null,null,null,null,null,null,null,null,null,null,null,null,null,null,null,null,null,null,null,null,null,null,null,null,null,null,null,null,null,null,null,null,null,null,null,null,null,null,null,null,null,null,null,null,null,null,null,null,null,null,null,null,null,null,null,null,null,null,null,null,null,null,null,null,null,null,null,null,null,null,null,null,null,null,null,null,null,null,null,null,null,null,null,null,null,null,null,null,null,null,null,null,null,null,null,null,null,null,null,null,null,null,null,null,null,null,null,null,null,null,null,null,null,null,null,null,null,null,null,null,null,null,null,null,null,null,null,null,null,null,null,null,null,null,null,null,null,null,null,null,null,null,null,null,null,null,null,null,null,null,null,null,null,null,null,null,null,null,null,null,null,null,null,null,null,null,null,null,null,null,null,null,null,null,null,null,null,null,null,null,null,null,null,null,null,null,null,null,null,null,null,null,null,null,null,null,null,null,null,null,null,null,null,null,null,null,null,null,null,null,null,null,null,null,null,null,null,null,null,null,null,null,null,null,null,null,null,null,null,null,null,null,null,null,null,null,null,null,null,null,null,null,null,null,null,null,null,null,null,null,null,null,null,null,null,null,null,null,null,null,null,null,null,null,null,null,null,null,null,null,null,null,null,null,null,null,null,null,null,null,null,null,null,null,null,null,null,null,null,null,null,null,null,null,null,null,null,null,null,null,null,null,null,null,null,null,null,null,null,null,null,null,null,null,null,null,null,null,null,null,null,null,null,null,null,null,null,null,null,null,null,null,null,null,null,null,null,null,null,null,null,null,null,null,null,null,null,null,null,null,null,null,null,null,null,null,null,null,null,null,null,null,null,null,null,null,null,null,null,null,null,null,null,null,null,null,null,null,null,null,null,null,null,null,null,null,null,null,null,null,null,null,null,null,null,null,null,null,null,null,null,null,null,null,null,null,null,null,null,null,null,null,null,null,null,null,null,null,null,null,null,null,null,null,null,null,null,null,null,null,null,null,null,null,null,null,null,null,null,null,null,null,null,null,null,null,null,null,null,null,null,null,null,null,null,null,null,null,null,null,null,null,null,null,null,null,null,null,null,null,null,null,null,null,null,null,null,null,null,null,null,null,null,null,null,null,null,null,null,null,null,null,null,null,null,null,null,null,null,null,null,null,null,null,null,null,null,null,null,null,null,null,null,null,null,null,null,null,null,null,null,null,null,null,null,null,null,null,null,null,null,null,null,null,null,null,null,null,null,null,null,null,null,null,null,null,null,null,null,null,null,null,null,null,null,null,null,null,null,null,null,null,null,null,null,null,null,null,null,null,null,null,null,null,null,null,null,null,null,null,null,null,null,null,null,null,null,null,null,null,null,null,null,null,null,null,null,null,null,null,null,null,null,null,null,null,null,null,null,null,null,null,null,null,null,null,null,null,null,null,null,null,null,null,null,null,null,null,null,null,null,null,null,null,null,null,null,null,null,null,null,null,null,null,null,null,null,null,null,null,null,null,null,null,null,null,null,null,null,null,null,null,null,null,null,null,null,null,null,null,null,null,null,null,null,null,null,null,null,null,null,null,null,null,null,null,null,null,null,null,null,null,null,null,null,null,null,null,null,null,null,null,null,null,null,null,null,null,null,null,null,null,null,null,null,null,null,null,null,null,null,null,null,null,null,null,null,null,null,null,null,null,null,null,null,null,null,null,null,null,null,null,null,null,null,null,null,null,null,null,null,null,null,null,null,null,null,null,null,null,null,null,null,null,null,null,null,null,null,null,null,null,null,null,null,null,null,null,null,null,null,null,null,null,null,null,null,null,null,null,null,null,null,null,null,null,null,null,null,null,null,null,null,null,null,null,null,null,null,null,null,null,null,null,null,null,null,null,null,null,null,null,null,null,null,null,null,null,null,null,null,null,null,null,null,null,null,null,null,null,null,null,null,null,null,null,null,null,null,null,null,null,null,null,null,null,null,null,null,null,null,null,null,null,null,null,null,null,null,null,null,null,null,null,null,null,null,null,null,null,null,null,null,null,null,null,null,null,null,null,null,null,null,null,null,null,null,null,null,null,null,null,null,null,null,null,null,null,null,null,null,null,null,null,null,null,null,null,null,null,null,null,null,null,null,null,null,null,null,null,null,null,null,null,null,null,null,null,null,null,null,null,null,null,null,null,null,null,null,null,null,null,null,null,null,null,null,null,null,null,null,null,null,null,null,null,null,null,null,null,null,null,null,null,null,null,null,null,null,null,null,null,null,null,null,null,null,null,null,null,null,null,null,null,null,null,null,null,null,null,null,null,null,null,null,null,null,null,null,null,null,null,null,null,null,null,null,null,null,null,null,null,null,null,null,null,null,null,null,null,null,null,null,null,null,null,null,null,null,null,null,null,null,null,null,null,null,null,null,null,null,null,null,null,null,null,null,null,null,null,null,null,null,null,null,null,null,null,null,null,null,null,null,null,null,null,null,null,null,null,null,null,null,null,null,null,null,null,null,null,null,null,null,null,null,null,null,null,null,null,null,null,null,null,null,null,null,null,null,null,null,null,null,null,null,null,null,null,null,null,null,null,null,null,null,null,null,null,null,null,null,null,null,null,null,null,null,null,null,null,null,null,null,null,null,null,null,null,null,null,null,null,null,null,null,null,null,null,null,null,null,null,null,null,null,null,null,null,null,null,null,null,null,null,null,null,null,null,null,null,null,null,null,null,null,null,null,null,null,null,null,null,null,null,null,null,null,null,null,null,null,null,null,null,null,null,null,null,null,null,null,null,null,null,null,null,null,null,null,null,null,null,null,null,null,null,null,null,null,null,null,null,null,null,null,null,null,null,null,null,null,null,null,null,null,null,null,null,null,null,null,null,null,null,null,null,null,null,null,null,null,null,null,null,null,null,null,null,null,null,null,null,null,null,null,null,null,null,null,null,null,null,null,null,null,null,null,null,null,null,null,null,null,null,null,null,null,null,null,null,null,null,null,null,null,null,null,null,null,null,null,null,null,null,null,null,null,null,null,null,null,null,null,null,null,null,null,null,null,null,null,null,null,null,null,null,null,null,null,null,null,null,null,null,null,null,null,null,null,null,null,null,null,null,null,null,null,null,null,null,null,null,null,null,null,null,null,null,null,null,null,null,null,null,null,null,null,null,null,null,null,null,null,null,null,null,null,null,null,null,null,null,null,null,null,null,null,null,null,null,null,null,null,null,null,null,null,null,null,null,null,null,null,null,null,null,null,null,null,null,null,null,null,null,null,null,null,null,null,null,null,null,null,null,null,null,null,null,null,null,null,null,null,null,null,null,null,null,null,null,null,null,null,null,null,null,null,null,null,null,null,null,null,null,null,null,null,null,null,null,null,null,null,null,null,null,null,null,null,null,null,null,null,null,null,null,null,null,null,null,null,null,null,null,null,null,null,null,null,null,null,null,null,null,null,null,null,null,null,null,null,null,null,null,null,null,null,null,null,null,null,null,null,null,null,null,null,null,null,null,null,null,null,null,null,null,null,null,null,null,null,null,null,null,null,null,null,null,null,null,null,null,null,null,null,null,null,null,null,null,null,null,null,null,null,null,null,null,null,null,null,null,null,null,null,null,null,null,null,null,null,null,null,null,null,null,null,null,null,null,null,null,null,null,null,null,null,null,null,null,null,null,null,null,null,null,null,null,null,null,null,null,null,null,null,null,null,null,null,null,null,null,null,null,null,null,null,null,null,null,null,null,null,null,null,null,null,null,null,null,null,null,null,null,null,null,null,null,null,null,null,null,null,null,null,null,null,null,null,null,null,null,null,null,null,null,null,null,null,null,null,null,null,null,null,null,null,null,null,null,null,null,null,null,null,null,null,null,null,null,null,null,null,null,null,null,null,null,null,null,null,null,null,null,null,null,null,null,null,null,null,null,null,null,null,null,null,null,null,null,null,null,null,null,null,null,null,null,null,null,null,null,null,null,null,null,null,null,null,null,null,null,null,null,null,null,null,null,null,null,null,null,null,null,null,null,null,null,null,null,null,null,null,null,null,null,null,null,null,null,null,null,null,null,null,null,null,null,null,null,null,null,null,null,null,null,null,null,null,null,null,null,null,null,null,null,null,null,null,null,null,null,null,null,null,null,null,null,null,null,null,null,null,null,null,null,null,null,null,null,null,null,null,null,null,null,null,null,null,null,null,null,null,null,null,null,null,null,null,null,null,null,null,null,null,null,null,null,null,null,null,null,null,null,null,null,null,null,null,null,null,null,null,null,null,null,null,null,null,null,null,null,null,null,null,null,null,null,null,null,null,null,null,null,null,null,null,null,null,null,null,null,null,null,null,null,null,null,null,null,null,null,null,null,null,null,null,null,null,null,null,null,null,null,null,null,null,null,null,null,null,null,null,null,null,null,null,null,null,null,null,null,null,null,null,null,null,null,null,null,null,null,null,null,null,null,null,null,null,null,null,null,null,null,null,null,null,null,null,null,null,null,null,null,null,null,null,null,null,null,null,null,null,null,null,null,null,null,null,null,null,null,null,null,null,null,null,null,null,null,null,null,null,null,null,null,null,null,null,null,null,null,null,null,null,null,null,null,null,null,null,null,null,null,null,null,null,null,null,null,null,null,null,null,null,null,null,null,null,null,null,null,null,null,null,null,null,null,null,null,null,null,null,null,null,null,null,null,null,null,null,null,null,null,null,null,null,null,null,null,null,null,null,null,null,null,null,null,null,null,null,null,null,null,null,null,null,null,null,null,null,null,null,null,null,null,null,null,null,null,null,null,null,null,null,null,null,null,null,null,null,null,null,null,null,null,null,null,null,null,null,null,null,null,null,null,null,null,null,null,null,null,null,null,null,null,null,null,null,null,null,null,null,null,null,null,null,null,null,null,null,null,null,null,null,null,null,null,null,null,null,null,null,null,null,null,null,null,null,null,null,null,null,null,null,null,null,null,null,null,null,null,null,null,null,null,null,null,null,null,null,null,null,null,null,null,null,null,null,null,null,null,null,null,null,null,null,null,null,null,null,null,null,null,null,null,null,null,null,null,null,null,null,null,null,null,null,null,null,null,null,null,null,null,null,null,null,null,null,null,null,null,null,null,null,null,null,null,null,null,null,null,null,null,null,null,null,null,null,null,null,null,null,null,null,null,null,null,null,null,null,null,null,null,null,null,null,null,null,null,null,null,null,null,null,null,null,null,null,null,null,null,null,null,null,null,null,null,null,null,null,null,null,null,null,null,null,null,null,null,null,null,null,null,null,null,null,null,null,null,null,null,null,null,null,null,null,null,null,null,null,null,null,null,null,null,null,null,null,null,null,null,null,null,null,null,null,null,null,null,null,null,null,null,null,null,null,null,null,null,null,null,null,null,null,null,null,null,null,null,null,null,null,null,null,null,null,null,null,null,null,null,null,null,null,null,null,null,null,null,null,null,null,null,null,null,null,null,null,null,null,null,null,null,null,null,null,null,null,null,null,null,null,null,null,null,null,null,null,null,null,null,null,null,null,null,null,null,null,null,null,null,null,null,null,null,null,null,null,null,null,null,null,null,null,null,null,null,null,null,null,null,null,null,null,null,null,null,null,null,null,null,null,null,null,null,null,null,null,null,null,null,null,null,null,null,null,null,null,null,null,null,null,null,null,null,null,null,null,null,null,null,null,null,null,null,null,null,null,null,null,null,null,null,null,null,null,null,null,null,null,null,null,null,null,null,null,null,null,null,null,null,null,null,null,null,null,null,null,null,null,null,null,null,null,null,null,null,null,null,null,null,null,null,null,null,null,null,null,null,null,null,null,null,null,null,null,null,null,null,null,null,null,null,null,null,null,null,null,null,null,null,null,null,null,null,null,null,null,null,null,null,null,null,null,null,null,null,null,null,null,null,null,null,null,null,null,null,null,null,null,null,null,null,null,null,null,null,null,null,null,null,null,null,null,null,null,null,null,null,null,null,null,null,null,null,null,null,null,null,null,null,null,null,null,null,null,null,null,null,null,null,null,null,null,null,null,null,null,null,null,null,null,null,null,null,null,null,null,null,null,null,null,null,null,null,null,null,null,null,null,null,null,null,null,null,null,null,null,null,null,null,null,null,null,null,null,null,null,null,null,null,null,null,null,null,null,null,null,null,null,null,null,null,null,null,null,null,null,null,null,null,null,null,null,null,null,null,null,null,null,null,null,null,null,null,null,null,null,null,null,null,null,null,null,null,null,null,null,null,null,null,null,null,null,null,null,null,null,null,null,null,null,null,null,null,null,null,null,null,null,null,null,null,null,null,null,null,null,null,null,null,null,null,null,null,null,null,null,null,null,null,null,null,null,null,null,null,null,null,null,null,null,null,null,null,null,null,null,null,null,null,null,null,null,null,null,null,null,null,null,null,null,null,null,null,null,null,null,null,null,null,null,null,null,null,null,null,null,null,null,null,null,null,null,null,null,null,null,null,null,null,null,null,null,null,null,null,null,null,null,null,null,null,null,null,null,null,null,null,null,null,null,null,null,null,null,null,null,null,null,null,null,null,null,null,null,null,null,null,null,null,null,null,null,null,null,null,null,null,null,null,null,null,null,null,null,null,null,null,null,null,null,null,null,null,null,null,null,null,null,null,null,null,null,null,null,null,null,null,null,null,null,null,null,null,null,null,null,null,null,null,null,null,null,null,null,null,null,null,null,null,null,null,null,null,null,null,null,null,null,null,null,null,null,null,null,null,null,null,null,null,null,null,null,null,null,null,null,null,null,null,null,null,null,null,null,null,null,null,null,null,null,null,null,null,null,null,null,null,null,null,null,null,null,null,null,null,null,null,null,null,null,null,null,null,null,null,null,null,null,null,null,null,null,null,null,null,null,null,null,null,null,null,null,null,null,null,null,null,null,null,null,null,null,null,null,null,null,null,null,null,null,null,null,null,null,null,null,null,null,null,null,null,null,null,null,null,null,null,null,null,null,null,null,null,null,null,null,null,null,null,null,null,null,null,null,null,null,null,null,null,null,null,null,null,null,null,null,null,null,null,null,null,null,null,null,null,null,null,null,null,null,null,null,null,null,null,null,null,null,null,null,null,null,null,null,null,null,null,null,null,null,null,null,null,null,null,null,null,null,null,null,null,null,null,null,null,null,null,null,null,null,null,null,null,null,null,null,null,null,null,null,null,null,null,null,null,null,null,null,null,null,null,null,null,null,null,null,null,null,null,null,null,null,null,null,null,null,null,null,null,null,null,null,null,null,null,null,null,null,null,null,null,null,null,null,null,null,null,null,null,null,null,null,null,null,null,null,null,null,null,null,null,null,null,null,null,null,null,null,null,null,null,null,null,null,null,null,null,null,null,null,null,null,null,null,null,null,null,null,null,null,null,null,null,null,null,null,null,null,null,null,null,null,null,null,null,null,null,null,null,null,null,null,null,null,null,null,null,null,null,null,null,null,null,null,null,null,null,null,null,null,null,null,null,null,null,null,null,null,null,null,null,null,null,null,null,null,null,null,null,null,null,null,null,null,null,null,null,null,null,null,null,null,null,null,null,null,null,null,null,null,null,null,null,null,null,null,null,null,null,null,null,null,null,null,null,null,null,null,null,null,null,null,null,null,null,null,null,null,null,null,null,null,null,null,null,null,null,null,null,null,null,null,null,null,null,null,null,null,null,null,null,null,null,null,null,null,null,null,null,null,null,null,null,null,null,null,null,null,null,null,null,null,null,null,null,null,null,null,null,null,null,null,null,null,null,null,null,null,null,null,null,null,null,null,null,null,null,null,null,null,null,null,null,null,null,null,null,null,null,null,null,null,null,null,null,null,null,null,null,null,null,null,null,null,null,null,null,null,null,null,null,null,null,null,null,null,null,null,null,null,null,null,null,null,null,null,null,null,null,null,null,null,null,null,null,null,null,null,null,null,null,null,null,null,null,null,null,null,null,null,null,null,null,null,null,null,null,null,null,null,null,null,null,null,null,null,null,null,null,null,null,null,null,null,null,null,null,null,null,null,null,null,null,null,null,null,null,null,null,null,null,null,null,null,null,null,null,null,null,null,null,null,null,null,null,null,null,null,null,null,null,null,null,null,null,null,null,null,null,null,null,null,null,null,null,null,null,null,null,null,null,null,null,null,null,null,null,null,null,null,null,null,null,null,null,null,null,null,null,null,null,null,null,null,null,null,null,null,null,null,null,null,null,null,null,null,null,null,null,null,null,null,null,null,null,null,null,null,null,null,null,null,null,null,null,null,null,null,null,null,null,null,null,null,null,null,null,null,null,null,null,null,null,null,null,null,null,null,null,null,null,null,null,null,null,null,null,null,null,null,null,null,null,null,null,null,null,null,null,null,null,null,null,null,null,null,null,null,null,null,null,null,null,null,null,null,null,null,null,null,null,null,null,null,null,null,null,null,null,null,null,null,null,null,null,null,null,null,null,null,null,null,null,null,null,null,null,null,null,null,null,null,null,null,null,null,null,null,null,null,null,null,null,null,null,null,null,null,null,null,null,null,null,null,null,null,null,null,null,null,null,null,null,null,null,null,null,null,null,null,null,null,null,null,null,null,null,null,null,null,null,null,null,null,null,null,null,null,null,null,null,null,null,null,null,null,null,null,null,null,null,null,null,null,null,null,null,null,null,null,null,null,null,null,null,null,null,null,null,null,null,null,null,null,null,null,null,null,null,null,null,null,null,null,null,null,null,null,null,null,null,null,null,null,null,null,null,null,null,null,null,null,null,null,null,null,null,null,null,null,null,null,null,null,null,null,null,null,null,null,null,null,null,null,null,null,null,null,null,null,null,null,null,null,null,null,null,null,null,null,null,null,null,null,null,null,null,null,null,null,null,null,null,null,null,null,null,null,null,null,null,null,null,null,null,null,null,null,null,null,null,null,null,null,null,null,null,null,null,null,null,null,null,null,null,null,null,null,null,null,null,null,null,null,null,null,null,null,null,null,null,null,null,null,null,null,null,null,null,null,null,null,null,null,null,null,null,null,null,null,null,null,null,null,null,null,null,null,null,null,null,null,null,null,null,null,null,null,null,null,null,null,null,null,null,null,null,null,null,null,null,null,null,null,null,null,null,null,null,null,null,null,null,null,null,null,null,null,null,null,null,null,null,null,null,null,null,null,null,null,null,null,null,null,null,null,null,null,null,null,null,null,null,null,null,null,null,null,null,null,null,null,null,null,null,null,null,null,null,null,null,null,null,null,null,null,null,null,null,null,null,null,null,null,null,null,null,null,null,null,null,null,null,null,null,null,null,null,null,null,null,null,null,null,null,null,null,null,null,null,null,null,null,null,null,null,null,null,null,null,null,null,null,null,null,null,null,null,null,null,null,null,null,null,null,null,null,null,null,null,null,null,null,null,null,null,null,null,null,null,null,null,null,null,null,null,null,null,null,null,null,null,null,null,null,null,null,null,null,null,null,null,null,null,null,null,null,null,null,null,null,null,null,null,null,null,null,null,null,null,null,null,null,null,null,null,null,null,null,null,null,null,null,null,null,null,null,null,null,null,null,null,null,null,null,null,null,null,null,null,null,null,null,null,null,null,null,null,null,null,null,null,null,null,null,null,null,null,null,null,null,null,null,null,null,null,null,null,null,null,null,null,null,null,null,null,null,null,null,null,null,null,null,null,null,null,null,null,null,null,null,null,null,null,null,null,null,null,null,null,null,null,null,null,null,null,null,null,null,null,null,null,null,null,null,null,null,null,null,null,null,null,null,null,null,null,null,null,null,null,null,null,null,null,null,null,null,null,null,null,null,null,null,null,null,null,null,null,null,null,null,null,null,null,null,null,null,null,null,null,null,null,null,null,null,null,null,null,null,null,null,null,null,null,null,null,null,null,null,null,null,null,null,null,null,null,null,null,null,null,null,null,null,null,null,null,null,null,null,null,null,null,null,null,null,null,null,null,null,null,null,null,null,null,null,null,null,null,null,null,null,null,null,null,null,null,null,null,null,null,null,null,null,null,null,null,null,null,null,null,null,null,null,null,null,null,null,null,null,null,null,null,null,null,null,null,null,null,null,"Survey Name ",null,"CMQNT"]
[null,null,null,null,null,null,null,null,null,null,null,null,null,null,null,null,null,null,null,null,null,null,null,null,null,null,null,null,null,null,null,null,null,null,null,null,null,null,null,null,null,null,null,null,null,null,null,null,null,null,null,null,null,null,null,null,null,null,null,null,null,null,null,null,null,null,null,null,null,null,null,null,null,null,null,null,null,null,null,null,null,null,null,null,null,null,null,null,null,null,null,null,null,null,null,null,null,null,null,null,null,null,null,null,null,null,null,null,null,null,null,null,null,null,null,null,null,null,null,null,null,null,null,null,null,null,null,null,null,null,null,null,null,null,null,null,null,null,null,null,null,null,null,null,null,null,null,null,null,null,null,null,null,null,null,null,null,null,null,null,null,null,null,null,null,null,null,null,null,null,null,null,null,null,null,null,null,null,null,null,null,null,null,null,null,null,null,null,null,null,null,null,null,null,null,null,null,null,null,null,null,null,null,null,null,null,null,null,null,null,null,null,null,null,null,null,null,null,null,null,null,null,null,null,null,null,null,null,null,null,null,null,null,null,null,null,null,null,null,null,null,null,null,null,null,null,null,null,null,null,null,null,null,null,null,null,null,null,null,null,null,null,null,null,null,null,null,null,null,null,null,null,null,null,null,null,null,null,null,null,null,null,null,null,null,null,null,null,null,null,null,null,null,null,null,null,null,null,null,null,null,null,null,null,null,null,null,null,null,null,null,null,null,null,null,null,null,null,null,null,null,null,null,null,null,null,null,null,null,null,null,null,null,null,null,null,null,null,null,null,null,null,null,null,null,null,null,null,null,null,null,null,null,null,null,null,null,null,null,null,null,null,null,null,null,null,null,null,null,null,null,null,null,null,null,null,null,null,null,null,null,null,null,null,null,null,null,null,null,null,null,null,null,null,null,null,null,null,null,null,null,null,null,null,null,null,null,null,null,null,null,null,null,null,null,null,null,null,null,null,null,null,null,null,null,null,null,null,null,null,null,null,null,null,null,null,null,null,null,null,null,null,null,null,null,null,null,null,null,null,null,null,null,null,null,null,null,null,null,null,null,null,null,null,null,null,null,null,null,null,null,null,null,null,null,null,null,null,null,null,null,null,null,null,null,null,null,null,null,null,null,null,null,null,null,null,null,null,null,null,null,null,null,null,null,null,null,null,null,null,null,null,null,null,null,null,null,null,null,null,null,null,null,null,null,null,null,null,null,null,null,null,null,null,null,null,null,null,null,null,null,null,null,null,null,null,null,null,null,null,null,null,null,null,null,null,null,null,null,null,null,null,null,null,null,null,null,null,null,null,null,null,null,null,null,null,null,null,null,null,null,null,null,null,null,null,null,null,null,null,null,null,null,null,null,null,null,null,null,null,null,null,null,null,null,null,null,null,null,null,null,null,null,null,null,null,null,null,null,null,null,null,null,null,null,null,null,null,null,null,null,null,null,null,null,null,null,null,null,null,null,null,null,null,null,null,null,null,null,null,null,null,null,null,null,null,null,null,null,null,null,null,null,null,null,null,null,null,null,null,null,null,null,null,null,null,null,null,null,null,null,null,null,null,null,null,null,null,null,null,null,null,null,null,null,null,null,null,null,null,null,null,null,null,null,null,null,null,null,null,null,null,null,null,null,null,null,null,null,null,null,null,null,null,null,null,null,null,null,null,null,null,null,null,null,null,null,null,null,null,null,null,null,null,null,null,null,null,null,null,null,null,null,null,null,null,null,null,null,null,null,null,null,null,null,null,null,null,null,null,null,null,null,null,null,null,null,null,null,null,null,null,null,null,null,null,null,null,null,null,null,null,null,null,null,null,null,null,null,null,null,null,null,null,null,null,null,null,null,null,null,null,null,null,null,null,null,null,null,null,null,null,null,null,null,null,null,null,null,null,null,null,null,null,null,null,null,null,null,null,null,null,null,null,null,null,null,null,null,null,null,null,null,null,null,null,null,null,null,null,null,null,null,null,null,null,null,null,null,null,null,null,null,null,null,null,null,null,null,null,null,null,null,null,null,null,null,null,null,null,null,null,null,null,null,null,null,null,null,null,null,null,null,null,null,null,null,null,null,null,null,null,null,null,null,null,null,null,null,null,null,null,null,null,null,null,null,null,null,null,null,null,null,null,null,null,null,null,null,null,null,null,null,null,null,null,null,null,null,null,null,null,null,null,null,null,null,null,null,null,null,null,null,null,null,null,null,null,null,null,null,null,null,null,null,null,null,null,null,null,null,null,null,null,null,null,null,null,null,null,null,null,null,null,null,null,null,null,null,null,null,null,null,null,null,null,null,null,null,null,null,null,null,null,null,null,null,null,null,null,null,null,null,null,null,null,null,null,null,null,null,null,null,null,null,null,null,null,null,null,null,null,null,null,null,null,null,null,null,null,null,null,null,null,null,null,null,null,null,null,null,null,null,null,null,null,null,null,null,null,null,null,null,null,null,null,null,null,null,null,null,null,null,null,null,null,null,null,null,null,null,null,null,null,null,null,null,null,null,null,null,null,null,null,null,null,null,null,null,null,null,null,null,null,null,null,null,null,null,null,null,null,null,null,null,null,null,null,null,null,null,null,null,null,null,null,null,null,null,null,null,null,null,null,null,null,null,null,null,null,null,null,null,null,null,null,null,null,null,null,null,null,null,null,null,null,null,null,null,null,null,null,null,null,null,null,null,null,null,null,null,null,null,null,null,null,null,null,null,null,null,null,null,null,null,null,null,null,null,null,null,null,null,null,null,null,null,null,null,null,null,null,null,null,null,null,null,null,null,null,null,null,null,null,null,null,null,null,null,null,null,null,null,null,null,null,null,null,null,null,null,null,null,null,null,null,null,null,null,null,null,null,null,null,null,null,null,null,null,null,null,null,null,null,null,null,null,null,null,null,null,null,null,null,null,null,null,null,null,null,null,null,null,null,null,null,null,null,null,null,null,null,null,null,null,null,null,null,null,null,null,null,null,null,null,null,null,null,null,null,null,null,null,null,null,null,null,null,null,null,null,null,null,null,null,null,null,null,null,null,null,null,null,null,null,null,null,null,null,null,null,null,null,null,null,null,null,null,null,null,null,null,null,null,null,null,null,null,null,null,null,null,null,null,null,null,null,null,null,null,null,null,null,null,null,null,null,null,null,null,null,null,null,null,null,null,null,null,null,null,null,null,null,null,null,null,null,null,null,null,null,null,null,null,null,null,null,null,null,null,null,null,null,null,null,null,null,null,null,null,null,null,null,null,null,null,null,null,null,null,null,null,null,null,null,null,null,null,null,null,null,null,null,null,null,null,null,null,null,null,null,null,null,null,null,null,null,null,null,null,null,null,null,null,null,null,null,null,null,null,null,null,null,null,null,null,null,null,null,null,null,null,null,null,null,null,null,null,null,null,null,null,null,null,null,null,null,null,null,null,null,null,null,null,null,null,null,null,null,null,null,null,null,null,null,null,null,null,null,null,null,null,null,null,null,null,null,null,null,null,null,null,null,null,null,null,null,null,null,null,null,null,null,null,null,null,null,null,null,null,null,null,null,null,null,null,null,null,null,null,null,null,null,null,null,null,null,null,null,null,null,null,null,null,null,null,null,null,null,null,null,null,null,null,null,null,null,null,null,null,null,null,null,null,null,null,null,null,null,null,null,null,null,null,null,null,null,null,null,null,null,null,null,null,null,null,null,null,null,null,null,null,null,null,null,null,null,null,null,null,null,null,null,null,null,null,null,null,null,null,null,null,null,null,null,null,null,null,null,null,null,null,null,null,null,null,null,null,null,null,null,null,null,null,null,null,null,null,null,null,null,null,null,null,null,null,null,null,null,null,null,null,null,null,null,null,null,null,null,null,null,null,null,null,null,null,null,null,null,null,null,null,null,null,null,null,null,null,null,null,null,null,null,null,null,null,null,null,null,null,null,null,null,null,null,null,null,null,null,null,null,null,null,null,null,null,null,null,null,null,null,null,null,null,null,null,null,null,null,null,null,null,null,null,null,null,null,null,null,null,null,null,null,null,null,null,null,null,null,null,null,null,null,null,null,null,null,null,null,null,null,null,null,null,null,null,null,null,null,null,null,null,null,null,null,null,null,null,null,null,null,null,null,null,null,null,null,null,null,null,null,null,null,null,null,null,null,null,null,null,null,null,null,null,null,null,null,null,null,null,null,null,null,null,null,null,null,null,null,null,null,null,null,null,null,null,null,null,null,null,null,null,null,null,null,null,null,null,null,null,null,null,null,null,null,null,null,null,null,null,null,null,null,null,null,null,null,null,null,null,null,null,null,null,null,null,null,null,null,null,null,null,null,null,null,null,null,null,null,null,null,null,null,null,null,null,null,null,null,null,null,null,null,null,null,null,null,null,null,null,null,null,null,null,null,null,null,null,null,null,null,null,null,null,null,null,null,null,null,null,null,null,null,null,null,null,null,null,null,null,null,null,null,null,null,null,null,null,null,null,null,null,null,null,null,null,null,null,null,null,null,null,null,null,null,null,null,null,null,null,null,null,null,null,null,null,null,null,null,null,null,null,null,null,null,null,null,null,null,null,null,null,null,null,null,null,null,null,null,null,null,null,null,null,null,null,null,null,null,null,null,null,null,null,null,null,null,null,null,null,null,null,null,null,null,null,null,null,null,null,null,null,null,null,null,null,null,null,null,null,null,null,null,null,null,null,null,null,null,null,null,null,null,null,null,null,null,null,null,null,null,null,null,null,null,null,null,null,null,null,null,null,null,null,null,null,null,null,null,null,null,null,null,null,null,null,null,null,null,null,null,null,null,null,null,null,null,null,null,null,null,null,null,null,null,null,null,null,null,null,null,null,null,null,null,null,null,null,null,null,null,null,null,null,null,null,null,null,null,null,null,null,null,null,null,null,null,null,null,null,null,null,null,null,null,null,null,null,null,null,null,null,null,null,null,null,null,null,null,null,null,null,null,null,null,null,null,null,null,null,null,null,null,null,null,null,null,null,null,null,null,null,null,null,null,null,null,null,null,null,null,null,null,null,null,null,null,null,null,null,null,null,null,null,null,null,null,null,null,null,null,null,null,null,null,null,null,null,null,null,null,null,null,null,null,null,null,null,null,null,null,null,null,null,null,null,null,null,null,null,null,null,null,null,null,null,null,null,null,null,null,null,null,null,null,null,null,null,null,null,null,null,null,null,null,null,null,null,null,null,null,null,null,null,null,null,null,null,null,null,null,null,null,null,null,null,null,null,null,null,null,null,null,null,null,null,null,null,null,null,null,null,null,null,null,null,null,null,null,null,null,null,null,null,null,null,null,null,null,null,null,null,null,null,null,null,null,null,null,null,null,null,null,null,null,null,null,null,null,null,null,null,null,null,null,null,null,null,null,null,null,null,null,null,null,null,null,null,null,null,null,null,null,null,null,null,null,null,null,null,null,null,null,null,null,null,null,null,null,null,null,null,null,null,null,null,null,null,null,null,null,null,null,null,null,null,null,null,null,null,null,null,null,null,null,null,null,null,null,null,null,null,null,null,null,null,null,null,null,null,null,null,null,null,null,null,null,null,null,null,null,null,null,null,null,null,null,null,null,null,null,null,null,null,null,null,null,null,null,null,null,null,null,null,null,null,null,null,null,null,null,null,null,null,null,null,null,null,null,null,null,null,null,null,null,null,null,null,null,null,null,null,null,null,null,null,null,null,null,null,null,null,null,null,null,null,null,null,null,null,null,null,null,null,null,null,null,null,null,null,null,null,null,null,null,null,null,null,null,null,null,null,null,null,null,null,null,null,null,null,null,null,null,null,null,null,null,null,null,null,null,null,null,null,null,null,null,null,null,null,null,null,null,null,null,null,null,null,null,null,null,null,null,null,null,null,null,null,null,null,null,null,null,null,null,null,null,null,null,null,null,null,null,null,null,null,null,null,null,null,null,null,null,null,null,null,null,null,null,null,null,null,null,null,null,null,null,null,null,null,null,null,null,null,null,null,null,null,null,null,null,null,null,null,null,null,null,null,null,null,null,null,null,null,null,null,null,null,null,null,null,null,null,null,null,null,null,null,null,null,null,null,null,null,null,null,null,null,null,null,null,null,null,null,null,null,null,null,null,null,null,null,null,null,null,null,null,null,null,null,null,null,null,null,null,null,null,null,null,null,null,null,null,null,null,null,null,null,null,null,null,null,null,null,null,null,null,null,null,null,null,null,null,null,null,null,null,null,null,null,null,null,null,null,null,null,null,null,null,null,null,null,null,null,null,null,null,null,null,null,null,null,null,null,null,null,null,null,null,null,null,null,null,null,null,null,null,null,null,null,null,null,null,null,null,null,null,null,null,null,null,null,null,null,null,null,null,null,null,null,null,null,null,null,null,null,null,null,null,null,null,null,null,null,null,null,null,null,null,null,null,null,null,null,null,null,null,null,null,null,null,null,null,null,null,null,null,null,null,null,null,null,null,null,null,null,null,null,null,null,null,null,null,null,null,null,null,null,null,null,null,null,null,null,null,null,null,null,null,null,null,null,null,null,null,null,null,null,null,null,null,null,null,null,null,null,null,null,null,null,null,null,null,null,null,null,null,null,null,null,null,null,null,null,null,null,null,null,null,null,null,null,null,null,null,null,null,null,null,null,null,null,null,null,null,null,null,null,null,null,null,null,null,null,null,null,null,null,null,null,null,null,null,null,null,null,null,null,null,null,null,null,null,null,null,null,null,null,null,null,null,null,null,null,null,null,null,null,null,null,null,null,null,null,null,null,null,null,null,null,null,null,null,null,null,null,null,null,null,null,null,null,null,null,null,null,null,null,null,null,null,null,null,null,null,null,null,null,null,null,null,null,null,null,null,null,null,null,null,null,null,null,null,null,null,null,null,null,null,null,null,null,null,null,null,null,null,null,null,null,null,null,null,null,null,null,null,null,null,null,null,null,null,null,null,null,null,null,null,null,null,null,null,null,null,null,null,null,null,null,null,null,null,null,null,null,null,null,null,null,null,null,null,null,null,null,null,null,null,null,null,null,null,null,null,null,null,null,null,null,null,null,null,null,null,null,null,null,null,null,null,null,null,null,null,null,null,null,null,null,null,null,null,null,null,null,null,null,null,null,null,null,null,null,null,null,null,null,null,null,null,null,null,null,null,null,null,null,null,null,null,null,null,null,null,null,null,null,null,null,null,null,null,null,null,null,null,null,null,null,null,null,null,null,null,null,null,null,null,null,null,null,null,null,null,null,null,null,null,null,null,null,null,null,null,null,null,null,null,null,null,null,null,null,null,null,null,null,null,null,null,null,null,null,null,null,null,null,null,null,null,null,null,null,null,null,null,null,null,null,null,null,null,null,null,null,null,null,null,null,null,null,null,null,null,null,null,null,null,null,null,null,null,null,null,null,null,null,null,null,null,null,null,null,null,null,null,null,null,null,null,null,null,null,null,null,null,null,null,null,null,null,null,null,null,null,null,null,null,null,null,null,null,null,null,null,null,null,null,null,null,null,null,null,null,null,null,null,null,null,null,null,null,null,null,null,null,null,null,null,null,null,null,null,null,null,null,null,null,null,null,null,null,null,null,null,null,null,null,null,null,null,null,null,null,null,null,null,null,null,null,null,null,null,null,null,null,null,null,null,null,null,null,null,null,null,null,null,null,null,null,null,null,null,null,null,null,null,null,null,null,null,null,null,null,null,null,null,null,null,null,null,null,null,null,null,null,null,null,null,null,null,null,null,null,null,null,null,null,null,null,null,null,null,null,null,null,null,null,null,null,null,null,null,null,null,null,null,null,null,null,null,null,null,null,null,null,null,null,null,null,null,null,null,null,null,null,null,null,null,null,null,null,null,null,null,null,null,null,null,null,null,null,null,null,null,null,null,null,null,null,null,null,null,null,null,null,null,null,null,null,null,null,null,null,null,null,null,null,null,null,null,null,null,null,null,null,null,null,null,null,null,null,null,null,null,null,null,null,null,null,null,null,null,null,null,null,null,null,null,null,null,null,null,null,null,null,null,null,null,null,null,null,null,null,null,null,null,null,null,null,null,null,null,null,null,null,null,null,null,null,null,null,null,null,null,null,null,null,null,null,null,null,null,null,null,null,null,null,null,null,null,null,null,null,null,null,null,null,null,null,null,null,null,null,null,null,null,null,null,null,null,null,null,null,null,null,null,null,null,null,null,null,null,null,null,null,null,null,null,null,null,null,null,null,null,null,null,null,null,null,null,null,null,null,null,null,null,null,null,null,null,null,null,null,null,null,null,null,null,null,null,null,null,null,null,null,null,null,null,null,null,null,null,null,null,null,null,null,null,null,null,null,null,null,null,null,null,null,null,null,null,null,null,null,null,null,null,null,null,null,null,null,null,null,null,null,null,null,null,null,null,null,null,null,null,null,null,null,null,null,null,null,null,null,null,null,null,null,null,null,null,null,null,null,null,null,null,null,null,null,null,null,null,null,null,null,null,null,null,null,null,null,null,null,null,null,null,null,null,null,null,null,null,null,null,null,null,null,null,null,null,null,null,null,null,null,null,null,null,null,null,null,null,null,null,null,null,null,null,null,null,null,null,null,null,null,null,null,null,null,null,null,null,null,null,null,null,null,null,null,null,null,null,null,null,null,null,null,null,null,null,null,null,null,null,null,null,null,null,null,null,null,null,null,null,null,null,null,null,null,null,null,null,null,null,null,null,null,null,null,null,null,null,null,null,null,null,null,null,null,null,null,null,null,null,null,null,null,null,null,null,null,null,null,null,null,null,null,null,null,null,null,null,null,null,null,null,null,null,null,null,null,null,null,null,null,null,null,null,null,null,null,null,null,null,null,null,null,null,null,null,null,null,null,null,null,null,null,null,null,null,null,null,null,null,null,null,null,null,null,null,null,null,null,null,null,null,null,null,null,null,null,null,null,null,null,null,null,null,null,null,null,null,null,null,null,null,null,null,null,null,null,null,null,null,null,null,null,null,null,null,null,null,null,null,null,null,null,null,null,null,null,null,null,null,null,null,null,null,null,null,null,null,null,null,null,null,null,null,null,null,null,null,null,null,null,null,null,null,null,null,null,null,null,null,null,null,null,null,null,null,null,null,null,null,null,null,null,null,null,null,null,null,null,null,null,null,null,null,null,null,null,null,null,null,null,null,null,null,null,null,null,null,null,null,null,null,null,null,null,null,null,null,null,null,null,null,null,null,null,null,null,null,null,null,null,null,null,null,null,null,null,null,null,null,null,null,null,null,null,null,null,null,null,null,null,null,null,null,null,null,null,null,null,null,null,null,null,null,null,null,null,null,null,null,null,null,null,null,null,null,null,null,null,null,null,null,null,null,null,null,null,null,null,null,null,null,null,null,null,null,null,null,null,null,null,null,null,null,null,null,null,null,null,null,null,null,null,null,null,null,null,null,null,null,null,null,null,null,null,null,null,null,null,null,null,null,null,null,null,null,null,null,null,null,null,null,null,null,null,null,null,null,null,null,null,null,null,null,null,null,null,null,null,null,null,null,null,null,null,null,null,null,null,null,null,null,null,null,null,null,null,null,null,null,null,null,null,null,null,null,null,null,null,null,null,null,null,null,null,null,null,null,null,null,null,null,null,null,null,null,null,null,null,null,null,null,null,null,null,null,null,null,null,null,null,null,null,null,null,null,null,null,null,null,null,null,null,null,null,null,null,null,null,null,null,null,null,null,null,null,null,null,null,null,null,null,null,null,null,null,null,null,null,null,null,null,null,null,null,null,null,null,null,null,null,null,null,null,null,null,null,null,null,null,null,null,null,null,null,null,null,null,null,null,null,null,null,null,null,null,null,null,null,null,null,null,null,null,null,null,null,null,null,null,null,null,null,null,null,null,null,null,null,null,null,null,null,null,null,null,null,null,null,null,null,null,null,null,null,null,null,null,null,null,null,null,null,null,null,null,null,null,null,null,null,null,null,null,null,null,null,null,null,null,null,null,null,null,null,null,null,null,null,null,null,null,null,null,null,null,null,null,null,null,null,null,null,null,null,null,null,null,null,null,null,null,null,null,null,null,null,null,null,null,null,null,null,null,null,null,null,null,null,null,null,null,null,null,null,null,null,null,null,null,null,null,null,null,null,null,null,null,null,null,null,null,null,null,null,null,null,null,null,null,null,null,null,null,null,null,null,null,null,null,null,null,null,null,null,null,null,null,null,null,null,null,null,null,null,null,null,null,null,null,null,null,null,null,null,null,null,null,null,null,null,null,null,null,null,null,null,null,null,null,null,null,null,null,null,null,null,null,null,null,null,null,null,null,null,null,null,null,null,null,null,null,null,null,null,null,null,null,null,null,null,null,null,null,null,null,null,null,null,null,null,null,null,null,null,null,null,null,null,null,null,null,null,null,null,null,null,null,null,null,null,null,null,null,null,null,null,null,null,null,null,null,null,null,null,null,null,null,null,null,null,null,null,null,null,null,null,null,null,null,null,null,null,null,null,null,null,null,null,null,null,null,null,null,null,null,null,null,null,null,null,null,null,null,null,null,null,null,null,null,null,null,null,null,null,null,null,null,null,null,null,null,null,null,null,null,null,null,null,null,null,null,null,null,null,null,null,null,null,null,null,null,null,null,null,null,null,null,null,null,null,null,null,null,null,null,null,null,null,null,null,null,null,null,null,null,null,null,null,null,null,null,null,null,null,null,null,null,null,null,null,null,null,null,null,null,null,null,null,null,null,null,null,null,null,null,null,null,null,null,null,null,null,null,null,null,null,null,null,null,null,null,null,null,null,null,null,null,null,null,null,null,null,null,null,null,null,null,null,null,null,null,null,null,null,null,null,null,null,null,null,null,null,null,null,null,null,null,null,null,null,null,null,null,null,null,null,null,null,null,null,null,null,null,null,null,null,null,null,null,null,null,null,null,null,null,null,null,null,null,null,null,null,null,null,null,null,null,null,null,null,null,null,null,null,null,null,null,null,null,null,null,null,null,null,null,null,null,null,null,null,null,null,null,null,null,null,null,null,null,null,null,null,null,null,null,null,null,null,null,null,null,null,null,null,null,null,null,null,null,null,null,null,null,null,null,null,null,null,null,null,null,null,null,null,null,null,null,null,null,null,null,null,null,null,null,null,null,null,null,null,null,null,null,null,null,null,null,null,null,null,null,null,null,null,null,null,null,null,null,null,null,null,null,null,null,null,null,null,null,null,null,null,null,null,null,null,null,null,null,null,null,null,null,null,null,null,null,null,null,null,null,null,null,null,null,null,null,null,null,null,null,null,null,null,null,null,null,null,null,null,null,null,null,null,null,null,null,null,null,null,null,null,null,null,null,null,null,null,null,null,null,null,null,null,null,null,null,null,null,null,null,null,null,null,null,null,null,null,null,null,null,null,null,null,null,null,null,null,null,null,null,null,null,null,null,null,null,null,null,null,null,null,null,null,null,null,null,null,null,null,null,null,null,null,null,null,null,null,null,null,null,null,null,null,null,null,null,null,null,null,null,null,null,null,null,null,null,null,null,null,null,null,null,null,null,null,null,null,null,null,null,null,null,null,null,null,null,null,null,null,null,null,null,null,null,null,null,null,null,null,null,null,null,null,null,null,null,null,null,null,null,null,null,null,null,null,null,null,null,null,null,null,null,null,null,null,null,null,null,null,null,null,null,null,null,null,null,null,null,null,null,null,null,null,null,null,null,null,null,null,null,null,null,null,null,null,null,null,null,null,null,null,null,null,null,null,null,null,null,null,null,null,null,null,null,null,null,null,null,null,null,null,null,null,null,null,null,null,null,null,null,null,null,null,null,null,null,null,null,null,null,null,null,null,null,null,null,null,null,null,null,null,null,null,null,null,null,null,null,null,null,null,null,null,null,null,null,null,null,null,null,null,null,null,null,null,null,null,null,null,null,null,null,null,null,null,null,null,null,null,null,null,null,null,null,null,null,null,null,null,null,null,null,null,null,null,null,null,null,null,null,null,null,null,null,null,null,null,null,null,null,null,null,null,null,null,null,null,null,null,null,null,null,null,null,null,null,null,null,null,null,null,null,null,null,null,null,null,null,null,null,null,null,null,null,null,null,null,null,null,null,null,null,null,null,null,null,null,null,null,null,null,null,null,null,null,null,null,null,null,null,null,null,null,null,null,null,null,null,null,null,null,null,null,null,null,null,null,null,null,null,null,null,null,null,null,null,null,null,null,null,null,null,null,null,null,null,null,null,null,null,null,null,null,null,null,null,null,null,null,null,null,null,null,null,null,null,null,null,null,null,null,null,null,null,null,null,null,null,null,null,null,null,null,null,null,null,null,null,null,null,null,null,null,null,null,null,null,null,null,null,null,null,null,null,null,null,null,null,null,null,null,null,null,null,null,null,null,null,null,null,null,null,null,null,null,null,null,null,null,null,null,null,null,null,null,null,null,null,null,null,null,null,null,null,null,null,null,null,null,null,null,null,null,null,null,null,null,null,null,null,null,null,null,null,null,null,null,null,null,null,null,null,null,null,null,null,null,null,null,null,null,null,null,null,null,null,null,null,null,null,null,null,null,null,null,null,null,null,null,null,null,null,null,null,null,null,null,null,null,null,null,null,null,null,null,null,null,null,null,null,null,null,null,null,null,null,null,null,null,null,null,null,null,null,null,null,null,null,null,null,null,null,null,null,null,null,null,null,null,null,null,null,null,null,null,null,null,null,null,null,null,null,null,null,null,null,null,null,null,null,null,null,null,null,null,null,null,null,null,null,null,null,null,null,null,null,null,null,null,null,null,null,null,null,null,null,null,null,null,null,null,null,null,null,null,null,null,null,null,null,null,null,null,null,null,null,null,null,null,null,null,null,null,null,null,null,null,null,null,null,null,null,null,null,null,null,null,null,null,null,null,null,null,null,null,null,null,null,null,null,null,null,null,null,null,null,null,null,null,null,null,null,null,null,null,null,null,null,null,null,null,null,null,null,null,null,null,null,null,null,null,null,null,null,null,null,null,null,null,null,null,null,null,null,null,null,null,null,null,null,null,null,null,null,null,null,null,null,null,null,null,null,null,null,null,null,null,null,null,null,null,null,null,null,null,null,null,null,null,null,null,null,null,null,null,null,null,null,null,null,null,null,null,null,null,null,null,null,null,null,null,null,null,null,null,null,null,null,null,null,null,null,null,null,null,null,null,null,null,null,null,null,null,null,null,null,null,null,null,null,null,null,null,null,null,null,null,null,null,null,null,null,null,null,null,null,null,null,null,null,null,null,null,null,null,null,null,null,null,null,null,null,null,null,null,null,null,null,null,null,null,null,null,null,null,null,null,null,null,null,null,null,null,null,null,null,null,null,null,null,null,null,null,null,null,null,null,null,null,null,null,null,null,null,null,null,null,null,null,null,null,null,null,null,null,null,null,null,null,null,null,null,null,null,null,null,null,null,null,null,null,null,null,null,null,null,null,null,null,null,null,null,null,null,null,null,null,null,null,null,null,null,null,null,null,null,null,null,null,null,null,null,null,null,null,null,null,null,null,null,null,null,null,null,null,null,null,null,null,null,null,null,null,null,null,null,null,null,null,null,null,null,null,null,null,null,null,null,null,null,null,null,null,null,null,null,null,null,null,null,null,null,null,null,null,null,null,null,null,null,null,null,null,null,null,null,null,null,null,null,null,null,null,null,null,null,null,null,null,null,null,null,null,null,null,null,null,null,null,null,null,null,null,null,null,null,null,null,null,null,null,null,null,null,null,null,null,null,null,null,null,null,null,null,null,null,null,null,null,null,null,null,null,null,null,null,null,null,null,null,null,null,null,null,null,null,null,null,null,null,null,null,null,null,null,null,null,null,null,null,null,null,null,null,null,null,null,null,null,null,null,null,null,null,null,null,null,null,null,null,null,null,null,null,null,null,null,null,null,null,null,null,null,null,null,null,null,null,null,null,null,null,null,null,null,null,null,null,null,null,null,null,null,null,null,null,null,null,null,null,null,null,null,null,null,null,null,null,null,null,null,null,null,null,null,null,null,null,null,null,null,null,null,null,null,null,null,null,null,null,null,null,null,null,null,null,null,null,null,null,null,null,null,null,null,null,null,null,null,null,null,null,null,null,null,null,null,null,null,null,null,null,null,null,null,null,null,null,null,null,null,null,null,null,null,null,null,null,null,null,null,null,null,null,null,null,null,null,null,null,null,null,null,null,null,null,null,null,null,null,null,null,null,null,null,null,null,null,null,null,null,null,null,null,null,null,null,null,null,null,null,null,null,null,null,null,null,null,null,null,null,null,null,null,null,null,null,null,null,null,null,null,null,null,null,null,null,null,null,null,null,null,null,null,null,null,null,null,null,null,null,null,null,null,null,null,null,null,null,null,null,null,null,null,null,null,null,null,null,null,null,null,null,null,null,null,null,null,null,null,null,null,null,null,null,null,null,null,null,null,null,null,null,null,null,null,null,null,null,null,null,null,null,null,null,null,null,null,null,null,null,null,null,null,null,null,null,null,null,null,null,null,null,null,null,null,null,null,null,null,null,null,null,null,null,null,null,null,null,null,null,null,null,null,null,null,null,null,null,null,null,null,null,null,null,null,null,null,null,null,null,null,null,null,null,null,null,null,null,null,null,null,null,null,null,null,null,null,null,null,null,null,null,null,null,null,null,null,null,null,null,null,null,null,null,null,null,null,null,null,null,null,null,null,null,null,null,null,null,null,null,null,null,null,null,null,null,null,null,null,null,null,null,null,null,null,null,null,null,null,null,null,null,null,null,null,null,null,null,null,null,null,null,null,null,null,null,null,null,null,null,null,null,null,null,null,null,null,null,null,null,null,null,null,null,null,null,null,null,null,null,null,null,null,null,null,null,null,null,null,null,null,null,null,null,null,null,null,null,null,null,null,null,null,null,null,null,null,null,null,null,null,null,null,null,null,null,null,null,null,null,null,null,null,null,null,null,null,null,null,null,null,null,null,null,null,null,null,null,null,null,null,null,null,null,null,null,null,null,null,null,null,null,null,null,null,null,null,null,null,null,null,null,null,null,null,null,null,null,null,null,null,null,null,null,null,null,null,null,null,null,null,null,null,null,null,null,null,null,null,null,null,null,null,null,null,null,null,null,null,null,null,null,null,null,null,null,null,null,null,null,null,null,null,null,null,null,null,null,null,null,null,null,null,null,null,null,null,null,null,null,null,null,null,null,null,null,null,null,null,null,null,null,null,null,null,null,null,null,null,null,null,null,null,null,null,null,null,null,null,null,null,null,null,null,null,null,null,null,null,null,null,null,null,null,null,null,null,null,null,null,null,null,null,null,null,null,null,null,null,null,null,null,null,null,null,null,null,null,null,null,null,null,null,null,null,null,null,null,null,null,null,null,null,null,null,null,null,null,null,null,null,null,null,null,null,null,null,null,null,null,null,null,null,null,null,null,null,null,null,null,null,null,null,null,null,null,null,null,null,null,null,null,null,null,null,null,null,null,null,null,null,null,null,null,null,null,null,null,null,null,null,null,null,null,null,null,null,null,null,null,null,null,null,null,null,null,null,null,null,null,null,null,null,null,null,null,null,null,null,null,null,null,null,null,null,null,null,null,null,null,null,null,null,null,null,null,null,null,null,null,null,null,null,null,null,null,null,null,null,null,null,null,null,null,null,null,null,null,null,null,null,null,null,null,null,null,null,null,null,null,null,null,null,null,null,null,null,null,null,null,null,null,null,null,null,null,null,null,null,null,null,null,null,null,null,null,null,null,null,null,null,null,null,null,null,null,null,null,null,null,null,null,null,null,null,null,null,null,null,null,null,null,null,null,null,null,null,null,null,null,null,null,null,null,null,null,null,null,null,null,null,null,null,null,null,null,null,null,null,null,null,null,null,null,null,null,null,null,null,null,null,null,null,null,null,null,null,null,null,null,null,null,null,null,null,null,null,null,null,null,null,null,null,null,null,null,null,null,null,null,null,null,null,null,null,null,null,null,null,null,null,null,null,null,null,null,null,null,null,null,null,null,null,null,null,null,null,null,null,null,null,null,null,null,null,null,null,null,null,null,null,null,null,null,null,null,null,null,null,null,null,null,null,null,null,null,null,null,null,null,null,null,null,null,null,null,null,null,null,null,null,null,null,null,null,null,null,null,null,null,null,null,null,null,null,null,null,null,null,null,null,null,null,null,null,null,null,null,null,null,null,null,null,null,null,null,null,null,null,null,null,null,null,null,null,null,null,null,null,null,null,null,null,null,null,null,null,null,null,null,null,null,null,null,null,null,null,null,null,null,null,null,null,null,null,null,null,null,null,null,null,null,null,null,null,null,null,null,null,null,null,null,null,null,null,null,null,null,null,null,null,null,null,null,null,null,null,null,null,null,null,null,null,null,null,null,null,null,null,null,null,null,null,null,null,null,null,null,null,null,null,null,null,null,null,null,null,null,null,null,null,null,null,null,null,null,null,null,null,null,null,null,null,null,null,null,null,null,null,null,null,null,null,null,null,null,null,null,null,null,null,null,null,null,null,null,null,null,null,null,null,null,null,null,null,null,null,null,null,null,null,null,null,null,null,null,null,null,null,null,null,null,null,null,null,null,null,null,null,null,null,null,null,null,null,null,null,null,null,null,null,null,null,null,null,null,null,null,null,null,null,null,null,null,null,null,null,null,null,null,null,null,null,null,null,null,null,null,null,null,null,null,null,null,null,null,null,null,null,null,null,null,null,null,null,null,null,null,null,null,null,null,null,null,null,null,null,null,null,null,null,null,null,null,null,null,null,null,null,null,null,null,null,null,null,null,null,null,null,null,null,null,null,null,null,null,null,null,null,null,null,null,null,null,null,null,null,null,null,null,null,null,null,null,null,null,null,null,null,null,null,null,null,null,null,null,null,null,null,null,null,null,null,null,null,null,null,null,null,null,null,null,null,null,null,null,null,null,null,null,null,null,null,null,null,null,null,null,null,null,null,null,null,null,null,null,null,null,null,null,null,null,null,null,null,null,null,null,null,null,null,null,null,null,null,null,null,null,null,null,null,null,null,null,null,null,null,null,null,null,null,null,null,null,null,null,null,null,null,null,null,null,null,null,null,null,null,null,null,null,null,null,null,null,null,null,null,null,null,null,null,null,null,null,null,null,null,null,null,null,null,null,null,null,null,null,null,null,null,null,null,null,null,null,null,null,null,null,null,null,null,null,null,null,null,null,null,null,null,null,null,null,null,null,null,null,null,null,null,null,null,null,null,null,null,null,null,null,null,null,null,null,null,null,null,null,null,null,null,null,null,null,null,null,null,null,null,null,null,null,null,null,null,null,null,null,null,null,null,null,null,null,null,null,null,null,null,null,null,null,null,null,null,null,null,null,null,null,null,null,null,null,null,null,null,null,null,null,null,null,null,null,null,null,null,null,null,null,null,null,null,null,null,null,null,null,null,null,null,null,null,null,null,null,null,null,null,null,null,null,null,null,null,null,null,null,null,null,null,null,null,null,null,null,null,null,null,null,null,null,null,null,null,null,null,null,null,null,null,null,null,null,null,null,null,null,null,null,null,null,null,null,null,null,null,null,null,null,null,null,null,null,null,null,null,null,null,null,null,null,null,null,null,null,null,null,null,null,null,null,null,null,null,null,null,null,null,null,null,null,null,null,null,null,null,null,null,null,null,null,null,null,null,null,null,null,null,null,null,null,null,null,null,null,null,null,null,null,null,null,null,null,null,null,null,null,null,null,null,null,null,null,null,null,null,null,null,null,null,null,null,null,null,null,null,null,null,null,null,null,null,null,null,null,null,null,null,null,null,null,null,null,null,null,null,null,null,null,null,null,null,null,null,null,null,null,null,null,null,null,null,null,null,null,null,null,null,null,null,null,null,null,null,null,null,null,null,null,null,null,null,null,null,null,null,null,null,null,null,null,null,null,null,null,null,null,null,null,null,null,null,null,null,null,null,null,null,null,null,null,null,null,null,null,null,null,null,null,null,null,null,null,null,null,null,null,null,null,null,null,null,null,null,null,null,null,null,null,null,null,null,null,null,null,null,null,null,null,null,null,null,null,null,null,null,null,null,null,null,null,null,null,null,null,null,null,null,null,null,null,null,null,null,null,null,null,null,null,null,null,null,null,null,null,null,null,null,null,null,null,null,null,null,null,null,null,null,null,null,null,null,null,null,null,null,null,null,null,null,null,null,null,null,null,null,null,null,null,null,null,null,null,null,null,null,null,null,null,null,null,null,null,null,null,null,null,null,null,null,null,null,null,null,null,null,null,null,null,null,null,null,null,null,null,null,null,null,null,null,null,null,null,null,null,null,null,null,null,null,null,null,null,null,null,null,null,null,null,null,null,null,null,null,null,null,null,null,null,null,null,null,null,null,null,null,null,null,null,null,null,null,null,null,null,null,null,null,null,null,null,null,null,null,null,null,null,null,null,null,null,null,null,null,null,null,null,null,null,null,null,null,null,null,null,null,null,null,null,null,null,null,null,null,null,null,null,null,null,null,null,null,null,null,null,null,null,null,null,null,null,null,null,null,null,null,null,null,null,null,null,null,null,null,null,null,null,null,null,null,null,null,null,null,null,null,null,null,null,null,null,null,null,null,null,null,null,null,null,null,null,null,null,null,null,null,null,null,null,null,null,null,null,null,null,null,null,null,null,null,null,null,null,null,null,null,null,null,null,null,null,null,null,null,null,null,null,null,null,null,null,null,null,null,null,null,null,null,null,null,null,null,null,null,null,null,null,null,null,null,null,null,null,null,null,null,null,null,null,null,null,null,null,null,null,null,null,null,null,null,null,null,null,null,null,null,null,null,null,null,null,null,null,null,null,null,null,null,null,null,null,null,null,null,null,null,null,null,null,null,null,null,null,null,null,null,null,null,null,null,null,null,null,null,null,null,null,null,null,null,null,null,null,null,null,null,null,null,null,null,null,null,null,null,null,null,null,null,null,null,null,null,null,null,null,null,null,null,null,null,null,null,null,null,null,null,null,null,null,null,null,null,null,null,null,null,null,null,null,null,null,null,null,null,null,null,null,null,null,null,null,null,null,null,null,null,null,null,null,null,null,null,null,null,null,null,null,null,null,null,null,null,null,null,null,null,null,null,null,null,null,null,null,null,null,null,null,null,null,null,null,null,null,null,null,null,null,null,null,null,null,null,null,null,null,null,null,null,null,null,null,null,null,null,null,null,null,null,null,null,null,null,null,null,null,null,null,null,null,null,null,null,null,null,null,null,null,null,null,null,null,null,null,null,null,null,null,null,null,null,null,null,null,null,null,null,null,null,null,null,null,null,null,null,null,null,null,null,null,null,null,null,null,null,null,null,null,null,null,null,null,null,null,null,null,null,null,null,null,null,null,null,null,null,null,null,null,null,null,null,null,null,null,null,null,null,null,null,null,null,null,null,null,null,null,null,null,null,null,null,null,null,null,null,null,null,null,null,null,null,null,null,null,null,null,null,null,null,null,null,null,null,null,null,null,null,null,null,null,null,null,null,null,null,null,null,null,null,null,null,null,null,null,null,null,null,null,null,null,null,null,null,null,null,null,null,null,null,null,null,null,null,null,null,null,null,null,null,null,null,null,null,null,null,null,null,null,null,null,null,null,null,null,null,null,null,null,null,null,null,null,null,null,null,null,null,null,null,null,null,null,null,null,null,null,null,null,null,null,null,null,null,null,null,null,null,null,null,null,null,null,null,null,null,null,null,null,null,null,null,null,null,null,null,null,null,null,null,null,null,null,null,null,null,null,null,null,null,null,null,null,null,null,null,null,null,null,null,null,null,null,null,null,null,null,null,null,null,null,null,null,null,null,null,null,null,null,null,null,null,null,null,null,null,null,null,null,null,null,null,null,null,null,null,null,null,null,null,null,null,null,null,null,null,null,null,null,null,null,null,null,null,null,null,null,null,null,null,null,null,null,null,null,null,null,null,null,null,null,null,null,null,null,null,null,null,null,null,null,null,null,null,null,null,null,null,null,null,null,null,null,null,null,null,null,null,null,null,null,null,null,null,null,null,null,null,null,null,null,null,null,null,null,null,null,null,null,null,null,null,null,null,null,null,null,null,null,null,null,null,null,null,null,null,null,null,null,null,null,null,null,null,null,null,null,null,null,null,null,null,null,null,null,null,null,null,null,null,null,null,null,null,null,null,null,null,null,null,null,null,null,null,null,null,null,null,null,null,null,null,null,null,null,null,null,null,null,null,null,null,null,null,null,null,null,null,null,null,null,null,null,null,null,null,null,null,null,null,null,null,null,null,null,null,null,null,null,null,null,null,null,null,null,null,null,null,null,null,null,null,null,null,null,null,null,null,null,null,null,null,null,null,null,null,null,null,null,null,null,null,null,null,null,null,null,null,null,null,null,null,null,null,null,null,null,null,null,null,null,null,null,null,null,null,null,null,null,null,null,null,null,null,null,null,null,null,null,null,null,null,null,null,null,null,null,null,null,null,null,null,null,null,null,null,null,null,null,null,null,null,null,null,null,null,null,null,null,null,null,null,null,null,null,null,null,null,null,null,null,null,null,null,null,null,null,null,null,null,null,null,null,null,null,null,null,null,null,null,null,null,null,null,null,null,null,null,null,null,null,null,null,null,null,null,null,null,null,null,null,null,null,null,null,null,null,null,null,null,null,null,null,null,null,null,null,null,null,null,null,null,null,null,null,null,null,null,null,null,null,null,null,null,null,null,null,null,null,null,null,null,null,null,null,null,null,null,null,null,null,null,null,null,null,null,null,null,null,null,null,null,null,null,null,null,null,null,null,null,null,null,null,null,null,null,null,null,null,null,null,null,null,null,null,null,null,null,null,null,null,null,null,null,null,null,null,null,null,null,null,null,null,null,null,null,null,null,null,null,null,null,null,null,null,null,null,null,null,null,null,null,null,null,null,null,null,null,null,null,null,null,null,null,null,null,null,null,null,null,null,null,null,null,null,null,null,null,null,null,null,null,null,null,null,null,null,null,null,null,null,null,null,null,null,null,null,null,null,null,null,null,null,null,null,null,null,null,null,null,null,null,null,null,null,null,null,null,null,null,null,null,null,null,null,null,null,null,null,null,null,null,null,null,null,null,null,null,null,null,null,null,null,null,null,null,null,null,null,null,null,null,null,null,null,null,null,null,null,null,null,null,null,null,null,null,null,null,null,null,null,null,null,null,null,null,null,null,null,null,null,null,null,null,null,null,null,null,null,null,null,null,null,null,null,null,null,null,null,null,null,null,null,null,null,null,null,null,null,null,null,null,null,null,null,null,null,null,null,null,null,null,null,null,null,null,null,null,null,null,null,null,null,null,null,null,null,null,null,null,null,null,null,null,null,null,null,null,null,null,null,null,null,null,null,null,null,null,null,null,null,null,null,null,null,null,null,null,null,null,null,null,null,null,null,null,null,null,null,null,null,null,null,null,null,null,null,null,null,null,null,null,null,null,null,null,null,null,null,null,null,null,null,null,null,null,null,null,null,null,null,null,null,null,null,null,null,null,null,null,null,null,null,null,null,null,null,null,null,null,null,null,null,null,null,null,null,null,null,null,null,null,null,null,null,null,null,null,null,null,null,null,null,null,null,null,null,null,null,null,null,null,null,null,null,null,null,null,null,null,null,null,null,null,null,null,null,null,null,null,null,null,null,null,null,null,null,null,null,null,null,null,null,null,null,null,null,null,null,null,null,null,null,null,null,null,null,null,null,null,null,null,null,null,null,null,null,null,null,null,null,null,null,null,null,null,null,null,null,null,null,null,null,null,null,null,null,null,null,null,null,null,null,null,null,null,null,null,null,null,null,null,null,null,null,null,null,null,null,null,null,null,null,null,null,null,null,null,null,null,null,null,null,null,null,null,null,null,null,null,null,null,null,null,null,null,null,null,null,null,null,null,null,null,null,null,null,null,null,null,null,null,null,null,null,null,null,null,null,null,null,null,null,null,null,null,null,null,null,null,null,null,null,null,null,null,null,null,null,null,null,null,null,null,null,null,null,null,null,null,null,null,null,null,null,null,null,null,null,null,null,null,null,null,null,null,null,null,null,null,null,null,null,null,null,null,null,null,null,null,null,null,null,null,null,null,null,null,null,null,null,null,null,null,null,null,null,null,null,null,null,null,null,null,null,null,null,null,null,null,null,null,null,null,null,null,null,null,null,null,null,null,null,null,null,null,null,null,null,null,null,null,null,null,null,null,null,null,null,null,null,null,null,null,null,null,null,null,null,null,null,null,null,null,null,null,null,null,null,null,null,null,null,null,null,null,null,null,null,null,null,null,null,null,null,null,null,null,null,null,null,null,null,null,null,null,null,null,null,null,null,null,null,null,null,null,null,null,null,null,null,null,null,null,null,null,null,null,null,null,null,null,null,null,null,null,null,null,null,null,null,null,null,null,null,null,null,null,null,null,null,null,null,null,null,null,null,null,null,null,null,null,null,null,null,null,null,null,null,null,null,null,null,null,null,null,null,null,null,null,null,null,null,null,null,null,null,null,null,null,null,null,null,null,null,null,null,null,null,null,null,null,null,null,null,null,null,null,null,null,null,null,null,null,null,null,null,null,null,null,null,null,null,null,null,null,null,null,null,null,null,null,null,null,null,null,null,null,null,null,null,null,null,null,null,null,null,null,null,null,null,null,null,null,null,null,null,null,null,null,null,null,null,null,null,null,null,null,null,null,null,null,null,null,null,null,null,null,null,null,null,null,null,null,null,null,null,null,null,null,null,null,null,null,null,null,null,null,null,null,null,null,null,null,null,null,null,null,null,null,null,null,null,null,null,null,null,null,null,null,null,null,null,null,null,null,null,null,null,null,null,null,null,null,null,null,null,null,null,null,null,null,null,null,null,null,null,null,null,null,null,null,null,null,null,null,null,null,null,null,null,null,null,null,null,null,null,null,null,null,null,null,null,null,null,null,null,null,null,null,null,null,null,null,null,null,null,null,null,null,null,null,null,null,null,null,null,null,null,null,null,null,null,null,null,null,null,null,null,null,null,null,null,null,null,null,null,null,null,null,null,null,null,null,null,null,null,null,null,null,null,null,null,null,null,null,null,null,null,null,null,null,null,null,null,null,null,null,null,null,null,null,null,null,null,null,null,null,null,null,null,null,null,null,null,null,null,null,null,null,null,null,null,null,null,null,null,null,null,null,null,null,null,null,null,null,null,null,null,null,null,null,null,null,null,null,null,null,null,null,null,null,null,null,null,null,null,null,null,null,null,null,null,null,null,null,null,null,null,null,null,null,null,null,null,null,null,null,null,null,null,null,null,null,null,null,null,null,null,null,null,null,null,null,null,null,null,null,null,null,null,null,null,null,null,null,null,null,null,null,null,null,null,null,null,null,null,null,null,null,null,null,null,null,null,null,null,null,null,null,null,null,null,null,null,null,null,null,null,null,null,null,null,null,null,null,null,null,null,null,null,null,null,null,null,null,null,null,null,null,null,null,null,null,null,null,null,null,null,null,null,null,null,null,null,null,null,null,null,null,null,null,null,null,null,null,null,null,null,null,null,null,null,null,null,null,null,null,null,null,null,null,null,null,null,null,null,null,null,null,null,null,null,null,null,null,null,null,null,null,null,null,null,null,null,null,null,null,null,null,null,null,null,null,null,null,null,null,null,null,null,null,null,null,null,null,null,null,null,null,null,null,null,null,null,null,null,null,null,null,null,null,null,null,null,null,null,null,null,null,null,null,null,null,null,null,null,null,null,null,null,null,null,null,null,null,null,null,null,null,null,null,null,null,null,null,null,null,null,null,null,null,null,null,null,null,null,null,null,null,null,null,null,null,null,null,null,null,null,null,null,null,null,null,null,null,null,null,null,null,null,null,null,null,null,null,null,null,null,null,null,null,null,null,null,null,null,null,null,null,null,null,null,null,null,null,null,null,null,null,null,null,null,null,null,null,null,null,null,null,null,null,null,null,null,null,null,null,null,null,null,null,null,null,null,null,null,null,null,null,null,null,null,null,null,null,null,null,null,null,null,null,null,null,null,null,null,null,null,null,null,null,null,null,null,null,null,null,null,null,null,null,null,null,null,null,null,null,null,null,null,null,null,null,null,null,null,null,null,null,null,null,null,null,null,null,null,null,null,null,null,null,null,null,null,null,null,null,null,null,null,null,null,null,null,null,null,null,null,null,null,null,null,null,null,null,null,null,null,null,null,null,null,null,null,null,null,null,null,null,null,null,null,null,null,null,null,null,null,null,null,null,null,null,null,null,null,null,null,null,null,null,null,null,null,null,null,null,null,null,null,null,null,null,null,null,null,null,null,null,null,null,null,null,null,null,null,null,null,null,null,null,null,null,null,null,null,null,null,null,null,null,null,null,null,null,null,null,null,null,null,null,null,null,null,null,null,null,null,null,null,null,null,null,null,null,null,null,null,null,null,null,null,null,null,null,null,null,null,null,null,null,null,null,null,null,null,null,null,null,null,null,null,null,null,null,null,null,null,null,null,null,null,null,null,null,null,null,null,null,null,null,null,null,null,null,null,null,null,null,null,null,null,null,null,null,null,null,null,null,null,null,null,null,null,null,null,null,null,null,null,null,null,null,null,null,null,null,null,null,null,null,null,null,null,null,null,null,null,null,null,null,null,null,null,null,null,null,null,null,null,null,null,null,null,null,null,null,null,null,null,null,null,null,null,null,null,null,null,null,null,null,null,null,null,null,null,null,null,null,null,null,null,null,null,null,null,null,null,null,null,null,null,null,null,null,null,null,null,null,null,null,null,null,null,null,null,null,null,null,null,null,null,null,null,null,null,null,null,null,null,null,null,null,null,null,null,null,null,null,null,null,null,null,null,null,null,null,null,null,null,null,null,null,null,null,null,null,null,null,null,null,null,null,null,null,null,null,null,null,null,null,null,null,null,null,null,null,null,null,null,null,null,null,null,null,null,null,null,null,null,null,null,null,null,null,null,null,null,null,null,null,null,null,null,null,null,null,null,null,null,null,null,null,null,null,null,null,null,null,null,null,null,null,null,null,null,null,null,null,null,null,null,null,null,null,null,null,null,null,null,null,null,null,null,null,null,null,null,null,null,null,null,null,null,null,null,null,null,null,null,null,null,null,null,null,null,null,null,null,null,null,null,null,null,null,null,null,null,null,null,null,null,null,null,null,null,null,null,null,null,null,null,null,null,null,null,null,null,null,null,null,null,null,null,null,null,null,null,null,null,null,null,null,null,null,null,null,null,null,null,null,null,null,null,null,null,null,null,null,null,null,null,null,null,null,null,null,null,null,null,null,null,null,null,null,null,null,null,null,null,null,null,null,null,null,null,null,null,null,null,null,null,null,null,null,null,null,null,null,null,null,null,null,null,null,null,null,null,null,null,null,null,null,null,null,null,null,null,null,null,null,null,null,null,null,null,null,null,null,null,null,null,null,null,null,null,null,null,null,null,null,null,null,null,null,null,null,null,null,null,null,null,null,null,null,null,null,null,null,null,null,null,null,null,null,null,null,null,null,null,null,null,null,null,null,null,null,null,null,null,null,null,null,null,null,null,null,null,null,null,null,null,null,null,null,null,null,null,null,null,null,null,null,null,null,null,null,null,null,null,null,null,null,null,null,null,null,null,null,null,null,null,null,null,null,null,null,null,null,null,null,null,null,null,null,null,null,null,null,null,null,null,null,null,null,null,null,null,null,null,null,null,null,null,null,null,null,null,null,null,null,null,null,null,null,null,null,null,null,null,null,null,null,null,null,null,null,null,null,null,null,null,null,null,null,null,null,null,null,null,null,null,null,null,null,null,null,null,null,null,null,null,null,null,null,null,null,null,null,null,null,null,null,null,null,null,null,null,null,null,null,null,null,null,null,null,null,null,null,null,null,null,null,null,null,null,null,null,null,null,null,null,null,null,null,null,null,null,null,null,null,null,null,null,null,null,null,null,null,null,null,null,null,null,null,null,null,null,null,null,null,null,null,null,null,null,null,null,null,null,null,null,null,null,null,null,null,null,null,null,null,null,null,null,null,null,null,null,null,null,null,null,null,null,null,null,null,null,null,null,null,null,null,null,null,null,null,null,null,null,null,null,null,null,null,null,null,null,null,null,null,null,null,null,null,null,null,null,null,null,null,null,null,null,null,null,null,null,null,null,null,null,null,null,null,null,null,null,null,null,null,null,null,null,null,null,null,null,null,null,null,null,null,null,null,null,null,null,null,null,null,null,null,null,null,null,null,null,null,null,null,null,null,null,null,null,null,null,null,null,null,null,null,null,null,null,null,null,null,null,null,null,null,null,null,null,null,null,null,null,null,null,null,null,null,null,null,null,null,null,null,null,null,null,null,null,null,null,null,null,null,null,null,null,null,null,null,null,null,null,null,null,null,null,null,null,null,null,null,null,null,null,null,null,null,null,null,null,null,null,null,null,null,null,null,null,null,null,null,null,null,null,null,null,null,null,null,null,null,null,null,null,null,null,null,null,null,null,null,null,null,null,null,null,null,null,null,null,null,null,null,null,null,null,null,null,null,null,null,null,null,null,null,null,null,null,null,null,null,null,null,null,null,null,null,null,null,null,null,null,null,null,null,null,null,null,null,null,null,null,null,null,null,null,null,null,null,null,null,null,null,null,null,null,null,null,null,null,null,null,null,null,null,null,null,null,null,null,null,null,null,null,null,null,null,null,null,null,null,null,null,null,null,null,null,null,null,null,null,null,null,null,null,null,null,null,null,null,null,null,null,null,null,null,null,null,null,null,null,null,null,null,null,null,null,null,null,null,null,null,null,null,null,null,null,null,null,null,null,null,null,null,null,null,null,null,null,null,null,null,null,null,null,null,null,null,null,null,null,null,null,null,null,null,null,null,null,null,null,null,null,null,null,null,null,null,null,null,null,null,null,null,null,null,null,null,null,null,null,null,null,null,null,null,null,null,null,null,null,null,null,null,null,null,null,null,null,null,null,null,null,null,null,null,null,null,null,null,null,null,null,null,null,null,null,null,null,null,null,null,null,null,null,null,null,null,null,null,null,null,null,null,null,null,null,null,null,null,null,null,null,null,null,null,null,null,null,null,null,null,null,null,null,null,null,null,null,null,null,null,null,null,null,null,null,null,null,null,null,null,null,null,null,null,null,null,null,null,null,null,null,null,null,null,null,null,null,null,null,null,null,null,null,null,null,null,null,null,null,null,null,null,null,null,null,null,null,null,null,null,null,null,null,null,null,null,null,null,null,null,null,null,null,null,null,null,null,null,null,null,null,null,null,null,null,null,null,null,null,null,null,null,null,null,null,null,null,null,null,null,null,null,null,null,null,null,null,null,null,null,null,null,null,null,null,null,null,null,null,null,null,null,null,null,null,null,null,null,null,null,null,null,null,null,null,null,null,null,null,null,null,null,null,null,null,null,null,null,null,null,null,null,null,null,null,null,null,null,null,null,null,null,null,null,null,null,null,null,null,null,null,null,null,null,null,null,null,null,null,null,null,null,null,null,null,null,null,null,null,null,null,null,null,null,null,null,null,null,null,null,null,null,null,null,null,null,null,null,null,null,null,null,null,null,null,null,null,null,null,null,null,null,null,null,null,null,null,null,null,null,null,null,null,null,null,null,null,null,null,null,null,null,null,null,null,null,null,null,null,null,null,null,null,null,null,null,null,null,null,null,null,null,null,null,null,null,null,null,null,null,null,null,null,null,null,null,null,null,null,null,null,null,null,null,null,null,null,null,null,null,null,null,null,null,null,null,null,null,null,null,null,null,null,null,null,null,null,null,null,null,null,null,null,null,null,null,null,null,null,null,null,null,null,null,null,null,null,null,null,null,null,null,null,null,null,null,null,null,null,null,null,null,null,null,null,null,null,null,null,null,null,null,null,null,null,null,null,null,null,null,null,null,null,null,null,null,null,null,null,null,null,null,null,null,null,null,null,null,null,null,null,null,null,null,null,null,null,null,null,null,null,null,null,null,null,null,null,null,null,null,null,null,null,null,null,null,null,null,null,null,null,null,null,null,null,null,null,null,null,null,null,null,null,null,null,null,null,null,null,null,null,null,null,null,null,null,null,null,null,null,null,null,null,null,null,null,null,null,null,null,null,null,null,null,null,null,null,null,null,null,null,null,null,null,null,null,null,null,null,null,null,null,null,null,null,null,null,null,null,null,null,null,null,null,null,null,null,null,null,null,null,null,null,null,null,null,null,null,null,null,null,null,null,null,null,null,null,null,null,null,null,null,null,null,null,null,null,null,null,null,null,null,null,null,null,null,null,null,null,null,null,null,null,null,null,null,null,null,null,null,null,null,null,null,null,null,null,null,null,null,null,null,null,null,null,null,null,null,null,null,null,null,null,null,null,null,null,null,null,null,null,null,null,null,null,null,null,null,null,null,null,null,null,null,null,null,null,null,null,null,null,null,null,null,null,null,null,null,null,null,null,null,null,null,null,null,null,null,null,null,null,null,null,null,null,null,null,null,null,null,null,null,null,null,null,null,null,null,null,null,null,null,null,null,null,null,null,null,null,null,null,null,null,null,null,null,null,null,null,null,null,null,null,null,null,null,null,null,null,null,null,null,null,null,null,null,null,null,null,null,null,null,null,null,null,null,null,null,null,null,null,null,null,null,null,null,null,null,null,null,null,null,null,null,null,null,null,null,null,null,null,null,null,null,null,null,null,null,null,null,null,null,null,null,null,null,null,null,null,null,null,null,null,null,null,null,null,null,null,null,null,null,null,null,null,null,null,null,null,null,null,null,null,null,null,null,null,null,null,null,null,null,null,null,null,null,null,null,null,null,null,null,null,null,null,null,null,null,null,null,null,null,null,null,null,null,null,null,null,null,null,null,null,null,null,null,null,null,null,null,null,null,null,null,null,null,null,null,null,null,null,null,null,null,null,null,null,null,null,null,null,null,null,null,null,null,null,null,null,null,null,null,null,null,null,null,null,null,null,null,null,null,null,null,null,null,null,null,null,null,null,null,null,null,null,null,null,null,null,null,null,null,null,null,null,null,null,null,null,null,null,null,null,null,null,null,null,null,null,null,null,null,null,null,null,null,null,null,null,null,null,null,null,null,null,null,null,null,null,null,null,null,null,null,null,null,null,null,null,null,null,null,null,null,null,null,null,null,null,null,null,null,null,null,null,null,null,null,null,null,null,null,null,null,null,null,null,null,null,null,null,null,null,null,null,null,null,null,null,null,null,null,null,null,null,null,null,null,null,null,null,null,null,null,null,null,null,null,null,null,null,null,null,null,null,null,null,null,null,null,null,null,null,null,null,null,null,null,null,null,null,null,null,null,null,null,null,null,null,null,null,null,null,null,null,null,null,null,null,null,null,null,null,null,null,null,null,null,null,null,null,null,null,null,null,null,null,null,null,null,null,null,null,null,null,null,null,null,null,null,null,null,null,null,null,null,null,null,null,null,null,null,null,null,null,null,null,null,null,null,null,null,null,null,null,null,null,null,null,null,null,null,null,null,null,null,null,null,null,null,null,null,null,null,null,null,null,null,null,null,null,null,null,null,null,null,null,null,null,null,null,null,null,null,null,null,null,null,null,null,null,null,null,null,null,null,null,null,null,null,null,null,null,null,null,null,null,null,null,null,null,null,null,null,null,null,null,null,null,null,null,null,null,null,null,null,null,null,null,null,null,null,null,null,null,null,null,null,null,null,null,null,null,null,null,null,null,null,null,null,null,null,null,null,null,null,null,null,null,null,null,null,null,null,null,null,null,null,null,null,null,null,null,null,null,null,null,null,null,null,null,null,null,null,null,null,null,null,null,null,null,null,null,null,null,null,null,null,null,null,null,null,null,null,null,null,null,null,null,null,null,null,null,null,null,null,null,null,null,null,null,null,null,null,null,null,null,null,null,null,null,null,null,null,null,null,null,null,null,null,null,null,null,null,null,null,null,null,null,null,null,null,null,null,null,null,null,null,null,null,null,null,null,null,null,null,null,null,null,null,null,null,null,null,null,null,null,null,null,null,null,null,null,null,null,null,null,null,null,null,null,null,null,null,null,null,null,null,null,null,null,null,null,null,null,null,null,null,null,null,null,null,null,null,null,null,null,null,null,null,null,null,null,null,null,null,null,null,null,null,null,null,null,null,null,null,null,null,null,null,null,null,null,null,null,null,null,null,null,null,null,null,null,null,null,null,null,null,null,null,null,null,null,null,null,null,null,null,null,null,null,null,null,null,null,null,null,null,null,null,null,null,null,null,null,null,null,null,null,null,null,null,null,null,null,null,null,null,null,null,null,null,null,null,null,null,null,null,null,null,null,null,null,null,null,null,null,null,null,null,null,null,null,null,null,null,null,null,null,null,null,null,null,null,null,null,null,null,null,null,null,null,null,null,null,null,null,null,null,null,null,null,null,null,null,null,null,null,null,null,null,null,null,null,null,null,null,null,null,null,null,null,null,null,null,null,null,null,null,null,null,null,null,null,null,null,null,null,null,null,null,null,null,null,null,null,null,null,null,null,null,null,null,null,null,null,null,null,null,null,null,null,null,null,null,null,null,null,null,null,null,null,null,null,null,null,null,null,null,null,null,null,null,null,null,null,null,null,null,null,null,null,null,null,null,null,null,null,null,null,null,null,null,null,null,null,null,null,null,null,null,null,null,null,null,null,null,null,null,null,null,null,null,null,null,null,null,null,null,null,null,null,null,null,null,null,null,null,null,null,null,null,null,null,null,null,null,null,null,null,null,null,null,null,null,null,null,null,null,null,null,null,null,null,null,null,null,null,null,null,null,null,null,null,null,null,null,null,null,null,null,null,null,null,null,null,null,null,null,null,null,null,null,null,null,null,null,null,null,null,null,null,null,null,null,null,null,null,null,null,null,null,null,null,null,null,null,null,null,null,null,null,null,null,null,null,null,null,null,null,null,null,null,null,null,null,null,null,null,null,null,null,null,null,null,null,null,null,null,null,null,null,null,null,null,null,null,null,null,null,null,null,null,null,null,null,null,null,null,null,null,null,null,null,null,null,null,null,null,null,null,null,null,null,null,null,null,null,null,null,null,null,null,null,null,null,null,null,null,null,null,null,null,null,null,null,null,null,null,null,null,null,null,null,null,null,null,null,null,null,null,null,null,null,null,null,null,null,null,null,null,null,null,null,null,null,null,null,null,null,null,null,null,null,null,null,null,null,null,null,null,null,null,null,null,null,null,null,null,null,null,null,null,null,null,null,null,null,null,null,null,null,null,null,null,null,null,null,null,null,null,null,null,null,null,null,null,null,null,null,null,null,null,null,null,null,null,null,null,null,null,null,null,null,null,null,null,null,null,null,null,null,null,null,null,null,null,null,null,null,null,null,null,null,null,null,null,null,null,null,null,null,null,null,null,null,null,null,null,null,null,null,null,null,null,null,null,null,null,null,null,null,null,null,null,null,null,null,null,null,null,null,null,null,null,null,null,null,null,null,null,null,null,null,null,null,null,null,null,null,null,null,null,null,null,null,null,null,null,null,null,null,null,null,null,null,null,null,null,null,null,null,null,null,null,null,null,null,null,null,null,null,null,null,null,null,null,null,null,null,null,null,null,null,null,null,null,null,null,null,null,null,null,null,null,null,null,null,null,null,null,null,null,null,null,null,null,null,null,null,null,null,null,null,null,null,null,null,null,null,null,null,null,null,null,null,null,null,null,null,null,null,null,null,null,null,null,null,null,null,null,null,null,null,null,null,null,null,null,null,null,null,null,null,null,null,null,null,null,null,null,null,null,null,null,null,null,null,null,null,null,null,null,null,null,null,null,null,null,null,null,null,null,null,null,null,null,null,null,null,null,null,null,null,null,null,null,null,null,null,null,null,null,null,null,null,null,null,null,null,null,null,null,null,null,null,null,null,null,null,null,null,null,null,null,null,null,null,null,null,null,null,null,null,null,null,null,null,null,null,null,null,null,null,null,null,null,null,null,null,null,null,null,null,null,null,null,null,null,null,null,null,null,null,null,null,null,null,null,null,null,null,null,null,null,null,null,null,null,null,null,null,null,null,null,null,null,null,null,null,null,null,null,null,null,null,null,null,null,null,null,null,null,null,null,null,null,null,null,null,null,null,null,null,null,null,null,null,null,null,null,null,null,null,null,null,null,null,null,null,null,null,null,null,null,null,null,null,null,null,null,null,null,null,null,null,null,null,null,null,null,null,null,null,null,null,null,null,null,null,null,null,null,null,null,null,null,null,null,null,null,null,null,null,null,null,null,null,null,null,null,null,null,null,null,null,null,null,null,null,null,null,null,null,null,null,null,null,null,null,null,null,null,null,null,null,null,null,null,null,null,null,null,null,null,null,null,null,null,null,null,null,null,null,null,null,null,null,null,null,null,null,null,null,null,null,null,null,null,null,null,null,null,null,null,null,null,null,null,null,null,null,null,null,null,null,null,null,null,null,null,null,null,null,null,null,null,null,null,null,null,null,null,null,null,null,null,null,null,null,null,null,null,null,null,null,null,null,null,null,null,null,null,null,null,null,null,null,null,null,null,null,null,null,null,null,null,null,null,null,null,null,null,null,null,null,null,null,null,null,null,null,null,null,null,null,null,null,null,null,null,null,null,null,null,null,null,null,null,null,null,null,null,null,null,null,null,null,null,null,null,null,null,null,null,null,null,null,null,null,null,null,null,null,null,null,null,null,null,null,null,null,null,null,null,null,null,null,null,null,null,null,null,null,null,null,null,null,null,null,null,null,null,null,null,null,null,null,null,null,null,null,null,null,null,null,null,null,null,null,null,null,null,null,null,null,null,null,null,null,null,null,null,null,null,null,null,null,null,null,null,null,null,null,null,null,null,null,null,null,null,null,null,null,null,null,null,null,null,null,null,null,null,null,null,null,null,null,null,null,null,null,null,null,null,null,null,null,null,null,null,null,null,null,null,null,null,null,null,null,null,null,null,null,null,null,null,null,null,null,null,null,null,null,null,null,null,null,null,null,null,null,null,null,null,null,null,null,null,null,null,null,null,null,null,null,null,null,null,null,null,null,null,null,null,null,null,null,null,null,null,null,null,null,null,null,null,null,null,null,null,null,null,null,null,null,null,null,null,null,null,null,null,null,null,null,null,null,null,null,null,null,null,null,null,null,null,null,null,null,null,null,null,null,null,null,null,null,null,null,null,null,null,null,null,null,null,null,null,null,null,null,null,null,null,null,null,null,null,null,null,null,null,null,null,null,null,null,null,null,null,null,null,null,null,null,null,null,null,null,null,null,null,null,null,null,null,null,null,null,null,null,null,null,null,null,null,null,null,null,null,null,null,null,null,null,null,null,null,null,null,null,null,null,null,null,null,null,null,null,null,null,null,null,null,null,null,null,null,null,null,null,null,null,null,null,null,null,null,null,null,null,null,null,null,null,null,null,null,null,null,null,null,null,null,null,null,null,null,null,null,null,null,null,null,null,null,null,null,null,null,null,null,null,null,null,null,null,null,null,null,null,null,null,null,null,null,null,null,null,null,null,null,null,null,null,null,null,null,null,null,null,null,null,null,null,null,null,null,null,null,null,null,null,null,null,null,null,null,null,null,null,null,null,null,null,null,null,null,null,null,null,null,null,null,null,null,null,null,null,null,null,null,null,null,null,null,null,null,null,null,null,null,null,null,null,null,null,null,null,null,null,null,null,null,null,null,null,null,null,null,null,null,null,null,null,null,null,null,null,null,null,null,null,null,null,null,null,null,null,null,null,null,null,null,null,null,null,null,null,null,null,null,null,null,null,null,null,null,null,null,null,null,null,null,null,null,null,null,null,null,null,null,null,null,null,null,null,null,null,null,null,null,null,null,null,null,null,null,null,null,null,null,null,null,null,null,null,null,null,null,null,null,null,null,null,null,null,null,null,null,null,null,null,null,null,null,null,null,null,null,null,null,null,null,null,null,null,null,null,null,null,null,null,null,null,null,null,null,null,null,null,null,null,null,null,null,null,null,null,null,null,null,null,null,null,null,null,null,null,null,null,null,null,null,null,null,null,null,null,null,null,null,null,null,null,null,null,null,null,null,null,null,null,null,null,null,null,null,null,null,null,null,null,null,null,null,null,null,null,null,null,null,null,null,null,null,null,null,null,null,null,null,null,null,null,null,null,null,null,null,null,null,null,null,null,null,null,null,null,null,null,null,null,null,null,null,null,null,null,null,null,null,null,null,null,null,null,null,null,null,null,null,null,null,null,null,null,null,null,null,null,null,null,null,null,null,null,null,null,null,null,null,null,null,null,null,null,null,null,null,null,null,null,null,null,null,null,null,null,null,null,null,null,null,null,null,null,null,null,null,null,null,null,null,null,null,null,null,null,null,null,null,null,null,null,null,null,null,null,null,null,null,null,null,null,null,null,null,null,null,null,null,null,null,null,null,null,null,null,null,null,null,null,null,null,null,null,null,null,null,null,null,null,null,null,null,null,null,null,null,null,null,null,null,null,null,null,null,null,null,null,null,null,null,null,null,null,null,null,null,null,null,null,null,null,null,null,null,null,null,null,null,null,null,null,null,null,null,null,null,null,null,null,null,null,null,null,null,null,null,null,null,null,null,null,null,null,null,null,null,null,null,null,null,null,null,null,null,null,null,null,null,null,null,null,null,null,null,null,null,null,null,null,null,null,null,null,null,null,null,null,null,null,null,null,null,null,null,null,null,null,null,null,null,null,null,null,null,null,null,null,null,null,null,null,null,null,null,null,null,null,null,null,null,null,null,null,null,null,null,null,null,null,null,null,null,null,null,null,null,null,null,null,null,null,null,null,null,null,null,null,null,null,null,null,null,null,null,null,null,null,null,null,null,null,null,null,null,null,null,null,null,null,null,null,null,null,null,null,null,null,null,null,null,null,null,null,null,null,null,null,null,null,null,null,null,null,null,null,null,null,null,null,null,null,null,null,null,null,null,null,null,null,null,null,null,null,null,null,null,null,null,null,null,null,null,null,null,null,null,null,null,null,null,null,null,null,null,null,null,null,null,null,null,null,null,null,null,null,null,null,null,null,null,null,null,null,null,null,null,null,null,null,null,null,null,null,null,null,null,null,null,null,null,null,null,null,null,null,null,null,null,null,null,null,null,null,null,null,null,null,null,null,null,null,null,null,null,null,null,null,null,null,null,null,null,null,null,null,null,null,null,null,null,null,null,null,null,null,null,null,null,null,null,null,null,null,null,null,null,null,null,null,null,null,null,null,null,null,null,null,null,null,null,null,null,null,null,null,null,null,null,null,null,null,null,null,null,null,null,null,null,null,null,null,null,null,null,null,null,null,null,null,null,null,null,null,null,null,null,null,null,null,null,null,null,null,null,null,null,null,null,null,null,null,null,null,null,null,null,null,null,null,null,null,null,null,null,null,null,null,null,null,null,null,null,null,null,null,null,null,null,null,null,null,null,null,null,null,null,null,null,null,null,null,null,null,null,null,null,null,null,null,null,null,null,null,null,null,null,null,null,null,null,null,null,null,null,null,null,null,null,null,null,null,null,null,null,null,null,null,null,null,null,null,null,null,null,null,null,null,null,null,null,null,null,null,null,null,null,null,null,null,null,null,null,null,null,null,null,null,null,null,null,null,null,null,null,null,null,null,null,null,null,null,null,null,null,null,null,null,null,null,null,null,null,null,null,null,null,null,null,null,null,null,null,null,null,null,null,null,null,null,null,null,null,null,null,null,null,null,null,null,null,null,null,null,null,null,null,null,null,null,null,null,null,null,null,null,null,null,null,null,null,null,null,null,null,null,null,null,null,null,null,null,null,null,null,null,null,null,null,null,null,null,null,null,null,null,null,null,null,null,null,null,null,null,null,null,null,null,null,null,null,null,null,null,null,null,null,null,null,null,null,null,null,null,null,null,null,null,null,null,null,null,null,null,null,null,null,null,null,null,null,null,null,null,null,null,null,null,null,null,null,null,null,null,null,null,null,null,null,null,null,null,null,null,null,null,null,null,null,null,null,null,null,null,null,null,null,null,null,null,null,null,null,null,null,null,null,null,null,null,null,null,null,null,null,null,null,null,null,null,null,null,null,null,null,null,null,null,null,null,null,null,null,null,null,null,null,null,null,null,null,null,null,null,null,null,null,null,null,null,null,null,null,null,null,null,null,null,null,null,null,null,null,null,null,null,null,null,null,null,null,null,null,null,null,null,null,null,null,null,null,null,null,null,null,null,null,null,null,null,null,null,null,null,null,null,null,null,null,null,null,null,null,null,null,null,null,null,null,null,null,null,null,null,null,null,null,null,null,null,null,null,null,null,null,null,null,null,null,null,null,null,null,null,null,null,null,null,null,null,null,null,null,null,null,null,null,null,null,null,null,null,null,null,null,null,null,null,null,null,null,null,null,null,null,null,null,null,null,null,null,null,null,null,null,null,null,null,null,null,null,null,null,null,null,null,null,null,null,null,null,null,null,null,null,null,null,null,null,null,null,null,null,null,null,null,null,null,null,null,null,null,null,null,null,null,null,null,null,null,null,null,null,null,null,null,null,null,null,null,null,null,null,null,null,null,null,null,null,null,null,null,null,null,null,null,null,null,null,null,null,null,null,null,null,null,null,null,null,null,null,null,null,null,null,null,null,null,null,null,null,null,null,null,null,null,null,null,null,null,null,null,null,null,null,null,null,null,null,null,null,null,null,null,null,null,null,null,null,null,null,null,null,null,null,null,null,null,null,null,null,null,null,null,null,null,null,null,null,null,null,null,null,null,null,null,null,null,null,null,null,null,null,null,null,null,null,null,null,null,null,null,null,null,null,null,null,null,null,null,null,null,null,null,null,null,null,null,null,null,null,null,null,null,null,null,null,null,null,null,null,null,null,null,null,null,null,null,null,null,null,null,null,null,null,null,null,null,null,null,null,null,null,null,null,null,null,null,null,null,null,null,null,null,null,null,null,null,null,null,null,null,null,null,null,null,null,null,null,null,null,null,null,null,null,null,null,null,null,null,null,null,null,null,null,null,null,null,null,null,null,null,null,null,null,null,null,null,null,null,null,null,null,null,null,null,null,null,null,null,null,null,null,null,null,null,null,null,null,null,null,null,null,null,null,null,null,null,null,null,null,null,null,null,null,null,null,null,null,null,null,null,null,null,null,null,null,null,null,null,null,null,null,null,null,null,null,null,null,null,null,null,null,null,null,null,null,null,null,null,null,null,null,null,null,null,null,null,null,null,null,null,null,null,null,null,"Partner ID",null,"213800OBCH1GM1HZRQ55"]
[null,null,null,null,null,null,null,null,null,null,null,null,null,null,null,null,null,null,null,null,null,null,null,null,null,null,null,null,null,null,null,null,null,null,null,null,null,null,null,null,null,null,null,null,null,null,null,null,null,null,null,null,null,null,null,null,null,null,null,null,null,null,null,null,null,null,null,null,null,null,null,null,null,null,null,null,null,null,null,null,null,null,null,null,null,null,null,null,null,null,null,null,null,null,null,null,null,null,null,null,null,null,null,null,null,null,null,null,null,null,null,null,null,null,null,null,null,null,null,null,null,null,null,null,null,null,null,null,null,null,null,null,null,null,null,null,null,null,null,null,null,null,null,null,null,null,null,null,null,null,null,null,null,null,null,null,null,null,null,null,null,null,null,null,null,null,null,null,null,null,null,null,null,null,null,null,null,null,null,null,null,null,null,null,null,null,null,null,null,null,null,null,null,null,null,null,null,null,null,null,null,null,null,null,null,null,null,null,null,null,null,null,null,null,null,null,null,null,null,null,null,null,null,null,null,null,null,null,null,null,null,null,null,null,null,null,null,null,null,null,null,null,null,null,null,null,null,null,null,null,null,null,null,null,null,null,null,null,null,null,null,null,null,null,null,null,null,null,null,null,null,null,null,null,null,null,null,null,null,null,null,null,null,null,null,null,null,null,null,null,null,null,null,null,null,null,null,null,null,null,null,null,null,null,null,null,null,null,null,null,null,null,null,null,null,null,null,null,null,null,null,null,null,null,null,null,null,null,null,null,null,null,null,null,null,null,null,null,null,null,null,null,null,null,null,null,null,null,null,null,null,null,null,null,null,null,null,null,null,null,null,null,null,null,null,null,null,null,null,null,null,null,null,null,null,null,null,null,null,null,null,null,null,null,null,null,null,null,null,null,null,null,null,null,null,null,null,null,null,null,null,null,null,null,null,null,null,null,null,null,null,null,null,null,null,null,null,null,null,null,null,null,null,null,null,null,null,null,null,null,null,null,null,null,null,null,null,null,null,null,null,null,null,null,null,null,null,null,null,null,null,null,null,null,null,null,null,null,null,null,null,null,null,null,null,null,null,null,null,null,null,null,null,null,null,null,null,null,null,null,null,null,null,null,null,null,null,null,null,null,null,null,null,null,null,null,null,null,null,null,null,null,null,null,null,null,null,null,null,null,null,null,null,null,null,null,null,null,null,null,null,null,null,null,null,null,null,null,null,null,null,null,null,null,null,null,null,null,null,null,null,null,null,null,null,null,null,null,null,null,null,null,null,null,null,null,null,null,null,null,null,null,null,null,null,null,null,null,null,null,null,null,null,null,null,null,null,null,null,null,null,null,null,null,null,null,null,null,null,null,null,null,null,null,null,null,null,null,null,null,null,null,null,null,null,null,null,null,null,null,null,null,null,null,null,null,null,null,null,null,null,null,null,null,null,null,null,null,null,null,null,null,null,null,null,null,null,null,null,null,null,null,null,null,null,null,null,null,null,null,null,null,null,null,null,null,null,null,null,null,null,null,null,null,null,null,null,null,null,null,null,null,null,null,null,null,null,null,null,null,null,null,null,null,null,null,null,null,null,null,null,null,null,null,null,null,null,null,null,null,null,null,null,null,null,null,null,null,null,null,null,null,null,null,null,null,null,null,null,null,null,null,null,null,null,null,null,null,null,null,null,null,null,null,null,null,null,null,null,null,null,null,null,null,null,null,null,null,null,null,null,null,null,null,null,null,null,null,null,null,null,null,null,null,null,null,null,null,null,null,null,null,null,null,null,null,null,null,null,null,null,null,null,null,null,null,null,null,null,null,null,null,null,null,null,null,null,null,null,null,null,null,null,null,null,null,null,null,null,null,null,null,null,null,null,null,null,null,null,null,null,null,null,null,null,null,null,null,null,null,null,null,null,null,null,null,null,null,null,null,null,null,null,null,null,null,null,null,null,null,null,null,null,null,null,null,null,null,null,null,null,null,null,null,null,null,null,null,null,null,null,null,null,null,null,null,null,null,null,null,null,null,null,null,null,null,null,null,null,null,null,null,null,null,null,null,null,null,null,null,null,null,null,null,null,null,null,null,null,null,null,null,null,null,null,null,null,null,null,null,null,null,null,null,null,null,null,null,null,null,null,null,null,null,null,null,null,null,null,null,null,null,null,null,null,null,null,null,null,null,null,null,null,null,null,null,null,null,null,null,null,null,null,null,null,null,null,null,null,null,null,null,null,null,null,null,null,null,null,null,null,null,null,null,null,null,null,null,null,null,null,null,null,null,null,null,null,null,null,null,null,null,null,null,null,null,null,null,null,null,null,null,null,null,null,null,null,null,null,null,null,null,null,null,null,null,null,null,null,null,null,null,null,null,null,null,null,null,null,null,null,null,null,null,null,null,null,null,null,null,null,null,null,null,null,null,null,null,null,null,null,null,null,null,null,null,null,null,null,null,null,null,null,null,null,null,null,null,null,null,null,null,null,null,null,null,null,null,null,null,null,null,null,null,null,null,null,null,null,null,null,null,null,null,null,null,null,null,null,null,null,null,null,null,null,null,null,null,null,null,null,null,null,null,null,null,null,null,null,null,null,null,null,null,null,null,null,null,null,null,null,null,null,null,null,null,null,null,null,null,null,null,null,null,null,null,null,null,null,null,null,null,null,null,null,null,null,null,null,null,null,null,null,null,null,null,null,null,null,null,null,null,null,null,null,null,null,null,null,null,null,null,null,null,null,null,null,null,null,null,null,null,null,null,null,null,null,null,null,null,null,null,null,null,null,null,null,null,null,null,null,null,null,null,null,null,null,null,null,null,null,null,null,null,null,null,null,null,null,null,null,null,null,null,null,null,null,null,null,null,null,null,null,null,null,null,null,null,null,null,null,null,null,null,null,null,null,null,null,null,null,null,null,null,null,null,null,null,null,null,null,null,null,null,null,null,null,null,null,null,null,null,null,null,null,null,null,null,null,null,null,null,null,null,null,null,null,null,null,null,null,null,null,null,null,null,null,null,null,null,null,null,null,null,null,null,null,null,null,null,null,null,null,null,null,null,null,null,null,null,null,null,null,null,null,null,null,null,null,null,null,null,null,null,null,null,null,null,null,null,null,null,null,null,null,null,null,null,null,null,null,null,null,null,null,null,null,null,null,null,null,null,null,null,null,null,null,null,null,null,null,null,null,null,null,null,null,null,null,null,null,null,null,null,null,null,null,null,null,null,null,null,null,null,null,null,null,null,null,null,null,null,null,null,null,null,null,null,null,null,null,null,null,null,null,null,null,null,null,null,null,null,null,null,null,null,null,null,null,null,null,null,null,null,null,null,null,null,null,null,null,null,null,null,null,null,null,null,null,null,null,null,null,null,null,null,null,null,null,null,null,null,null,null,null,null,null,null,null,null,null,null,null,null,null,null,null,null,null,null,null,null,null,null,null,null,null,null,null,null,null,null,null,null,null,null,null,null,null,null,null,null,null,null,null,null,null,null,null,null,null,null,null,null,null,null,null,null,null,null,null,null,null,null,null,null,null,null,null,null,null,null,null,null,null,null,null,null,null,null,null,null,null,null,null,null,null,null,null,null,null,null,null,null,null,null,null,null,null,null,null,null,null,null,null,null,null,null,null,null,null,null,null,null,null,null,null,null,null,null,null,null,null,null,null,null,null,null,null,null,null,null,null,null,null,null,null,null,null,null,null,null,null,null,null,null,null,null,null,null,null,null,null,null,null,null,null,null,null,null,null,null,null,null,null,null,null,null,null,null,null,null,null,null,null,null,null,null,null,null,null,null,null,null,null,null,null,null,null,null,null,null,null,null,null,null,null,null,null,null,null,null,null,null,null,null,null,null,null,null,null,null,null,null,null,null,null,null,null,null,null,null,null,null,null,null,null,null,null,null,null,null,null,null,null,null,null,null,null,null,null,null,null,null,null,null,null,null,null,null,null,null,null,null,null,null,null,null,null,null,null,null,null,null,null,null,null,null,null,null,null,null,null,null,null,null,null,null,null,null,null,null,null,null,null,null,null,null,null,null,null,null,null,null,null,null,null,null,null,null,null,null,null,null,null,null,null,null,null,null,null,null,null,null,null,null,null,null,null,null,null,null,null,null,null,null,null,null,null,null,null,null,null,null,null,null,null,null,null,null,null,null,null,null,null,null,null,null,null,null,null,null,null,null,null,null,null,null,null,null,null,null,null,null,null,null,null,null,null,null,null,null,null,null,null,null,null,null,null,null,null,null,null,null,null,null,null,null,null,null,null,null,null,null,null,null,null,null,null,null,null,null,null,null,null,null,null,null,null,null,null,null,null,null,null,null,null,null,null,null,null,null,null,null,null,null,null,null,null,null,null,null,null,null,null,null,null,null,null,null,null,null,null,null,null,null,null,null,null,null,null,null,null,null,null,null,null,null,null,null,null,null,null,null,null,null,null,null,null,null,null,null,null,null,null,null,null,null,null,null,null,null,null,null,null,null,null,null,null,null,null,null,null,null,null,null,null,null,null,null,null,null,null,null,null,null,null,null,null,null,null,null,null,null,null,null,null,null,null,null,null,null,null,null,null,null,null,null,null,null,null,null,null,null,null,null,null,null,null,null,null,null,null,null,null,null,null,null,null,null,null,null,null,null,null,null,null,null,null,null,null,null,null,null,null,null,null,null,null,null,null,null,null,null,null,null,null,null,null,null,null,null,null,null,null,null,null,null,null,null,null,null,null,null,null,null,null,null,null,null,null,null,null,null,null,null,null,null,null,null,null,null,null,null,null,null,null,null,null,null,null,null,null,null,null,null,null,null,null,null,null,null,null,null,null,null,null,null,null,null,null,null,null,null,null,null,null,null,null,null,null,null,null,null,null,null,null,null,null,null,null,null,null,null,null,null,null,null,null,null,null,null,null,null,null,null,null,null,null,null,null,null,null,null,null,null,null,null,null,null,null,null,null,null,null,null,null,null,null,null,null,null,null,null,null,null,null,null,null,null,null,null,null,null,null,null,null,null,null,null,null,null,null,null,null,null,null,null,null,null,null,null,null,null,null,null,null,null,null,null,null,null,null,null,null,null,null,null,null,null,null,null,null,null,null,null,null,null,null,null,null,null,null,null,null,null,null,null,null,null,null,null,null,null,null,null,null,null,null,null,null,null,null,null,null,null,null,null,null,null,null,null,null,null,null,null,null,null,null,null,null,null,null,null,null,null,null,null,null,null,null,null,null,null,null,null,null,null,null,null,null,null,null,null,null,null,null,null,null,null,null,null,null,null,null,null,null,null,null,null,null,null,null,null,null,null,null,null,null,null,null,null,null,null,null,null,null,null,null,null,null,null,null,null,null,null,null,null,null,null,null,null,null,null,null,null,null,null,null,null,null,null,null,null,null,null,null,null,null,null,null,null,null,null,null,null,null,null,null,null,null,null,null,null,null,null,null,null,null,null,null,null,null,null,null,null,null,null,null,null,null,null,null,null,null,null,null,null,null,null,null,null,null,null,null,null,null,null,null,null,null,null,null,null,null,null,null,null,null,null,null,null,null,null,null,null,null,null,null,null,null,null,null,null,null,null,null,null,null,null,null,null,null,null,null,null,null,null,null,null,null,null,null,null,null,null,null,null,null,null,null,null,null,null,null,null,null,null,null,null,null,null,null,null,null,null,null,null,null,null,null,null,null,null,null,null,null,null,null,null,null,null,null,null,null,null,null,null,null,null,null,null,null,null,null,null,null,null,null,null,null,null,null,null,null,null,null,null,null,null,null,null,null,null,null,null,null,null,null,null,null,null,null,null,null,null,null,null,null,null,null,null,null,null,null,null,null,null,null,null,null,null,null,null,null,null,null,null,null,null,null,null,null,null,null,null,null,null,null,null,null,null,null,null,null,null,null,null,null,null,null,null,null,null,null,null,null,null,null,null,null,null,null,null,null,null,null,null,null,null,null,null,null,null,null,null,null,null,null,null,null,null,null,null,null,null,null,null,null,null,null,null,null,null,null,null,null,null,null,null,null,null,null,null,null,null,null,null,null,null,null,null,null,null,null,null,null,null,null,null,null,null,null,null,null,null,null,null,null,null,null,null,null,null,null,null,null,null,null,null,null,null,null,null,null,null,null,null,null,null,null,null,null,null,null,null,null,null,null,null,null,null,null,null,null,null,null,null,null,null,null,null,null,null,null,null,null,null,null,null,null,null,null,null,null,null,null,null,null,null,null,null,null,null,null,null,null,null,null,null,null,null,null,null,null,null,null,null,null,null,null,null,null,null,null,null,null,null,null,null,null,null,null,null,null,null,null,null,null,null,null,null,null,null,null,null,null,null,null,null,null,null,null,null,null,null,null,null,null,null,null,null,null,null,null,null,null,null,null,null,null,null,null,null,null,null,null,null,null,null,null,null,null,null,null,null,null,null,null,null,null,null,null,null,null,null,null,null,null,null,null,null,null,null,null,null,null,null,null,null,null,null,null,null,null,null,null,null,null,null,null,null,null,null,null,null,null,null,null,null,null,null,null,null,null,null,null,null,null,null,null,null,null,null,null,null,null,null,null,null,null,null,null,null,null,null,null,null,null,null,null,null,null,null,null,null,null,null,null,null,null,null,null,null,null,null,null,null,null,null,null,null,null,null,null,null,null,null,null,null,null,null,null,null,null,null,null,null,null,null,null,null,null,null,null,null,null,null,null,null,null,null,null,null,null,null,null,null,null,null,null,null,null,null,null,null,null,null,null,null,null,null,null,null,null,null,null,null,null,null,null,null,null,null,null,null,null,null,null,null,null,null,null,null,null,null,null,null,null,null,null,null,null,null,null,null,null,null,null,null,null,null,null,null,null,null,null,null,null,null,null,null,null,null,null,null,null,null,null,null,null,null,null,null,null,null,null,null,null,null,null,null,null,null,null,null,null,null,null,null,null,null,null,null,null,null,null,null,null,null,null,null,null,null,null,null,null,null,null,null,null,null,null,null,null,null,null,null,null,null,null,null,null,null,null,null,null,null,null,null,null,null,null,null,null,null,null,null,null,null,null,null,null,null,null,null,null,null,null,null,null,null,null,null,null,null,null,null,null,null,null,null,null,null,null,null,null,null,null,null,null,null,null,null,null,null,null,null,null,null,null,null,null,null,null,null,null,null,null,null,null,null,null,null,null,null,null,null,null,null,null,null,null,null,null,null,null,null,null,null,null,null,null,null,null,null,null,null,null,null,null,null,null,null,null,null,null,null,null,null,null,null,null,null,null,null,null,null,null,null,null,null,null,null,null,null,null,null,null,null,null,null,null,null,null,null,null,null,null,null,null,null,null,null,null,null,null,null,null,null,null,null,null,null,null,null,null,null,null,null,null,null,null,null,null,null,null,null,null,null,null,null,null,null,null,null,null,null,null,null,null,null,null,null,null,null,null,null,null,null,null,null,null,null,null,null,null,null,null,null,null,null,null,null,null,null,null,null,null,null,null,null,null,null,null,null,null,null,null,null,null,null,null,null,null,null,null,null,null,null,null,null,null,null,null,null,null,null,null,null,null,null,null,null,null,null,null,null,null,null,null,null,null,null,null,null,null,null,null,null,null,null,null,null,null,null,null,null,null,null,null,null,null,null,null,null,null,null,null,null,null,null,null,null,null,null,null,null,null,null,null,null,null,null,null,null,null,null,null,null,null,null,null,null,null,null,null,null,null,null,null,null,null,null,null,null,null,null,null,null,null,null,null,null,null,null,null,null,null,null,null,null,null,null,null,null,null,null,null,null,null,null,null,null,null,null,null,null,null,null,null,null,null,null,null,null,null,null,null,null,null,null,null,null,null,null,null,null,null,null,null,null,null,null,null,null,null,null,null,null,null,null,null,null,null,null,null,null,null,null,null,null,null,null,null,null,null,null,null,null,null,null,null,null,null,null,null,null,null,null,null,null,null,null,null,null,null,null,null,null,null,null,null,null,null,null,null,null,null,null,null,null,null,null,null,null,null,null,null,null,null,null,null,null,null,null,null,null,null,null,null,null,null,null,null,null,null,null,null,null,null,null,null,null,null,null,null,null,null,null,null,null,null,null,null,null,null,null,null,null,null,null,null,null,null,null,null,null,null,null,null,null,null,null,null,null,null,null,null,null,null,null,null,null,null,null,null,null,null,null,null,null,null,null,null,null,null,null,null,null,null,null,null,null,null,null,null,null,null,null,null,null,null,null,null,null,null,null,null,null,null,null,null,null,null,null,null,null,null,null,null,null,null,null,null,null,null,null,null,null,null,null,null,null,null,null,null,null,null,null,null,null,null,null,null,null,null,null,null,null,null,null,null,null,null,null,null,null,null,null,null,null,null,null,null,null,null,null,null,null,null,null,null,null,null,null,null,null,null,null,null,null,null,null,null,null,null,null,null,null,null,null,null,null,null,null,null,null,null,null,null,null,null,null,null,null,null,null,null,null,null,null,null,null,null,null,null,null,null,null,null,null,null,null,null,null,null,null,null,null,null,null,null,null,null,null,null,null,null,null,null,null,null,null,null,null,null,null,null,null,null,null,null,null,null,null,null,null,null,null,null,null,null,null,null,null,null,null,null,null,null,null,null,null,null,null,null,null,null,null,null,null,null,null,null,null,null,null,null,null,null,null,null,null,null,null,null,null,null,null,null,null,null,null,null,null,null,null,null,null,null,null,null,null,null,null,null,null,null,null,null,null,null,null,null,null,null,null,null,null,null,null,null,null,null,null,null,null,null,null,null,null,null,null,null,null,null,null,null,null,null,null,null,null,null,null,null,null,null,null,null,null,null,null,null,null,null,null,null,null,null,null,null,null,null,null,null,null,null,null,null,null,null,null,null,null,null,null,null,null,null,null,null,null,null,null,null,null,null,null,null,null,null,null,null,null,null,null,null,null,null,null,null,null,null,null,null,null,null,null,null,null,null,null,null,null,null,null,null,null,null,null,null,null,null,null,null,null,null,null,null,null,null,null,null,null,null,null,null,null,null,null,null,null,null,null,null,null,null,null,null,null,null,null,null,null,null,null,null,null,null,null,null,null,null,null,null,null,null,null,null,null,null,null,null,null,null,null,null,null,null,null,null,null,null,null,null,null,null,null,null,null,null,null,null,null,null,null,null,null,null,null,null,null,null,null,null,null,null,null,null,null,null,null,null,null,null,null,null,null,null,null,null,null,null,null,null,null,null,null,null,null,null,null,null,null,null,null,null,null,null,null,null,null,null,null,null,null,null,null,null,null,null,null,null,null,null,null,null,null,null,null,null,null,null,null,null,null,null,null,null,null,null,null,null,null,null,null,null,null,null,null,null,null,null,null,null,null,null,null,null,null,null,null,null,null,null,null,null,null,null,null,null,null,null,null,null,null,null,null,null,null,null,null,null,null,null,null,null,null,null,null,null,null,null,null,null,null,null,null,null,null,null,null,null,null,null,null,null,null,null,null,null,null,null,null,null,null,null,null,null,null,null,null,null,null,null,null,null,null,null,null,null,null,null,null,null,null,null,null,null,null,null,null,null,null,null,null,null,null,null,null,null,null,null,null,null,null,null,null,null,null,null,null,null,null,null,null,null,null,null,null,null,null,null,null,null,null,null,null,null,null,null,null,null,null,null,null,null,null,null,null,null,null,null,null,null,null,null,null,null,null,null,null,null,null,null,null,null,null,null,null,null,null,null,null,null,null,null,null,null,null,null,null,null,null,null,null,null,null,null,null,null,null,null,null,null,null,null,null,null,null,null,null,null,null,null,null,null,null,null,null,null,null,null,null,null,null,null,null,null,null,null,null,null,null,null,null,null,null,null,null,null,null,null,null,null,null,null,null,null,null,null,null,null,null,null,null,null,null,null,null,null,null,null,null,null,null,null,null,null,null,null,null,null,null,null,null,null,null,null,null,null,null,null,null,null,null,null,null,null,null,null,null,null,null,null,null,null,null,null,null,null,null,null,null,null,null,null,null,null,null,null,null,null,null,null,null,null,null,null,null,null,null,null,null,null,null,null,null,null,null,null,null,null,null,null,null,null,null,null,null,null,null,null,null,null,null,null,null,null,null,null,null,null,null,null,null,null,null,null,null,null,null,null,null,null,null,null,null,null,null,null,null,null,null,null,null,null,null,null,null,null,null,null,null,null,null,null,null,null,null,null,null,null,null,null,null,null,null,null,null,null,null,null,null,null,null,null,null,null,null,null,null,null,null,null,null,null,null,null,null,null,null,null,null,null,null,null,null,null,null,null,null,null,null,null,null,null,null,null,null,null,null,null,null,null,null,null,null,null,null,null,null,null,null,null,null,null,null,null,null,null,null,null,null,null,null,null,null,null,null,null,null,null,null,null,null,null,null,null,null,null,null,null,null,null,null,null,null,null,null,null,null,null,null,null,null,null,null,null,null,null,null,null,null,null,null,null,null,null,null,null,null,null,null,null,null,null,null,null,null,null,null,null,null,null,null,null,null,null,null,null,null,null,null,null,null,null,null,null,null,null,null,null,null,null,null,null,null,null,null,null,null,null,null,null,null,null,null,null,null,null,null,null,null,null,null,null,null,null,null,null,null,null,null,null,null,null,null,null,null,null,null,null,null,null,null,null,null,null,null,null,null,null,null,null,null,null,null,null,null,null,null,null,null,null,null,null,null,null,null,null,null,null,null,null,null,null,null,null,null,null,null,null,null,null,null,null,null,null,null,null,null,null,null,null,null,null,null,null,null,null,null,null,null,null,null,null,null,null,null,null,null,null,null,null,null,null,null,null,null,null,null,null,null,null,null,null,null,null,null,null,null,null,null,null,null,null,null,null,null,null,null,null,null,null,null,null,null,null,null,null,null,null,null,null,null,null,null,null,null,null,null,null,null,null,null,null,null,null,null,null,null,null,null,null,null,null,null,null,null,null,null,null,null,null,null,null,null,null,null,null,null,null,null,null,null,null,null,null,null,null,null,null,null,null,null,null,null,null,null,null,null,null,null,null,null,null,null,null,null,null,null,null,null,null,null,null,null,null,null,null,null,null,null,null,null,null,null,null,null,null,null,null,null,null,null,null,null,null,null,null,null,null,null,null,null,null,null,null,null,null,null,null,null,null,null,null,null,null,null,null,null,null,null,null,null,null,null,null,null,null,null,null,null,null,null,null,null,null,null,null,null,null,null,null,null,null,null,null,null,null,null,null,null,null,null,null,null,null,null,null,null,null,null,null,null,null,null,null,null,null,null,null,null,null,null,null,null,null,null,null,null,null,null,null,null,null,null,null,null,null,null,null,null,null,null,null,null,null,null,null,null,null,null,null,null,null,null,null,null,null,null,null,null,null,null,null,null,null,null,null,null,null,null,null,null,null,null,null,null,null,null,null,null,null,null,null,null,null,null,null,null,null,null,null,null,null,null,null,null,null,null,null,null,null,null,null,null,null,null,null,null,null,null,null,null,null,null,null,null,null,null,null,null,null,null,null,null,null,null,null,null,null,null,null,null,null,null,null,null,null,null,null,null,null,null,null,null,null,null,null,null,null,null,null,null,null,null,null,null,null,null,null,null,null,null,null,null,null,null,null,null,null,null,null,null,null,null,null,null,null,null,null,null,null,null,null,null,null,null,null,null,null,null,null,null,null,null,null,null,null,null,null,null,null,null,null,null,null,null,null,null,null,null,null,null,null,null,null,null,null,null,null,null,null,null,null,null,null,null,null,null,null,null,null,null,null,null,null,null,null,null,null,null,null,null,null,null,null,null,null,null,null,null,null,null,null,null,null,null,null,null,null,null,null,null,null,null,null,null,null,null,null,null,null,null,null,null,null,null,null,null,null,null,null,null,null,null,null,null,null,null,null,null,null,null,null,null,null,null,null,null,null,null,null,null,null,null,null,null,null,null,null,null,null,null,null,null,null,null,null,null,null,null,null,null,null,null,null,null,null,null,null,null,null,null,null,null,null,null,null,null,null,null,null,null,null,null,null,null,null,null,null,null,null,null,null,null,null,null,null,null,null,null,null,null,null,null,null,null,null,null,null,null,null,null,null,null,null,null,null,null,null,null,null,null,null,null,null,null,null,null,null,null,null,null,null,null,null,null,null,null,null,null,null,null,null,null,null,null,null,null,null,null,null,null,null,null,null,null,null,null,null,null,null,null,null,null,null,null,null,null,null,null,null,null,null,null,null,null,null,null,null,null,null,null,null,null,null,null,null,null,null,null,null,null,null,null,null,null,null,null,null,null,null,null,null,null,null,null,null,null,null,null,null,null,null,null,null,null,null,null,null,null,null,null,null,null,null,null,null,null,null,null,null,null,null,null,null,null,null,null,null,null,null,null,null,null,null,null,null,null,null,null,null,null,null,null,null,null,null,null,null,null,null,null,null,null,null,null,null,null,null,null,null,null,null,null,null,null,null,null,null,null,null,null,null,null,null,null,null,null,null,null,null,null,null,null,null,null,null,null,null,null,null,null,null,null,null,null,null,null,null,null,null,null,null,null,null,null,null,null,null,null,null,null,null,null,null,null,null,null,null,null,null,null,null,null,null,null,null,null,null,null,null,null,null,null,null,null,null,null,null,null,null,null,null,null,null,null,null,null,null,null,null,null,null,null,null,null,null,null,null,null,null,null,null,null,null,null,null,null,null,null,null,null,null,null,null,null,null,null,null,null,null,null,null,null,null,null,null,null,null,null,null,null,null,null,null,null,null,null,null,null,null,null,null,null,null,null,null,null,null,null,null,null,null,null,null,null,null,null,null,null,null,null,null,null,null,null,null,null,null,null,null,null,null,null,null,null,null,null,null,null,null,null,null,null,null,null,null,null,null,null,null,null,null,null,null,null,null,null,null,null,null,null,null,null,null,null,null,null,null,null,null,null,null,null,null,null,null,null,null,null,null,null,null,null,null,null,null,null,null,null,null,null,null,null,null,null,null,null,null,null,null,null,null,null,null,null,null,null,null,null,null,null,null,null,null,null,null,null,null,null,null,null,null,null,null,null,null,null,null,null,null,null,null,null,null,null,null,null,null,null,null,null,null,null,null,null,null,null,null,null,null,null,null,null,null,null,null,null,null,null,null,null,null,null,null,null,null,null,null,null,null,null,null,null,null,null,null,null,null,null,null,null,null,null,null,null,null,null,null,null,null,null,null,null,null,null,null,null,null,null,null,null,null,null,null,null,null,null,null,null,null,null,null,null,null,null,null,null,null,null,null,null,null,null,null,null,null,null,null,null,null,null,null,null,null,null,null,null,null,null,null,null,null,null,null,null,null,null,null,null,null,null,null,null,null,null,null,null,null,null,null,null,null,null,null,null,null,null,null,null,null,null,null,null,null,null,null,null,null,null,null,null,null,null,null,null,null,null,null,null,null,null,null,null,null,null,null,null,null,null,null,null,null,null,null,null,null,null,null,null,null,null,null,null,null,null,null,null,null,null,null,null,null,null,null,null,null,null,null,null,null,null,null,null,null,null,null,null,null,null,null,null,null,null,null,null,null,null,null,null,null,null,null,null,null,null,null,null,null,null,null,null,null,null,null,null,null,null,null,null,null,null,null,null,null,null,null,null,null,null,null,null,null,null,null,null,null,null,null,null,null,null,null,null,null,null,null,null,null,null,null,null,null,null,null,null,null,null,null,null,null,null,null,null,null,null,null,null,null,null,null,null,null,null,null,null,null,null,null,null,null,null,null,null,null,null,null,null,null,null,null,null,null,null,null,null,null,null,null,null,null,null,null,null,null,null,null,null,null,null,null,null,null,null,null,null,null,null,null,null,null,null,null,null,null,null,null,null,null,null,null,null,null,null,null,null,null,null,null,null,null,null,null,null,null,null,null,null,null,null,null,null,null,null,null,null,null,null,null,null,null,null,null,null,null,null,null,null,null,null,null,null,null,null,null,null,null,null,null,null,null,null,null,null,null,null,null,null,null,null,null,null,null,null,null,null,null,null,null,null,null,null,null,null,null,null,null,null,null,null,null,null,null,null,null,null,null,null,null,null,null,null,null,null,null,null,null,null,null,null,null,null,null,null,null,null,null,null,null,null,null,null,null,null,null,null,null,null,null,null,null,null,null,null,null,null,null,null,null,null,null,null,null,null,null,null,null,null,null,null,null,null,null,null,null,null,null,null,null,null,null,null,null,null,null,null,null,null,null,null,null,null,null,null,null,null,null,null,null,null,null,null,null,null,null,null,null,null,null,null,null,null,null,null,null,null,null,null,null,null,null,null,null,null,null,null,null,null,null,null,null,null,null,null,null,null,null,null,null,null,null,null,null,null,null,null,null,null,null,null,null,null,null,null,null,null,null,null,null,null,null,null,null,null,null,null,null,null,null,null,null,null,null,null,null,null,null,null,null,null,null,null,null,null,null,null,null,null,null,null,null,null,null,null,null,null,null,null,null,null,null,null,null,null,null,null,null,null,null,null,null,null,null,null,null,null,null,null,null,null,null,null,null,null,null,null,null,null,null,null,null,null,null,null,null,null,null,null,null,null,null,null,null,null,null,null,null,null,null,null,null,null,null,null,null,null,null,null,null,null,null,null,null,null,null,null,null,null,null,null,null,null,null,null,null,null,null,null,null,null,null,null,null,null,null,null,null,null,null,null,null,null,null,null,null,null,null,null,null,null,null,null,null,null,null,null,null,null,null,null,null,null,null,null,null,null,null,null,null,null,null,null,null,null,null,null,null,null,null,null,null,null,null,null,null,null,null,null,null,null,null,null,null,null,null,null,null,null,null,null,null,null,null,null,null,null,null,null,null,null,null,null,null,null,null,null,null,null,null,null,null,null,null,null,null,null,null,null,null,null,null,null,null,null,null,null,null,null,null,null,null,null,null,null,null,null,null,null,null,null,null,null,null,null,null,null,null,null,null,null,null,null,null,null,null,null,null,null,null,null,null,null,null,null,null,null,null,null,null,null,null,null,null,null,null,null,null,null,null,null,null,null,null,null,null,null,null,null,null,null,null,null,null,null,null,null,null,null,null,null,null,null,null,null,null,null,null,null,null,null,null,null,null,null,null,null,null,null,null,null,null,null,null,null,null,null,null,null,null,null,null,null,null,null,null,null,null,null,null,null,null,null,null,null,null,null,null,null,null,null,null,null,null,null,null,null,null,null,null,null,null,null,null,null,null,null,null,null,null,null,null,null,null,null,null,null,null,null,null,null,null,null,null,null,null,null,null,null,null,null,null,null,null,null,null,null,null,null,null,null,null,null,null,null,null,null,null,null,null,null,null,null,null,null,null,null,null,null,null,null,null,null,null,null,null,null,null,null,null,null,null,null,null,null,null,null,null,null,null,null,null,null,null,null,null,null,null,null,null,null,null,null,null,null,null,null,null,null,null,null,null,null,null,null,null,null,null,null,null,null,null,null,null,null,null,null,null,null,null,null,null,null,null,null,null,null,null,null,null,null,null,null,null,null,null,null,null,null,null,null,null,null,null,null,null,null,null,null,null,null,null,null,null,null,null,null,null,null,null,null,null,null,null,null,null,null,null,null,null,null,null,null,null,null,null,null,null,null,null,null,null,null,null,null,null,null,null,null,null,null,null,null,null,null,null,null,null,null,null,null,null,null,null,null,null,null,null,null,null,null,null,null,null,null,null,null,null,null,null,null,null,null,null,null,null,null,null,null,null,null,null,null,null,null,null,null,null,null,null,null,null,null,null,null,null,null,null,null,null,null,null,null,null,null,null,null,null,null,null,null,null,null,null,null,null,null,null,null,null,null,null,null,null,null,null,null,null,null,null,null,null,null,null,null,null,null,null,null,null,null,null,null,null,null,null,null,null,null,null,null,null,null,null,null,null,null,null,null,null,null,null,null,null,null,null,null,null,null,null,null,null,null,null,null,null,null,null,null,null,null,null,null,null,null,null,null,null,null,null,null,null,null,null,null,null,null,null,null,null,null,null,null,null,null,null,null,null,null,null,null,null,null,null,null,null,null,null,null,null,null,null,null,null,null,null,null,null,null,null,null,null,null,null,null,null,null,null,null,null,null,null,null,null,null,null,null,null,null,null,null,null,null,null,null,null,null,null,null,null,null,null,null,null,null,null,null,null,null,null,null,null,null,null,null,null,null,null,null,null,null,null,null,null,null,null,null,null,null,null,null,null,null,null,null,null,null,null,null,null,null,null,null,null,null,null,null,null,null,null,null,null,null,null,null,null,null,null,null,null,null,null,null,null,null,null,null,null,null,null,null,null,null,null,null,null,null,null,null,null,null,null,null,null,null,null,null,null,null,null,null,null,null,null,null,null,null,null,null,null,null,null,null,null,null,null,null,null,null,null,null,null,null,null,null,null,null,null,null,null,null,null,null,null,null,null,null,null,null,null,null,null,null,null,null,null,null,null,null,null,null,null,null,null,null,null,null,null,null,null,null,null,null,null,null,null,null,null,null,null,null,null,null,null,null,null,null,null,null,null,null,null,null,null,null,null,null,null,null,null,null,null,null,null,null,null,null,null,null,null,null,null,null,null,null,null,null,null,null,null,null,null,null,null,null,null,null,null,null,null,null,null,null,null,null,null,null,null,null,null,null,null,null,null,null,null,null,null,null,null,null,null,null,null,null,null,null,null,null,null,null,null,null,null,null,null,null,null,null,null,null,null,null,null,null,null,null,null,null,null,null,null,null,null,null,null,null,null,null,null,null,null,null,null,null,null,null,null,null,null,null,null,null,null,null,null,null,null,null,null,null,null,null,null,null,null,null,null,null,null,null,null,null,null,null,null,null,null,null,null,null,null,null,null,null,null,null,null,null,null,null,null,null,null,null,null,null,null,null,null,null,null,null,null,null,null,null,null,null,null,null,null,null,null,null,null,null,null,null,null,null,null,null,null,null,null,null,null,null,null,null,null,null,null,null,null,null,null,null,null,null,null,null,null,null,null,null,null,null,null,null,null,null,null,null,null,null,null,null,null,null,null,null,null,null,null,null,null,null,null,null,null,null,null,null,null,null,null,null,null,null,null,null,null,null,null,null,null,null,null,null,null,null,null,null,null,null,null,null,null,null,null,null,null,null,null,null,null,null,null,null,null,null,null,null,null,null,null,null,null,null,null,null,null,null,null,null,null,null,null,null,null,null,null,null,null,null,null,null,null,null,null,null,null,null,null,null,null,null,null,null,null,null,null,null,null,null,null,null,null,null,null,null,null,null,null,null,null,null,null,null,null,null,null,null,null,null,null,null,null,null,null,null,null,null,null,null,null,null,null,null,null,null,null,null,null,null,null,null,null,null,null,null,null,null,null,null,null,null,null,null,null,null,null,null,null,null,null,null,null,null,null,null,null,null,null,null,null,null,null,null,null,null,null,null,null,null,null,null,null,null,null,null,null,null,null,null,null,null,null,null,null,null,null,null,null,null,null,null,null,null,null,null,null,null,null,null,null,null,null,null,null,null,null,null,null,null,null,null,null,null,null,null,null,null,null,null,null,null,null,null,null,null,null,null,null,null,null,null,null,null,null,null,null,null,null,null,null,null,null,null,null,null,null,null,null,null,null,null,null,null,null,null,null,null,null,null,null,null,null,null,null,null,null,null,null,null,null,null,null,null,null,null,null,null,null,null,null,null,null,null,null,null,null,null,null,null,null,null,null,null,null,null,null,null,null,null,null,null,null,null,null,null,null,null,null,null,null,null,null,null,null,null,null,null,null,null,null,null,null,null,null,null,null,null,null,null,null,null,null,null,null,null,null,null,null,null,null,null,null,null,null,null,null,null,null,null,null,null,null,null,null,null,null,null,null,null,null,null,null,null,null,null,null,null,null,null,null,null,null,null,null,null,null,null,null,null,null,null,null,null,null,null,null,null,null,null,null,null,null,null,null,null,null,null,null,null,null,null,null,null,null,null,null,null,null,null,null,null,null,null,null,null,null,null,null,null,null,null,null,null,null,null,null,null,null,null,null,null,null,null,null,null,null,null,null,null,null,null,null,null,null,null,null,null,null,null,null,null,null,null,null,null,null,null,null,null,null,null,null,null,null,null,null,null,null,null,null,null,null,null,null,null,null,null,null,null,null,null,null,null,null,null,null,null,null,null,null,null,null,null,null,null,null,null,null,null,null,null,null,null,null,null,null,null,null,null,null,null,null,null,null,null,null,null,null,null,null,null,null,null,null,null,null,null,null,null,null,null,null,null,null,null,null,null,null,null,null,null,null,null,null,null,null,null,null,null,null,null,null,null,null,null,null,null,null,null,null,null,null,null,null,null,null,null,null,null,null,null,null,null,null,null,null,null,null,null,null,null,null,null,null,null,null,null,null,null,null,null,null,null,null,null,null,null,null,null,null,null,null,null,null,null,null,null,null,null,null,null,null,null,null,null,null,null,null,null,null,null,null,null,null,null,null,null,null,null,null,null,null,null,null,null,null,null,null,null,null,null,null,null,null,null,null,null,null,null,null,null,null,null,null,null,null,null,null,null,null,null,null,null,null,null,null,null,null,null,null,null,null,null,null,null,null,null,null,null,null,null,null,null,null,null,null,null,null,null,null,null,null,null,null,null,null,null,null,null,null,null,null,null,null,null,null,null,null,null,null,null,null,null,null,null,null,null,null,null,null,null,null,null,null,null,null,null,null,null,null,null,null,null,null,null,null,null,null,null,null,null,null,null,null,null,null,null,null,null,null,null,null,null,null,null,null,null,null,null,null,null,null,null,null,null,null,null,null,null,null,null,null,null,null,null,null,null,null,null,null,null,null,null,null,null,null,null,null,null,null,null,null,null,null,null,null,null,null,null,null,null,null,null,null,null,null,null,null,null,null,null,null,null,null,null,null,null,null,null,null,null,null,null,null,null,null,null,null,null,null,null,null,null,null,null,null,null,null,null,null,null,null,null,null,null,null,null,null,null,null,null,null,null,null,null,null,null,null,null,null,null,null,null,null,null,null,null,null,null,null,null,null,null,null,null,null,null,null,null,null,null,null,null,null,null,null,null,null,null,null,null,null,null,null,null,null,null,null,null,null,null,null,null,null,null,null,null,null,null,null,null,null,null,null,null,null,null,null,null,null,null,null,null,null,null,null,null,null,null,null,null,null,null,null,null,null,null,null,null,null,null,null,null,null,null,null,null,null,null,null,null,null,null,null,null,null,null,null,null,null,null,null,null,null,null,null,null,null,null,null,null,null,null,null,null,null,null,null,null,null,null,null,null,null,null,null,null,null,null,null,null,null,null,null,null,null,null,null,null,null,null,null,null,null,null,null,null,null,null,null,null,null,null,null,null,null,null,null,null,null,null,null,null,null,null,null,null,null,null,null,null,null,null,null,null,null,null,null,null,null,null,null,null,null,null,null,null,null,null,null,null,null,null,null,null,null,null,null,null,null,null,null,null,null,null,null,null,null,null,null,null,null,null,null,null,null,null,null,null,null,null,null,null,null,null,null,null,null,null,null,null,null,null,null,null,null,null,null,null,null,null,null,null,null,null,null,null,null,null,null,null,null,null,null,null,null,null,null,null,null,null,null,null,null,null,null,null,null,null,null,null,null,null,null,null,null,null,null,null,null,null,null,null,null,null,null,null,null,null,null,null,null,null,null,null,null,null,null,null,null,null,null,null,null,null,null,null,null,null,null,null,null,null,null,null,null,null,null,null,null,null,null,null,null,null,null,null,null,null,null,null,null,null,null,null,null,null,null,null,null,null,null,null,null,null,null,null,null,null,null,null,null,null,null,null,null,null,null,null,null,null,null,null,null,null,null,null,null,null,null,null,null,null,null,null,null,null,null,null,null,null,null,null,null,null,null,null,null,null,null,null,null,null,null,null,null,null,null,null,null,null,null,null,null,null,null,null,null,null,null,null,null,null,null,null,null,null,null,null,null,null,null,null,null,null,null,null,null,null,null,null,null,null,null,null,null,null,null,null,null,null,null,null,null,null,null,null,null,null,null,null,null,null,null,null,null,null,null,null,null,null,null,null,null,null,null,null,null,null,null,null,null,null,null,null,null,null,null,null,null,null,null,null,null,null,null,null,null,null,null,null,null,null,null,null,null,null,null,null,null,null,null,null,null,null,null,null,null,null,null,null,null,null,null,null,null,null,null,null,null,null,null,null,null,null,null,null,null,null,null,null,null,null,null,null,null,null,null,null,null,null,null,null,null,null,null,null,null,null,null,null,null,null,null,null,null,null,null,null,null,null,null,null,null,null,null,null,null,null,null,null,null,null,null,null,null,null,null,null,null,null,null,null,null,null,null,null,null,null,null,null,null,null,null,null,null,null,null,null,null,null,null,null,null,null,null,null,null,null,null,null,null,null,null,null,null,null,null,null,null,null,null,null,null,null,null,null,null,null,null,null,null,null,null,null,null,null,null,null,null,null,null,null,null,null,null,null,null,null,null,null,null,null,null,null,null,null,null,null,null,null,null,null,null,null,null,null,null,null,null,null,null,null,null,null,null,null,null,null,null,null,null,null,null,null,null,null,null,null,null,null,null,null,null,null,null,null,null,null,null,null,null,null,null,null,null,null,null,null,null,null,null,null,null,null,null,null,null,null,null,null,null,null,null,null,null,null,null,null,null,null,null,null,null,null,null,null,null,null,null,null,null,null,null,null,null,null,null,null,null,null,null,null,null,null,null,null,null,null,null,null,null,null,null,null,null,null,null,null,null,null,null,null,null,null,null,null,null,null,null,null,null,null,null,null,null,null,null,null,null,null,null,null,null,null,null,null,null,null,null,null,null,null,null,null,null,null,null,null,null,null,null,null,null,null,null,null,null,null,null,null,null,null,null,null,null,null,null,null,null,null,null,null,null,null,null,null,null,null,null,null,null,null,null,null,null,null,null,null,null,null,null,null,null,null,null,null,null,null,null,null,null,null,null,null,null,null,null,null,null,null,null,null,null,null,null,null,null,null,null,null,null,null,null,null,null,null,null,null,null,null,null,null,null,null,null,null,null,null,null,null,null,null,null,null,null,null,null,null,null,null,null,null,null,null,null,null,null,null,null,null,null,null,null,null,null,null,null,null,null,null,null,null,null,null,null,null,null,null,null,null,null,null,null,null,null,null,null,null,null,null,null,null,null,null,null,null,null,null,null,null,null,null,null,null,null,null,null,null,null,null,null,null,null,null,null,null,null,null,null,null,null,null,null,null,null,null,null,null,null,null,null,null,null,null,null,null,null,null,null,null,null,null,null,null,null,null,null,null,null,null,null,null,null,null,null,null,null,null,null,null,null,null,null,null,null,null,null,null,null,null,null,null,null,null,null,null,null,null,null,null,null,null,null,null,null,null,null,null,null,null,null,null,null,null,null,null,null,null,null,null,null,null,null,null,null,null,null,null,null,null,null,null,null,null,null,null,null,null,null,null,null,null,null,null,null,null,null,null,null,null,null,null,null,null,null,null,null,null,null,null,null,null,null,null,null,null,null,null,null,null,null,null,null,null,null,null,null,null,null,null,null,null,null,null,null,null,null,null,null,null,null,null,null,null,null,null,null,null,null,null,null,null,null,null,null,null,null,null,null,null,null,null,null,null,null,null,null,null,null,null,null,null,null,null,null,null,null,null,null,null,null,null,null,null,null,null,null,null,null,null,null,null,null,null,null,null,null,null,null,null,null,null,null,null,null,null,null,null,null,null,null,null,null,null,null,null,null,null,null,null,null,null,null,null,null,null,null,null,null,null,null,null,null,null,null,null,null,null,null,null,null,null,null,null,null,null,null,null,null,null,null,null,null,null,null,null,null,null,null,null,null,null,null,null,null,null,null,null,null,null,null,null,null,null,null,null,null,null,null,null,null,null,null,null,null,null,null,null,null,null,null,null,null,null,null,null,null,null,null,null,null,null,null,null,null,null,null,null,null,null,null,null,null,null,null,null,null,null,null,null,null,null,null,null,null,null,null,null,null,null,null,null,null,null,null,null,null,null,null,null,null,null,null,null,null,null,null,null,null,null,null,null,null,null,null,null,null,null,null,null,null,null,null,null,null,null,null,null,null,null,null,null,null,null,null,null,null,null,null,null,null,null,null,null,null,null,null,null,null,null,null,null,null,null,null,null,null,null,null,null,null,null,null,null,null,null,null,null,null,null,null,null,null,null,null,null,null,null,null,null,null,null,null,null,null,null,null,null,null,null,null,null,null,null,null,null,null,null,null,null,null,null,null,null,null,null,null,null,null,null,null,null,null,null,null,null,null,null,null,null,null,null,null,null,null,null,null,null,null,null,null,null,null,null,null,null,null,null,null,null,null,null,null,null,null,null,null,null,null,null,null,null,null,null,null,null,null,null,null,null,null,null,null,null,null,null,null,null,null,null,null,null,null,null,null,null,null,null,null,null,null,null,null,null,null,null,null,null,null,null,null,null,null,null,null,null,null,null,null,null,null,null,null,null,null,null,null,null,null,null,null,null,null,null,null,null,null,null,null,null,null,null,null,null,null,null,null,null,null,null,null,null,null,null,null,null,null,null,null,null,null,null,null,null,null,null,null,null,null,null,null,null,null,null,null,null,null,null,null,null,null,null,null,null,null,null,null,null,null,null,null,null,null,null,null,null,null,null,null,null,null,null,null,null,null,null,null,null,null,null,null,null,null,null,null,null,null,null,null,null,null,null,null,null,null,null,null,null,null,null,null,null,null,null,null,null,null,null,null,null,null,null,null,null,null,null,null,null,null,null,null,null,null,null,null,null,null,null,null,null,null,null,null,null,null,null,null,null,null,null,null,null,null,null,null,null,null,null,null,null,null,null,null,null,null,null,null,null,null,null,null,null,null,null,null,null,null,null,null,null,null,null,null,null,null,null,null,null,null,null,null,null,null,null,null,null,null,null,null,null,null,null,null,null,null,null,null,null,null,null,null,null,null,null,null,null,null,null,null,null,null,null,null,null,null,null,null,null,null,null,null,null,null,null,null,null,null,null,null,null,null,null,null,null,null,null,null,null,null,null,null,null,null,null,null,null,null,null,null,null,null,null,null,null,null,null,null,null,null,null,null,null,null,null,null,null,null,null,null,null,null,null,null,null,null,null,null,null,null,null,null,null,null,null,null,null,null,null,null,null,null,null,null,null,null,null,null,null,null,null,null,null,null,null,null,null,null,null,null,null,null,null,null,null,null,null,null,null,null,null,null,null,null,null,null,null,null,null,null,null,null,null,null,null,null,null,null,null,null,null,null,null,null,null,null,null,null,null,null,null,null,null,null,null,null,null,null,null,null,null,null,null,null,null,null,null,null,null,null,null,null,null,null,null,null,null,null,null,null,null,null,null,null,null,null,null,null,null,null,null,null,null,null,null,null,null,null,null,null,null,null,null,null,null,null,null,null,null,null,null,null,null,null,null,null,null,null,null,null,null,null,null,null,null,null,null,null,null,null,null,null,null,null,null,null,null,null,null,null,null,null,null,null,null,null,null,null,null,null,null,null,null,null,null,null,null,null,null,null,null,null,null,null,null,null,null,null,null,null,null,null,null,null,null,null,null,null,null,null,null,null,null,null,null,null,null,null,null,null,null,null,null,null,null,null,null,null,null,null,null,null,null,null,null,null,null,null,null,null,null,null,null,null,null,null,null,null,null,null,null,null,null,null,null,null,null,null,null,null,null,null,null,null,null,null,null,null,null,null,null,null,null,null,null,null,null,null,null,null,null,null,null,null,null,null,null,null,null,null,null,null,null,null,null,null,null,null,null,null,null,null,null,null,null,null,null,null,null,null,null,null,null,null,null,null,null,null,null,null,null,null,null,null,null,null,null,null,null,null,null,null,null,null,null,null,null,null,null,null,null,null,null,null,null,null,null,null,null,null,null,null,null,null,null,null,null,null,null,null,null,null,null,null,null,null,null,null,null,null,null,null,null,null,null,null,null,null,null,null,null,null,null,null,null,null,null,null,null,null,null,null,null,null,null,null,null,null,null,null,null,null,null,null,null,null,null,null,null,null,null,null,null,null,null,null,null,null,null,null,null,null,null,null,null,null,null,null,null,null,null,null,null,null,null,null,null,null,null,null,null,null,null,null,null,null,null,null,null,null,null,null,null,null,null,null,null,null,null,null,null,null,null,null,null,null,null,null,null,null,null,null,null,null,null,null,null,null,null,null,null,null,null,null,null,null,null,null,null,null,null,null,null,null,null,null,null,null,null,null,null,null,null,null,null,null,null,null,null,null,null,null,null,null,null,null,null,null,null,null,null,null,null,null,null,null,null,null,null,null,null,null,null,null,null,null,null,null,null,null,null,null,null,null,null,null,null,null,null,null,null,null,null,null,null,null,null,null,null,null,null,null,null,null,null,null,null,null,null,null,null,null,null,null,null,null,null,null,null,null,null,null,null,null,null,null,null,null,null,null,null,null,null,null,null,null,null,null,null,null,null,null,null,null,null,null,null,null,null,null,null,null,null,null,null,null,null,null,null,null,null,null,null,null,null,null,null,null,null,null,null,null,null,null,null,null,null,null,null,null,null,null,null,null,null,null,null,null,null,null,null,null,null,null,null,null,null,null,null,null,null,null,null,null,null,null,null,null,null,null,null,null,null,null,null,null,null,null,null,null,null,null,null,null,null,null,null,null,null,null,null,null,null,null,null,null,null,null,null,null,null,null,null,null,null,null,null,null,null,null,null,null,null,null,null,null,null,null,null,null,null,null,null,null,null,null,null,null,null,null,null,null,null,null,null,null,null,null,null,null,null,null,null,null,null,null,null,null,null,null,null,null,null,null,null,null,null,null,null,null,null,null,null,null,null,null,null,null,null,null,null,null,null,null,null,null,null,null,null,null,null,null,null,null,null,null,null,null,null,null,null,null,null,null,null,null,null,null,null,null,null,null,null,null,null,null,null,null,null,null,null,null,null,null,null,null,null,null,null,null,null,null,null,null,null,null,null,null,null,null,null,null,null,null,null,null,null,null,null,null,null,null,null,null,null,null,null,null,null,null,null,null,null,null,null,null,null,null,null,null,null,null,null,null,null,null,null,null,null,null,null,null,null,null,null,null,null,null,null,null,null,null,null,null,null,null,null,null,null,null,null,null,null,null,null,null,null,null,null,null,null,null,null,null,null,null,null,null,null,null,null,null,null,null,null,null,null,null,null,null,null,null,null,null,null,null,null,null,null,null,null,null,null,null,null,null,null,null,null,null,null,null,null,null,null,null,null,null,null,null,null,null,null,null,null,null,null,null,null,null,null,null,null,null,null,null,null,null,null,null,null,null,null,null,null,null,null,null,null,null,null,null,null,null,null,null,null,null,null,null,null,null,null,null,null,null,null,null,null,null,null,null,null,null,null,null,null,null,null,null,null,null,null,null,null,null,null,null,null,null,null,null,null,null,null,null,null,null,null,null,null,null,null,null,null,null,null,null,null,null,null,null,null,null,null,null,null,null,null,null,null,null,null,null,null,null,null,null,null,null,null,null,null,null,null,null,null,null,null,null,null,null,null,null,null,null,null,null,null,null,null,null,null,null,null,null,null,null,null,null,null,null,null,null,null,null,null,null,null,null,null,null,null,null,null,null,null,null,null,null,null,null,null,null,null,null,null,null,null,null,null,null,null,null,null,null,null,null,null,null,null,null,null,null,null,null,null,null,null,null,null,null,null,null,null,null,null,null,null,null,null,null,null,null,null,null,null,null,null,null,null,null,null,null,null,null,null,null,null,null,null,null,null,null,null,null,null,null,null,null,null,null,null,null,null,null,null,null,null,null,null,null,null,null,null,null,null,null,null,null,null,null,null,null,null,null,null,null,null,null,null,null,null,null,null,null,null,null,null,null,null,null,null,null,null,null,null,null,null,null,null,null,null,null,null,null,null,null,null,null,null,null,null,null,null,null,null,null,null,null,null,null,null,null,null,null,null,null,null,null,null,null,null,null,null,null,null,null,null,null,null,null,null,null,null,null,null,null,null,null,null,null,null,null,null,null,null,null,null,null,null,null,null,null,null,null,null,null,null,null,null,null,null,null,null,null,null,null,null,null,null,null,null,null,null,null,null,null,null,null,null,null,null,null,null,null,null,null,null,null,null,null,null,null,null,null,null,null,null,null,null,null,null,null,null,null,null,null,null,null,null,null,null,null,null,null,null,null,null,null,null,null,null,null,null,null,null,null,null,null,null,null,null,null,null,null,null,null,null,null,null,null,null,null,null,null,null,null,null,null,null,null,null,null,null,null,null,null,null,null,null,null,null,null,null,null,null,null,null,null,null,null,null,null,null,null,null,null,null,null,null,null,null,null,null,null,null,null,null,null,null,null,null,null,null,null,null,null,null,null,null,null,null,null,null,null,null,null,null,null,null,null,null,null,null,null,null,null,null,null,null,null,null,null,null,null,null,null,null,null,null,null,null,null,null,null,null,null,null,null,null,null,null,null,null,null,null,null,null,null,null,null,null,null,null,null,null,null,null,null,null,null,null,null,null,null,null,null,null,null,null,null,null,null,null,null,null,null,null,null,null,null,null,null,null,null,null,null,null,null,null,null,null,null,null,null,null,null,null,null,null,null,null,null,null,null,null,null,null,null,null,null,null,null,null,null,null,null,null,null,null,null,null,null,null,null,null,null,null,null,null,null,null,null,null,null,null,null,null,null,null,null,null,null,null,null,null,null,null,null,null,null,null,null,null,null,null,null,null,null,null,null,null,null,null,null,null,null,null,null,null,null,null,null,null,null,null,null,null,null,null,null,null,null,null,null,null,null,null,null,null,null,null,null,null,null,null,null,null,null,null,null,null,null,null,null,null,null,null,null,null,null,null,null,null,null,null,null,null,null,null,null,null,null,null,null,null,null,null,null,null,null,null,null,null,null,null,null,null,null,null,null,null,null,null,null,null,null,null,null,null,null,null,null,null,null,null,null,null,null,null,null,null,null,null,null,null,null,null,null,null,null,null,null,null,null,null,null,null,null,null,null,null,null,null,null,null,null,null,null,null,null,null,null,null,null,null,null,null,null,null,null,null,null,null,null,null,null,null,null,null,null,null,null,null,null,null,null,null,null,null,null,null,null,null,null,null,null,null,null,null,null,null,null,null,null,null,null,null,null,null,null,null,null,null,null,null,null,null,null,null,null,null,null,null,null,null,null,null,null,null,null,null,null,null,null,null,null,null,null,null,null,null,null,null,null,null,null,null,null,null,null,null,null,null,null,null,null,null,null,null,null,null,null,null,null,null,null,null,null,null,null,null,null,null,null,null,null,null,null,null,null,null,null,null,null,null,null,null,null,null,null,null,null,null,null,null,null,null,null,null,null,null,null,null,null,null,null,null,null,null,null,null,null,null,null,null,null,null,null,null,null,null,null,null,null,null,null,null,null,null,null,null,null,null,null,null,null,null,null,null,null,null,null,null,null,null,null,null,null,null,null,null,null,null,null,null,null,null,null,null,null,null,null,null,null,null,null,null,null,null,null,null,null,null,null,null,null,null,null,null,null,null,null,null,null,null,null,null,null,null,null,null,null,null,null,null,null,null,null,null,null,null,null,null,null,null,null,null,null,null,null,null,null,null,null,null,null,null,null,null,null,null,null,null,null,null,null,null,null,null,null,null,null,null,null,null,null,null,null,null,null,null,null,null,null,null,null,null,null,null,null,null,null,null,null,null,null,null,null,null,null,null,null,null,null,null,null,null,null,null,null,null,null,null,null,null,null,null,null,null,null,null,null,null,null,null,null,null,null,null,null,null,null,null,null,null,null,null,null,null,null,null,null,null,null,null,null,null,null,null,null,null,null,null,null,null,null,null,null,null,null,null,null,null,null,null,null,null,null,null,null,null,null,null,null,null,null,null,null,null,null,null,null,null,null,null,null,null,null,null,null,null,null,null,null,null,null,null,null,null,null,null,null,null,null,null,null,null,null,null,null,null,null,null,null,null,null,null,null,null,null,null,null,null,null,null,null,null,null,null,null,null,null,null,null,null,null,null,null,null,null,null,null,null,null,null,null,null,null,null,null,null,null,null,null,null,null,null,null,null,null,null,null,null,null,null,null,null,null,null,null,null,null,null,null,null,null,null,null,null,null,null,null,null,null,null,null,null,null,null,null,null,null,null,null,null,null,null,null,null,null,null,null,null,null,null,null,null,null,null,null,null,null,null,null,null,null,null,null,null,null,null,null,null,null,null,null,null,null,null,null,null,null,null,null,null,null,null,null,null,null,null,null,null,null,null,null,null,null,null,null,null,null,null,null,null,null,null,null,null,null,null,null,null,null,null,null,null,null,null,null,null,null,null,null,null,null,null,null,null,null,null,null,null,null,null,null,null,null,null,null,null,null,null,null,null,null,null,null,null,null,null,null,null,null,null,null,null,null,null,null,null,null,null,null,null,null,null,null,null,null,null,null,null,null,null,null,null,null,null,null,null,null,null,null,null,null,null,null,null,null,null,null,null,null,null,null,null,null,null,null,null,null,null,null,null,null,null,null,null,null,null,null,null,null,null,null,null,null,null,null,null,null,null,null,null,null,null,null,null,null,null,null,null,null,null,null,null,null,null,null,null,null,null,null,null,null,null,null,null,null,null,null,null,null,null,null,null,null,null,null,null,null,null,null,null,null,null,null,null,null,null,null,null,null,null,null,null,null,null,null,null,null,null,null,null,null,null,null,null,null,null,null,null,null,null,null,null,null,null,null,null,null,null,null,null,null,null,null,null,null,null,null,null,null,null,null,null,null,null,null,null,null,null,null,null,null,null,null,null,null,null,null,null,null,null,null,null,null,null,null,null,null,null,null,null,null,null,null,null,null,null,null,null,null,null,null,null,null,null,null,null,null,null,null,null,null,null,null,null,null,null,null,null,null,null,null,null,null,null,null,null,null,null,null,null,null,null,null,null,null,null,null,null,null,null,null,null,null,null,null,null,null,null,null,null,null,null,null,null,null,null,null,null,null,null,null,null,null,null,null,null,null,null,null,null,null,null,null,null,null,null,null,null,null,null,null,null,null,null,null,null,null,null,null,null,null,null,null,null,null,null,null,null,null,null,null,null,null,null,null,null,null,null,null,null,null,null,null,null,null,null,null,null,null,null,null,null,null,null,null,null,null,null,null,null,null,null,null,null,null,null,null,null,null,null,null,null,null,null,null,null,null,null,null,null,null,null,null,null,null,null,null,null,null,null,null,null,null,null,null,null,null,null,null,null,null,null,null,null,null,null,null,null,null,null,null,null,null,null,null,null,null,null,null,null,null,null,null,null,null,null,null,null,null,null,null,null,null,null,null,null,null,null,null,null,null,null,null,null,null,null,null,null,null,null,null,null,null,null,null,null,null,null,null,null,null,null,null,null,null,null,null,null,null,null,null,null,null,null,null,null,null,null,null,null,null,null,null,null,null,null,null,null,null,null,null,null,null,null,null,null,null,null,null,null,null,null,null,null,null,null,null,null,null,null,null,null,null,null,null,null,null,null,null,null,null,null,null,null,null,null,null,null,null,null,null,null,null,null,null,null,null,null,null,null,null,null,null,null,null,null,null,null,null,null,null,null,null,null,null,null,null,null,null,null,null,null,null,null,null,null,null,null,null,null,null,null,null,null,null,null,null,null,null,null,null,null,null,null,null,null,null,null,null,null,null,null,null,null,null,null,null,null,null,null,null,null,null,null,null,null,null,null,null,null,null,null,null,null,null,null,null,null,null,null,null,null,null,null,null,null,null,null,null,null,null,null,null,null,null,null,null,null,null,null,null,null,null,null,null,null,null,null,null,null,null,null,null,null,null,null,null,null,null,null,null,null,null,null,null,null,null,null,null,null,null,null,null,null,null,null,null,null,null,null,null,null,null,null,null,null,null,null,null,null,null,null,null,null,null,null,null,null,null,null,null,null,null,null,null,null,null,null,null,null,null,null,null,null,null,null,null,null,null,null,null,null,null,null,null,null,null,null,null,null,null,null,null,null,null,null,null,null,null,null,null,null,null,null,null,null,null,null,null,null,null,null,null,null,null,null,null,null,null,null,null,null,null,null,null,null,null,null,null,null,null,null,null,null,null,null,null,null,null,null,null,null,null,null,null,null,null,null,null,null,null,null,null,null,null,null,null,null,null,null,null,null,null,null,null,null,null,null,null,null,null,null,null,null,null,null,null,null,null,null,null,null,null,null,null,null,null,null,null,null,null,null,null,null,null,null,null,null,null,null,null,null,null,null,null,null,null,null,null,null,null,null,null,null,null,null,null,null,null,null,null,null,null,null,null,null,null,null,null,null,null,null,null,null,null,null,null,null,null,null,null,null,null,null,null,null,null,null,null,null,null,null,null,null,null,null,null,null,null,null,null,null,null,null,null,null,null,null,null,null,null,null,null,null,null,null,null,null,null,null,null,null,null,null,null,null,null,null,null,null,null,null,null,null,null,null,null,null,null,null,null,null,null,null,null,null,null,null,null,null,null,null,null,null,null,null,null,null,null,null,null,null,null,null,null,null,null,null,null,null,null,null,null,null,null,null,null,null,null,null,null,null,null,null,null,null,null,null,null,null,null,null,null,null,null,null,null,null,null,null,null,null,null,null,null,null,null,null,null,null,null,null,null,null,null,null,null,null,null,null,null,null,null,null,null,null,null,null,null,null,null,null,null,null,null,null,null,null,null,null,null,null,null,null,null,null,null,null,null,null,null,null,null,null,null,null,null,null,null,null,null,null,null,null,null,null,null,null,null,null,null,null,null,null,null,null,null,null,null,null,null,null,null,null,null,null,null,null,null,null,null,null,null,null,null,null,null,null,null,null,null,null,null,null,null,null,null,null,null,null,null,null,null,null,null,null,null,null,null,null,null,null,null,null,null,null,null,null,null,null,null,null,null,null,null,null,null,null,null,null,null,null,null,null,null,null,null,null,null,null,null,null,null,null,null,null,null,null,null,null,null,null,null,null,null,null,null,null,null,null,null,null,null,null,null,null,null,null,null,null,null,null,null,null,null,null,null,null,null,null,null,null,null,null,null,null,null,null,null,null,null,null,null,null,null,null,null,null,null,null,null,null,null,null,null,null,null,null,null,null,null,null,null,null,null,null,null,null,null,null,null,null,null,null,null,null,null,null,null,null,null,null,null,null,null,null,null,null,null,null,null,null,null,null,null,null,null,null,null,null,null,null,null,null,null,null,null,null,null,null,null,null,null,null,null,null,null,null,null,null,null,null,null,null,null,null,null,null,null,null,null,null,null,null,null,null,null,null,null,null,null,null,null,null,null,null,null,null,null,null,null,null,null,null,null,null,null,null,null,null,null,null,null,null,null,null,null,null,null,null,null,null,null,null,null,null,null,null,null,null,null,null,null,null,null,null,null,null,null,null,null,null,null,null,null,null,null,null,null,null,null,null,null,null,null,null,null,null,null,null,null,null,null,null,null,null,null,null,null,null,null,null,null,null,null,null,null,null,null,null,null,null,null,null,null,null,null,null,null,null,null,null,null,null,null,null,null,null,null,null,null,null,null,null,null,null,null,null,null,null,null,null,null,null,null,null,null,null,null,null,null,null,null,null,null,null,null,null,null,null,null,null,null,null,null,null,null,null,null,null,null,null,null,null,null,null,null,null,null,null,null,null,null,null,null,null,null,null,null,null,null,null,null,null,null,null,null,null,null,null,null,null,null,null,null,null,null,null,null,null,null,null,null,null,null,null,null,null,null,null,null,null,null,null,null,null,null,null,null,null,null,null,null,null,null,null,null,null,null,null,null,null,null,null,null,null,null,null,null,null,null,null,null,null,null,null,null,null,null,null,null,null,null,null,null,null,null,null,null,null,null,null,null,null,null,null,null,null,null,null,null,null,null,null,null,null,null,null,null,null,null,null,null,null,null,null,null,null,null,null,null,null,null,null,null,null,null,null,null,null,null,null,null,null,null,null,null,null,null,null,null,null,null,null,null,null,null,null,null,null,null,null,null,null,null,null,null,null,null,null,null,null,null,null,null,null,null,null,null,null,null,null,null,null,null,null,null,null,null,null,null,null,null,null,null,null,null,null,null,null,null,null,null,null,null,null,null,null,null,null,null,null,null,null,null,null,null,null,null,null,null,null,null,null,null,null,null,null,null,null,null,null,null,null,null,null,null,null,null,null,null,null,null,null,null,null,null,null,null,null,null,null,null,null,null,null,null,null,null,null,null,null,null,null,null,null,null,null,null,null,null,null,null,null,null,null,null,null,null,null,null,null,null,null,null,null,null,null,null,null,null,null,null,null,null,null,null,null,null,null,null,null,null,null,null,null,null,null,null,null,null,null,null,null,null,null,null,null,null,null,null,null,null,null,null,null,null,null,null,null,null,null,null,null,null,null,null,null,null,null,null,null,null,null,null,null,null,null,null,null,null,null,null,null,null,null,null,null,null,null,null,null,null,null,null,null,null,null,null,null,null,null,null,null,null,null,null,null,null,null,null,null,null,null,null,null,null,null,null,null,null,null,null,null,null,null,null,null,null,null,null,null,null,null,null,null,null,null,null,null,null,null,null,null,null,null,null,null,null,null,null,null,null,null,null,null,null,null,null,null,null,null,null,null,null,null,null,null,null,null,null,null,null,null,null,null,null,null,null,null,null,null,null,null,null,null,null,null,null,null,null,null,null,null,null,null,null,null,null,null,null,null,null,null,null,null,null,null,null,null,null,null,null,null,null,null,null,null,null,null,null,null,null,null,null,null,null,null,null,null,null,null,null,null,null,null,null,null,null,null,null,null,null,null,null,null,null,null,null,null,null,null,null,null,null,null,null,null,null,null,null,null,null,null,null,null,null,null,null,null,null,null,null,null,null,null,null,null,null,null,null,null,null,null,null,null,null,null,null,null,null,null,null,null,null,null,null,null,null,null,null,null,null,null,null,null,null,null,null,null,null,null,null,null,null,null,null,null,null,null,null,null,null,null,null,null,null,null,null,null,null,null,null,null,null,null,null,null,null,null,null,null,null,null,null,null,null,null,null,null,null,null,null,null,null,null,null,null,null,null,null,null,null,null,null,null,null,null,null,null,null,null,null,null,null,null,null,null,null,null,null,null,null,null,null,null,null,null,null,null,null,null,null,null,null,null,null,null,null,null,null,null,null,null,null,null,null,null,null,null,null,null,null,null,null,null,null,null,null,null,null,null,null,null,null,null,null,null,null,null,null,null,null,null,null,null,null,null,null,null,null,null,null,null,null,null,null,null,null,null,null,null,null,null,null,null,null,null,null,null,null,null,null,null,null,null,null,null,null,null,null,null,null,null,null,null,null,null,null,null,null,null,null,null,null,null,null,null,null,null,null,null,null,null,null,null,null,null,null,null,null,null,null,null,null,null,null,null,null,null,null,null,null,null,null,null,null,null,null,null,null,null,null,null,null,null,null,null,null,null,null,null,null,null,null,null,null,null,null,null,null,null,null,null,null,null,null,null,null,null,null,null,null,null,null,null,null,null,null,null,null,null,null,null,null,null,null,null,null,null,null,null,null,null,null,null,null,null,null,null,null,null,null,null,null,null,null,null,null,null,null,null,null,null,null,null,null,null,null,null,null,null,null,null,null,null,null,null,null,null,null,null,null,null,null,null,null,null,null,null,null,null,null,null,null,null,null,null,null,null,null,null,null,null,null,null,null,null,null,null,null,null,null,null,null,null,null,null,null,null,null,null,null,null,null,null,null,null,null,null,null,null,null,null,null,null,null,null,null,null,null,null,null,null,null,null,null,null,null,null,null,null,null,null,null,null,null,null,null,null,null,null,null,null,null,null,null,null,null,null,null,null,null,null,null,null,null,null,null,null,null,null,null,null,null,null,null,null,null,null,null,null,null,null,null,null,null,null,null,null,null,null,null,null,null,null,null,null,null,null,null,null,null,null,null,null,null,null,null,null,null,null,null,null,null,null,null,null,null,null,null,null,null,null,null,null,null,null,null,null,null,null,null,null,null,null,null,null,null,null,null,null,null,null,null,null,null,null,null,null,null,null,null,null,null,null,null,null,null,null,null,null,null,null,null,null,null,null,null,null,null,null,null,null,null,null,null,null,null,null,null,null,null,null,null,null,null,null,null,null,null,null,null,null,null,null,null,null,null,null,null,null,null,null,null,null,null,null,null,null,null,null,null,null,null,null,null,null,null,null,null,null,null,null,null,null,null,null,null,null,null,null,null,null,null,null,null,null,null,null,null,null,null,null,null,null,null,null,null,null,null,null,null,null,null,null,null,null,null,null,null,null,null,null,null,null,null,null,null,null,null,null,null,null,null,null,null,null,null,null,null,null,null,null,null,null,null,null,null,null,null,null,null,null,null,null,null,null,null,null,null,null,null,null,null,null,null,null,null,null,null,null,null,null,null,null,null,null,null,null,null,null,null,null,null,null,null,null,null,null,null,null,null,null,null,null,null,null,null,null,null,null,null,null,null,null,null,null,null,null,null,null,null,null,null,null,null,null,null,null,null,null,null,null,null,null,null,null,null,null,null,null,null,null,null,null,null,null,null,null,null,null,null,null,null,null,null,null,null,null,null,null,null,null,null,null,null,null,null,null,null,null,null,null,null,null,null,null,null,null,null,null,null,null,null,null,null,null,null,null,null,null,null,null,null,null,null,null,null,null,null,null,null,null,null,null,null,null,null,null,null,null,null,null,null,null,null,null,null,null,null,null,null,null,null,null,null,null,null,null,null,null,null,null,null,null,null,null,null,null,null,null,null,null,null,null,null,null,null,null,null,null,null,null,null,null,null,null,null,null,null,null,null,null,null,null,null,null,null,null,null,null,null,null,null,null,null,null,null,null,null,null,null,null,null,null,null,null,null,null,null,null,null,null,null,null,null,null,null,null,null,null,null,null,null,null,null,null,null,null,null,null,null,null,null,null,null,null,null,null,null,null,null,null,null,null,null,null,null,null,null,null,null,null,null,null,null,null,null,null,null,null,null,null,null,null,null,null,null,null,null,null,null,null,null,null,null,null,null,null,null,null,null,null,null,null,null,null,null,null,null,null,null,null,null,null,null,null,null,null,null,null,null,null,null,null,null,null,null,null,null,null,null,null,null,null,null,null,null,null,null,null,null,null,null,null,null,null,null,null,null,null,null,null,null,null,null,null,null,null,null,null,null,null,null,null,null,null,null,null,null,null,null,null,null,null,null,null,null,null,null,null,null,null,null,null,null,null,null,null,null,null,null,null,null,null,null,null,null,null,null,null,null,null,null,null,null,null,null,null,null,null,null,null,null,null,null,null,null,null,null,null,null,null,null,null,null,null,null,null,null,null,null,null,null,null,null,null,null,null,null,null,null,null,null,null,null,null,null,null,null,null,null,null,null,null,null,null,null,null,null,null,null,null,null,null,null,null,null,null,null,null,null,null,null,null,null,null,null,null,null,null,null,null,null,null,null,null,null,null,null,null,null,null,null,null,null,null,null,null,null,null,null,null,null,null,null,null,null,null,null,null,null,null,null,null,null,null,null,null,null,null,null,null,null,null,null,null,null,null,null,null,null,null,null,null,null,null,null,null,null,null,null,null,null,null,null,null,null,null,null,null,null,null,null,null,null,null,null,null,null,null,null,null,null,null,null,null,null,null,null,null,null,null,null,null,null,null,null,null,null,null,null,null,null,null,null,null,null,null,null,null,null,null,null,null,null,null,null,null,null,null,null,null,null,null,null,null,null,null,null,null,null,null,null,null,null,null,null,null,null,null,null,null,null,null,null,null,null,null,null,null,null,null,null,null,null,null,null,null,null,null,null,null,null,null,null,null,null,null,null,null,null,null,null,null,null,null,null,null,null,null,null,null,null,null,null,null,null,null,null,null,null,null,null,null,null,null,null,null,null,null,null,null,null,null,null,null,null,null,null,null,null,null,null,null,null,null,null,null,null,null,null,null,null,null,null,null,null,null,null,null,null,null,null,null,null,null,null,null,null,null,null,null,null,null,null,null,null,null,null,null,null,null,null,null,null,null,null,null,null,null,null,null,null,null,null,null,null,null,null,null,null,null,null,null,null,null,null,null,null,null,null,null,null,null,null,null,null,null,null,null,null,null,null,null,null,null,null,null,null,null,null,null,null,null,null,null,null,null,null,null,null,null,null,null,null,null,null,null,null,null,null,null,null,null,null,null,null,null,null,null,null,null,null,null,null,null,null,null,null,null,null,null,null,null,null,null,null,null,null,null,null,null,null,null,null,null,null,null,null,null,null,null,null,null,null,null,null,null,null,null,null,null,null,null,null,null,null,null,null,null,null,null,null,null,null,null,null,null,null,null,null,null,null,null,null,null,null,null,null,null,null,null,null,null,null,null,null,null,null,null,null,null,null,null,null,null,null,null,null,null,null,null,null,null,null,null,null,null,null,null,null,null,null,null,null,null,null,null,null,null,null,null,null,null,null,null,null,null,null,null,null,null,null,null,null,null,null,null,null,null,null,null,null,null,null,null,null,null,null,null,null,null,null,null,null,null,null,null,null,null,null,null,null,null,null,null,null,null,null,null,null,null,null,null,null,null,null,null,null,null,null,null,null,null,null,null,null,null,null,null,null,null,null,null,null,null,null,null,null,null,null,null,null,null,null,null,null,null,null,null,null,null,null,null,null,null,null,null,null,null,null,null,null,null,null,null,null,null,null,null,null,null,null,null,null,null,null,null,null,null,null,null,null,null,null,null,null,null,null,null,null,null,null,null,null,null,null,null,null,null,null,null,null,null,null,null,null,null,null,null,null,null,null,null,null,null,null,null,null,null,null,null,null,null,null,null,null,null,null,null,null,null,null,null,null,null,null,null,null,null,null,null,null,null,null,null,null,null,null,null,null,null,null,null,null,null,null,null,null,null,null,null,null,null,null,null,null,null,null,null,null,null,null,null,null,null,null,null,null,null,null,null,null,null,null,null,null,null,null,null,null,null,null,null,null,null,null,null,null,null,null,null,null,null,null,null,null,null,null,null,null,null,null,null,null,null,null,null,null,null,null,null,null,null,null,null,null,null,null,null,null,null,null,null,null,null,null,null,null,null,null,null,null,null,null,null,null,null,null,null,null,null,null,null,null,null,null,null,null,null,null,null,null,null,null,null,null,null,null,null,null,null,null,null,null,null,null,null,null,null,null,null,null,null,null,null,null,null,null,null,null,null,null,null,null,null,null,null,null,null,null,null,null,null,null,null,null,null,null,null,null,null,null,null,null,null,null,null,null,null,null,null,null,null,null,"Initial Date",null,{"$f":"NOW()","v":42663.47209166667},{"$f":"'Cover Sheet'!C22","v":0}]
[null,null,null,null,null,null,null,null,null,null,null,null,null,null,null,null,null,null,null,null,null,null,null,null,null,null,null,null,null,null,null,null,null,null,null,null,null,null,null,null,null,null,null,null,null,null,null,null,null,null,null,null,null,null,null,null,null,null,null,null,null,null,null,null,null,null,null,null,null,null,null,null,null,null,null,null,null,null,null,null,null,null,null,null,null,null,null,null,null,null,null,null,null,null,null,null,null,null,null,null,null,null,null,null,null,null,null,null,null,null,null,null,null,null,null,null,null,null,null,null,null,null,null,null,null,null,null,null,null,null,null,null,null,null,null,null,null,null,null,null,null,null,null,null,null,null,null,null,null,null,null,null,null,null,null,null,null,null,null,null,null,null,null,null,null,null,null,null,null,null,null,null,null,null,null,null,null,null,null,null,null,null,null,null,null,null,null,null,null,null,null,null,null,null,null,null,null,null,null,null,null,null,null,null,null,null,null,null,null,null,null,null,null,null,null,null,null,null,null,null,null,null,null,null,null,null,null,null,null,null,null,null,null,null,null,null,null,null,null,null,null,null,null,null,null,null,null,null,null,null,null,null,null,null,null,null,null,null,null,null,null,null,null,null,null,null,null,null,null,null,null,null,null,null,null,null,null,null,null,null,null,null,null,null,null,null,null,null,null,null,null,null,null,null,null,null,null,null,null,null,null,null,null,null,null,null,null,null,null,null,null,null,null,null,null,null,null,null,null,null,null,null,null,null,null,null,null,null,null,null,null,null,null,null,null,null,null,null,null,null,null,null,null,null,null,null,null,null,null,null,null,null,null,null,null,null,null,null,null,null,null,null,null,null,null,null,null,null,null,null,null,null,null,null,null,null,null,null,null,null,null,null,null,null,null,null,null,null,null,null,null,null,null,null,null,null,null,null,null,null,null,null,null,null,null,null,null,null,null,null,null,null,null,null,null,null,null,null,null,null,null,null,null,null,null,null,null,null,null,null,null,null,null,null,null,null,null,null,null,null,null,null,null,null,null,null,null,null,null,null,null,null,null,null,null,null,null,null,null,null,null,null,null,null,null,null,null,null,null,null,null,null,null,null,null,null,null,null,null,null,null,null,null,null,null,null,null,null,null,null,null,null,null,null,null,null,null,null,null,null,null,null,null,null,null,null,null,null,null,null,null,null,null,null,null,null,null,null,null,null,null,null,null,null,null,null,null,null,null,null,null,null,null,null,null,null,null,null,null,null,null,null,null,null,null,null,null,null,null,null,null,null,null,null,null,null,null,null,null,null,null,null,null,null,null,null,null,null,null,null,null,null,null,null,null,null,null,null,null,null,null,null,null,null,null,null,null,null,null,null,null,null,null,null,null,null,null,null,null,null,null,null,null,null,null,null,null,null,null,null,null,null,null,null,null,null,null,null,null,null,null,null,null,null,null,null,null,null,null,null,null,null,null,null,null,null,null,null,null,null,null,null,null,null,null,null,null,null,null,null,null,null,null,null,null,null,null,null,null,null,null,null,null,null,null,null,null,null,null,null,null,null,null,null,null,null,null,null,null,null,null,null,null,null,null,null,null,null,null,null,null,null,null,null,null,null,null,null,null,null,null,null,null,null,null,null,null,null,null,null,null,null,null,null,null,null,null,null,null,null,null,null,null,null,null,null,null,null,null,null,null,null,null,null,null,null,null,null,null,null,null,null,null,null,null,null,null,null,null,null,null,null,null,null,null,null,null,null,null,null,null,null,null,null,null,null,null,null,null,null,null,null,null,null,null,null,null,null,null,null,null,null,null,null,null,null,null,null,null,null,null,null,null,null,null,null,null,null,null,null,null,null,null,null,null,null,null,null,null,null,null,null,null,null,null,null,null,null,null,null,null,null,null,null,null,null,null,null,null,null,null,null,null,null,null,null,null,null,null,null,null,null,null,null,null,null,null,null,null,null,null,null,null,null,null,null,null,null,null,null,null,null,null,null,null,null,null,null,null,null,null,null,null,null,null,null,null,null,null,null,null,null,null,null,null,null,null,null,null,null,null,null,null,null,null,null,null,null,null,null,null,null,null,null,null,null,null,null,null,null,null,null,null,null,null,null,null,null,null,null,null,null,null,null,null,null,null,null,null,null,null,null,null,null,null,null,null,null,null,null,null,null,null,null,null,null,null,null,null,null,null,null,null,null,null,null,null,null,null,null,null,null,null,null,null,null,null,null,null,null,null,null,null,null,null,null,null,null,null,null,null,null,null,null,null,null,null,null,null,null,null,null,null,null,null,null,null,null,null,null,null,null,null,null,null,null,null,null,null,null,null,null,null,null,null,null,null,null,null,null,null,null,null,null,null,null,null,null,null,null,null,null,null,null,null,null,null,null,null,null,null,null,null,null,null,null,null,null,null,null,null,null,null,null,null,null,null,null,null,null,null,null,null,null,null,null,null,null,null,null,null,null,null,null,null,null,null,null,null,null,null,null,null,null,null,null,null,null,null,null,null,null,null,null,null,null,null,null,null,null,null,null,null,null,null,null,null,null,null,null,null,null,null,null,null,null,null,null,null,null,null,null,null,null,null,null,null,null,null,null,null,null,null,null,null,null,null,null,null,null,null,null,null,null,null,null,null,null,null,null,null,null,null,null,null,null,null,null,null,null,null,null,null,null,null,null,null,null,null,null,null,null,null,null,null,null,null,null,null,null,null,null,null,null,null,null,null,null,null,null,null,null,null,null,null,null,null,null,null,null,null,null,null,null,null,null,null,null,null,null,null,null,null,null,null,null,null,null,null,null,null,null,null,null,null,null,null,null,null,null,null,null,null,null,null,null,null,null,null,null,null,null,null,null,null,null,null,null,null,null,null,null,null,null,null,null,null,null,null,null,null,null,null,null,null,null,null,null,null,null,null,null,null,null,null,null,null,null,null,null,null,null,null,null,null,null,null,null,null,null,null,null,null,null,null,null,null,null,null,null,null,null,null,null,null,null,null,null,null,null,null,null,null,null,null,null,null,null,null,null,null,null,null,null,null,null,null,null,null,null,null,null,null,null,null,null,null,null,null,null,null,null,null,null,null,null,null,null,null,null,null,null,null,null,null,null,null,null,null,null,null,null,null,null,null,null,null,null,null,null,null,null,null,null,null,null,null,null,null,null,null,null,null,null,null,null,null,null,null,null,null,null,null,null,null,null,null,null,null,null,null,null,null,null,null,null,null,null,null,null,null,null,null,null,null,null,null,null,null,null,null,null,null,null,null,null,null,null,null,null,null,null,null,null,null,null,null,null,null,null,null,null,null,null,null,null,null,null,null,null,null,null,null,null,null,null,null,null,null,null,null,null,null,null,null,null,null,null,null,null,null,null,null,null,null,null,null,null,null,null,null,null,null,null,null,null,null,null,null,null,null,null,null,null,null,null,null,null,null,null,null,null,null,null,null,null,null,null,null,null,null,null,null,null,null,null,null,null,null,null,null,null,null,null,null,null,null,null,null,null,null,null,null,null,null,null,null,null,null,null,null,null,null,null,null,null,null,null,null,null,null,null,null,null,null,null,null,null,null,null,null,null,null,null,null,null,null,null,null,null,null,null,null,null,null,null,null,null,null,null,null,null,null,null,null,null,null,null,null,null,null,null,null,null,null,null,null,null,null,null,null,null,null,null,null,null,null,null,null,null,null,null,null,null,null,null,null,null,null,null,null,null,null,null,null,null,null,null,null,null,null,null,null,null,null,null,null,null,null,null,null,null,null,null,null,null,null,null,null,null,null,null,null,null,null,null,null,null,null,null,null,null,null,null,null,null,null,null,null,null,null,null,null,null,null,null,null,null,null,null,null,null,null,null,null,null,null,null,null,null,null,null,null,null,null,null,null,null,null,null,null,null,null,null,null,null,null,null,null,null,null,null,null,null,null,null,null,null,null,null,null,null,null,null,null,null,null,null,null,null,null,null,null,null,null,null,null,null,null,null,null,null,null,null,null,null,null,null,null,null,null,null,null,null,null,null,null,null,null,null,null,null,null,null,null,null,null,null,null,null,null,null,null,null,null,null,null,null,null,null,null,null,null,null,null,null,null,null,null,null,null,null,null,null,null,null,null,null,null,null,null,null,null,null,null,null,null,null,null,null,null,null,null,null,null,null,null,null,null,null,null,null,null,null,null,null,null,null,null,null,null,null,null,null,null,null,null,null,null,null,null,null,null,null,null,null,null,null,null,null,null,null,null,null,null,null,null,null,null,null,null,null,null,null,null,null,null,null,null,null,null,null,null,null,null,null,null,null,null,null,null,null,null,null,null,null,null,null,null,null,null,null,null,null,null,null,null,null,null,null,null,null,null,null,null,null,null,null,null,null,null,null,null,null,null,null,null,null,null,null,null,null,null,null,null,null,null,null,null,null,null,null,null,null,null,null,null,null,null,null,null,null,null,null,null,null,null,null,null,null,null,null,null,null,null,null,null,null,null,null,null,null,null,null,null,null,null,null,null,null,null,null,null,null,null,null,null,null,null,null,null,null,null,null,null,null,null,null,null,null,null,null,null,null,null,null,null,null,null,null,null,null,null,null,null,null,null,null,null,null,null,null,null,null,null,null,null,null,null,null,null,null,null,null,null,null,null,null,null,null,null,null,null,null,null,null,null,null,null,null,null,null,null,null,null,null,null,null,null,null,null,null,null,null,null,null,null,null,null,null,null,null,null,null,null,null,null,null,null,null,null,null,null,null,null,null,null,null,null,null,null,null,null,null,null,null,null,null,null,null,null,null,null,null,null,null,null,null,null,null,null,null,null,null,null,null,null,null,null,null,null,null,null,null,null,null,null,null,null,null,null,null,null,null,null,null,null,null,null,null,null,null,null,null,null,null,null,null,null,null,null,null,null,null,null,null,null,null,null,null,null,null,null,null,null,null,null,null,null,null,null,null,null,null,null,null,null,null,null,null,null,null,null,null,null,null,null,null,null,null,null,null,null,null,null,null,null,null,null,null,null,null,null,null,null,null,null,null,null,null,null,null,null,null,null,null,null,null,null,null,null,null,null,null,null,null,null,null,null,null,null,null,null,null,null,null,null,null,null,null,null,null,null,null,null,null,null,null,null,null,null,null,null,null,null,null,null,null,null,null,null,null,null,null,null,null,null,null,null,null,null,null,null,null,null,null,null,null,null,null,null,null,null,null,null,null,null,null,null,null,null,null,null,null,null,null,null,null,null,null,null,null,null,null,null,null,null,null,null,null,null,null,null,null,null,null,null,null,null,null,null,null,null,null,null,null,null,null,null,null,null,null,null,null,null,null,null,null,null,null,null,null,null,null,null,null,null,null,null,null,null,null,null,null,null,null,null,null,null,null,null,null,null,null,null,null,null,null,null,null,null,null,null,null,null,null,null,null,null,null,null,null,null,null,null,null,null,null,null,null,null,null,null,null,null,null,null,null,null,null,null,null,null,null,null,null,null,null,null,null,null,null,null,null,null,null,null,null,null,null,null,null,null,null,null,null,null,null,null,null,null,null,null,null,null,null,null,null,null,null,null,null,null,null,null,null,null,null,null,null,null,null,null,null,null,null,null,null,null,null,null,null,null,null,null,null,null,null,null,null,null,null,null,null,null,null,null,null,null,null,null,null,null,null,null,null,null,null,null,null,null,null,null,null,null,null,null,null,null,null,null,null,null,null,null,null,null,null,null,null,null,null,null,null,null,null,null,null,null,null,null,null,null,null,null,null,null,null,null,null,null,null,null,null,null,null,null,null,null,null,null,null,null,null,null,null,null,null,null,null,null,null,null,null,null,null,null,null,null,null,null,null,null,null,null,null,null,null,null,null,null,null,null,null,null,null,null,null,null,null,null,null,null,null,null,null,null,null,null,null,null,null,null,null,null,null,null,null,null,null,null,null,null,null,null,null,null,null,null,null,null,null,null,null,null,null,null,null,null,null,null,null,null,null,null,null,null,null,null,null,null,null,null,null,null,null,null,null,null,null,null,null,null,null,null,null,null,null,null,null,null,null,null,null,null,null,null,null,null,null,null,null,null,null,null,null,null,null,null,null,null,null,null,null,null,null,null,null,null,null,null,null,null,null,null,null,null,null,null,null,null,null,null,null,null,null,null,null,null,null,null,null,null,null,null,null,null,null,null,null,null,null,null,null,null,null,null,null,null,null,null,null,null,null,null,null,null,null,null,null,null,null,null,null,null,null,null,null,null,null,null,null,null,null,null,null,null,null,null,null,null,null,null,null,null,null,null,null,null,null,null,null,null,null,null,null,null,null,null,null,null,null,null,null,null,null,null,null,null,null,null,null,null,null,null,null,null,null,null,null,null,null,null,null,null,null,null,null,null,null,null,null,null,null,null,null,null,null,null,null,null,null,null,null,null,null,null,null,null,null,null,null,null,null,null,null,null,null,null,null,null,null,null,null,null,null,null,null,null,null,null,null,null,null,null,null,null,null,null,null,null,null,null,null,null,null,null,null,null,null,null,null,null,null,null,null,null,null,null,null,null,null,null,null,null,null,null,null,null,null,null,null,null,null,null,null,null,null,null,null,null,null,null,null,null,null,null,null,null,null,null,null,null,null,null,null,null,null,null,null,null,null,null,null,null,null,null,null,null,null,null,null,null,null,null,null,null,null,null,null,null,null,null,null,null,null,null,null,null,null,null,null,null,null,null,null,null,null,null,null,null,null,null,null,null,null,null,null,null,null,null,null,null,null,null,null,null,null,null,null,null,null,null,null,null,null,null,null,null,null,null,null,null,null,null,null,null,null,null,null,null,null,null,null,null,null,null,null,null,null,null,null,null,null,null,null,null,null,null,null,null,null,null,null,null,null,null,null,null,null,null,null,null,null,null,null,null,null,null,null,null,null,null,null,null,null,null,null,null,null,null,null,null,null,null,null,null,null,null,null,null,null,null,null,null,null,null,null,null,null,null,null,null,null,null,null,null,null,null,null,null,null,null,null,null,null,null,null,null,null,null,null,null,null,null,null,null,null,null,null,null,null,null,null,null,null,null,null,null,null,null,null,null,null,null,null,null,null,null,null,null,null,null,null,null,null,null,null,null,null,null,null,null,null,null,null,null,null,null,null,null,null,null,null,null,null,null,null,null,null,null,null,null,null,null,null,null,null,null,null,null,null,null,null,null,null,null,null,null,null,null,null,null,null,null,null,null,null,null,null,null,null,null,null,null,null,null,null,null,null,null,null,null,null,null,null,null,null,null,null,null,null,null,null,null,null,null,null,null,null,null,null,null,null,null,null,null,null,null,null,null,null,null,null,null,null,null,null,null,null,null,null,null,null,null,null,null,null,null,null,null,null,null,null,null,null,null,null,null,null,null,null,null,null,null,null,null,null,null,null,null,null,null,null,null,null,null,null,null,null,null,null,null,null,null,null,null,null,null,null,null,null,null,null,null,null,null,null,null,null,null,null,null,null,null,null,null,null,null,null,null,null,null,null,null,null,null,null,null,null,null,null,null,null,null,null,null,null,null,null,null,null,null,null,null,null,null,null,null,null,null,null,null,null,null,null,null,null,null,null,null,null,null,null,null,null,null,null,null,null,null,null,null,null,null,null,null,null,null,null,null,null,null,null,null,null,null,null,null,null,null,null,null,null,null,null,null,null,null,null,null,null,null,null,null,null,null,null,null,null,null,null,null,null,null,null,null,null,null,null,null,null,null,null,null,null,null,null,null,null,null,null,null,null,null,null,null,null,null,null,null,null,null,null,null,null,null,null,null,null,null,null,null,null,null,null,null,null,null,null,null,null,null,null,null,null,null,null,null,null,null,null,null,null,null,null,null,null,null,null,null,null,null,null,null,null,null,null,null,null,null,null,null,null,null,null,null,null,null,null,null,null,null,null,null,null,null,null,null,null,null,null,null,null,null,null,null,null,null,null,null,null,null,null,null,null,null,null,null,null,null,null,null,null,null,null,null,null,null,null,null,null,null,null,null,null,null,null,null,null,null,null,null,null,null,null,null,null,null,null,null,null,null,null,null,null,null,null,null,null,null,null,null,null,null,null,null,null,null,null,null,null,null,null,null,null,null,null,null,null,null,null,null,null,null,null,null,null,null,null,null,null,null,null,null,null,null,null,null,null,null,null,null,null,null,null,null,null,null,null,null,null,null,null,null,null,null,null,null,null,null,null,null,null,null,null,null,null,null,null,null,null,null,null,null,null,null,null,null,null,null,null,null,null,null,null,null,null,null,null,null,null,null,null,null,null,null,null,null,null,null,null,null,null,null,null,null,null,null,null,null,null,null,null,null,null,null,null,null,null,null,null,null,null,null,null,null,null,null,null,null,null,null,null,null,null,null,null,null,null,null,null,null,null,null,null,null,null,null,null,null,null,null,null,null,null,null,null,null,null,null,null,null,null,null,null,null,null,null,null,null,null,null,null,null,null,null,null,null,null,null,null,null,null,null,null,null,null,null,null,null,null,null,null,null,null,null,null,null,null,null,null,null,null,null,null,null,null,null,null,null,null,null,null,null,null,null,null,null,null,null,null,null,null,null,null,null,null,null,null,null,null,null,null,null,null,null,null,null,null,null,null,null,null,null,null,null,null,null,null,null,null,null,null,null,null,null,null,null,null,null,null,null,null,null,null,null,null,null,null,null,null,null,null,null,null,null,null,null,null,null,null,null,null,null,null,null,null,null,null,null,null,null,null,null,null,null,null,null,null,null,null,null,null,null,null,null,null,null,null,null,null,null,null,null,null,null,null,null,null,null,null,null,null,null,null,null,null,null,null,null,null,null,null,null,null,null,null,null,null,null,null,null,null,null,null,null,null,null,null,null,null,null,null,null,null,null,null,null,null,null,null,null,null,null,null,null,null,null,null,null,null,null,null,null,null,null,null,null,null,null,null,null,null,null,null,null,null,null,null,null,null,null,null,null,null,null,null,null,null,null,null,null,null,null,null,null,null,null,null,null,null,null,null,null,null,null,null,null,null,null,null,null,null,null,null,null,null,null,null,null,null,null,null,null,null,null,null,null,null,null,null,null,null,null,null,null,null,null,null,null,null,null,null,null,null,null,null,null,null,null,null,null,null,null,null,null,null,null,null,null,null,null,null,null,null,null,null,null,null,null,null,null,null,null,null,null,null,null,null,null,null,null,null,null,null,null,null,null,null,null,null,null,null,null,null,null,null,null,null,null,null,null,null,null,null,null,null,null,null,null,null,null,null,null,null,null,null,null,null,null,null,null,null,null,null,null,null,null,null,null,null,null,null,null,null,null,null,null,null,null,null,null,null,null,null,null,null,null,null,null,null,null,null,null,null,null,null,null,null,null,null,null,null,null,null,null,null,null,null,null,null,null,null,null,null,null,null,null,null,null,null,null,null,null,null,null,null,null,null,null,null,null,null,null,null,null,null,null,null,null,null,null,null,null,null,null,null,null,null,null,null,null,null,null,null,null,null,null,null,null,null,null,null,null,null,null,null,null,null,null,null,null,null,null,null,null,null,null,null,null,null,null,null,null,null,null,null,null,null,null,null,null,null,null,null,null,null,null,null,null,null,null,null,null,null,null,null,null,null,null,null,null,null,null,null,null,null,null,null,null,null,null,null,null,null,null,null,null,null,null,null,null,null,null,null,null,null,null,null,null,null,null,null,null,null,null,null,null,null,null,null,null,null,null,null,null,null,null,null,null,null,null,null,null,null,null,null,null,null,null,null,null,null,null,null,null,null,null,null,null,null,null,null,null,null,null,null,null,null,null,null,null,null,null,null,null,null,null,null,null,null,null,null,null,null,null,null,null,null,null,null,null,null,null,null,null,null,null,null,null,null,null,null,null,null,null,null,null,null,null,null,null,null,null,null,null,null,null,null,null,null,null,null,null,null,null,null,null,null,null,null,null,null,null,null,null,null,null,null,null,null,null,null,null,null,null,null,null,null,null,null,null,null,null,null,null,null,null,null,null,null,null,null,null,null,null,null,null,null,null,null,null,null,null,null,null,null,null,null,null,null,null,null,null,null,null,null,null,null,null,null,null,null,null,null,null,null,null,null,null,null,null,null,null,null,null,null,null,null,null,null,null,null,null,null,null,null,null,null,null,null,null,null,null,null,null,null,null,null,null,null,null,null,null,null,null,null,null,null,null,null,null,null,null,null,null,null,null,null,null,null,null,null,null,null,null,null,null,null,null,null,null,null,null,null,null,null,null,null,null,null,null,null,null,null,null,null,null,null,null,null,null,null,null,null,null,null,null,null,null,null,null,null,null,null,null,null,null,null,null,null,null,null,null,null,null,null,null,null,null,null,null,null,null,null,null,null,null,null,null,null,null,null,null,null,null,null,null,null,null,null,null,null,null,null,null,null,null,null,null,null,null,null,null,null,null,null,null,null,null,null,null,null,null,null,null,null,null,null,null,null,null,null,null,null,null,null,null,null,null,null,null,null,null,null,null,null,null,null,null,null,null,null,null,null,null,null,null,null,null,null,null,null,null,null,null,null,null,null,null,null,null,null,null,null,null,null,null,null,null,null,null,null,null,null,null,null,null,null,null,null,null,null,null,null,null,null,null,null,null,null,null,null,null,null,null,null,null,null,null,null,null,null,null,null,null,null,null,null,null,null,null,null,null,null,null,null,null,null,null,null,null,null,null,null,null,null,null,null,null,null,null,null,null,null,null,null,null,null,null,null,null,null,null,null,null,null,null,null,null,null,null,null,null,null,null,null,null,null,null,null,null,null,null,null,null,null,null,null,null,null,null,null,null,null,null,null,null,null,null,null,null,null,null,null,null,null,null,null,null,null,null,null,null,null,null,null,null,null,null,null,null,null,null,null,null,null,null,null,null,null,null,null,null,null,null,null,null,null,null,null,null,null,null,null,null,null,null,null,null,null,null,null,null,null,null,null,null,null,null,null,null,null,null,null,null,null,null,null,null,null,null,null,null,null,null,null,null,null,null,null,null,null,null,null,null,null,null,null,null,null,null,null,null,null,null,null,null,null,null,null,null,null,null,null,null,null,null,null,null,null,null,null,null,null,null,null,null,null,null,null,null,null,null,null,null,null,null,null,null,null,null,null,null,null,null,null,null,null,null,null,null,null,null,null,null,null,null,null,null,null,null,null,null,null,null,null,null,null,null,null,null,null,null,null,null,null,null,null,null,null,null,null,null,null,null,null,null,null,null,null,null,null,null,null,null,null,null,null,null,null,null,null,null,null,null,null,null,null,null,null,null,null,null,null,null,null,null,null,null,null,null,null,null,null,null,null,null,null,null,null,null,null,null,null,null,null,null,null,null,null,null,null,null,null,null,null,null,null,null,null,null,null,null,null,null,null,null,null,null,null,null,null,null,null,null,null,null,null,null,null,null,null,null,null,null,null,null,null,null,null,null,null,null,null,null,null,null,null,null,null,null,null,null,null,null,null,null,null,null,null,null,null,null,null,null,null,null,null,null,null,null,null,null,null,null,null,null,null,null,null,null,null,null,null,null,null,null,null,null,null,null,null,null,null,null,null,null,null,null,null,null,null,null,null,null,null,null,null,null,null,null,null,null,null,null,null,null,null,null,null,null,null,null,null,null,null,null,null,null,null,null,null,null,null,null,null,null,null,null,null,null,null,null,null,null,null,null,null,null,null,null,null,null,null,null,null,null,null,null,null,null,null,null,null,null,null,null,null,null,null,null,null,null,null,null,null,null,null,null,null,null,null,null,null,null,null,null,null,null,null,null,null,null,null,null,null,null,null,null,null,null,null,null,null,null,null,null,null,null,null,null,null,null,null,null,null,null,null,null,null,null,null,null,null,null,null,null,null,null,null,null,null,null,null,null,null,null,null,null,null,null,null,null,null,null,null,null,null,null,null,null,null,null,null,null,null,null,null,null,null,null,null,null,null,null,null,null,null,null,null,null,null,null,null,null,null,null,null,null,null,null,null,null,null,null,null,null,null,null,null,null,null,null,null,null,null,null,null,null,null,null,null,null,null,null,null,null,null,null,null,null,null,null,null,null,null,null,null,null,null,null,null,null,null,null,null,null,null,null,null,null,null,null,null,null,null,null,null,null,null,null,null,null,null,null,null,null,null,null,null,null,null,null,null,null,null,null,null,null,null,null,null,null,null,null,null,null,null,null,null,null,null,null,null,null,null,null,null,null,null,null,null,null,null,null,null,null,null,null,null,null,null,null,null,null,null,null,null,null,null,null,null,null,null,null,null,null,null,null,null,null,null,null,null,null,null,null,null,null,null,null,null,null,null,null,null,null,null,null,null,null,null,null,null,null,null,null,null,null,null,null,null,null,null,null,null,null,null,null,null,null,null,null,null,null,null,null,null,null,null,null,null,null,null,null,null,null,null,null,null,null,null,null,null,null,null,null,null,null,null,null,null,null,null,null,null,null,null,null,null,null,null,null,null,null,null,null,null,null,null,null,null,null,null,null,null,null,null,null,null,null,null,null,null,null,null,null,null,null,null,null,null,null,null,null,null,null,null,null,null,null,null,null,null,null,null,null,null,null,null,null,null,null,null,null,null,null,null,null,null,null,null,null,null,null,null,null,null,null,null,null,null,null,null,null,null,null,null,null,null,null,null,null,null,null,null,null,null,null,null,null,null,null,null,null,null,null,null,null,null,null,null,null,null,null,null,null,null,null,null,null,null,null,null,null,null,null,null,null,null,null,null,null,null,null,null,null,null,null,null,null,null,null,null,null,null,null,null,null,null,null,null,null,null,null,null,null,null,null,null,null,null,null,null,null,null,null,null,null,null,null,null,null,null,null,null,null,null,null,null,null,null,null,null,null,null,null,null,null,null,null,null,null,null,null,null,null,null,null,null,null,null,null,null,null,null,null,null,null,null,null,null,null,null,null,null,null,null,null,null,null,null,null,null,null,null,null,null,null,null,null,null,null,null,null,null,null,null,null,null,null,null,null,null,null,null,null,null,null,null,null,null,null,null,null,null,null,null,null,null,null,null,null,null,null,null,null,null,null,null,null,null,null,null,null,null,null,null,null,null,null,null,null,null,null,null,null,null,null,null,null,null,null,null,null,null,null,null,null,null,null,null,null,null,null,null,null,null,null,null,null,null,null,null,null,null,null,null,null,null,null,null,null,null,null,null,null,null,null,null,null,null,null,null,null,null,null,null,null,null,null,null,null,null,null,null,null,null,null,null,null,null,null,null,null,null,null,null,null,null,null,null,null,null,null,null,null,null,null,null,null,null,null,null,null,null,null,null,null,null,null,null,null,null,null,null,null,null,null,null,null,null,null,null,null,null,null,null,null,null,null,null,null,null,null,null,null,null,null,null,null,null,null,null,null,null,null,null,null,null,null,null,null,null,null,null,null,null,null,null,null,null,null,null,null,null,null,null,null,null,null,null,null,null,null,null,null,null,null,null,null,null,null,null,null,null,null,null,null,null,null,null,null,null,null,null,null,null,null,null,null,null,null,null,null,null,null,null,null,null,null,null,null,null,null,null,null,null,null,null,null,null,null,null,null,null,null,null,null,null,null,null,null,null,null,null,null,null,null,null,null,null,null,null,null,null,null,null,null,null,null,null,null,null,null,null,null,null,null,null,null,null,null,null,null,null,null,null,null,null,null,null,null,null,null,null,null,null,null,null,null,null,null,null,null,null,null,null,null,null,null,null,null,null,null,null,null,null,null,null,null,null,null,null,null,null,null,null,null,null,null,null,null,null,null,null,null,null,null,null,null,null,null,null,null,null,null,null,null,null,null,null,null,null,null,null,null,null,null,null,null,null,null,null,null,null,null,null,null,null,null,null,null,null,null,null,null,null,null,null,null,null,null,null,null,null,null,null,null,null,null,null,null,null,null,null,null,null,null,null,null,null,null,null,null,null,null,null,null,null,null,null,null,null,null,null,null,null,null,null,null,null,null,null,null,null,null,null,null,null,null,null,null,null,null,null,null,null,null,null,null,null,null,null,null,null,null,null,null,null,null,null,null,null,null,null,null,null,null,null,null,null,null,null,null,null,null,null,null,null,null,null,null,null,null,null,null,null,null,null,null,null,null,null,null,null,null,null,null,null,null,null,null,null,null,null,null,null,null,null,null,null,null,null,null,null,null,null,null,null,null,null,null,null,null,null,null,null,null,null,null,null,null,null,null,null,null,null,null,null,null,null,null,null,null,null,null,null,null,null,null,null,null,null,null,null,null,null,null,null,null,null,null,null,null,null,null,null,null,null,null,null,null,null,null,null,null,null,null,null,null,null,null,null,null,null,null,null,null,null,null,null,null,null,null,null,null,null,null,null,null,null,null,null,null,null,null,null,null,null,null,null,null,null,null,null,null,null,null,null,null,null,null,null,null,null,null,null,null,null,null,null,null,null,null,null,null,null,null,null,null,null,null,null,null,null,null,null,null,null,null,null,null,null,null,null,null,null,null,null,null,null,null,null,null,null,null,null,null,null,null,null,null,null,null,null,null,null,null,null,null,null,null,null,null,null,null,null,null,null,null,null,null,null,null,null,null,null,null,null,null,null,null,null,null,null,null,null,null,null,null,null,null,null,null,null,null,null,null,null,null,null,null,null,null,null,null,null,null,null,null,null,null,null,null,null,null,null,null,null,null,null,null,null,null,null,null,null,null,null,null,null,null,null,null,null,null,null,null,null,null,null,null,null,null,null,null,null,null,null,null,null,null,null,null,null,null,null,null,null,null,null,null,null,null,null,null,null,null,null,null,null,null,null,null,null,null,null,null,null,null,null,null,null,null,null,null,null,null,null,null,null,null,null,null,null,null,null,null,null,null,null,null,null,null,null,null,null,null,null,null,null,null,null,null,null,null,null,null,null,null,null,null,null,null,null,null,null,null,null,null,null,null,null,null,null,null,null,null,null,null,null,null,null,null,null,null,null,null,null,null,null,null,null,null,null,null,null,null,null,null,null,null,null,null,null,null,null,null,null,null,null,null,null,null,null,null,null,null,null,null,null,null,null,null,null,null,null,null,null,null,null,null,null,null,null,null,null,null,null,null,null,null,null,null,null,null,null,null,null,null,null,null,null,null,null,null,null,null,null,null,null,null,null,null,null,null,null,null,null,null,null,null,null,null,null,null,null,null,null,null,null,null,null,null,null,null,null,null,null,null,null,null,null,null,null,null,null,null,null,null,null,null,null,null,null,null,null,null,null,null,null,null,null,null,null,null,null,null,null,null,null,null,null,null,null,null,null,null,null,null,null,null,null,null,null,null,null,null,null,null,null,null,null,null,null,null,null,null,null,null,null,null,null,null,null,null,null,null,null,null,null,null,null,null,null,null,null,null,null,null,null,null,null,null,null,null,null,null,null,null,null,null,null,null,null,null,null,null,null,null,null,null,null,null,null,null,null,null,null,null,null,null,null,null,null,null,null,null,null,null,null,null,null,null,null,null,null,null,null,null,null,null,null,null,null,null,null,null,null,null,null,null,null,null,null,null,null,null,null,null,null,null,null,null,null,null,null,null,null,null,null,null,null,null,null,null,null,null,null,null,null,null,null,null,null,null,null,null,null,null,null,null,null,null,null,null,null,null,null,null,null,null,null,null,null,null,null,null,null,null,null,null,null,null,null,null,null,null,null,null,null,null,null,null,null,null,null,null,null,null,null,null,null,null,null,null,null,null,null,null,null,null,null,null,null,null,null,null,null,null,null,null,null,null,null,null,null,null,null,null,null,null,null,null,null,null,null,null,null,null,null,null,null,null,null,null,null,null,null,null,null,null,null,null,null,null,null,null,null,null,null,null,null,null,null,null,null,null,null,null,null,null,null,null,null,null,null,null,null,null,null,null,null,null,null,null,null,null,null,null,null,null,null,null,null,null,null,null,null,null,null,null,null,null,null,null,null,null,null,null,null,null,null,null,null,null,null,null,null,null,null,null,null,null,null,null,null,null,null,null,null,null,null,null,null,null,null,null,null,null,null,null,null,null,null,null,null,null,null,null,null,null,null,null,null,null,null,null,null,null,null,null,null,null,null,null,null,null,null,null,null,null,null,null,null,null,null,null,null,null,null,null,null,null,null,null,null,null,null,null,null,null,null,null,null,null,null,null,null,null,null,null,null,null,null,null,null,null,null,null,null,null,null,null,null,null,null,null,null,null,null,null,null,null,null,null,null,null,null,null,null,null,null,null,null,null,null,null,null,null,null,null,null,null,null,null,null,null,null,null,null,null,null,null,null,null,null,null,null,null,null,null,null,null,null,null,null,null,null,null,null,null,null,null,null,null,null,null,null,null,null,null,null,null,null,null,null,null,null,null,null,null,null,null,null,null,null,null,null,null,null,null,null,null,null,null,null,null,null,null,null,null,null,null,null,null,null,null,null,null,null,null,null,null,null,null,null,null,null,null,null,null,null,null,null,null,null,null,null,null,null,null,null,null,null,null,null,null,null,null,null,null,null,null,null,null,null,null,null,null,null,null,null,null,null,null,null,null,null,null,null,null,null,null,null,null,null,null,null,null,null,null,null,null,null,null,null,null,null,null,null,null,null,null,null,null,null,null,null,null,null,null,null,null,null,null,null,null,null,null,null,null,null,null,null,null,null,null,null,null,null,null,null,null,null,null,null,null,null,null,null,null,null,null,null,null,null,null,null,null,null,null,null,null,null,null,null,null,null,null,null,null,null,null,null,null,null,null,null,null,null,null,null,null,null,null,null,null,null,null,null,null,null,null,null,null,null,null,null,null,null,null,null,null,null,null,null,null,null,null,null,null,null,null,null,null,null,null,null,null,null,null,null,null,null,null,null,null,null,null,null,null,null,null,null,null,null,null,null,null,null,null,null,null,null,null,null,null,null,null,null,null,null,null,null,null,null,null,null,null,null,null,null,null,null,null,null,null,null,null,null,null,null,null,null,null,null,null,null,null,null,null,null,null,null,null,null,null,null,null,null,null,null,null,null,null,null,null,null,null,null,null,null,null,null,null,null,null,null,null,null,null,null,null,null,null,null,null,null,null,null,null,null,null,null,null,null,null,null,null,null,null,null,null,null,null,null,null,null,null,null,null,null,null,null,null,null,null,null,null,null,null,null,null,null,null,null,null,null,null,null,null,null,null,null,null,null,null,null,null,null,null,null,null,null,null,null,null,null,null,null,null,null,null,null,null,null,null,null,null,null,null,null,null,null,null,null,null,null,null,null,null,null,null,null,null,null,null,null,null,null,null,null,null,null,null,null,null,null,null,null,null,null,null,null,null,null,null,null,null,null,null,null,null,null,null,null,null,null,null,null,null,null,null,null,null,null,null,null,null,null,null,null,null,null,null,null,null,null,null,null,null,null,null,null,null,null,null,null,null,null,null,null,null,null,null,null,null,null,null,null,null,null,null,null,null,null,null,null,null,null,null,null,null,null,null,null,null,null,null,null,null,null,null,null,null,null,null,null,null,null,null,null,null,null,null,null,null,null,null,null,null,null,null,null,null,null,null,null,null,null,null,null,null,null,null,null,null,null,null,null,null,null,null,null,null,null,null,null,null,null,null,null,null,null,null,null,null,null,null,null,null,null,null,null,null,null,null,null,null,null,null,null,null,null,null,null,null,null,null,null,null,null,null,null,null,null,null,null,null,null,null,null,null,null,null,null,null,null,null,null,null,null,null,null,null,null,null,null,null,null,null,null,null,null,null,null,null,null,null,null,null,null,null,null,null,null,null,null,null,null,null,null,null,null,null,null,null,null,null,null,null,null,null,null,null,null,null,null,null,null,null,null,null,null,null,null,null,null,null,null,null,null,null,null,null,null,null,null,null,null,null,null,null,null,null,null,null,null,null,null,null,null,null,null,null,null,null,null,null,null,null,null,null,null,null,null,null,null,null,null,null,null,null,null,null,null,null,null,null,null,null,null,null,null,null,null,null,null,null,null,null,null,null,null,null,null,null,null,null,null,null,null,null,null,null,null,null,null,null,null,null,null,null,null,null,null,null,null,null,null,null,null,null,null,null,null,null,null,null,null,null,null,null,null,null,null,null,null,null,null,null,null,null,null,null,null,null,null,null,null,null,null,null,null,null,null,null,null,null,null,null,null,null,null,null,null,null,null,null,null,null,null,null,null,null,null,null,null,null,null,null,null,null,null,null,null,null,null,null,null,null,null,null,null,null,null,null,null,null,null,null,null,null,null,null,null,null,null,null,null,null,null,null,null,null,null,null,null,null,null,null,null,null,null,null,null,null,null,null,null,null,null,null,null,null,null,null,null,null,null,null,null,null,null,null,null,null,null,null,null,null,null,null,null,null,null,null,null,null,null,null,null,null,null,null,null,null,null,null,null,null,null,null,null,null,null,null,null,null,null,null,null,null,null,null,null,null,null,null,null,null,null,null,null,null,null,null,null,null,null,null,null,null,null,null,null,null,null,null,null,null,null,null,null,null,null,null,null,null,null,null,null,null,null,null,null,null,null,null,null,null,null,null,null,null,null,null,null,null,null,null,null,null,null,null,null,null,null,null,null,null,null,null,null,null,null,null,null,null,null,null,null,null,null,null,null,null,null,null,null,null,null,null,null,null,null,null,null,null,null,null,null,null,null,null,null,null,null,null,null,null,null,null,null,null,null,null,null,null,null,null,null,null,null,null,null,null,null,null,null,null,null,null,null,null,null,null,null,null,null,null,null,null,null,null,null,null,null,null,null,null,null,null,null,null,null,null,null,null,null,null,null,null,null,null,null,null,null,null,null,null,null,null,null,null,null,null,null,null,null,null,null,null,null,null,null,null,null,null,null,null,null,null,null,null,null,null,null,null,null,null,null,null,null,null,null,null,null,null,null,null,null,null,null,null,null,null,null,null,null,null,null,null,null,null,null,null,null,null,null,null,null,null,null,null,null,null,null,null,null,null,null,null,null,null,null,null,null,null,null,null,null,null,null,null,null,null,null,null,null,null,null,null,null,null,null,null,null,null,null,null,null,null,null,null,null,null,null,null,null,null,null,null,null,null,null,null,null,null,null,null,null,null,null,null,null,null,null,null,null,null,null,null,null,null,null,null,null,null,null,null,null,null,null,null,null,null,null,null,null,null,null,null,null,null,null,null,null,null,null,null,null,null,null,null,null,null,null,null,null,null,null,null,null,null,null,null,null,null,null,null,null,null,null,null,null,null,null,null,null,null,null,null,null,null,null,null,null,null,null,null,null,null,null,null,null,null,null,null,null,null,null,null,null,null,null,null,null,null,null,null,null,null,null,null,null,null,null,null,null,null,null,null,null,null,null,null,null,null,null,null,null,null,null,null,null,null,null,null,null,null,null,null,null,null,null,null,null,null,null,null,null,null,null,null,null,null,null,null,null,null,null,null,null,null,null,null,null,null,null,null,null,null,null,null,null,null,null,null,null,null,null,null,null,null,null,null,null,null,null,null,null,null,null,null,null,null,null,null,null,null,null,null,null,null,null,null,null,null,null,null,null,null,null,null,null,null,null,null,null,null,null,null,null,null,null,null,null,null,null,null,null,null,null,null,null,null,null,null,null,null,null,null,null,null,null,null,null,null,null,null,null,null,null,null,null,null,null,null,null,null,null,null,null,null,null,null,null,null,null,null,null,null,null,null,null,null,null,null,null,null,null,null,null,null,null,null,null,null,null,null,null,null,null,null,null,null,null,null,null,null,null,null,null,null,null,null,null,null,null,null,null,null,null,null,null,null,null,null,null,null,null,null,null,null,null,null,null,null,null,null,null,null,null,null,null,null,null,null,null,null,null,null,null,null,null,null,null,null,null,null,null,null,null,null,null,null,null,null,null,null,null,null,null,null,null,null,null,null,null,null,null,null,null,null,null,null,null,null,null,null,null,null,null,null,null,null,null,null,null,null,null,null,null,null,null,null,null,null,null,null,null,null,null,null,null,null,null,null,null,null,null,null,null,null,null,null,null,null,null,null,null,null,null,null,null,null,null,null,null,null,null,null,null,null,null,null,null,null,null,null,null,null,null,null,null,null,null,null,null,null,null,null,null,null,null,null,null,null,null,null,null,null,null,null,null,null,null,null,null,null,null,null,null,null,null,null,null,null,null,null,null,null,null,null,null,null,null,null,null,null,null,null,null,null,null,null,null,null,null,null,null,null,null,null,null,null,null,null,null,null,null,null,null,null,null,null,null,null,null,null,null,null,null,null,null,null,null,null,null,null,null,null,null,null,null,null,null,null,null,null,null,null,null,null,null,null,null,null,null,null,null,null,null,null,null,null,null,null,null,null,null,null,null,null,null,null,null,null,null,null,null,null,null,null,null,null,null,null,null,null,null,null,null,null,null,null,null,null,null,null,null,null,null,null,null,null,null,null,null,null,null,null,null,null,null,null,null,null,null,null,null,null,null,null,null,null,null,null,null,null,null,null,null,null,null,null,null,null,null,null,null,null,null,null,null,null,null,null,null,null,null,null,null,null,null,null,null,null,null,null,null,null,null,null,null,null,null,null,null,null,null,null,null,null,null,null,null,null,null,null,null,null,null,null,null,null,null,null,null,null,null,null,null,null,null,null,null,null,null,null,null,null,null,null,null,null,null,null,null,null,null,null,null,null,null,null,null,null,null,null,null,null,null,null,null,null,null,null,null,null,null,null,null,null,null,null,null,null,null,null,null,null,null,null,null,null,null,null,null,null,null,null,null,null,null,null,null,null,null,null,null,null,null,null,null,null,null,null,null,null,null,null,null,null,null,null,null,null,null,null,null,null,null,null,null,null,null,null,null,null,null,null,null,null,null,null,null,null,null,null,null,null,null,null,null,null,null,null,null,null,null,null,null,null,null,null,null,null,null,null,null,null,null,null,null,null,null,null,null,null,null,null,null,null,null,null,null,null,null,null,null,null,null,null,null,null,null,null,null,null,null,null,null,null,null,null,null,null,null,null,null,null,null,null,null,null,null,null,null,null,null,null,null,null,null,null,null,null,null,null,null,null,null,null,null,null,null,null,null,null,null,null,null,null,null,null,null,null,null,null,null,null,null,null,null,null,null,null,null,null,null,null,null,null,null,null,null,null,null,null,null,null,null,null,null,null,null,null,null,null,null,null,null,null,null,null,null,null,null,null,null,null,null,null,null,null,null,null,null,null,null,null,null,null,null,null,null,null,null,null,null,null,null,null,null,null,null,null,null,null,null,null,null,null,null,null,null,null,null,null,null,null,null,null,null,null,null,null,null,null,null,null,null,null,null,null,null,null,null,null,null,null,null,null,null,null,null,null,null,null,null,null,null,null,null,null,null,null,null,null,null,null,null,null,null,null,null,null,null,null,null,null,null,null,null,null,null,null,null,null,null,null,null,null,null,null,null,null,null,null,null,null,null,null,null,null,null,null,null,null,null,null,null,null,null,null,null,null,null,null,null,null,null,null,null,null,null,null,null,null,null,null,null,null,null,null,null,null,null,null,null,null,null,null,null,null,null,null,null,null,null,null,null,null,null,null,null,null,null,null,null,null,null,null,null,null,null,null,null,null,null,null,null,null,null,null,null,null,null,null,null,null,null,null,null,null,null,null,null,null,null,null,null,null,null,null,null,null,null,null,null,null,null,null,null,null,null,null,null,null,null,null,null,null,null,null,null,null,null,null,null,null,null,null,null,null,null,null,null,null,null,null,null,null,null,null,null,null,null,null,null,null,null,null,null,null,null,null,null,null,null,null,null,null,null,null,null,null,null,null,null,null,null,null,null,null,null,null,null,null,null,null,null,null,null,null,null,null,null,null,null,null,null,null,null,null,null,null,null,null,null,null,null,null,null,null,null,null,null,null,null,null,null,null,null,null,null,null,null,null,null,null,null,null,null,null,null,null,null,null,null,null,null,null,null,null,null,null,null,null,null,null,null,null,null,null,null,null,null,null,null,null,null,null,null,null,null,null,null,null,null,null,null,null,null,null,null,null,null,null,null,null,null,null,null,null,null,null,null,null,null,null,null,null,null,null,null,null,null,null,null,null,null,null,null,null,null,null,null,null,null,null,null,null,null,null,null,null,null,null,null,null,null,null,null,null,null,null,null,null,null,null,null,null,null,null,null,null,null,null,null,null,null,null,null,null,null,null,null,null,null,null,null,null,null,null,null,null,null,null,null,null,null,null,null,null,null,null,null,null,null,null,null,null,null,null,null,null,null,null,null,null,null,null,null,null,null,null,null,null,null,null,null,null,null,null,null,null,null,null,null,null,null,null,null,null,null,null,null,null,null,null,null,null,null,null,null,null,null,null,null,null,null,null,null,null,null,null,null,null,null,null,null,null,null,null,null,null,null,null,null,null,null,null,null,null,null,null,null,null,null,null,null,null,null,null,null,null,null,null,null,null,null,null,null,null,null,null,null,null,null,null,null,null,null,null,null,null,null,null,null,null,null,null,null,null,null,null,null,null,null,null,null,null,null,null,null,null,null,null,null,null,null,null,null,null,null,null,null,null,null,null,null,null,null,null,null,null,null,null,null,null,null,null,null,null,null,null,null,null,null,null,null,null,null,null,null,null,null,null,null,null,null,null,null,null,null,null,null,null,null,null,null,null,null,null,null,null,null,null,null,null,null,null,null,null,null,null,null,null,null,null,null,null,null,null,null,null,null,null,null,null,null,null,null,null,null,null,null,null,null,null,null,null,null,null,null,null,null,null,null,null,null,null,null,null,null,null,null,null,null,null,null,null,null,null,null,null,null,null,null,null,null,null,null,null,null,null,null,null,null,null,null,null,null,null,null,null,null,null,null,null,null,null,null,null,null,null,null,null,null,null,null,null,null,null,null,null,null,null,null,null,null,null,null,null,null,null,null,null,null,null,null,null,null,null,null,null,null,null,null,null,null,null,null,null,null,null,null,null,null,null,null,null,null,null,null,null,null,null,null,null,null,null,null,null,null,null,null,null,null,null,null,null,null,null,null,null,null,null,null,null,null,null,null,null,null,null,null,null,null,null,null,null,null,null,null,null,null,null,null,null,null,null,null,null,null,null,null,null,null,null,null,null,null,null,null,null,null,null,null,null,null,null,null,null,null,null,null,null,null,null,null,null,null,null,null,null,null,null,null,null,null,null,null,null,null,null,null,null,null,null,null,null,null,null,null,null,null,null,null,null,null,null,null,null,null,null,null,null,null,null,null,null,null,null,null,null,null,null,null,null,null,null,null,null,null,null,null,null,null,null,null,null,null,null,null,null,null,null,null,null,null,null,null,null,null,null,null,null,null,null,null,null,null,null,null,null,null,null,null,null,null,null,null,null,null,null,null,null,null,null,null,null,null,null,null,null,null,null,null,null,null,null,null,null,null,null,null,null,null,null,null,null,null,null,null,null,null,null,null,null,null,null,null,null,null,null,null,null,null,null,null,null,null,null,null,null,null,null,null,null,null,null,null,null,null,null,null,null,null,null,null,null,null,null,null,null,null,null,null,null,null,null,null,null,null,null,null,null,null,null,null,null,null,null,null,null,null,null,null,null,null,null,null,null,null,null,null,null,null,null,null,null,null,null,null,null,null,null,null,null,null,null,null,null,null,null,null,null,null,null,null,null,null,null,null,null,null,null,null,null,null,null,null,null,null,null,null,null,null,null,null,null,null,null,null,null,null,null,null,null,null,null,null,null,null,null,null,null,null,null,null,null,null,null,null,null,null,null,null,null,null,null,null,null,null,null,null,null,null,null,null,null,null,null,null,null,null,null,null,null,null,null,null,null,null,null,null,null,null,null,null,null,null,null,null,null,null,null,null,null,null,null,null,null,null,null,null,null,null,null,null,null,null,null,null,null,null,null,null,null,null,null,null,null,null,null,null,null,null,null,null,null,null,null,null,null,null,null,null,null,null,null,null,null,null,null,null,null,null,null,null,null,null,null,null,null,null,null,null,null,null,null,null,null,null,null,null,null,null,null,null,null,null,null,null,null,null,null,null,null,null,null,null,null,null,null,null,null,null,null,null,null,null,null,null,null,null,null,null,null,null,null,null,null,null,null,null,null,null,null,null,null,null,null,null,null,null,null,null,null,null,null,null,null,null,null,null,null,null,null,null,null,null,null,null,null,null,null,null,null,null,null,null,null,null,null,null,null,null,null,null,null,null,null,null,null,null,null,null,null,null,null,null,null,null,null,null,null,null,null,null,null,null,null,null,null,null,null,null,null,null,null,null,null,null,null,null,null,null,null,null,null,null,null,null,null,null,null,null,null,null,null,null,null,null,null,null,null,null,null,null,null,null,null,null,null,null,null,null,null,null,null,null,null,null,null,null,null,null,null,null,null,null,null,null,null,null,null,null,null,null,null,null,null,null,null,null,null,null,null,null,null,null,null,null,null,null,null,null,null,null,null,null,null,null,null,null,null,null,null,null,null,null,null,null,null,null,null,null,null,null,null,null,null,null,null,null,null,null,null,null,null,null,null,null,null,null,null,null,null,null,null,null,null,null,null,null,null,null,null,null,null,null,null,null,null,null,null,null,null,null,null,null,null,null,null,null,null,null,null,null,null,null,null,null,null,null,null,null,null,null,null,null,null,null,null,null,null,null,null,null,null,null,null,null,null,null,null,null,null,null,null,null,null,null,null,null,null,null,null,null,null,null,null,null,null,null,null,null,null,null,null,null,null,null,null,null,null,null,null,null,null,null,null,null,null,null,null,null,null,null,null,null,null,null,null,null,null,null,null,null,null,null,null,null,null,null,null,null,null,null,null,null,null,null,null,null,null,null,null,null,null,null,null,null,null,null,null,null,null,null,null,null,null,null,null,null,null,null,null,null,null,null,null,null,null,null,null,null,null,null,null,null,null,null,null,null,null,null,null,null,null,null,null,null,null,null,null,null,null,null,null,null,null,null,null,null,null,null,null,null,null,null,null,null,null,null,null,null,null,null,null,null,null,null,null,null,null,null,null,null,null,null,null,null,null,null,null,null,null,null,null,null,null,null,null,null,null,null,null,null,null,null,null,null,null,null,null,null,null,null,null,null,null,null,null,null,null,null,null,null,null,null,null,null,null,null,null,null,null,null,null,null,null,null,null,null,null,null,null,null,null,null,null,null,null,null,null,null,null,null,null,null,null,null,null,null,null,null,null,null,null,null,null,null,null,null,null,null,null,null,null,null,null,null,null,null,null,null,null,null,null,null,null,null,null,null,null,null,null,null,null,null,null,null,null,null,null,null,null,null,null,null,null,null,null,null,null,null,null,null,null,null,null,null,null,null,null,null,null,null,null,null,null,null,null,null,null,null,null,null,null,null,null,null,null,null,null,null,null,null,null,null,null,null,null,null,null,null,null,null,null,null,null,null,null,null,null,null,null,null,null,null,null,null,null,null,null,null,null,null,null,null,null,null,null,null,null,null,null,null,null,null,null,null,null,null,null,null,null,null,null,null,null,null,null,null,null,null,null,null,null,null,null,null,null,null,null,null,null,null,null,null,null,null,null,null,null,null,null,null,null,null,null,null,null,null,null,null,null,null,null,null,null,null,null,null,null,null,null,null,null,null,null,null,null,null,null,null,null,null,null,null,null,null,null,null,null,null,null,null,null,null,null,null,null,null,null,null,null,null,null,null,null,null,null,null,null,null,null,null,null,null,null,null,null,null,null,null,null,null,null,null,null,null,null,null,null,null,null,null,null,null,null,null,null,null,null,null,null,null,null,null,null,null,null,null,null,null,null,null,null,null,null,null,null,null,null,null,null,null,null,null,null,null,null,null,null,null,null,null,null,null,null,null,null,null,null,null,null,null,null,null,null,null,null,null,null,null,null,null,null,null,null,null,null,null,null,null,null,null,null,null,null,null,null,null,null,null,null,null,null,null,null,null,null,null,null,null,null,null,null,null,null,null,null,null,null,null,null,null,null,null,null,null,null,null,null,null,null,null,null,null,null,null,null,null,null,null,null,null,null,null,null,null,null,null,null,null,null,null,null,null,null,null,null,null,null,null,null,null,null,null,null,null,null,null,null,null,null,null,null,null,null,null,null,null,null,null,null,null,null,null,null,null,null,null,null,null,null,null,null,null,null,null,null,null,null,null,null,null,null,null,null,null,null,null,null,null,null,null,null,null,null,null,null,null,null,null,null,null,null,null,null,null,null,null,null,null,null,null,null,null,null,null,null,null,null,null,null,null,null,null,null,null,null,null,null,null,null,null,null,null,null,null,null,null,null,null,null,null,null,null,null,null,null,null,null,null,null,null,null,null,null,null,null,null,null,null,null,null,null,null,null,null,null,null,null,null,null,null,null,null,null,null,null,null,null,null,null,null,null,null,null,null,null,null,null,null,null,null,null,null,null,null,null,null,null,null,null,null,null,null,null,null,null,null,null,null,null,null,null,null,null,null,null,null,null,null,null,null,null,null,null,null,null,null,null,null,null,null,null,null,null,null,null,null,null,null,null,null,null,null,null,null,null,null,null,null,null,null,null,null,null,null,null,null,null,null,null,null,null,null,null,null,null,null,null,null,null,null,null,null,null,null,null,null,null,null,null,null,null,null,null,null,null,null,null,null,null,null,null,null,null,null,null,null,null,null,null,null,null,null,null,null,null,null,null,null,null,null,null,null,null,null,null,null,null,null,null,null,null,null,null,null,null,null,null,null,null,null,null,null,null,null,null,null,null,null,null,null,null,null,null,null,null,null,null,null,null,null,null,null,null,null,null,null,null,null,null,null,null,null,null,null,null,null,null,null,null,null,null,null,null,null,null,null,null,null,null,null,null,null,null,null,null,null,null,null,null,null,null,null,null,null,null,null,null,null,null,null,null,null,null,null,null,null,null,null,null,null,null,null,null,null,null,null,null,null,null,null,null,null,null,null,null,null,null,null,null,null,null,null,null,null,null,null,null,null,null,null,null,null,null,null,null,null,null,null,null,null,null,null,null,null,null,null,null,null,null,null,null,null,null,null,null,null,null,null,null,null,null,null,null,null,null,null,null,null,null,null,null,null,null,null,null,null,null,null,null,null,null,null,null,null,null,null,null,null,null,null,null,null,null,null,null,null,null,null,null,null,null,null,null,null,null,null,null,null,null,null,null,null,null,null,null,null,null,null,null,null,null,null,null,null,null,null,null,null,null,null,null,null,null,null,null,null,null,null,null,null,null,null,null,null,null,null,null,null,null,null,null,null,null,null,null,null,null,null,null,null,null,null,null,null,null,null,null,null,null,null,null,null,null,null,null,null,null,null,null,null,null,null,null,null,null,null,null,null,null,null,null,null,null,null,null,null,null,null,null,null,null,null,null,null,null,null,null,null,null,null,null,null,null,null,null,null,null,null,null,null,null,null,null,null,null,null,null,null,null,null,null,null,null,null,null,null,null,null,null,null,null,null,null,null,null,null,null,null,null,null,null,null,null,null,null,null,null,null,null,null,null,null,null,null,null,null,null,null,null,null,null,null,null,null,null,null,null,null,null,null,null,null,null,null,null,null,null,null,null,null,null,null,null,null,null,null,null,null,null,null,null,null,null,null,null,null,null,null,null,null,null,null,null,null,null,null,null,null,null,null,null,null,null,null,null,null,null,null,null,null,null,null,null,null,null,null,null,null,null,null,null,null,null,null,null,null,null,null,null,null,null,null,null,null,null,null,null,null,null,null,null,null,null,null,null,null,null,null,null,null,null,null,null,null,null,null,null,null,null,null,null,null,null,null,null,null,null,null,null,null,null,null,null,null,null,null,null,null,null,null,null,null,null,null,null,null,null,null,null,null,null,null,null,null,null,null,null,null,null,null,null,null,null,null,null,null,null,null,null,null,null,null,null,null,null,null,null,null,null,null,null,null,null,null,null,null,null,null,null,null,null,null,null,null,null,null,null,null,null,null,null,null,null,null,null,null,null,null,null,null,null,null,null,null,null,null,null,null,null,null,null,null,null,null,null,null,null,null,null,null,null,null,null,null,null,null,null,null,null,null,null,null,null,null,null,null,null,null,null,null,null,null,null,null,null,null,null,null,null,null,null,null,null,null,null,null,null,null,null,null,null,null,null,null,null,null,null,null,null,null,null,null,null,null,null,null,null,null,null,null,null,null,null,null,null,null,null,null,null,null,null,null,null,null,null,null,null,null,null,null,null,null,null,null,null,null,null,null,null,null,null,null,null,null,null,null,null,null,null,null,null,null,null,null,null,null,null,null,null,null,null,null,null,null,null,null,null,null,null,null,null,null,null,null,null,null,null,null,null,null,null,null,null,null,null,null,null,null,null,null,null,null,null,null,null,null,null,null,null,null,null,null,null,null,null,null,null,null,null,null,null,null,null,null,null,null,null,null,null,null,null,null,null,null,null,null,null,null,null,null,null,null,null,null,null,null,null,null,null,null,null,null,null,null,null,null,null,null,null,null,null,null,null,null,null,null,null,null,null,null,null,null,null,null,null,null,null,null,null,null,null,null,null,null,null,null,null,null,null,null,null,null,null,null,null,null,null,null,null,null,null,null,null,null,null,null,null,null,null,null,null,null,null,null,null,null,null,null,null,null,null,null,null,null,null,null,null,null,null,null,null,null,null,null,null,null,null,null,null,null,null,null,null,null,null,null,null,null,null,null,null,null,null,null,null,null,null,null,null,null,null,null,null,null,null,null,null,null,null,null,null,null,null,null,null,null,null,null,null,null,null,null,null,null,null,null,null,null,null,null,null,null,null,null,null,null,null,null,null,null,null,null,null,null,null,null,null,null,null,null,null,null,null,null,null,null,null,null,null,null,null,null,null,null,null,null,null,null,null,null,null,null,null,null,null,null,null,null,null,null,null,null,null,null,null,null,null,null,null,null,null,null,null,null,null,null,null,null,null,null,null,null,null,null,null,null,null,null,null,null,null,null,null,null,null,null,null,null,null,null,null,null,null,null,null,null,null,null,null,null,null,null,null,null,null,null,null,null,null,null,null,null,null,null,null,null,null,null,null,null,null,null,null,null,null,null,null,null,null,null,null,null,null,null,null,null,null,null,null,null,null,null,null,null,null,null,null,null,null,null,null,null,null,null,null,null,null,null,null,null,null,null,null,null,null,null,null,null,null,null,null,null,null,null,null,null,null,null,null,null,null,null,null,null,null,null,null,null,null,null,null,null,null,null,null,null,null,null,null,null,null,null,null,null,null,null,null,null,null,null,null,null,null,null,null,null,null,null,null,null,null,null,null,null,null,null,null,null,null,null,null,null,null,null,null,null,null,null,null,null,null,null,null,null,null,null,null,null,null,null,null,null,null,null,null,null,null,null,null,null,null,null,null,null,null,null,null,null,null,null,null,null,null,null,null,null,null,null,null,null,null,null,null,null,null,null,null,null,null,null,null,null,null,null,null,null,null,null,null,null,null,null,null,null,null,null,null,null,null,null,null,null,null,null,null,null,null,null,null,null,null,null,null,null,null,null,null,null,null,null,null,null,null,null,null,null,null,null,null,null,null,null,null,null,null,null,null,null,null,null,null,null,null,null,null,null,null,null,null,null,null,null,null,null,null,null,null,null,null,null,null,null,null,null,null,null,null,null,null,null,null,null,null,null,null,null,null,null,null,null,null,null,null,null,null,null,null,null,null,null,null,null,null,null,null,null,null,null,null,null,null,null,null,null,null,null,null,null,null,null,null,null,null,null,null,null,null,null,null,null,null,null,null,null,null,null,null,null,null,null,null,null,null,null,null,null,null,null,null,null,null,null,null,null,null,null,null,null,null,null,null,null,null,null,null,null,null,null,null,null,null,null,null,null,null,null,null,null,null,null,null,null,null,null,null,null,null,null,null,null,null,null,null,null,null,null,null,null,null,null,null,null,null,null,null,null,null,null,null,null,null,null,null,null,null,null,null,null,null,null,null,null,null,null,null,null,null,null,null,null,null,null,null,null,null,null,null,null,null,null,null,null,null,null,null,null,null,null,null,null,null,null,null,null,null,null,null,null,null,null,null,null,null,null,null,null,null,null,null,null,null,null,null,null,null,null,null,null,null,null,null,null,null,null,null,null,null,null,null,null,null,null,null,null,null,null,null,null,null,null,null,null,null,null,null,null,null,null,null,null,null,null,null,null,null,null,null,null,null,null,null,null,null,null,null,null,null,null,null,null,null,null,null,null,null,null,null,null,null,null,null,null,null,null,null,null,null,null,null,null,null,null,null,null,null,null,null,null,null,null,null,null,null,null,null,null,null,null,null,null,null,null,null,null,null,null,null,null,null,null,null,null,null,null,null,null,null,null,null,null,null,null,null,null,null,null,null,null,null,null,null,null,null,null,null,null,null,null,null,null,null,null,null,null,null,null,null,null,null,null,null,null,null,null,null,null,null,null,null,null,null,null,null,null,null,null,null,null,null,null,null,null,null,null,null,null,null,null,null,null,null,null,null,null,null,null,null,null,null,null,null,null,null,null,null,null,null,null,null,null,null,null,null,null,null,null,null,null,null,null,null,null,null,null,null,null,null,null,null,null,null,null,null,null,null,null,null,null,null,null,null,null,null,null,null,null,null,null,null,null,null,null,null,null,null,null,null,null,null,null,null,null,null,null,null,null,null,null,null,null,null,null,null,null,null,null,null,null,null,null,null,null,null,null,null,null,null,null,null,null,null,null,null,null,null,null,null,null,null,null,null,null,null,null,null,null,null,null,null,null,null,null,null,null,null,null,null,null,null,null,null,null,null,null,null,null,null,null,null,null,null,null,null,null,null,null,null,null,null,null,null,null,null,null,null,null,null,null,null,null,null,null,null,null,null,null,null,null,null,null,null,null,null,null,null,null,null,null,null,null,null,null,null,null,null,null,null,null,null,null,null,null,null,null,null,null,null,null,null,null,null,null,null,null,null,null,null,null,null,null,null,null,null,null,null,null,null,null,null,null,null,null,null,null,null,null,null,null,null,null,null,null,null,null,null,null,null,null,null,null,null,null,null,null,null,null,null,null,null,null,null,null,null,null,null,null,null,null,null,null,null,null,null,null,null,null,null,null,null,null,null,null,null,null,null,null,null,null,null,null,null,null,null,null,null,null,null,null,null,null,null,null,null,null,null,null,null,null,null,null,null,null,null,null,null,null,null,null,null,null,null,null,null,null,null,null,null,null,null,null,null,null,null,null,null,null,null,null,null,null,null,null,null,null,null,null,null,null,null,null,null,null,null,null,null,null,null,null,null,null,null,null,null,null,null,null,null,null,null,null,null,null,null,null,null,null,null,null,null,null,null,null,null,null,null,null,null,null,null,null,null,null,null,null,null,null,null,null,null,null,null,null,null,null,null,null,null,null,null,null,null,null,null,null,null,null,null,null,null,null,null,null,null,null,null,null,null,null,null,null,null,null,null,null,null,null,null,null,null,null,null,null,null,null,null,null,null,null,null,null,null,null,null,null,null,null,null,null,null,null,null,null,null,null,null,null,null,null,null,null,null,null,null,null,null,null,null,null,null,null,null,null,null,null,null,null,null,null,null,null,null,null,null,null,null,null,null,null,null,null,null,null,null,null,null,null,null,null,null,null,null,null,null,null,null,null,null,null,null,null,null,null,null,null,null,null,null,null,null,null,null,null,null,null,null,null,null,null,null,null,null,null,null,null,null,null,null,null,null,null,null,null,null,null,null,null,null,null,null,null,null,null,null,null,null,null,null,null,null,null,null,null,null,null,null,null,null,null,null,null,null,null,null,null,null,null,null,null,null,null,null,null,null,null,null,null,null,null,null,null,null,null,null,null,null,null,null,null,null,null,null,null,null,null,null,null,null,null,null,null,null,null,null,null,null,null,null,null,null,null,null,null,null,null,null,null,null,null,null,null,null,null,null,null,null,null,null,null,null,null,null,null,null,null,null,null,null,null,null,null,null,null,null,null,null,null,null,null,null,null,null,null,null,null,null,null,null,null,null,null,null,null,null,null,null,null,null,null,null,null,null,null,null,null,null,null,null,null,null,null,null,null,null,null,null,null,null,null,null,null,null,null,null,null,null,null,null,null,null,null,null,null,null,null,null,null,null,null,null,null,null,null,null,null,null,null,null,null,null,null,null,null,null,null,null,null,null,null,null,null,null,null,null,null,null,null,null,null,null,null,null,null,null,null,null,null,null,null,null,null,null,null,null,null,null,null,null,null,null,null,null,null,null,null,null,null,null,null,null,null,null,null,null,null,null,null,null,null,null,null,null,null,null,null,null,null,null,null,null,null,null,null,null,null,null,null,null,null,null,null,null,null,null,null,null,null,null,null,null,null,null,null,null,null,null,null,null,null,null,null,null,null,null,null,null,null,null,null,null,null,null,null,null,null,null,null,null,null,null,null,null,null,null,null,null,null,null,null,null,null,null,null,null,null,null,null,null,null,null,null,null,null,null,null,null,null,null,null,null,null,null,null,null,null,null,null,null,null,null,null,null,null,null,null,null,null,null,null,null,null,null,null,null,null,null,null,null,null,null,null,null,null,null,null,null,null,null,null,null,null,null,null,null,null,null,null,null,null,null,null,null,null,null,null,null,null,null,null,null,null,null,null,null,null,null,null,null,null,null,null,null,null,null,null,null,null,null,null,null,null,null,null,null,null,null,null,null,null,null,null,null,null,null,null,null,null,null,null,null,null,null,null,null,null,null,null,null,null,null,null,null,null,null,null,null,null,null,null,null,null,null,null,null,null,null,null,null,null,null,null,null,null,null,null,null,null,null,null,null,null,null,null,null,null,null,null,null,null,null,null,null,null,null,null,null,null,null,null,null,null,null,null,null,null,null,null,null,null,null,null,null,null,null,null,null,null,null,null,null,null,null,null,null,null,null,null,null,null,null,null,null,null,null,null,null,null,null,null,null,null,null,null,null,null,null,null,null,null,null,null,null,null,null,null,null,null,null,null,null,null,null,null,null,null,null,null,null,null,null,null,null,null,null,null,null,null,null,null,null,null,null,null,null,null,null,null,null,null,null,null,null,null,null,null,null,null,null,null,null,null,null,null,null,null,null,null,null,null,null,null,null,null,null,null,null,null,null,null,null,null,null,null,null,null,null,null,null,null,null,null,null,null,null,null,null,null,null,null,null,null,null,null,null,null,null,null,null,null,null,null,null,null,null,null,null,null,null,null,null,null,null,null,null,null,null,null,null,null,null,null,null,null,null,null,null,null,null,null,null,null,null,null,null,null,null,null,null,null,null,null,null,null,null,null,null,null,null,null,null,null,null,null,null,null,null,null,null,null,null,null,null,null,null,null,null,null,null,null,null,null,null,null,null,null,null,null,null,null,null,null,null,null,null,null,null,null,null,null,null,null,null,null,null,null,null,null,null,null,null,null,null,null,null,null,null,null,null,null,null,null,null,null,null,null,null,null,null,null,null,null,null,null,null,null,null,null,null,null,null,null,null,null,null,null,null,null,null,null,null,null,null,null,null,null,null,null,null,null,null,null,null,null,null,null,null,null,null,null,null,null,null,null,null,null,null,null,null,null,null,null,null,null,null,null,null,null,null,null,null,null,null,null,null,null,null,null,null,null,null,null,null,null,null,null,null,null,null,null,null,null,null,null,null,null,null,null,null,null,null,null,null,null,null,null,null,null,null,null,null,null,null,null,null,null,null,null,null,null,null,null,null,null,null,null,null,null,null,null,null,null,null,null,null,null,null,null,null,null,null,null,null,null,null,null,null,null,null,null,null,null,null,null,null,null,null,null,null,null,null,null,null,null,null,null,null,null,null,null,null,null,null,null,null,null,null,null,null,null,null,null,null,null,null,null,null,null,null,null,null,null,null,null,null,null,null,null,null,null,null,null,null,null,null,null,null,null,null,null,null,null,null,null,null,null,null,null,null,null,null,null,null,null,null,null,null,null,null,null,null,null,null,null,null,null,null,null,null,null,null,null,null,null,null,null,null,null,null,null,null,null,null,null,null,null,null,null,null,null,null,null,null,null,null,null,null,null,null,null,null,null,null,null,null,null,null,null,null,null,null,null,null,null,null,null,null,null,null,null,null,null,null,null,null,null,null,null,null,null,null,null,null,null,null,null,null,null,null,null,null,null,null,null,null,null,null,null,null,null,null,null,null,null,null,null,null,null,null,null,null,null,null,null,null,null,null,null,null,null,null,null,null,null,null,null,null,null,null,null,null,null,null,null,null,null,null,null,null,null,null,null,null,null,null,null,null,null,null,null,null,null,null,null,null,null,null,null,null,null,null,null,null,null,null,null,null,null,null,null,null,null,null,null,null,null,null,null,null,null,null,null,null,null,null,null,null,null,null,null,null,null,null,null,null,null,null,null,null,null,null,null,null,null,null,null,null,null,null,null,null,null,null,null,null,null,null,null,null,null,null,null,null,null,null,null,null,null,null,null,null,null,null,null,null,null,null,null,null,null,null,null,null,null,null,null,null,null,null,null,null,null,null,null,null,null,null,null,null,null,null,null,null,null,null,null,null,null,null,null,null,null,null,null,null,null,null,null,null,null,null,null,null,null,null,null,null,null,null,null,null,null,null,null,null,null,null,null,null,null,null,null,null,null,null,null,null,null,null,null,null,null,null,null,null,null,null,null,null,null,null,null,null,null,null,null,null,null,null,null,null,null,null,null,null,null,null,null,null,null,null,null,null,null,null,null,null,null,null,null,null,null,null,null,null,null,null,null,null,null,null,null,null,null,null,null,null,null,null,null,null,null,null,null,null,null,null,null,null,null,null,null,null,null,null,null,null,null,null,null,null,null,null,null,null,null,null,null,null,null,null,null,null,null,null,null,null,null,null,null,null,null,null,null,null,null,null,null,null,null,null,null,null,null,null,null,null,null,null,null,null,null,null,null,null,null,null,null,null,null,null,null,null,null,null,null,null,null,null,null,null,null,null,null,null,null,null,null,null,null,null,null,null,null,null,null,null,null,null,null,null,null,null,null,null,null,null,null,null,null,null,null,null,null,null,null,null,null,null,null,null,null,null,null,null,null,null,null,null,null,null,null,null,null,null,null,null,null,null,null,null,null,null,null,null,null,null,null,null,null,null,null,null,null,null,null,null,null,null,null,null,null,null,null,null,null,null,null,null,null,null,null,null,null,null,null,null,null,null,null,null,null,null,null,null,null,null,null,null,null,null,null,null,null,null,null,null,null,null,null,null,null,null,null,null,null,null,null,null,null,null,null,null,null,null,null,null,null,null,null,null,null,null,null,null,null,null,null,null,null,null,null,null,null,null,null,null,null,null,null,null,null,null,null,null,null,null,null,null,null,null,null,null,null,null,null,null,null,null,null,null,null,null,null,null,null,null,null,null,null,null,null,null,null,null,null,null,null,null,null,null,null,null,null,null,null,null,null,null,null,null,null,null,null,null,null,null,null,null,null,null,null,null,null,null,null,null,null,null,null,null,null,null,null,null,null,null,null,null,null,null,null,null,null,null,null,null,null,null,null,null,null,null,null,null,null,null,null,null,null,null,null,null,null,null,null,null,null,null,null,null,null,null,null,null,null,null,null,null,null,null,null,null,null,null,null,null,null,null,null,null,null,null,null,null,null,null,null,null,null,null,null,null,null,null,null,null,null,null,null,null,null,null,null,null,null,null,null,null,null,null,null,null,null,null,null,null,null,null,null,null,null,null,null,null,null,null,null,null,null,null,null,null,null,null,null,null,null,null,null,null,null,null,null,null,null,null,null,null,null,null,null,null,null,null,null,null,null,null,null,null,null,null,null,null,null,null,null,null,null,null,null,null,null,null,null,null,null,null,null,null,null,null,null,null,null,null,null,null,null,null,null,null,null,null,null,null,null,null,null,null,null,null,null,null,null,null,null,null,null,null,null,null,null,null,null,null,null,null,null,null,null,null,null,null,null,null,null,null,null,null,null,null,null,null,null,null,null,null,null,null,null,null,null,null,null,null,null,null,null,null,null,null,null,null,null,null,null,null,null,null,null,null,null,null,null,null,null,null,null,null,null,null,null,null,null,null,null,null,null,null,null,null,null,null,null,null,null,null,null,null,null,null,null,null,null,null,null,null,null,null,null,null,null,null,null,null,null,null,null,null,null,null,null,null,null,null,null,null,null,null,null,null,null,null,null,null,null,null,null,null,null,null,null,null,null,null,null,null,null,null,null,null,null,null,null,null,null,null,null,null,null,null,null,null,null,null,null,null,null,null,null,null,null,null,null,null,null,null,null,null,null,null,null,null,null,null,null,null,null,null,null,null,null,null,null,null,null,null,null,null,null,null,null,null,null,null,null,null,null,null,null,null,null,null,null,null,null,null,null,null,null,null,null,null,null,null,null,null,null,null,null,null,null,null,null,null,null,null,null,null,null,null,null,null,null,null,null,null,null,null,null,null,null,null,null,null,null,null,null,null,null,null,null,null,null,null,null,null,null,null,null,null,null,null,null,null,null,null,null,null,null,null,null,null,null,null,null,null,null,null,null,null,null,null,null,null,null,null,null,null,null,null,null,null,null,null,null,null,null,null,null,null,null,null,null,null,null,null,null,null,null,null,null,null,null,null,null,null,null,null,null,null,null,null,null,null,null,null,null,null,null,null,null,null,null,null,null,null,null,null,null,null,null,null,null,null,null,null,null,null,null,null,null,null,null,null,null,null,null,null,null,null,null,null,null,null,null,null,null,null,null,null,null,null,null,null,null,null,null,null,null,null,null,null,null,null,null,null,null,null,null,null,null,null,null,null,null,null,null,null,null,null,null,null,null,null,null,null,null,null,null,null,null,null,null,null,null,null,null,null,null,null,null,null,null,null,null,null,null,null,null,null,null,null,null,null,null,null,null,null,null,null,null,null,null,null,null,null,null,null,null,null,null,null,null,null,null,null,null,null,null,null,null,null,null,null,null,null,null,null,null,null,null,null,null,null,null,null,null,null,null,null,null,null,null,null,null,null,null,null,null,null,null,null,null,null,null,null,null,null,null,null,null,null,null,null,null,null,null,null,null,null,null,null,null,null,null,null,null,null,null,null,null,null,null,null,null,null,null,null,null,null,null,null,null,null,null,null,null,null,null,null,null,null,null,null,null,null,null,null,null,null,null,null,null,null,null,null,null,null,null,null,null,null,null,null,null,null,null,null,null,null,null,null,null,null,null,null,null,null,null,null,null,null,null,null,null,null,null,null,null,null,null,null,null,null,null,null,null,null,null,null,null,null,null,null,null,null,null,null,null,null,null,null,null,null,null,null,null,null,null,null,null,null,null,null,null,null,null,null,"Time Production",null,"1402316306829"]
[null,null,null,null,null,null,null,null,null,null,null,null,null,null,null,null,null,null,null,null,null,null,null,null,null,null,null,null,null,null,null,null,null,null,null,null,null,null,null,null,null,null,null,null,null,null,null,null,null,null,null,null,null,null,null,null,null,null,null,null,null,null,null,null,null,null,null,null,null,null,null,null,null,null,null,null,null,null,null,null,null,null,null,null,null,null,null,null,null,null,null,null,null,null,null,null,null,null,null,null,null,null,null,null,null,null,null,null,null,null,null,null,null,null,null,null,null,null,null,null,null,null,null,null,null,null,null,null,null,null,null,null,null,null,null,null,null,null,null,null,null,null,null,null,null,null,null,null,null,null,null,null,null,null,null,null,null,null,null,null,null,null,null,null,null,null,null,null,null,null,null,null,null,null,null,null,null,null,null,null,null,null,null,null,null,null,null,null,null,null,null,null,null,null,null,null,null,null,null,null,null,null,null,null,null,null,null,null,null,null,null,null,null,null,null,null,null,null,null,null,null,null,null,null,null,null,null,null,null,null,null,null,null,null,null,null,null,null,null,null,null,null,null,null,null,null,null,null,null,null,null,null,null,null,null,null,null,null,null,null,null,null,null,null,null,null,null,null,null,null,null,null,null,null,null,null,null,null,null,null,null,null,null,null,null,null,null,null,null,null,null,null,null,null,null,null,null,null,null,null,null,null,null,null,null,null,null,null,null,null,null,null,null,null,null,null,null,null,null,null,null,null,null,null,null,null,null,null,null,null,null,null,null,null,null,null,null,null,null,null,null,null,null,null,null,null,null,null,null,null,null,null,null,null,null,null,null,null,null,null,null,null,null,null,null,null,null,null,null,null,null,null,null,null,null,null,null,null,null,null,null,null,null,null,null,null,null,null,null,null,null,null,null,null,null,null,null,null,null,null,null,null,null,null,null,null,null,null,null,null,null,null,null,null,null,null,null,null,null,null,null,null,null,null,null,null,null,null,null,null,null,null,null,null,null,null,null,null,null,null,null,null,null,null,null,null,null,null,null,null,null,null,null,null,null,null,null,null,null,null,null,null,null,null,null,null,null,null,null,null,null,null,null,null,null,null,null,null,null,null,null,null,null,null,null,null,null,null,null,null,null,null,null,null,null,null,null,null,null,null,null,null,null,null,null,null,null,null,null,null,null,null,null,null,null,null,null,null,null,null,null,null,null,null,null,null,null,null,null,null,null,null,null,null,null,null,null,null,null,null,null,null,null,null,null,null,null,null,null,null,null,null,null,null,null,null,null,null,null,null,null,null,null,null,null,null,null,null,null,null,null,null,null,null,null,null,null,null,null,null,null,null,null,null,null,null,null,null,null,null,null,null,null,null,null,null,null,null,null,null,null,null,null,null,null,null,null,null,null,null,null,null,null,null,null,null,null,null,null,null,null,null,null,null,null,null,null,null,null,null,null,null,null,null,null,null,null,null,null,null,null,null,null,null,null,null,null,null,null,null,null,null,null,null,null,null,null,null,null,null,null,null,null,null,null,null,null,null,null,null,null,null,null,null,null,null,null,null,null,null,null,null,null,null,null,null,null,null,null,null,null,null,null,null,null,null,null,null,null,null,null,null,null,null,null,null,null,null,null,null,null,null,null,null,null,null,null,null,null,null,null,null,null,null,null,null,null,null,null,null,null,null,null,null,null,null,null,null,null,null,null,null,null,null,null,null,null,null,null,null,null,null,null,null,null,null,null,null,null,null,null,null,null,null,null,null,null,null,null,null,null,null,null,null,null,null,null,null,null,null,null,null,null,null,null,null,null,null,null,null,null,null,null,null,null,null,null,null,null,null,null,null,null,null,null,null,null,null,null,null,null,null,null,null,null,null,null,null,null,null,null,null,null,null,null,null,null,null,null,null,null,null,null,null,null,null,null,null,null,null,null,null,null,null,null,null,null,null,null,null,null,null,null,null,null,null,null,null,null,null,null,null,null,null,null,null,null,null,null,null,null,null,null,null,null,null,null,null,null,null,null,null,null,null,null,null,null,null,null,null,null,null,null,null,null,null,null,null,null,null,null,null,null,null,null,null,null,null,null,null,null,null,null,null,null,null,null,null,null,null,null,null,null,null,null,null,null,null,null,null,null,null,null,null,null,null,null,null,null,null,null,null,null,null,null,null,null,null,null,null,null,null,null,null,null,null,null,null,null,null,null,null,null,null,null,null,null,null,null,null,null,null,null,null,null,null,null,null,null,null,null,null,null,null,null,null,null,null,null,null,null,null,null,null,null,null,null,null,null,null,null,null,null,null,null,null,null,null,null,null,null,null,null,null,null,null,null,null,null,null,null,null,null,null,null,null,null,null,null,null,null,null,null,null,null,null,null,null,null,null,null,null,null,null,null,null,null,null,null,null,null,null,null,null,null,null,null,null,null,null,null,null,null,null,null,null,null,null,null,null,null,null,null,null,null,null,null,null,null,null,null,null,null,null,null,null,null,null,null,null,null,null,null,null,null,null,null,null,null,null,null,null,null,null,null,null,null,null,null,null,null,null,null,null,null,null,null,null,null,null,null,null,null,null,null,null,null,null,null,null,null,null,null,null,null,null,null,null,null,null,null,null,null,null,null,null,null,null,null,null,null,null,null,null,null,null,null,null,null,null,null,null,null,null,null,null,null,null,null,null,null,null,null,null,null,null,null,null,null,null,null,null,null,null,null,null,null,null,null,null,null,null,null,null,null,null,null,null,null,null,null,null,null,null,null,null,null,null,null,null,null,null,null,null,null,null,null,null,null,null,null,null,null,null,null,null,null,null,null,null,null,null,null,null,null,null,null,null,null,null,null,null,null,null,null,null,null,null,null,null,null,null,null,null,null,null,null,null,null,null,null,null,null,null,null,null,null,null,null,null,null,null,null,null,null,null,null,null,null,null,null,null,null,null,null,null,null,null,null,null,null,null,null,null,null,null,null,null,null,null,null,null,null,null,null,null,null,null,null,null,null,null,null,null,null,null,null,null,null,null,null,null,null,null,null,null,null,null,null,null,null,null,null,null,null,null,null,null,null,null,null,null,null,null,null,null,null,null,null,null,null,null,null,null,null,null,null,null,null,null,null,null,null,null,null,null,null,null,null,null,null,null,null,null,null,null,null,null,null,null,null,null,null,null,null,null,null,null,null,null,null,null,null,null,null,null,null,null,null,null,null,null,null,null,null,null,null,null,null,null,null,null,null,null,null,null,null,null,null,null,null,null,null,null,null,null,null,null,null,null,null,null,null,null,null,null,null,null,null,null,null,null,null,null,null,null,null,null,null,null,null,null,null,null,null,null,null,null,null,null,null,null,null,null,null,null,null,null,null,null,null,null,null,null,null,null,null,null,null,null,null,null,null,null,null,null,null,null,null,null,null,null,null,null,null,null,null,null,null,null,null,null,null,null,null,null,null,null,null,null,null,null,null,null,null,null,null,null,null,null,null,null,null,null,null,null,null,null,null,null,null,null,null,null,null,null,null,null,null,null,null,null,null,null,null,null,null,null,null,null,null,null,null,null,null,null,null,null,null,null,null,null,null,null,null,null,null,null,null,null,null,null,null,null,null,null,null,null,null,null,null,null,null,null,null,null,null,null,null,null,null,null,null,null,null,null,null,null,null,null,null,null,null,null,null,null,null,null,null,null,null,null,null,null,null,null,null,null,null,null,null,null,null,null,null,null,null,null,null,null,null,null,null,null,null,null,null,null,null,null,null,null,null,null,null,null,null,null,null,null,null,null,null,null,null,null,null,null,null,null,null,null,null,null,null,null,null,null,null,null,null,null,null,null,null,null,null,null,null,null,null,null,null,null,null,null,null,null,null,null,null,null,null,null,null,null,null,null,null,null,null,null,null,null,null,null,null,null,null,null,null,null,null,null,null,null,null,null,null,null,null,null,null,null,null,null,null,null,null,null,null,null,null,null,null,null,null,null,null,null,null,null,null,null,null,null,null,null,null,null,null,null,null,null,null,null,null,null,null,null,null,null,null,null,null,null,null,null,null,null,null,null,null,null,null,null,null,null,null,null,null,null,null,null,null,null,null,null,null,null,null,null,null,null,null,null,null,null,null,null,null,null,null,null,null,null,null,null,null,null,null,null,null,null,null,null,null,null,null,null,null,null,null,null,null,null,null,null,null,null,null,null,null,null,null,null,null,null,null,null,null,null,null,null,null,null,null,null,null,null,null,null,null,null,null,null,null,null,null,null,null,null,null,null,null,null,null,null,null,null,null,null,null,null,null,null,null,null,null,null,null,null,null,null,null,null,null,null,null,null,null,null,null,null,null,null,null,null,null,null,null,null,null,null,null,null,null,null,null,null,null,null,null,null,null,null,null,null,null,null,null,null,null,null,null,null,null,null,null,null,null,null,null,null,null,null,null,null,null,null,null,null,null,null,null,null,null,null,null,null,null,null,null,null,null,null,null,null,null,null,null,null,null,null,null,null,null,null,null,null,null,null,null,null,null,null,null,null,null,null,null,null,null,null,null,null,null,null,null,null,null,null,null,null,null,null,null,null,null,null,null,null,null,null,null,null,null,null,null,null,null,null,null,null,null,null,null,null,null,null,null,null,null,null,null,null,null,null,null,null,null,null,null,null,null,null,null,null,null,null,null,null,null,null,null,null,null,null,null,null,null,null,null,null,null,null,null,null,null,null,null,null,null,null,null,null,null,null,null,null,null,null,null,null,null,null,null,null,null,null,null,null,null,null,null,null,null,null,null,null,null,null,null,null,null,null,null,null,null,null,null,null,null,null,null,null,null,null,null,null,null,null,null,null,null,null,null,null,null,null,null,null,null,null,null,null,null,null,null,null,null,null,null,null,null,null,null,null,null,null,null,null,null,null,null,null,null,null,null,null,null,null,null,null,null,null,null,null,null,null,null,null,null,null,null,null,null,null,null,null,null,null,null,null,null,null,null,null,null,null,null,null,null,null,null,null,null,null,null,null,null,null,null,null,null,null,null,null,null,null,null,null,null,null,null,null,null,null,null,null,null,null,null,null,null,null,null,null,null,null,null,null,null,null,null,null,null,null,null,null,null,null,null,null,null,null,null,null,null,null,null,null,null,null,null,null,null,null,null,null,null,null,null,null,null,null,null,null,null,null,null,null,null,null,null,null,null,null,null,null,null,null,null,null,null,null,null,null,null,null,null,null,null,null,null,null,null,null,null,null,null,null,null,null,null,null,null,null,null,null,null,null,null,null,null,null,null,null,null,null,null,null,null,null,null,null,null,null,null,null,null,null,null,null,null,null,null,null,null,null,null,null,null,null,null,null,null,null,null,null,null,null,null,null,null,null,null,null,null,null,null,null,null,null,null,null,null,null,null,null,null,null,null,null,null,null,null,null,null,null,null,null,null,null,null,null,null,null,null,null,null,null,null,null,null,null,null,null,null,null,null,null,null,null,null,null,null,null,null,null,null,null,null,null,null,null,null,null,null,null,null,null,null,null,null,null,null,null,null,null,null,null,null,null,null,null,null,null,null,null,null,null,null,null,null,null,null,null,null,null,null,null,null,null,null,null,null,null,null,null,null,null,null,null,null,null,null,null,null,null,null,null,null,null,null,null,null,null,null,null,null,null,null,null,null,null,null,null,null,null,null,null,null,null,null,null,null,null,null,null,null,null,null,null,null,null,null,null,null,null,null,null,null,null,null,null,null,null,null,null,null,null,null,null,null,null,null,null,null,null,null,null,null,null,null,null,null,null,null,null,null,null,null,null,null,null,null,null,null,null,null,null,null,null,null,null,null,null,null,null,null,null,null,null,null,null,null,null,null,null,null,null,null,null,null,null,null,null,null,null,null,null,null,null,null,null,null,null,null,null,null,null,null,null,null,null,null,null,null,null,null,null,null,null,null,null,null,null,null,null,null,null,null,null,null,null,null,null,null,null,null,null,null,null,null,null,null,null,null,null,null,null,null,null,null,null,null,null,null,null,null,null,null,null,null,null,null,null,null,null,null,null,null,null,null,null,null,null,null,null,null,null,null,null,null,null,null,null,null,null,null,null,null,null,null,null,null,null,null,null,null,null,null,null,null,null,null,null,null,null,null,null,null,null,null,null,null,null,null,null,null,null,null,null,null,null,null,null,null,null,null,null,null,null,null,null,null,null,null,null,null,null,null,null,null,null,null,null,null,null,null,null,null,null,null,null,null,null,null,null,null,null,null,null,null,null,null,null,null,null,null,null,null,null,null,null,null,null,null,null,null,null,null,null,null,null,null,null,null,null,null,null,null,null,null,null,null,null,null,null,null,null,null,null,null,null,null,null,null,null,null,null,null,null,null,null,null,null,null,null,null,null,null,null,null,null,null,null,null,null,null,null,null,null,null,null,null,null,null,null,null,null,null,null,null,null,null,null,null,null,null,null,null,null,null,null,null,null,null,null,null,null,null,null,null,null,null,null,null,null,null,null,null,null,null,null,null,null,null,null,null,null,null,null,null,null,null,null,null,null,null,null,null,null,null,null,null,null,null,null,null,null,null,null,null,null,null,null,null,null,null,null,null,null,null,null,null,null,null,null,null,null,null,null,null,null,null,null,null,null,null,null,null,null,null,null,null,null,null,null,null,null,null,null,null,null,null,null,null,null,null,null,null,null,null,null,null,null,null,null,null,null,null,null,null,null,null,null,null,null,null,null,null,null,null,null,null,null,null,null,null,null,null,null,null,null,null,null,null,null,null,null,null,null,null,null,null,null,null,null,null,null,null,null,null,null,null,null,null,null,null,null,null,null,null,null,null,null,null,null,null,null,null,null,null,null,null,null,null,null,null,null,null,null,null,null,null,null,null,null,null,null,null,null,null,null,null,null,null,null,null,null,null,null,null,null,null,null,null,null,null,null,null,null,null,null,null,null,null,null,null,null,null,null,null,null,null,null,null,null,null,null,null,null,null,null,null,null,null,null,null,null,null,null,null,null,null,null,null,null,null,null,null,null,null,null,null,null,null,null,null,null,null,null,null,null,null,null,null,null,null,null,null,null,null,null,null,null,null,null,null,null,null,null,null,null,null,null,null,null,null,null,null,null,null,null,null,null,null,null,null,null,null,null,null,null,null,null,null,null,null,null,null,null,null,null,null,null,null,null,null,null,null,null,null,null,null,null,null,null,null,null,null,null,null,null,null,null,null,null,null,null,null,null,null,null,null,null,null,null,null,null,null,null,null,null,null,null,null,null,null,null,null,null,null,null,null,null,null,null,null,null,null,null,null,null,null,null,null,null,null,null,null,null,null,null,null,null,null,null,null,null,null,null,null,null,null,null,null,null,null,null,null,null,null,null,null,null,null,null,null,null,null,null,null,null,null,null,null,null,null,null,null,null,null,null,null,null,null,null,null,null,null,null,null,null,null,null,null,null,null,null,null,null,null,null,null,null,null,null,null,null,null,null,null,null,null,null,null,null,null,null,null,null,null,null,null,null,null,null,null,null,null,null,null,null,null,null,null,null,null,null,null,null,null,null,null,null,null,null,null,null,null,null,null,null,null,null,null,null,null,null,null,null,null,null,null,null,null,null,null,null,null,null,null,null,null,null,null,null,null,null,null,null,null,null,null,null,null,null,null,null,null,null,null,null,null,null,null,null,null,null,null,null,null,null,null,null,null,null,null,null,null,null,null,null,null,null,null,null,null,null,null,null,null,null,null,null,null,null,null,null,null,null,null,null,null,null,null,null,null,null,null,null,null,null,null,null,null,null,null,null,null,null,null,null,null,null,null,null,null,null,null,null,null,null,null,null,null,null,null,null,null,null,null,null,null,null,null,null,null,null,null,null,null,null,null,null,null,null,null,null,null,null,null,null,null,null,null,null,null,null,null,null,null,null,null,null,null,null,null,null,null,null,null,null,null,null,null,null,null,null,null,null,null,null,null,null,null,null,null,null,null,null,null,null,null,null,null,null,null,null,null,null,null,null,null,null,null,null,null,null,null,null,null,null,null,null,null,null,null,null,null,null,null,null,null,null,null,null,null,null,null,null,null,null,null,null,null,null,null,null,null,null,null,null,null,null,null,null,null,null,null,null,null,null,null,null,null,null,null,null,null,null,null,null,null,null,null,null,null,null,null,null,null,null,null,null,null,null,null,null,null,null,null,null,null,null,null,null,null,null,null,null,null,null,null,null,null,null,null,null,null,null,null,null,null,null,null,null,null,null,null,null,null,null,null,null,null,null,null,null,null,null,null,null,null,null,null,null,null,null,null,null,null,null,null,null,null,null,null,null,null,null,null,null,null,null,null,null,null,null,null,null,null,null,null,null,null,null,null,null,null,null,null,null,null,null,null,null,null,null,null,null,null,null,null,null,null,null,null,null,null,null,null,null,null,null,null,null,null,null,null,null,null,null,null,null,null,null,null,null,null,null,null,null,null,null,null,null,null,null,null,null,null,null,null,null,null,null,null,null,null,null,null,null,null,null,null,null,null,null,null,null,null,null,null,null,null,null,null,null,null,null,null,null,null,null,null,null,null,null,null,null,null,null,null,null,null,null,null,null,null,null,null,null,null,null,null,null,null,null,null,null,null,null,null,null,null,null,null,null,null,null,null,null,null,null,null,null,null,null,null,null,null,null,null,null,null,null,null,null,null,null,null,null,null,null,null,null,null,null,null,null,null,null,null,null,null,null,null,null,null,null,null,null,null,null,null,null,null,null,null,null,null,null,null,null,null,null,null,null,null,null,null,null,null,null,null,null,null,null,null,null,null,null,null,null,null,null,null,null,null,null,null,null,null,null,null,null,null,null,null,null,null,null,null,null,null,null,null,null,null,null,null,null,null,null,null,null,null,null,null,null,null,null,null,null,null,null,null,null,null,null,null,null,null,null,null,null,null,null,null,null,null,null,null,null,null,null,null,null,null,null,null,null,null,null,null,null,null,null,null,null,null,null,null,null,null,null,null,null,null,null,null,null,null,null,null,null,null,null,null,null,null,null,null,null,null,null,null,null,null,null,null,null,null,null,null,null,null,null,null,null,null,null,null,null,null,null,null,null,null,null,null,null,null,null,null,null,null,null,null,null,null,null,null,null,null,null,null,null,null,null,null,null,null,null,null,null,null,null,null,null,null,null,null,null,null,null,null,null,null,null,null,null,null,null,null,null,null,null,null,null,null,null,null,null,null,null,null,null,null,null,null,null,null,null,null,null,null,null,null,null,null,null,null,null,null,null,null,null,null,null,null,null,null,null,null,null,null,null,null,null,null,null,null,null,null,null,null,null,null,null,null,null,null,null,null,null,null,null,null,null,null,null,null,null,null,null,null,null,null,null,null,null,null,null,null,null,null,null,null,null,null,null,null,null,null,null,null,null,null,null,null,null,null,null,null,null,null,null,null,null,null,null,null,null,null,null,null,null,null,null,null,null,null,null,null,null,null,null,null,null,null,null,null,null,null,null,null,null,null,null,null,null,null,null,null,null,null,null,null,null,null,null,null,null,null,null,null,null,null,null,null,null,null,null,null,null,null,null,null,null,null,null,null,null,null,null,null,null,null,null,null,null,null,null,null,null,null,null,null,null,null,null,null,null,null,null,null,null,null,null,null,null,null,null,null,null,null,null,null,null,null,null,null,null,null,null,null,null,null,null,null,null,null,null,null,null,null,null,null,null,null,null,null,null,null,null,null,null,null,null,null,null,null,null,null,null,null,null,null,null,null,null,null,null,null,null,null,null,null,null,null,null,null,null,null,null,null,null,null,null,null,null,null,null,null,null,null,null,null,null,null,null,null,null,null,null,null,null,null,null,null,null,null,null,null,null,null,null,null,null,null,null,null,null,null,null,null,null,null,null,null,null,null,null,null,null,null,null,null,null,null,null,null,null,null,null,null,null,null,null,null,null,null,null,null,null,null,null,null,null,null,null,null,null,null,null,null,null,null,null,null,null,null,null,null,null,null,null,null,null,null,null,null,null,null,null,null,null,null,null,null,null,null,null,null,null,null,null,null,null,null,null,null,null,null,null,null,null,null,null,null,null,null,null,null,null,null,null,null,null,null,null,null,null,null,null,null,null,null,null,null,null,null,null,null,null,null,null,null,null,null,null,null,null,null,null,null,null,null,null,null,null,null,null,null,null,null,null,null,null,null,null,null,null,null,null,null,null,null,null,null,null,null,null,null,null,null,null,null,null,null,null,null,null,null,null,null,null,null,null,null,null,null,null,null,null,null,null,null,null,null,null,null,null,null,null,null,null,null,null,null,null,null,null,null,null,null,null,null,null,null,null,null,null,null,null,null,null,null,null,null,null,null,null,null,null,null,null,null,null,null,null,null,null,null,null,null,null,null,null,null,null,null,null,null,null,null,null,null,null,null,null,null,null,null,null,null,null,null,null,null,null,null,null,null,null,null,null,null,null,null,null,null,null,null,null,null,null,null,null,null,null,null,null,null,null,null,null,null,null,null,null,null,null,null,null,null,null,null,null,null,null,null,null,null,null,null,null,null,null,null,null,null,null,null,null,null,null,null,null,null,null,null,null,null,null,null,null,null,null,null,null,null,null,null,null,null,null,null,null,null,null,null,null,null,null,null,null,null,null,null,null,null,null,null,null,null,null,null,null,null,null,null,null,null,null,null,null,null,null,null,null,null,null,null,null,null,null,null,null,null,null,null,null,null,null,null,null,null,null,null,null,null,null,null,null,null,null,null,null,null,null,null,null,null,null,null,null,null,null,null,null,null,null,null,null,null,null,null,null,null,null,null,null,null,null,null,null,null,null,null,null,null,null,null,null,null,null,null,null,null,null,null,null,null,null,null,null,null,null,null,null,null,null,null,null,null,null,null,null,null,null,null,null,null,null,null,null,null,null,null,null,null,null,null,null,null,null,null,null,null,null,null,null,null,null,null,null,null,null,null,null,null,null,null,null,null,null,null,null,null,null,null,null,null,null,null,null,null,null,null,null,null,null,null,null,null,null,null,null,null,null,null,null,null,null,null,null,null,null,null,null,null,null,null,null,null,null,null,null,null,null,null,null,null,null,null,null,null,null,null,null,null,null,null,null,null,null,null,null,null,null,null,null,null,null,null,null,null,null,null,null,null,null,null,null,null,null,null,null,null,null,null,null,null,null,null,null,null,null,null,null,null,null,null,null,null,null,null,null,null,null,null,null,null,null,null,null,null,null,null,null,null,null,null,null,null,null,null,null,null,null,null,null,null,null,null,null,null,null,null,null,null,null,null,null,null,null,null,null,null,null,null,null,null,null,null,null,null,null,null,null,null,null,null,null,null,null,null,null,null,null,null,null,null,null,null,null,null,null,null,null,null,null,null,null,null,null,null,null,null,null,null,null,null,null,null,null,null,null,null,null,null,null,null,null,null,null,null,null,null,null,null,null,null,null,null,null,null,null,null,null,null,null,null,null,null,null,null,null,null,null,null,null,null,null,null,null,null,null,null,null,null,null,null,null,null,null,null,null,null,null,null,null,null,null,null,null,null,null,null,null,null,null,null,null,null,null,null,null,null,null,null,null,null,null,null,null,null,null,null,null,null,null,null,null,null,null,null,null,null,null,null,null,null,null,null,null,null,null,null,null,null,null,null,null,null,null,null,null,null,null,null,null,null,null,null,null,null,null,null,null,null,null,null,null,null,null,null,null,null,null,null,null,null,null,null,null,null,null,null,null,null,null,null,null,null,null,null,null,null,null,null,null,null,null,null,null,null,null,null,null,null,null,null,null,null,null,null,null,null,null,null,null,null,null,null,null,null,null,null,null,null,null,null,null,null,null,null,null,null,null,null,null,null,null,null,null,null,null,null,null,null,null,null,null,null,null,null,null,null,null,null,null,null,null,null,null,null,null,null,null,null,null,null,null,null,null,null,null,null,null,null,null,null,null,null,null,null,null,null,null,null,null,null,null,null,null,null,null,null,null,null,null,null,null,null,null,null,null,null,null,null,null,null,null,null,null,null,null,null,null,null,null,null,null,null,null,null,null,null,null,null,null,null,null,null,null,null,null,null,null,null,null,null,null,null,null,null,null,null,null,null,null,null,null,null,null,null,null,null,null,null,null,null,null,null,null,null,null,null,null,null,null,null,null,null,null,null,null,null,null,null,null,null,null,null,null,null,null,null,null,null,null,null,null,null,null,null,null,null,null,null,null,null,null,null,null,null,null,null,null,null,null,null,null,null,null,null,null,null,null,null,null,null,null,null,null,null,null,null,null,null,null,null,null,null,null,null,null,null,null,null,null,null,null,null,null,null,null,null,null,null,null,null,null,null,null,null,null,null,null,null,null,null,null,null,null,null,null,null,null,null,null,null,null,null,null,null,null,null,null,null,null,null,null,null,null,null,null,null,null,null,null,null,null,null,null,null,null,null,null,null,null,null,null,null,null,null,null,null,null,null,null,null,null,null,null,null,null,null,null,null,null,null,null,null,null,null,null,null,null,null,null,null,null,null,null,null,null,null,null,null,null,null,null,null,null,null,null,null,null,null,null,null,null,null,null,null,null,null,null,null,null,null,null,null,null,null,null,null,null,null,null,null,null,null,null,null,null,null,null,null,null,null,null,null,null,null,null,null,null,null,null,null,null,null,null,null,null,null,null,null,null,null,null,null,null,null,null,null,null,null,null,null,null,null,null,null,null,null,null,null,null,null,null,null,null,null,null,null,null,null,null,null,null,null,null,null,null,null,null,null,null,null,null,null,null,null,null,null,null,null,null,null,null,null,null,null,null,null,null,null,null,null,null,null,null,null,null,null,null,null,null,null,null,null,null,null,null,null,null,null,null,null,null,null,null,null,null,null,null,null,null,null,null,null,null,null,null,null,null,null,null,null,null,null,null,null,null,null,null,null,null,null,null,null,null,null,null,null,null,null,null,null,null,null,null,null,null,null,null,null,null,null,null,null,null,null,null,null,null,null,null,null,null,null,null,null,null,null,null,null,null,null,null,null,null,null,null,null,null,null,null,null,null,null,null,null,null,null,null,null,null,null,null,null,null,null,null,null,null,null,null,null,null,null,null,null,null,null,null,null,null,null,null,null,null,null,null,null,null,null,null,null,null,null,null,null,null,null,null,null,null,null,null,null,null,null,null,null,null,null,null,null,null,null,null,null,null,null,null,null,null,null,null,null,null,null,null,null,null,null,null,null,null,null,null,null,null,null,null,null,null,null,null,null,null,null,null,null,null,null,null,null,null,null,null,null,null,null,null,null,null,null,null,null,null,null,null,null,null,null,null,null,null,null,null,null,null,null,null,null,null,null,null,null,null,null,null,null,null,null,null,null,null,null,null,null,null,null,null,null,null,null,null,null,null,null,null,null,null,null,null,null,null,null,null,null,null,null,null,null,null,null,null,null,null,null,null,null,null,null,null,null,null,null,null,null,null,null,null,null,null,null,null,null,null,null,null,null,null,null,null,null,null,null,null,null,null,null,null,null,null,null,null,null,null,null,null,null,null,null,null,null,null,null,null,null,null,null,null,null,null,null,null,null,null,null,null,null,null,null,null,null,null,null,null,null,null,null,null,null,null,null,null,null,null,null,null,null,null,null,null,null,null,null,null,null,null,null,null,null,null,null,null,null,null,null,null,null,null,null,null,null,null,null,null,null,null,null,null,null,null,null,null,null,null,null,null,null,null,null,null,null,null,null,null,null,null,null,null,null,null,null,null,null,null,null,null,null,null,null,null,null,null,null,null,null,null,null,null,null,null,null,null,null,null,null,null,null,null,null,null,null,null,null,null,null,null,null,null,null,null,null,null,null,null,null,null,null,null,null,null,null,null,null,null,null,null,null,null,null,null,null,null,null,null,null,null,null,null,null,null,null,null,null,null,null,null,null,null,null,null,null,null,null,null,null,null,null,null,null,null,null,null,null,null,null,null,null,null,null,null,null,null,null,null,null,null,null,null,null,null,null,null,null,null,null,null,null,null,null,null,null,null,null,null,null,null,null,null,null,null,null,null,null,null,null,null,null,null,null,null,null,null,null,null,null,null,null,null,null,null,null,null,null,null,null,null,null,null,null,null,null,null,null,null,null,null,null,null,null,null,null,null,null,null,null,null,null,null,null,null,null,null,null,null,null,null,null,null,null,null,null,null,null,null,null,null,null,null,null,null,null,null,null,null,null,null,null,null,null,null,null,null,null,null,null,null,null,null,null,null,null,null,null,null,null,null,null,null,null,null,null,null,null,null,null,null,null,null,null,null,null,null,null,null,null,null,null,null,null,null,null,null,null,null,null,null,null,null,null,null,null,null,null,null,null,null,null,null,null,null,null,null,null,null,null,null,null,null,null,null,null,null,null,null,null,null,null,null,null,null,null,null,null,null,null,null,null,null,null,null,null,null,null,null,null,null,null,null,null,null,null,null,null,null,null,null,null,null,null,null,null,null,null,null,null,null,null,null,null,null,null,null,null,null,null,null,null,null,null,null,null,null,null,null,null,null,null,null,null,null,null,null,null,null,null,null,null,null,null,null,null,null,null,null,null,null,null,null,null,null,null,null,null,null,null,null,null,null,null,null,null,null,null,null,null,null,null,null,null,null,null,null,null,null,null,null,null,null,null,null,null,null,null,null,null,null,null,null,null,null,null,null,null,null,null,null,null,null,null,null,null,null,null,null,null,null,null,null,null,null,null,null,null,null,null,null,null,null,null,null,null,null,null,null,null,null,null,null,null,null,null,null,null,null,null,null,null,null,null,null,null,null,null,null,null,null,null,null,null,null,null,null,null,null,null,null,null,null,null,null,null,null,null,null,null,null,null,null,null,null,null,null,null,null,null,null,null,null,null,null,null,null,null,null,null,null,null,null,null,null,null,null,null,null,null,null,null,null,null,null,null,null,null,null,null,null,null,null,null,null,null,null,null,null,null,null,null,null,null,null,null,null,null,null,null,null,null,null,null,null,null,null,null,null,null,null,null,null,null,null,null,null,null,null,null,null,null,null,null,null,null,null,null,null,null,null,null,null,null,null,null,null,null,null,null,null,null,null,null,null,null,null,null,null,null,null,null,null,null,null,null,null,null,null,null,null,null,null,null,null,null,null,null,null,null,null,null,null,null,null,null,null,null,null,null,null,null,null,null,null,null,null,null,null,null,null,null,null,null,null,null,null,null,null,null,null,null,null,null,null,null,null,null,null,null,null,null,null,null,null,null,null,null,null,null,null,null,null,null,null,null,null,null,null,null,null,null,null,null,null,null,null,null,null,null,null,null,null,null,null,null,null,null,null,null,null,null,null,null,null,null,null,null,null,null,null,null,null,null,null,null,null,null,null,null,null,null,null,null,null,null,null,null,null,null,null,null,null,null,null,null,null,null,null,null,null,null,null,null,null,null,null,null,null,null,null,null,null,null,null,null,null,null,null,null,null,null,null,null,null,null,null,null,null,null,null,null,null,null,null,null,null,null,null,null,null,null,null,null,null,null,null,null,null,null,null,null,null,null,null,null,null,null,null,null,null,null,null,null,null,null,null,null,null,null,null,null,null,null,null,null,null,null,null,null,null,null,null,null,null,null,null,null,null,null,null,null,null,null,null,null,null,null,null,null,null,null,null,null,null,null,null,null,null,null,null,null,null,null,null,null,null,null,null,null,null,null,null,null,null,null,null,null,null,null,null,null,null,null,null,null,null,null,null,null,null,null,null,null,null,null,null,null,null,null,null,null,null,null,null,null,null,null,null,null,null,null,null,null,null,null,null,null,null,null,null,null,null,null,null,null,null,null,null,null,null,null,null,null,null,null,null,null,null,null,null,null,null,null,null,null,null,null,null,null,null,null,null,null,null,null,null,null,null,null,null,null,null,null,null,null,null,null,null,null,null,null,null,null,null,null,null,null,null,null,null,null,null,null,null,null,null,null,null,null,null,null,null,null,null,null,null,null,null,null,null,null,null,null,null,null,null,null,null,null,null,null,null,null,null,null,null,null,null,null,null,null,null,null,null,null,null,null,null,null,null,null,null,null,null,null,null,null,null,null,null,null,null,null,null,null,null,null,null,null,null,null,null,null,null,null,null,null,null,null,null,null,null,null,null,null,null,null,null,null,null,null,null,null,null,null,null,null,null,null,null,null,null,null,null,null,null,null,null,null,null,null,null,null,null,null,null,null,null,null,null,null,null,null,null,null,null,null,null,null,null,null,null,null,null,null,null,null,null,null,null,null,null,null,null,null,null,null,null,null,null,null,null,null,null,null,null,null,null,null,null,null,null,null,null,null,null,null,null,null,null,null,null,null,null,null,null,null,null,null,null,null,null,null,null,null,null,null,null,null,null,null,null,null,null,null,null,null,null,null,null,null,null,null,null,null,null,null,null,null,null,null,null,null,null,null,null,null,null,null,null,null,null,null,null,null,null,null,null,null,null,null,null,null,null,null,null,null,null,null,null,null,null,null,null,null,null,null,null,null,null,null,null,null,null,null,null,null,null,null,null,null,null,null,null,null,null,null,null,null,null,null,null,null,null,null,null,null,null,null,null,null,null,null,null,null,null,null,null,null,null,null,null,null,null,null,null,null,null,null,null,null,null,null,null,null,null,null,null,null,null,null,null,null,null,null,null,null,null,null,null,null,null,null,null,null,null,null,null,null,null,null,null,null,null,null,null,null,null,null,null,null,null,null,null,null,null,null,null,null,null,null,null,null,null,null,null,null,null,null,null,null,null,null,null,null,null,null,null,null,null,null,null,null,null,null,null,null,null,null,null,null,null,null,null,null,null,null,null,null,null,null,null,null,null,null,null,null,null,null,null,null,null,null,null,null,null,null,null,null,null,null,null,null,null,null,null,null,null,null,null,null,null,null,null,null,null,null,null,null,null,null,null,null,null,null,null,null,null,null,null,null,null,null,null,null,null,null,null,null,null,null,null,null,null,null,null,null,null,null,null,null,null,null,null,null,null,null,null,null,null,null,null,null,null,null,null,null,null,null,null,null,null,null,null,null,null,null,null,null,null,null,null,null,null,null,null,null,null,null,null,null,null,null,null,null,null,null,null,null,null,null,null,null,null,null,null,null,null,null,null,null,null,null,null,null,null,null,null,null,null,null,null,null,null,null,null,null,null,null,null,null,null,null,null,null,null,null,null,null,null,null,null,null,null,null,null,null,null,null,null,null,null,null,null,null,null,null,null,null,null,null,null,null,null,null,null,null,null,null,null,null,null,null,null,null,null,null,null,null,null,null,null,null,null,null,null,null,null,null,null,null,null,null,null,null,null,null,null,null,null,null,null,null,null,null,null,null,null,null,null,null,null,null,null,null,null,null,null,null,null,null,null,null,null,null,null,null,null,null,null,null,null,null,null,null,null,null,null,null,null,null,null,null,null,null,null,null,null,null,null,null,null,null,null,null,null,null,null,null,null,null,null,null,null,null,null,null,null,null,null,null,null,null,null,null,null,null,null,null,null,null,null,null,null,null,null,null,null,null,null,null,null,null,null,null,null,null,null,null,null,null,null,null,null,null,null,null,null,null,null,null,null,null,null,null,null,null,null,null,null,null,null,null,null,null,null,null,null,null,null,null,null,null,null,null,null,null,null,null,null,null,null,null,null,null,null,null,null,null,null,null,null,null,null,null,null,null,null,null,null,null,null,null,null,null,null,null,null,null,null,null,null,null,null,null,null,null,null,null,null,null,null,null,null,null,null,null,null,null,null,null,null,null,null,null,null,null,null,null,null,null,null,null,null,null,null,null,null,null,null,null,null,null,null,null,null,null,null,null,null,null,null,null,null,null,null,null,null,null,null,null,null,null,null,null,null,null,null,null,null,null,null,null,null,null,null,null,null,null,null,null,null,null,null,null,null,null,null,null,null,null,null,null,null,null,null,null,null,null,null,null,null,null,null,null,null,null,null,null,null,null,null,null,null,null,null,null,null,null,null,null,null,null,null,null,null,null,null,null,null,null,null,null,null,null,null,null,null,null,null,null,null,null,null,null,null,null,null,null,null,null,null,null,null,null,null,null,null,null,null,null,null,null,null,null,null,null,null,null,null,null,null,null,null,null,null,null,null,null,null,null,null,null,null,null,null,null,null,null,null,null,null,null,null,null,null,null,null,null,null,null,null,null,null,null,null,null,null,null,null,null,null,null,null,null,null,null,null,null,null,null,null,null,null,null,null,null,null,null,null,null,null,null,null,null,null,null,null,null,null,null,null,null,null,null,null,null,null,null,null,null,null,null,null,null,null,null,null,null,null,null,null,null,null,null,null,null,null,null,null,null,null,null,null,null,null,null,null,null,null,null,null,null,null,null,null,null,null,null,null,null,null,null,null,null,null,null,null,null,null,null,null,null,null,null,null,null,null,null,null,null,null,null,null,null,null,null,null,null,null,null,null,null,null,null,null,null,null,null,null,null,null,null,null,null,null,null,null,null,null,null,null,null,null,null,null,null,null,null,null,null,null,null,null,null,null,null,null,null,null,null,null,null,null,null,null,null,null,null,null,null,null,null,null,null,null,null,null,null,null,null,null,null,null,null,null,null,null,null,null,null,null,null,null,null,null,null,null,null,null,null,null,null,null,null,null,null,null,null,null,null,null,null,null,null,null,null,null,null,null,null,null,null,null,null,null,null,null,null,null,null,null,null,null,null,null,null,null,null,null,null,null,null,null,null,null,null,null,null,null,null,null,null,null,null,null,null,null,null,null,null,null,null,null,null,null,null,null,null,null,null,null,null,null,null,null,null,null,null,null,null,null,null,null,null,null,null,null,null,null,null,null,null,null,null,null,null,null,null,null,null,null,null,null,null,null,null,null,null,null,null,null,null,null,null,null,null,null,null,null,null,null,null,null,null,null,null,null,null,null,null,null,null,null,null,null,null,null,null,null,null,null,null,null,null,null,null,null,null,null,null,null,null,null,null,null,null,null,null,null,null,null,null,null,null,null,null,null,null,null,null,null,null,null,null,null,null,null,null,null,null,null,null,null,null,null,null,null,null,null,null,null,null,null,null,null,null,null,null,null,null,null,null,null,null,null,null,null,null,null,null,null,null,null,null,null,null,null,null,null,null,null,null,null,null,null,null,null,null,null,null,null,null,null,null,null,null,null,null,null,null,null,null,null,null,null,null,null,null,null,null,null,null,null,null,null,null,null,null,null,null,null,null,null,null,null,null,null,null,null,null,null,null,null,null,null,null,null,null,null,null,null,null,null,null,null,null,null,null,null,null,null,null,null,null,null,null,null,null,null,null,null,null,null,null,null,null,null,null,null,null,null,null,null,null,null,null,null,null,null,null,null,null,null,null,null,null,null,null,null,null,null,null,null,null,null,null,null,null,null,null,null,null,null,null,null,null,null,null,null,null,null,null,null,null,null,null,null,null,null,null,null,null,null,null,null,null,null,null,null,null,null,null,null,null,null,null,null,null,null,null,null,null,null,null,null,null,null,null,null,null,null,null,null,null,null,null,null,null,null,null,null,null,null,null,null,null,null,null,null,null,null,null,null,null,null,null,null,null,null,null,null,null,null,null,null,null,null,null,null,null,null,null,null,null,null,null,null,null,null,null,null,null,null,null,null,null,null,null,null,null,null,null,null,null,null,null,null,null,null,null,null,null,null,null,null,null,null,null,null,null,null,null,null,null,null,null,null,null,null,null,null,null,null,null,null,null,null,null,null,null,null,null,null,null,null,null,null,null,null,null,null,null,null,null,null,null,null,null,null,null,null,null,null,null,null,null,null,null,null,null,null,null,null,null,null,null,null,null,null,null,null,null,null,null,null,null,null,null,null,null,null,null,null,null,null,null,null,null,null,null,null,null,null,null,null,null,null,null,null,null,null,null,null,null,null,null,null,null,null,null,null,null,null,null,null,null,null,null,null,null,null,null,null,null,null,null,null,null,null,null,null,null,null,null,null,null,null,null,null,null,null,null,null,null,null,null,null,null,null,null,null,null,null,null,null,null,null,null,null,null,null,null,null,null,null,null,null,null,null,null,null,null,null,null,null,null,null,null,null,null,null,null,null,null,null,null,null,null,null,null,null,null,null,null,null,null,null,null,null,null,null,null,null,null,null,null,null,null,null,null,null,null,null,null,null,null,null,null,null,null,null,null,null,null,null,null,null,null,null,null,null,null,null,null,null,null,null,null,null,null,null,null,null,null,null,null,null,null,null,null,null,null,null,null,null,null,null,null,null,null,null,null,null,null,null,null,null,null,null,null,null,null,null,null,null,null,null,null,null,null,null,null,null,null,null,null,null,null,null,null,null,null,null,null,null,null,null,null,null,null,null,null,null,null,null,null,null,null,null,null,null,null,null,null,null,null,null,null,null,null,null,null,null,null,null,null,null,null,null,null,null,null,null,null,null,null,null,null,null,null,null,null,null,null,null,null,null,null,null,null,null,null,null,null,null,null,null,null,null,null,null,null,null,null,null,null,null,null,null,null,null,null,null,null,null,null,null,null,null,null,null,null,null,null,null,null,null,null,null,null,null,null,null,null,null,null,null,null,null,null,null,null,null,null,null,null,null,null,null,null,null,null,null,null,null,null,null,null,null,null,null,null,null,null,null,null,null,null,null,null,null,null,null,null,null,null,null,null,null,null,null,null,null,null,null,null,null,null,null,null,null,null,null,null,null,null,null,null,null,null,null,null,null,null,null,null,null,null,null,null,null,null,null,null,null,null,null,null,null,null,null,null,null,null,null,null,null,null,null,null,null,null,null,null,null,null,null,null,null,null,null,null,null,null,null,null,null,null,null,null,null,null,null,null,null,null,null,null,null,null,null,null,null,null,null,null,null,null,null,null,null,null,null,null,null,null,null,null,null,null,null,null,null,null,null,null,null,null,null,null,null,null,null,null,null,null,null,null,null,null,null,null,null,null,null,null,null,null,null,null,null,null,null,null,null,null,null,null,null,null,null,null,null,null,null,null,null,null,null,null,null,null,null,null,null,null,null,null,null,null,null,null,null,null,null,null,null,null,null,null,null,null,null,null,null,null,null,null,null,null,null,null,null,null,null,null,null,null,null,null,null,null,null,null,null,null,null,null,null,null,null,null,null,null,null,null,null,null,null,null,null,null,null,null,null,null,null,null,null,null,null,null,null,null,null,null,null,null,null,null,null,null,null,null,null,null,null,null,null,null,null,null,null,null,null,null,null,null,null,null,null,null,null,null,null,null,null,null,null,null,null,null,null,null,null,null,null,null,null,null,null,null,null,null,null,null,null,null,null,null,null,null,null,null,null,null,null,null,null,null,null,null,null,null,null,null,null,null,null,null,null,null,null,null,null,null,null,null,null,null,null,null,null,null,null,null,null,null,null,null,null,null,null,null,null,null,null,null,null,null,null,null,null,null,null,null,null,null,null,null,null,null,null,null,null,null,null,null,null,null,null,null,null,null,null,null,null,null,null,null,null,null,null,null,null,null,null,null,null,null,null,null,null,null,null,null,null,null,null,null,null,null,null,null,null,null,null,null,null,null,null,null,null,null,null,null,null,null,null,null,null,null,null,null,null,null,null,null,null,null,null,null,null,null,null,null,null,null,null,null,null,null,null,null,null,null,null,null,null,null,null,null,null,null,null,null,null,null,null,null,null,null,null,null,null,null,null,null,null,null,null,null,null,null,null,null,null,null,null,null,null,null,null,null,null,null,null,null,null,null,null,null,null,null,null,null,null,null,null,null,null,null,null,null,null,null,null,null,null,null,null,null,null,null,null,null,null,null,null,null,null,null,null,null,null,null,null,null,null,null,null,null,null,null,null,null,null,null,null,null,null,null,null,null,null,null,null,null,null,null,null,null,null,null,null,null,null,null,null,null,null,null,null,null,null,null,null,null,null,null,null,null,null,null,null,null,null,null,null,null,null,null,null,null,null,null,null,null,null,null,null,null,null,null,null,null,null,null,null,null,null,null,null,null,null,null,null,null,null,null,null,null,null,null,null,null,null,null,null,null,null,null,null,null,null,null,null,null,null,null,null,null,null,null,null,null,null,null,null,null,null,null,null,null,null,null,null,null,null,null,null,null,null,null,null,null,null,null,null,null,null,null,null,null,null,null,null,null,null,null,null,null,null,null,null,null,null,null,null,null,null,null,null,null,null,null,null,null,null,null,null,null,null,null,null,null,null,null,null,null,null,null,null,null,null,null,null,null,null,null,null,null,null,null,null,null,null,null,null,null,null,null,null,null,null,null,null,null,null,null,null,null,null,null,null,null,null,null,null,null,null,null,null,null,null,null,null,null,null,null,null,null,null,null,null,null,null,null,null,null,null,null,null,null,null,null,null,null,null,null,null,null,null,null,null,null,null,null,null,null,null,null,null,null,null,null,null,null,null,null,null,null,null,null,null,null,null,null,null,null,null,null,null,null,null,null,null,null,null,null,null,null,null,null,null,null,null,null,null,null,null,null,null,null,null,null,null,null,null,null,null,null,null,null,null,null,null,null,null,null,null,null,null,null,null,null,null,null,null,null,null,null,null,null,null,null,null,null,null,null,null,null,null,null,null,null,null,null,null,null,null,null,null,null,null,null,null,null,null,null,null,null,null,null,null,null,null,null,null,null,null,null,null,null,null,null,null,null,null,null,null,null,null,null,null,null,null,null,null,null,null,null,null,null,null,null,null,null,null,null,null,null,null,null,null,null,null,null,null,null,null,null,null,null,null,null,null,null,null,null,null,null,null,null,null,null,null,null,null,null,null,null,null,null,null,null,null,null,null,null,null,null,null,null,null,null,null,null,null,null,null,null,null,null,null,null,null,null,null,null,null,null,null,null,null,null,null,null,null,null,null,null,null,null,null,null,null,null,null,null,null,null,null,null,null,null,null,null,null,null,null,null,null,null,null,null,null,null,null,null,null,null,null,null,null,null,null,null,null,null,null,null,null,null,null,null,null,null,null,null,null,null,null,null,null,null,null,null,null,null,null,null,null,null,null,null,null,null,null,null,null,null,null,null,null,null,null,null,null,null,null,null,null,null,null,null,null,null,null,null,null,null,null,null,null,null,null,null,null,null,null,null,null,null,null,null,null,null,null,null,null,null,null,null,null,null,null,null,null,null,null,null,null,null,null,null,null,null,null,null,null,null,null,null,null,null,null,null,null,null,null,null,null,null,null,null,null,null,null,null,null,null,null,null,null,null,null,null,null,null,null,null,null,null,null,null,null,null,null,null,null,null,null,null,null,null,null,null,null,null,null,null,null,null,null,null,null,null,null,null,null,null,null,null,null,null,null,null,null,null,null,null,null,null,null,null,null,null,null,null,null,null,null,null,null,null,null,null,null,null,null,null,null,null,null,null,null,null,null,null,null,null,null,null,null,null,null,null,null,null,null,null,null,null,null,null,null,null,null,null,null,null,null,null,null,null,null,null,null,null,null,null,null,null,null,null,null,null,null,null,null,null,null,null,null,null,null,null,null,null,null,null,null,null,null,null,null,null,null,null,null,null,null,null,null,null,null,null,null,null,null,null,null,null,null,null,null,null,null,null,null,null,null,null,null,null,null,null,null,null,null,null,null,null,null,null,null,null,null,null,null,null,null,null,null,null,null,null,null,null,null,null,null,null,null,null,null,null,null,null,null,null,null,null,null,null,null,null,null,null,null,null,null,null,null,null,null,null,null,null,null,null,null,null,null,null,null,null,null,null,null,null,null,null,null,null,null,null,null,null,null,null,null,null,null,null,null,null,null,null,null,null,null,null,null,null,null,null,null,null,null,null,null,null,null,null,null,null,null,null,null,null,null,null,null,null,null,null,null,null,null,null,null,null,null,null,null,null,null,null,null,null,null,null,null,null,null,null,null,null,null,null,null,null,null,null,null,null,null,null,null,null,null,null,null,null,null,null,null,null,null,null,null,null,null,null,null,null,null,null,null,null,null,null,null,null,null,null,null,null,null,null,null,null,null,null,null,null,null,null,null,null,null,null,null,null,null,null,null,null,null,null,null,null,null,null,null,null,null,null,null,null,null,null,null,null,null,null,null,null,null,null,null,null,null,null,null,null,null,null,null,null,null,null,null,null,null,null,null,null,null,null,null,null,null,null,null,null,null,null,null,null,null,null,null,null,null,null,null,null,null,null,null,null,null,null,null,null,null,null,null,null,null,null,null,null,null,null,null,null,null,null,null,null,null,null,null,null,null,null,null,null,null,null,null,null,null,null,null,null,null,null,null,null,null,null,null,null,null,null,null,null,null,null,null,null,null,null,null,null,null,null,null,null,null,null,null,null,null,null,null,null,null,null,null,null,null,null,null,null,null,null,null,null,null,null,null,null,null,null,null,null,null,null,null,null,null,null,null,null,null,null,null,null,null,null,null,null,null,null,null,null,null,null,null,null,null,null,null,null,null,null,null,null,null,null,null,null,null,null,null,null,null,null,null,null,null,null,null,null,null,null,null,null,null,null,null,null,null,null,null,null,null,null,null,null,null,null,null,null,null,null,null,null,null,null,null,null,null,null,null,null,null,null,null,null,null,null,null,null,null,null,null,null,null,null,null,null,null,null,null,null,null,null,null,null,null,null,null,null,null,null,null,null,null,null,null,null,null,null,null,null,null,null,null,null,null,null,null,null,null,null,null,null,null,null,null,null,null,null,null,null,null,null,null,null,null,null,null,null,null,null,null,null,null,null,null,null,null,null,null,null,null,null,null,null,null,null,null,null,null,null,null,null,null,null,null,null,null,null,null,null,null,null,null,null,null,null,null,null,null,null,null,null,null,null,null,null,null,null,null,null,null,null,null,null,null,null,null,null,null,null,null,null,null,null,null,null,null,null,null,null,null,null,null,null,null,null,null,null,null,null,null,null,null,null,null,null,null,null,null,null,null,null,null,null,null,null,null,null,null,null,null,null,null,null,null,null,null,null,null,null,null,null,null,null,null,null,null,null,null,null,null,null,null,null,null,null,null,null,null,null,null,null,null,null,null,null,null,null,null,null,null,null,null,null,null,null,null,null,null,null,null,null,null,null,null,null,null,null,null,null,null,null,null,null,null,null,null,null,null,null,null,null,null,null,null,null,null,null,null,null,null,null,null,null,null,null,null,null,null,null,null,null,null,null,null,null,null,null,null,null,null,null,null,null,null,null,null,null,null,null,null,null,null,null,null,null,null,null,null,null,null,null,null,null,null,null,null,null,null,null,null,null,null,null,null,null,null,null,null,null,null,null,null,null,null,null,null,null,null,null,null,null,null,null,null,null,null,null,null,null,null,null,null,null,null,null,null,null,null,null,null,null,null,null,null,null,null,null,null,null,null,null,null,null,null,null,null,null,null,null,null,null,null,null,null,null,null,null,null,null,null,null,null,null,null,null,null,null,null,null,null,null,null,null,null,null,null,null,null,null,null,null,null,null,null,null,null,null,null,null,null,null,null,null,null,null,null,null,null,null,null,null,null,null,null,null,null,null,null,null,null,null,null,null,null,null,null,null,null,null,null,null,null,null,null,null,null,null,null,null,null,null,null,null,null,null,null,null,null,null,null,null,null,null,null,null,null,null,null,null,null,null,null,null,null,null,null,null,null,null,null,null,null,null,null,null,null,null,null,null,null,null,null,null,null,null,null,null,null,null,null,null,null,null,null,null,null,null,null,null,null,null,null,null,null,null,null,null,null,null,null,null,null,null,null,null,null,null,null,null,null,null,null,null,null,null,null,null,null,null,null,null,null,null,null,null,null,null,null,null,null,null,null,null,null,null,null,null,null,null,null,null,null,null,null,null,null,null,null,null,null,null,null,null,null,null,null,null,null,null,null,null,null,null,null,null,null,null,null,null,null,null,null,null,null,null,null,null,null,null,null,null,null,null,null,null,null,null,null,null,null,null,null,null,null,null,null,null,null,null,null,null,null,null,null,null,null,null,null,null,null,null,null,null,null,null,null,null,null,null,null,null,null,null,null,null,null,null,null,null,null,null,null,null,null,null,null,null,null,null,null,null,null,null,null,null,null,null,null,null,null,null,null,null,null,null,null,null,null,null,null,null,null,null,null,null,null,null,null,null,null,null,null,null,null,null,null,null,null,null,null,null,null,null,null,null,null,null,null,null,null,null,null,null,null,null,null,null,null,null,null,null,null,null,null,null,null,null,null,null,null,null,null,null,null,null,null,null,null,null,null,null,null,null,null,null,null,null,null,null,null,null,null,null,null,null,null,null,null,null,null,null,null,null,null,null,null,null,null,null,null,null,null,null,null,null,null,null,null,null,null,null,null,null,null,null,null,null,null,null,null,null,null,null,null,null,null,null,null,null,null,null,null,null,null,null,null,null,null,null,null,null,null,null,null,null,null,null,null,null,null,null,null,null,null,null,null,null,null,null,null,null,null,null,null,null,null,null,null,null,null,null,null,null,null,null,null,null,null,null,null,null,null,null,null,null,null,null,null,null,null,null,null,null,null,null,null,null,null,null,null,null,null,null,null,null,null,null,null,null,null,null,null,null,null,null,null,null,null,null,null,null,null,null,null,null,null,null,null,null,null,null,null,null,null,null,null,null,null,null,null,null,null,null,null,null,null,null,null,null,null,null,null,null,null,null,null,null,null,null,null,null,null,null,null,null,null,null,null,null,null,null,null,null,null,null,null,null,null,null,null,null,null,null,null,null,null,null,null,null,null,null,null,null,null,null,null,null,null,null,null,null,null,null,null,null,null,null,null,null,null,null,null,null,null,null,null,null,null,null,null,null,null,null,null,null,null,null,null,null,null,null,null,null,null,null,null,null,null,null,null,null,null,null,null,null,null,null,null,null,null,null,null,null,null,null,null,null,null,null,null,null,null,null,null,null,null,null,null,null,null,null,null,null,null,null,null,null,null,null,null,null,null,null,null,null,null,null,null,null,null,null,null,null,null,null,null,null,null,null,null,null,null,null,null,null,null,null,null,null,null,null,null,null,null,null,null,null,null,null,null,null,null,null,null,null,null,null,null,null,null,null,null,null,null,null,null,null,null,null,null,null,null,null,null,null,null,null,null,null,null,null,null,null,null,null,null,null,null,null,null,null,null,null,null,null,null,null,null,null,null,null,null,null,null,null,null,null,null,null,null,null,null,null,null,null,null,null,null,null,null,null,null,null,null,null,null,null,null,null,null,null,null,null,null,null,null,null,null,null,null,null,null,null,null,null,null,null,null,null,null,null,null,null,null,null,null,null,null,null,null,null,null,null,null,null,null,null,null,null,null,null,null,null,null,null,null,null,null,null,null,null,null,null,null,null,null,null,null,null,null,null,null,null,null,null,null,null,null,null,null,null,null,null,null,null,null,null,null,null,null,null,null,null,null,null,null,null,null,null,null,null,null,null,null,null,null,null,null,null,null,null,null,null,null,null,null,null,null,null,null,null,null,null,null,null,null,null,null,null,null,null,null,null,null,null,null,null,null,null,null,null,null,null,null,null,null,null,null,null,null,null,null,null,null,null,null,null,null,null,null,null,null,null,null,null,null,null,null,null,null,null,null,null,null,null,null,null,null,null,null,null,null,null,null,null,null,null,null,null,null,null,null,null,null,null,null,null,null,null,null,null,null,null,null,null,null,null,null,null,null,null,null,null,null,null,null,null,null,null,null,null,null,null,null,null,null,null,null,null,null,null,null,null,null,null,null,null,null,null,null,null,null,null,null,null,null,null,null,null,null,null,null,null,null,null,null,null,null,null,null,null,null,null,null,null,null,null,null,null,null,null,null,null,null,null,null,null,null,null,null,null,null,null,null,null,null,null,null,null,null,null,null,null,null,null,null,null,null,null,null,null,null,null,null,null,null,null,null,null,null,null,null,null,null,null,null,null,null,null,null,null,null,null,null,null,null,null,null,null,null,null,null,null,null,null,null,null,null,null,null,null,null,null,null,null,null,null,null,null,null,null,null,null,null,null,null,null,null,null,null,null,null,null,null,null,null,null,null,null,null,null,null,null,null,null,null,null,null,null,null,null,null,null,null,null,null,null,null,null,null,null,null,null,null,null,null,null,null,null,null,null,null,null,null,null,null,null,null,null,null,null,null,null,null,null,null,null,null,null,null,null,null,null,null,null,null,null,null,null,null,null,null,null,null,null,null,null,null,null,null,null,null,null,null,null,null,null,null,null,null,null,null,null,null,null,null,null,null,null,null,null,null,null,null,null,null,null,null,null,null,null,null,null,null,null,null,null,null,null,null,null,null,null,null,null,null,null,null,null,null,null,null,null,null,null,null,null,null,null,null,null,null,null,null,null,null,null,null,null,null,null,null,null,null,null,null,null,null,null,null,null,null,null,null,null,null,null,null,null,null,null,null,null,null,null,null,null,null,null,null,null,null,null,null,null,null,null,null,null,null,null,null,null,null,null,null,null,null,null,null,null,null,null,null,null,null,null,null,null,null,null,null,null,null,null,null,null,null,null,null,null,null,null,null,null,null,null,null,null,null,null,null,null,null,null,null,null,null,null,null,null,null,null,null,null,null,null,null,null,null,null,null,null,null,null,null,null,null,null,null,null,null,null,null,null,null,null,null,null,null,null,null,null,null,null,null,null,null,null,null,null,null,null,null,null,null,null,null,null,null,null,null,null,null,null,null,null,null,null,null,null,null,null,null,null,null,null,null,null,null,null,null,null,null,null,null,null,null,null,null,null,null,null,null,null,null,null,null,null,null,null,null,null,null,null,null,null,null,null,null,null,null,null,null,null,null,null,null,null,null,null,null,null,null,null,null,null,null,null,null,null,null,null,null,null,null,null,null,null,null,null,null,null,null,null,null,null,null,null,null,null,null,null,null,null,null,null,null,null,null,null,null,null,null,null,null,null,null,null,null,null,null,null,null,null,null,null,null,null,null,null,null,null,null,null,null,null,null,null,null,null,null,null,null,null,null,null,null,null,null,null,null,null,null,null,null,null,null,null,null,null,null,null,null,null,null,null,null,null,null,null,null,null,null,null,null,null,null,null,null,null,null,null,null,null,null,null,null,null,null,null,null,null,null,null,null,null,null,null,null,null,null,null,null,null,null,null,null,null,null,null,null,null,null,null,null,null,null,null,null,null,null,null,null,null,null,null,null,null,null,null,null,null,null,null,null,null,null,null,null,null,null,null,null,null,null,null,null,null,null,null,null,null,null,null,null,null,null,null,null,null,null,null,null,null,null,null,null,null,null,null,null,null,null,null,null,null,null,null,null,null,null,null,null,null,null,null,null,null,null,null,null,null,null,null,null,null,null,null,null,null,null,null,null,null,null,null,null,null,null,null,null,null,null,null,null,null,null,null,null,null,null,null,null,null,null,null,null,null,null,null,null,null,null,null,null,null,null,null,null,null,null,null,null,null,null,null,null,null,null,null,null,null,null,null,null,null,null,null,null,null,null,null,null,null,null,null,null,null,null,null,null,null,null,null,null,null,null,null,null,null,null,null,null,null,null,null,null,null,null,null,null,null,null,null,null,null,null,null,null,null,null,null,null,null,null,null,null,null,null,null,null,null,null,null,null,null,null,null,null,null,null,null,null,null,null,null,null,null,null,null,null,null,null,null,null,null,null,null,null,null,null,null,null,null,null,null,null,null,null,null,null,null,null,null,null,null,null,null,null,null,null,null,null,null,null,null,null,null,null,null,null,null,null,null,null,null,null,null,null,null,null,null,null,null,null,null,null,null,null,null,null,null,null,null,null,null,null,null,null,null,null,null,null,null,null,null,null,null,null,null,null,null,null,null,null,null,null,null,null,null,null,null,null,null,null,null,null,null,null,null,null,null,null,null,null,null,null,null,null,null,null,null,null,null,null,null,null,null,null,null,null,null,null,null,null,null,null,null,null,null,null,null,null,null,null,null,null,null,null,null,null,null,null,null,null,null,null,null,null,null,null,null,null,null,null,null,null,null,null,null,null,null,null,null,null,null,null,null,null,null,null,null,null,null,null,null,null,null,null,null,null,null,null,null,null,null,null,null,null,null,null,null,null,null,null,null,null,null,null,null,null,null,null,null,null,null,null,null,null,null,null,null,null,null,null,null,null,null,null,null,null,null,null,null,null,null,null,null,null,null,null,null,null,null,null,null,null,null,null,null,null,null,null,null,null,null,null,null,null,null,null,null,null,null,null,null,null,null,null,null,null,null,null,null,null,null,null,null,null,null,null,null,null,null,null,null,null,null,null,null,null,null,null,null,null,null,null,null,null,null,null,null,null,null,null,null,null,null,null,null,null,null,null,null,null,null,null,null,null,null,null,null,null,null,null,null,null,null,null,null,null,null,null,null,null,null,null,null,null,null,null,null,null,null,null,null,null,null,null,null,null,null,null,null,null,null,null,null,null,null,null,null,null,null,null,null,null,null,null,null,null,null,null,null,null,null,null,null,null,null,null,null,null,null,null,null,null,null,null,null,null,null,null,null,null,null,null,null,null,null,null,null,null,null,null,null,null,null,null,null,null,null,null,null,null,null,null,null,null,null,null,null,null,null,null,null,null,null,null,null,null,null,null,null,null,null,null,null,null,null,null,null,null,null,null,null,null,null,null,null,null,null,null,null,null,null,null,null,null,null,null,null,null,null,null,null,null,null,null,null,null,null,null,null,null,null,null,null,null,null,null,null,null,null,null,null,null,null,null,null,null,null,null,null,null,null,null,null,null,null,null,null,null,null,null,null,null,null,null,null,null,null,null,null,null,null,null,null,null,null,null,null,null,null,null,null,null,null,null,null,null,null,null,null,null,null,null,null,null,null,null,null,null,null,null,null,null,null,null,null,null,null,null,null,null,null,null,null,null,null,null,null,null,null,null,null,null,null,null,null,null,null,null,null,null,null,null,null,null,null,null,null,null,null,null,null,null,null,null,null,null,null,null,null,null,null,null,null,null,null,null,null,null,null,null,null,null,null,null,null,null,null,null,null,null,null,null,null,null,null,null,null,null,null,null,null,null,null,null,null,null,null,null,null,null,null,null,null,null,null,null,null,null,null,null,null,null,null,null,null,null,null,null,null,null,null,null,null,null,null,null,null,null,null,null,null,null,null,null,null,null,null,null,null,null,null,null,null,null,null,null,null,null,null,null,null,null,null,null,null,null,null,null,null,null,null,null,null,null,null,null,null,null,null,null,null,null,null,null,null,null,null,null,null,null,null,null,null,null,null,null,null,null,null,null,null,null,null,null,null,null,null,null,null,null,null,null,null,null,null,null,null,null,null,null,null,null,null,null,null,null,null,null,null,null,null,null,null,null,null,null,null,null,null,null,null,null,null,null,null,null,null,null,null,null,null,null,null,null,null,null,null,null,null,null,null,null,null,null,null,null,null,null,null,null,null,null,null,null,null,null,null,null,null,null,null,null,null,null,null,null,null,null,null,null,null,null,null,null,null,null,null,null,null,null,null,null,null,null,null,null,null,null,null,null,null,null,null,null,null,null,null,null,null,null,null,null,null,null,null,null,null,null,null,null,null,null,null,null,null,null,null,null,null,null,null,null,null,null,null,null,null,null,null,null,null,null,null,null,null,null,null,null,null,null,null,null,null,null,null,null,null,null,null,null,null,null,null,null,null,null,null,null,null,null,null,null,null,null,null,null,null,null,null,null,null,null,null,null,null,null,null,null,null,null,null,null,null,null,null,null,null,null,null,null,null,null,null,null,null,null,null,null,null,null,null,null,null,null,null,null,null,null,null,null,null,null,null,null,null,null,null,null,null,null,null,null,null,null,null,null,null,null,null,null,null,null,null,null,null,null,null,null,null,null,null,null,null,null,null,null,null,null,null,null,null,null,null,null,null,null,null,null,null,null,null,null,null,null,null,null,null,null,null,null,null,null,null,null,null,null,null,null,null,null,null,null,null,null,null,null,null,null,null,null,null,null,null,null,null,null,null,null,null,null,null,null,null,null,null,null,null,null,null,null,null,null,null,null,null,null,null,null,null,null,null,null,null,null,null,null,null,null,null,null,null,null,null,null,null,null,null,null,null,null,null,null,null,null,null,null,null,null,null,null,null,null,null,null,null,null,null,null,null,null,null,null,null,null,null,null,null,null,null,null,null,null,null,null,null,null,null,null,null,null,null,null,null,null,null,null,null,null,null,null,null,null,null,null,null,null,null,null,null,null,null,null,null,null,null,null,null,null,null,null,null,null,null,null,null,null,null,null,null,null,null,null,null,null,null,null,null,null,null,null,null,null,null,null,null,null,null,null,null,null,null,null,null,null,null,null,null,null,null,null,null,null,null,null,null,null,null,null,null,null,null,null,null,null,null,null,null,null,null,null,null,null,null,null,null,null,null,null,null,null,null,null,null,null,null,null,null,null,null,null,null,null,null,null,null,null,null,null,null,null,null,null,null,null,null,null,null,null,null,null,null,null,null,null,null,null,null,null,null,null,null,null,null,null,null,null,null,null,null,null,null,null,null,null,null,null,null,null,null,null,null,null,null,null,null,null,null,null,null,null,null,null,null,null,null,null,null,null,null,null,null,null,null,null,null,null,null,null,null,null,null,null,null,null,null,null,null,null,null,null,null,null,null,null,null,null,null,null,null,null,null,null,null,null,null,null,null,null,null,null,null,null,null,null,null,null,null,null,null,null,null,null,null,null,null,null,null,null,null,null,null,null,null,null,null,null,null,null,null,null,null,null,null,null,null,null,null,null,null,null,null,null,null,null,null,null,null,null,null,null,null,null,null,null,null,null,null,null,null,null,null,null,null,null,null,null,null,null,null,null,null,null,null,null,null,null,null,null,null,null,null,null,null,null,null,null,null,null,null,null,null,null,null,null,null,null,null,null,null,null,null,null,null,null,null,null,null,null,null,null,null,null,null,null,null,null,null,null,null,null,null,null,null,null,null,null,null,null,null,null,null,null,null,null,null,null,null,null,null,null,null,null,null,null,null,null,null,null,null,null,null,null,null,null,null,null,null,null,null,null,null,null,null,null,null,null,null,null,null,null,null,null,null,null,null,null,null,null,null,null,null,null,null,null,null,null,null,null,null,null,null,null,null,null,null,null,null,null,null,null,null,null,null,null,null,null,null,null,null,null,null,null,null,null,null,null,null,null,null,null,null,null,null,null,null,null,null,null,null,null,null,null,null,null,null,null,null,null,null,null,null,null,null,null,null,null,null,null,null,null,null,null,null,null,null,null,null,null,null,null,null,null,null,null,null,null,null,null,null,null,null,null,null,null,null,null,null,null,null,null,null,null,null,null,null,null,null,null,null,null,null,null,null,null,null,null,null,null,null,null,null,null,null,null,null,null,null,null,null,null,null,null,null,null,null,null,null,null,null,null,null,null,null,null,null,null,null,null,null,null,null,null,null,null,null,null,null,null,null,null,null,null,null,null,null,null,null,null,null,null,null,null,null,null,null,null,null,null,null,null,null,null,null,null,null,null,null,null,null,null,null,null,null,null,null,null,null,null,null,null,null,null,null,null,null,null,null,null,null,null,null,null,null,null,null,null,null,null,null,null,null,null,null,null,null,null,null,null,null,null,null,null,null,null,null,null,null,null,null,null,null,null,null,null,null,null,null,null,null,null,null,null,null,null,null,null,null,null,null,null,null,null,null,null,null,null,null,null,null,null,null,null,null,null,null,null,null,null,null,null,null,null,null,null,null,null,null,null,null,null,null,null,null,null,null,null,null,null,null,null,null,null,null,null,null,null,null,null,null,null,null,null,null,null,null,null,null,null,null,null,null,null,null,null,null,null,null,null,null,null,null,null,null,null,null,null,null,null,null,null,null,null,null,null,null,null,null,null,null,null,null,null,null,null,null,null,null,null,null,null,null,null,null,null,null,null,null,null,null,null,null,null,null,null,null,null,null,null,null,null,null,null,null,null,null,null,null,null,null,null,null,null,null,null,null,null,null,null,null,null,null,null,null,null,null,null,null,null,null,null,null,null,null,null,null,null,null,null,null,null,null,null,null,null,null,null,null,null,null,null,null,null,null,null,null,null,null,null,null,null,null,null,null,null,null,null,null,null,null,null,null,null,null,null,null,null,null,null,null,null,null,null,null,null,null,null,null,null,null,null,null,null,null,null,null,null,null,null,null,null,null,null,null,null,null,null,null,null,null,null,null,null,null,null,null,null,null,null,null,null,null,null,null,null,null,null,null,null,null,null,null,null,null,null,null,null,null,null,null,null,null,null,null,null,null,null,null,null,null,null,null,null,null,null,null,null,null,null,null,null,null,null,null,null,null,null,null,null,null,null,null,null,null,null,null,null,null,null,null,null,null,null,null,null,null,null,null,null,null,null,null,null,null,null,null,null,null,null,null,null,null,null,null,null,null,null,null,null,null,null,null,null,null,null,null,null,null,null,null,null,null,null,null,null,null,null,null,null,null,null,null,null,null,null,null,null,null,null,null,null,null,null,null,null,null,null,null,null,null,null,null,null,null,null,null,null,null,null,null,null,null,null,null,null,null,null,null,null,null,null,null,null,null,null,null,null,null,null,null,null,null,null,null,null,null,null,null,null,null,null,null,null,null,null,null,null,null,null,null,null,null,null,null,null,null,null,null,null,null,null,null,null,null,null,null,null,null,null,null,null,null,null,null,null,null,null,null,null,null,null,null,null,null,null,null,null,null,null,null,null,null,null,null,null,null,null,null,null,null,null,null,null,null,null,null,null,null,null,null,null,null,null,null,null,null,null,null,null,null,null,null,null,null,null,null,null,null,null,null,null,null,null,null,null,null,null,null,null,null,null,null,null,null,null,null,null,null,null,null,null,null,null,null,null,null,null,null,null,null,null,null,null,null,null,null,null,null,null,null,null,null,null,null,null,null,null,null,null,null,null,null,null,null,null,null,null,null,null,null,null,null,null,null,null,null,null,null,null,null,null,null,null,null,null,null,null,null,null,null,null,null,null,null,null,null,null,null,null,null,null,null,null,null,null,null,null,null,null,null,null,null,null,null,null,null,null,null,null,null,null,null,null,null,null,null,null,null,null,null,null,null,null,null,null,null,null,null,null,null,null,null,null,null,null,null,null,null,null,null,null,null,null,null,null,null,null,null,null,null,null,null,null,null,null,null,null,null,null,null,null,null,null,null,null,null,null,null,null,null,null,null,null,null,null,null,null,null,null,null,null,null,null,null,null,null,null,null,null,null,null,null,null,null,null,null,null,null,null,null,null,null,null,null,null,null,null,null,null,null,null,null,null,null,null,null,null,null,null,null,null,null,null,null,null,null,null,null,null,null,null,null,null,null,null,null,null,null,null,null,null,null,null,null,null,null,null,null,null,null,null,null,null,null,null,null,null,null,null,null,null,null,null,null,null,null,null,null,null,null,null,null,null,null,null,null,null,null,null,null,null,null,null,null,null,null,null,null,null,null,null,null,null,null,null,null,null,null,null,null,null,null,null,null,null,null,null,null,null,null,null,null,null,null,null,null,null,null,null,null,null,null,null,null,null,null,null,null,null,null,null,null,null,null,null,null,null,null,null,null,null,null,null,null,null,null,null,null,null,null,null,null,null,null,null,null,null,null,null,null,null,null,null,null,null,null,null,null,null,null,null,null,null,null,null,null,null,null,null,null,null,null,null,null,null,null,null,null,null,null,null,null,null,null,null,null,null,null,null,null,null,null,null,null,null,null,null,null,null,null,null,null,null,null,null,null,null,null,null,null,null,null,null,null,null,null,null,null,null,null,null,null,null,null,null,null,null,null,null,null,null,null,null,null,null,null,null,null,null,null,null,null,null,null,null,null,null,null,null,null,null,null,null,null,null,null,null,null,null,null,null,null,null,null,null,null,null,null,null,null,null,null,null,null,null,null,null,null,null,null,null,null,null,null,null,null,null,null,null,null,null,null,null,null,null,null,null,null,null,null,null,null,null,null,null,null,null,null,null,null,null,null,null,null,null,null,null,null,null,null,null,null,null,null,null,null,null,null,null,null,null,null,null,null,null,null,null,null,null,null,null,null,null,null,null,null,null,null,null,null,null,null,null,null,null,null,null,null,null,null,null,null,null,null,null,null,null,null,null,null,null,null,null,null,null,null,null,null,null,null,null,null,null,null,null,null,null,null,null,null,null,null,null,null,null,null,null,null,null,null,null,null,null,null,null,null,null,null,null,null,null,null,null,null,null,null,null,null,null,null,null,null,null,null,null,null,null,null,null,null,null,null,null,null,null,null,null,null,null,null,null,null,null,null,null,null,null,null,null,null,null,null,null,null,null,null,null,null,null,null,null,null,null,null,null,null,null,null,null,null,null,null,null,null,null,null,null,null,null,null,null,null,null,null,null,null,null,null,null,null,null,null,null,null,null,null,null,null,null,null,null,null,null,null,null,null,null,null,null,null,null,null,null,null,null,null,null,null,null,null,null,null,null,null,null,null,null,null,null,null,null,null,null,null,null,null,null,null,null,null,null,null,null,null,null,null,null,null,null,null,null,null,null,null,null,null,null,null,null,null,null,null,null,null,null,null,null,null,null,null,null,null,null,null,null,null,null,null,null,null,null,null,null,null,null,null,null,null,null,null,null,null,null,null,null,null,null,null,null,null,null,null,null,null,null,null,null,null,null,null,null,null,null,null,null,null,null,null,null,null,null,null,null,null,null,null,null,null,null,null,null,null,null,null,null,null,null,null,null,null,null,null,null,null,null,null,null,null,null,null,null,null,null,null,null,null,null,null,null,null,null,null,null,null,null,null,null,null,null,null,null,null,null,null,null,null,null,null,null,null,null,null,null,null,null,null,null,null,null,null,null,null,null,null,null,null,null,null,null,null,null,null,null,null,null,null,null,null,null,null,null,null,null,null,null,null,null,null,null,null,null,null,null,null,null,null,null,null,null,null,null,null,null,null,null,null,null,null,null,null,null,null,null,null,null,null,null,null,null,null,null,null,null,null,null,null,null,null,null,null,null,null,null,null,null,null,null,null,null,null,null,null,null,null,null,null,null,null,null,null,null,null,null,null,null,null,null,null,null,null,null,null,null,null,null,null,null,null,null,null,null,null,null,null,null,null,null,null,null,null,null,null,null,null,null,null,null,null,null,null,null,null,null,null,null,null,null,null,null,null,null,null,null,null,null,null,null,null,null,null,null,null,null,null,null,null,null,null,null,null,null,null,null,null,null,null,null,null,null,null,null,null,null,null,null,null,null,null,null,null,null,null,null,null,null,null,null,null,null,null,null,null,null,null,"Type ",null,"SUBSTITUTION"]

{"sheet":"NST04Q","index":17,"n_rows":223,"n_cols":6,"rows_kept":223,"cut":false,"hidden":true,"merged":[]}
["SheetCode","FieldCode","FICode","Date","ColNum","Value"]
["NST04Q","00",{"$f":"'Cover Sheet'!$C$16","v":0},{"$f":"'Cover Sheet'!$C$22","v":"00:00:00"},1]
["NST04Q","01",{"$f":"'Cover Sheet'!$C$16","v":0},{"$f":"'Cover Sheet'!$C$22","v":"00:00:00"},1,{"$f":"QNST04!D10","v":0}]
["NST04Q","02",{"$f":"'Cover Sheet'!$C$16","v":0},{"$f":"'Cover Sheet'!$C$22","v":"00:00:00"},1,{"$f":"QNST04!D11","v":0}]
["NST04Q","03",{"$f":"'Cover Sheet'!$C$16","v":0},{"$f":"'Cover Sheet'!$C$22","v":"00:00:00"},1,{"$f":"QNST04!D12","v":0}]
["NST04Q","04",{"$f":"'Cover Sheet'!$C$16","v":0},{"$f":"'Cover Sheet'!$C$22","v":"00:00:00"},1,{"$f":"QNST04!D13","v":0}]
["NST04Q","05",{"$f":"'Cover Sheet'!$C$16","v":0},{"$f":"'Cover Sheet'!$C$22","v":"00:00:00"},1,{"$f":"QNST04!D14","v":0}]
["NST04Q","06",{"$f":"'Cover Sheet'!$C$16","v":0},{"$f":"'Cover Sheet'!$C$22","v":"00:00:00"},1,{"$f":"QNST04!D15","v":0}]
["NST04Q","07",{"$f":"'Cover Sheet'!$C$16","v":0},{"$f":"'Cover Sheet'!$C$22","v":"00:00:00"},1,{"$f":"QNST04!D16","v":0}]
["NST04Q","08",{"$f":"'Cover Sheet'!$C$16","v":0},{"$f":"'Cover Sheet'!$C$22","v":"00:00:00"},1,{"$f":"QNST04!D17","v":0}]
["NST04Q","09",{"$f":"'Cover Sheet'!$C$16","v":0},{"$f":"'Cover Sheet'!$C$22","v":"00:00:00"},1,{"$f":"QNST04!D18","v":0}]
["NST04Q","10",{"$f":"'Cover Sheet'!$C$16","v":0},{"$f":"'Cover Sheet'!$C$22","v":"00:00:00"},1,{"$f":"QNST04!D19","v":0}]
["NST04Q","11",{"$f":"'Cover Sheet'!$C$16","v":0},{"$f":"'Cover Sheet'!$C$22","v":"00:00:00"},1,{"$f":"QNST04!D20","v":0}]
["NST04Q","12",{"$f":"'Cover Sheet'!$C$16","v":0},{"$f":"'Cover Sheet'!$C$22","v":"00:00:00"},1,{"$f":"QNST04!D21","v":0}]
["NST04Q","13",{"$f":"'Cover Sheet'!$C$16","v":0},{"$f":"'Cover Sheet'!$C$22","v":"00:00:00"},1,{"$f":"QNST04!D22","v":0}]
["NST04Q","14",{"$f":"'Cover Sheet'!$C$16","v":0},{"$f":"'Cover Sheet'!$C$22","v":"00:00:00"},1,{"$f":"QNST04!D23","v":0}]
["NST04Q","15",{"$f":"'Cover Sheet'!$C$16","v":0},{"$f":"'Cover Sheet'!$C$22","v":"00:00:00"},1,{"$f":"QNST04!D24","v":0}]
["NST04Q","16",{"$f":"'Cover Sheet'!$C$16","v":0},{"$f":"'Cover Sheet'!$C$22","v":"00:00:00"},1,{"$f":"QNST04!D25","v":0}]
["NST04Q","17",{"$f":"'Cover Sheet'!$C$16","v":0},{"$f":"'Cover Sheet'!$C$22","v":"00:00:00"},1,{"$f":"QNST04!D26","v":0}]
["NST04Q","18",{"$f":"'Cover Sheet'!$C$16","v":0},{"$f":"'Cover Sheet'!$C$22","v":"00:00:00"},1,{"$f":"QNST04!D27","v":0}]
["NST04Q","19",{"$f":"'Cover Sheet'!$C$16","v":0},{"$f":"'Cover Sheet'!$C$22","v":"00:00:00"},1,{"$f":"QNST04!D28","v":0}]
["NST04Q","20",{"$f":"'Cover Sheet'!$C$16","v":0},{"$f":"'Cover Sheet'!$C$22","v":"00:00:00"},1,{"$f":"QNST04!D29","v":0}]
["NST04Q","21",{"$f":"'Cover Sheet'!$C$16","v":0},{"$f":"'Cover Sheet'!$C$22","v":"00:00:00"},1,{"$f":"QNST04!D30","v":0}]
["NST04Q","22",{"$f":"'Cover Sheet'!$C$16","v":0},{"$f":"'Cover Sheet'!$C$22","v":"00:00:00"},1,{"$f":"QNST04!D31","v":0}]
["NST04Q","23",{"$f":"'Cover Sheet'!$C$16","v":0},{"$f":"'Cover Sheet'!$C$22","v":"00:00:00"},1,{"$f":"QNST04!D32","v":0}]
["NST04Q","24",{"$f":"'Cover Sheet'!$C$16","v":0},{"$f":"'Cover Sheet'!$C$22","v":"00:00:00"},1,{"$f":"QNST04!D33","v":0}]
["NST04Q","25",{"$f":"'Cover Sheet'!$C$16","v":0},{"$f":"'Cover Sheet'!$C$22","v":"00:00:00"},1,{"$f":"QNST04!D34","v":0}]
["NST04Q","26",{"$f":"'Cover Sheet'!$C$16","v":0},{"$f":"'Cover Sheet'!$C$22","v":"00:00:00"},1,{"$f":"QNST04!D35","v":0}]
["NST04Q","27",{"$f":"'Cover Sheet'!$C$16","v":0},{"$f":"'Cover Sheet'!$C$22","v":"00:00:00"},1,{"$f":"QNST04!D36","v":0}]
["NST04Q","28",{"$f":"'Cover Sheet'!$C$16","v":0},{"$f":"'Cover Sheet'!$C$22","v":"00:00:00"},1,{"$f":"QNST04!D37","v":0}]
["NST04Q","29",{"$f":"'Cover Sheet'!$C$16","v":0},{"$f":"'Cover Sheet'!$C$22","v":"00:00:00"},1,{"$f":"QNST04!D38","v":0}]
["NST04Q","30",{"$f":"'Cover Sheet'!$C$16","v":0},{"$f":"'Cover Sheet'!$C$22","v":"00:00:00"},1,{"$f":"QNST04!D39","v":0}]
["NST04Q","31",{"$f":"'Cover Sheet'!$C$16","v":0},{"$f":"'Cover Sheet'!$C$22","v":"00:00:00"},1,{"$f":"QNST04!D40","v":0}]
["NST04Q","32",{"$f":"'Cover Sheet'!$C$16","v":0},{"$f":"'Cover Sheet'!$C$22","v":"00:00:00"},1,{"$f":"QNST04!D41","v":0}]
["NST04Q","33",{"$f":"'Cover Sheet'!$C$16","v":0},{"$f":"'Cover Sheet'!$C$22","v":"00:00:00"},1,{"$f":"QNST04!D42","v":0}]
["NST04Q","34",{"$f":"'Cover Sheet'!$C$16","v":0},{"$f":"'Cover Sheet'!$C$22","v":"00:00:00"},1,{"$f":"QNST04!D43","v":0}]
["NST04Q","36",{"$f":"'Cover Sheet'!$C$16","v":0},{"$f":"'Cover Sheet'!$C$22","v":"00:00:00"},1,{"$f":"QNST04!D44","v":0}]
["NST04Q","37",{"$f":"'Cover Sheet'!$C$16","v":0},{"$f":"'Cover Sheet'!$C$22","v":"00:00:00"},1,{"$f":"QNST04!D45","v":0}]
["NST04Q","38",{"$f":"'Cover Sheet'!$C$16","v":0},{"$f":"'Cover Sheet'!$C$22","v":"00:00:00"},1,{"$f":"QNST04!D46","v":0}]
["NST04Q","39",{"$f":"'Cover Sheet'!$C$16","v":0},{"$f":"'Cover Sheet'!$C$22","v":"00:00:00"},1,{"$f":"QNST04!D47","v":0}]
["NST04Q","40",{"$f":"'Cover Sheet'!$C$16","v":0},{"$f":"'Cover Sheet'!$C$22","v":"00:00:00"},1,{"$f":"QNST04!D48","v":0}]
["NST04Q","41",{"$f":"'Cover Sheet'!$C$16","v":0},{"$f":"'Cover Sheet'!$C$22","v":"00:00:00"},1,{"$f":"QNST04!D49","v":0}]
["NST04Q","42",{"$f":"'Cover Sheet'!$C$16","v":0},{"$f":"'Cover Sheet'!$C$22","v":"00:00:00"},1,{"$f":"QNST04!D50","v":0}]
["NST04Q","43",{"$f":"'Cover Sheet'!$C$16","v":0},{"$f":"'Cover Sheet'!$C$22","v":"00:00:00"},1,{"$f":"QNST04!D51","v":0}]
["NST04Q","44",{"$f":"'Cover Sheet'!$C$16","v":0},{"$f":"'Cover Sheet'!$C$22","v":"00:00:00"},1,{"$f":"QNST04!D52","v":0}]
["NST04Q","44a",{"$f":"'Cover Sheet'!$C$16","v":0},{"$f":"'Cover Sheet'!$C$22","v":"00:00:00"},1]
["NST04Q","45",{"$f":"'Cover Sheet'!$C$16","v":0},{"$f":"'Cover Sheet'!$C$22","v":"00:00:00"},1,{"$f":"QNST04!D55","v":0}]
["NST04Q","46",{"$f":"'Cover Sheet'!$C$16","v":0},{"$f":"'Cover Sheet'!$C$22","v":"00:00:00"},1,{"$f":"QNST04!D56","v":0}]
["NST04Q","47",{"$f":"'Cover Sheet'!$C$16","v":0},{"$f":"'Cover Sheet'!$C$22","v":"00:00:00"},1,{"$f":"QNST04!D57","v":0}]
["NST04Q","48",{"$f":"'Cover Sheet'!$C$16","v":0},{"$f":"'Cover Sheet'!$C$22","v":"00:00:00"},1,{"$f":"QNST04!D58","v":0}]
["NST04Q","49",{"$f":"'Cover Sheet'!$C$16","v":0},{"$f":"'Cover Sheet'!$C$22","v":"00:00:00"},1,{"$f":"QNST04!D59","v":0}]
["NST04Q","50",{"$f":"'Cover Sheet'!$C$16","v":0},{"$f":"'Cover Sheet'!$C$22","v":"00:00:00"},1,{"$f":"QNST04!D60","v":0}]
["NST04Q","51",{"$f":"'Cover Sheet'!$C$16","v":0},{"$f":"'Cover Sheet'!$C$22","v":"00:00:00"},1,{"$f":"QNST04!D61","v":0}]
["NST04Q","52",{"$f":"'Cover Sheet'!$C$16","v":0},{"$f":"'Cover Sheet'!$C$22","v":"00:00:00"},1,{"$f":"QNST04!D62","v":0}]
["NST04Q","53",{"$f":"'Cover Sheet'!$C$16","v":0},{"$f":"'Cover Sheet'!$C$22","v":"00:00:00"},1,{"$f":"QNST04!D63","v":0}]
["NST04Q","54",{"$f":"'Cover Sheet'!$C$16","v":0},{"$f":"'Cover Sheet'!$C$22","v":"00:00:00"},1,{"$f":"QNST04!D64","v":0}]
["NST04Q","55",{"$f":"'Cover Sheet'!$C$16","v":0},{"$f":"'Cover Sheet'!$C$22","v":"00:00:00"},1,{"$f":"QNST04!D65","v":0}]
["NST04Q","56",{"$f":"'Cover Sheet'!$C$16","v":0},{"$f":"'Cover Sheet'!$C$22","v":"00:00:00"},1,{"$f":"QNST04!D66","v":0}]
["NST04Q","57",{"$f":"'Cover Sheet'!$C$16","v":0},{"$f":"'Cover Sheet'!$C$22","v":"00:00:00"},1,{"$f":"QNST04!D67","v":0}]
["NST04Q","58",{"$f":"'Cover Sheet'!$C$16","v":0},{"$f":"'Cover Sheet'!$C$22","v":"00:00:00"},1,{"$f":"QNST04!D68","v":0}]
["NST04Q","59",{"$f":"'Cover Sheet'!$C$16","v":0},{"$f":"'Cover Sheet'!$C$22","v":"00:00:00"},1,{"$f":"QNST04!D69","v":0}]
["NST04Q","60",{"$f":"'Cover Sheet'!$C$16","v":0},{"$f":"'Cover Sheet'!$C$22","v":"00:00:00"},1,{"$f":"QNST04!D70","v":0}]
["NST04Q","61",{"$f":"'Cover Sheet'!$C$16","v":0},{"$f":"'Cover Sheet'!$C$22","v":"00:00:00"},1,{"$f":"QNST04!D71","v":0}]
["NST04Q","62",{"$f":"'Cover Sheet'!$C$16","v":0},{"$f":"'Cover Sheet'!$C$22","v":"00:00:00"},1,{"$f":"QNST04!D72","v":0}]
["NST04Q","63",{"$f":"'Cover Sheet'!$C$16","v":0},{"$f":"'Cover Sheet'!$C$22","v":"00:00:00"},1,{"$f":"QNST04!D73","v":0}]
["NST04Q","64",{"$f":"'Cover Sheet'!$C$16","v":0},{"$f":"'Cover Sheet'!$C$22","v":"00:00:00"},1,{"$f":"QNST04!D74","v":0}]
["NST04Q","65",{"$f":"'Cover Sheet'!$C$16","v":0},{"$f":"'Cover Sheet'!$C$22","v":"00:00:00"},1,{"$f":"QNST04!D75","v":0}]
["NST04Q","66",{"$f":"'Cover Sheet'!$C$16","v":0},{"$f":"'Cover Sheet'!$C$22","v":"00:00:00"},1,{"$f":"QNST04!D76","v":0}]
["NST04Q","67",{"$f":"'Cover Sheet'!$C$16","v":0},{"$f":"'Cover Sheet'!$C$22","v":"00:00:00"},1,{"$f":"QNST04!D77","v":0}]
["NST04Q","68",{"$f":"'Cover Sheet'!$C$16","v":0},{"$f":"'Cover Sheet'!$C$22","v":"00:00:00"},1,{"$f":"QNST04!D78","v":0}]
["NST04Q","69",{"$f":"'Cover Sheet'!$C$16","v":0},{"$f":"'Cover Sheet'!$C$22","v":"00:00:00"},1,{"$f":"QNST04!D79","v":0}]
["NST04Q","70",{"$f":"'Cover Sheet'!$C$16","v":0},{"$f":"'Cover Sheet'!$C$22","v":"00:00:00"},1,{"$f":"QNST04!D80","v":0}]
["NST04Q","71",{"$f":"'Cover Sheet'!$C$16","v":0},{"$f":"'Cover Sheet'!$C$22","v":"00:00:00"},1,{"$f":"QNST04!D81","v":0}]
["NST04Q","72",{"$f":"'Cover Sheet'!$C$16","v":0},{"$f":"'Cover Sheet'!$C$22","v":"00:00:00"},1,{"$f":"QNST04!D82","v":0}]
["NST04Q","73",{"$f":"'Cover Sheet'!$C$16","v":0},{"$f":"'Cover Sheet'!$C$22","v":"00:00:00"},1,{"$f":"QNST04!D83","v":0}]
["NST04Q","74",{"$f":"'Cover Sheet'!$C$16","v":0},{"$f":"'Cover Sheet'!$C$22","v":"00:00:00"},1,{"$f":"QNST04!D84","v":0}]
["NST04Q","75",{"$f":"'Cover Sheet'!$C$16","v":0},{"$f":"'Cover Sheet'!$C$22","v":"00:00:00"},1,{"$f":"QNST04!D85","v":0}]
["NST04Q","76",{"$f":"'Cover Sheet'!$C$16","v":0},{"$f":"'Cover Sheet'!$C$22","v":"00:00:00"},1,{"$f":"QNST04!D86","v":0}]
["NST04Q","77",{"$f":"'Cover Sheet'!$C$16","v":0},{"$f":"'Cover Sheet'!$C$22","v":"00:00:00"},1,{"$f":"QNST04!D87","v":0}]
["NST04Q","78",{"$f":"'Cover Sheet'!$C$16","v":0},{"$f":"'Cover Sheet'!$C$22","v":"00:00:00"},1,{"$f":"QNST04!D88","v":0}]
["NST04Q","79",{"$f":"'Cover Sheet'!$C$16","v":0},{"$f":"'Cover Sheet'!$C$22","v":"00:00:00"},1,{"$f":"QNST04!D89","v":0}]
["NST04Q","80",{"$f":"'Cover Sheet'!$C$16","v":0},{"$f":"'Cover Sheet'!$C$22","v":"00:00:00"},1,{"$f":"QNST04!D90","v":0}]
["NST04Q","81",{"$f":"'Cover Sheet'!$C$16","v":0},{"$f":"'Cover Sheet'!$C$22","v":"00:00:00"},1,{"$f":"QNST04!D91","v":0}]
["NST04Q","82",{"$f":"'Cover Sheet'!$C$16","v":0},{"$f":"'Cover Sheet'!$C$22","v":"00:00:00"},1,{"$f":"QNST04!D92","v":0}]
["NST04Q","83",{"$f":"'Cover Sheet'!$C$16","v":0},{"$f":"'Cover Sheet'!$C$22","v":"00:00:00"},1,{"$f":"QNST04!D93","v":0}]
["NST04Q","84",{"$f":"'Cover Sheet'!$C$16","v":0},{"$f":"'Cover Sheet'!$C$22","v":"00:00:00"},1,{"$f":"QNST04!D94","v":0}]
["NST04Q","85",{"$f":"'Cover Sheet'!$C$16","v":0},{"$f":"'Cover Sheet'!$C$22","v":"00:00:00"},1,{"$f":"QNST04!D95","v":0}]
["NST04Q","86",{"$f":"'Cover Sheet'!$C$16","v":0},{"$f":"'Cover Sheet'!$C$22","v":"00:00:00"},1,{"$f":"QNST04!D96","v":0}]
["NST04Q","87",{"$f":"'Cover Sheet'!$C$16","v":0},{"$f":"'Cover Sheet'!$C$22","v":"00:00:00"},1,{"$f":"QNST04!D97","v":0}]
["NST04Q","88",{"$f":"'Cover Sheet'!$C$16","v":0},{"$f":"'Cover Sheet'!$C$22","v":"00:00:00"},1,{"$f":"QNST04!D98","v":0}]
["NST04Q","89",{"$f":"'Cover Sheet'!$C$16","v":0},{"$f":"'Cover Sheet'!$C$22","v":"00:00:00"},1,{"$f":"QNST04!D99","v":0}]
["NST04Q","90",{"$f":"'Cover Sheet'!$C$16","v":0},{"$f":"'Cover Sheet'!$C$22","v":"00:00:00"},1,{"$f":"QNST04!D100","v":0}]
["NST04Q","91",{"$f":"'Cover Sheet'!$C$16","v":0},{"$f":"'Cover Sheet'!$C$22","v":"00:00:00"},1,{"$f":"QNST04!D101","v":0}]
["NST04Q","92",{"$f":"'Cover Sheet'!$C$16","v":0},{"$f":"'Cover Sheet'!$C$22","v":"00:00:00"},1,{"$f":"QNST04!D102","v":0}]
["NST04Q","93",{"$f":"'Cover Sheet'!$C$16","v":0},{"$f":"'Cover Sheet'!$C$22","v":"00:00:00"},1,{"$f":"QNST04!D103","v":0}]
["NST04Q","94",{"$f":"'Cover Sheet'!$C$16","v":0},{"$f":"'Cover Sheet'!$C$22","v":"00:00:00"},1,{"$f":"QNST04!D104","v":0}]
["NST04Q","95",{"$f":"'Cover Sheet'!$C$16","v":0},{"$f":"'Cover Sheet'!$C$22","v":"00:00:00"},1,{"$f":"QNST04!D105","v":0}]
["NST04Q","96",{"$f":"'Cover Sheet'!$C$16","v":0},{"$f":"'Cover Sheet'!$C$22","v":"00:00:00"},1,{"$f":"QNST04!D106","v":0}]
["NST04Q","97",{"$f":"'Cover Sheet'!$C$16","v":0},{"$f":"'Cover Sheet'!$C$22","v":"00:00:00"},1,{"$f":"QNST04!D107","v":0}]
["NST04Q","98",{"$f":"'Cover Sheet'!$C$16","v":0},{"$f":"'Cover Sheet'!$C$22","v":"00:00:00"},1,{"$f":"QNST04!D108","v":0}]
["NST04Q","99",{"$f":"'Cover Sheet'!$C$16","v":0},{"$f":"'Cover Sheet'!$C$22","v":"00:00:00"},1,{"$f":"QNST04!D109","v":0}]
["NST04Q","99a",{"$f":"'Cover Sheet'!$C$16","v":0},{"$f":"'Cover Sheet'!$C$22","v":"00:00:00"},1,{"$f":"QNST04!D110","v":0}]
["NST04Q","99b",{"$f":"'Cover Sheet'!$C$16","v":0},{"$f":"'Cover Sheet'!$C$22","v":"00:00:00"},1,{"$f":"QNST04!D112","v":0}]
["NST04Q","99c",{"$f":"'Cover Sheet'!$C$16","v":0},{"$f":"'Cover Sheet'!$C$22","v":"00:00:00"},1]
["NST04Q","99d",{"$f":"'Cover Sheet'!$C$16","v":0},{"$f":"'Cover Sheet'!$C$22","v":"00:00:00"},1,{"$f":"QNST04!D115","v":0}]
["NST04Q","99e",{"$f":"'Cover Sheet'!$C$16","v":0},{"$f":"'Cover Sheet'!$C$22","v":"00:00:00"},1,{"$f":"QNST04!D116","v":0}]
["NST04Q","99f",{"$f":"'Cover Sheet'!$C$16","v":0},{"$f":"'Cover Sheet'!$C$22","v":"00:00:00"},1,{"$f":"QNST04!D117","v":0}]
["NST04Q","99g",{"$f":"'Cover Sheet'!$C$16","v":0},{"$f":"'Cover Sheet'!$C$22","v":"00:00:00"},1,{"$f":"QNST04!D118","v":0}]
["NST04Q","99h",{"$f":"'Cover Sheet'!$C$16","v":0},{"$f":"'Cover Sheet'!$C$22","v":"00:00:00"},1,{"$f":"QNST04!D119","v":0}]
["NST04Q","99i",{"$f":"'Cover Sheet'!$C$16","v":0},{"$f":"'Cover Sheet'!$C$22","v":"00:00:00"},1,{"$f":"QNST04!D120","v":0}]
["NST04Q","99j",{"$f":"'Cover Sheet'!$C$16","v":0},{"$f":"'Cover Sheet'!$C$22","v":"00:00:00"},1,{"$f":"QNST04!D121","v":0}]
["NST04Q","99k",{"$f":"'Cover Sheet'!$C$16","v":0},{"$f":"'Cover Sheet'!$C$22","v":"00:00:00"},1,{"$f":"QNST04!D122","v":0}]
["NST04Q","00",{"$f":"'Cover Sheet'!$C$16","v":0},{"$f":"'Cover Sheet'!$C$22","v":"00:00:00"},2]
["NST04Q","01",{"$f":"'Cover Sheet'!$C$16","v":0},{"$f":"'Cover Sheet'!$C$22","v":"00:00:00"},2,{"$f":"QNST04!E10","v":0}]
["NST04Q","02",{"$f":"'Cover Sheet'!$C$16","v":0},{"$f":"'Cover Sheet'!$C$22","v":"00:00:00"},2,{"$f":"QNST04!E11","v":0}]
["NST04Q","03",{"$f":"'Cover Sheet'!$C$16","v":0},{"$f":"'Cover Sheet'!$C$22","v":"00:00:00"},2,{"$f":"QNST04!E12","v":0}]
["NST04Q","04",{"$f":"'Cover Sheet'!$C$16","v":0},{"$f":"'Cover Sheet'!$C$22","v":"00:00:00"},2,{"$f":"QNST04!E13","v":0}]
["NST04Q","05",{"$f":"'Cover Sheet'!$C$16","v":0},{"$f":"'Cover Sheet'!$C$22","v":"00:00:00"},2,{"$f":"QNST04!E14","v":0}]
["NST04Q","06",{"$f":"'Cover Sheet'!$C$16","v":0},{"$f":"'Cover Sheet'!$C$22","v":"00:00:00"},2,{"$f":"QNST04!E15","v":0}]
["NST04Q","07",{"$f":"'Cover Sheet'!$C$16","v":0},{"$f":"'Cover Sheet'!$C$22","v":"00:00:00"},2,{"$f":"QNST04!E16","v":0}]
["NST04Q","08",{"$f":"'Cover Sheet'!$C$16","v":0},{"$f":"'Cover Sheet'!$C$22","v":"00:00:00"},2,{"$f":"QNST04!E17","v":0}]
["NST04Q","09",{"$f":"'Cover Sheet'!$C$16","v":0},{"$f":"'Cover Sheet'!$C$22","v":"00:00:00"},2,{"$f":"QNST04!E18","v":0}]
["NST04Q","10",{"$f":"'Cover Sheet'!$C$16","v":0},{"$f":"'Cover Sheet'!$C$22","v":"00:00:00"},2,{"$f":"QNST04!E19","v":0}]
["NST04Q","11",{"$f":"'Cover Sheet'!$C$16","v":0},{"$f":"'Cover Sheet'!$C$22","v":"00:00:00"},2,{"$f":"QNST04!E20","v":0}]
["NST04Q","12",{"$f":"'Cover Sheet'!$C$16","v":0},{"$f":"'Cover Sheet'!$C$22","v":"00:00:00"},2,{"$f":"QNST04!E21","v":0}]
["NST04Q","13",{"$f":"'Cover Sheet'!$C$16","v":0},{"$f":"'Cover Sheet'!$C$22","v":"00:00:00"},2,{"$f":"QNST04!E22","v":0}]
["NST04Q","14",{"$f":"'Cover Sheet'!$C$16","v":0},{"$f":"'Cover Sheet'!$C$22","v":"00:00:00"},2,{"$f":"QNST04!E23","v":0}]
["NST04Q","15",{"$f":"'Cover Sheet'!$C$16","v":0},{"$f":"'Cover Sheet'!$C$22","v":"00:00:00"},2,{"$f":"QNST04!E24","v":0}]
["NST04Q","16",{"$f":"'Cover Sheet'!$C$16","v":0},{"$f":"'Cover Sheet'!$C$22","v":"00:00:00"},2,{"$f":"QNST04!E25","v":0}]
["NST04Q","17",{"$f":"'Cover Sheet'!$C$16","v":0},{"$f":"'Cover Sheet'!$C$22","v":"00:00:00"},2,{"$f":"QNST04!E26","v":0}]
["NST04Q","18",{"$f":"'Cover Sheet'!$C$16","v":0},{"$f":"'Cover Sheet'!$C$22","v":"00:00:00"},2,{"$f":"QNST04!E27","v":0}]
["NST04Q","19",{"$f":"'Cover Sheet'!$C$16","v":0},{"$f":"'Cover Sheet'!$C$22","v":"00:00:00"},2,{"$f":"QNST04!E28","v":0}]
["NST04Q","20",{"$f":"'Cover Sheet'!$C$16","v":0},{"$f":"'Cover Sheet'!$C$22","v":"00:00:00"},2,{"$f":"QNST04!E29","v":0}]
["NST04Q","21",{"$f":"'Cover Sheet'!$C$16","v":0},{"$f":"'Cover Sheet'!$C$22","v":"00:00:00"},2,{"$f":"QNST04!E30","v":0}]
["NST04Q","22",{"$f":"'Cover Sheet'!$C$16","v":0},{"$f":"'Cover Sheet'!$C$22","v":"00:00:00"},2,{"$f":"QNST04!E31","v":0}]
["NST04Q","23",{"$f":"'Cover Sheet'!$C$16","v":0},{"$f":"'Cover Sheet'!$C$22","v":"00:00:00"},2,{"$f":"QNST04!E32","v":0}]
["NST04Q","24",{"$f":"'Cover Sheet'!$C$16","v":0},{"$f":"'Cover Sheet'!$C$22","v":"00:00:00"},2,{"$f":"QNST04!E33","v":0}]
["NST04Q","25",{"$f":"'Cover Sheet'!$C$16","v":0},{"$f":"'Cover Sheet'!$C$22","v":"00:00:00"},2,{"$f":"QNST04!E34","v":0}]
["NST04Q","26",{"$f":"'Cover Sheet'!$C$16","v":0},{"$f":"'Cover Sheet'!$C$22","v":"00:00:00"},2,{"$f":"QNST04!E35","v":0}]
["NST04Q","27",{"$f":"'Cover Sheet'!$C$16","v":0},{"$f":"'Cover Sheet'!$C$22","v":"00:00:00"},2,{"$f":"QNST04!E36","v":0}]
["NST04Q","28",{"$f":"'Cover Sheet'!$C$16","v":0},{"$f":"'Cover Sheet'!$C$22","v":"00:00:00"},2,{"$f":"QNST04!E37","v":0}]
["NST04Q","29",{"$f":"'Cover Sheet'!$C$16","v":0},{"$f":"'Cover Sheet'!$C$22","v":"00:00:00"},2,{"$f":"QNST04!E38","v":0}]
["NST04Q","30",{"$f":"'Cover Sheet'!$C$16","v":0},{"$f":"'Cover Sheet'!$C$22","v":"00:00:00"},2,{"$f":"QNST04!E39","v":0}]
["NST04Q","31",{"$f":"'Cover Sheet'!$C$16","v":0},{"$f":"'Cover Sheet'!$C$22","v":"00:00:00"},2,{"$f":"QNST04!E40","v":0}]
["NST04Q","32",{"$f":"'Cover Sheet'!$C$16","v":0},{"$f":"'Cover Sheet'!$C$22","v":"00:00:00"},2,{"$f":"QNST04!E41","v":0}]
["NST04Q","33",{"$f":"'Cover Sheet'!$C$16","v":0},{"$f":"'Cover Sheet'!$C$22","v":"00:00:00"},2,{"$f":"QNST04!E42","v":0}]
["NST04Q","34",{"$f":"'Cover Sheet'!$C$16","v":0},{"$f":"'Cover Sheet'!$C$22","v":"00:00:00"},2,{"$f":"QNST04!E43","v":0}]
["NST04Q","36",{"$f":"'Cover Sheet'!$C$16","v":0},{"$f":"'Cover Sheet'!$C$22","v":"00:00:00"},2,{"$f":"QNST04!E44","v":0}]
["NST04Q","37",{"$f":"'Cover Sheet'!$C$16","v":0},{"$f":"'Cover Sheet'!$C$22","v":"00:00:00"},2,{"$f":"QNST04!E45","v":0}]
["NST04Q","38",{"$f":"'Cover Sheet'!$C$16","v":0},{"$f":"'Cover Sheet'!$C$22","v":"00:00:00"},2,{"$f":"QNST04!E46","v":0}]
["NST04Q","39",{"$f":"'Cover Sheet'!$C$16","v":0},{"$f":"'Cover Sheet'!$C$22","v":"00:00:00"},2,{"$f":"QNST04!E47","v":0}]
["NST04Q","40",{"$f":"'Cover Sheet'!$C$16","v":0},{"$f":"'Cover Sheet'!$C$22","v":"00:00:00"},2,{"$f":"QNST04!E48","v":0}]
["NST04Q","41",{"$f":"'Cover Sheet'!$C$16","v":0},{"$f":"'Cover Sheet'!$C$22","v":"00:00:00"},2,{"$f":"QNST04!E49","v":0}]
["NST04Q","42",{"$f":"'Cover Sheet'!$C$16","v":0},{"$f":"'Cover Sheet'!$C$22","v":"00:00:00"},2,{"$f":"QNST04!E50","v":0}]
["NST04Q","43",{"$f":"'Cover Sheet'!$C$16","v":0},{"$f":"'Cover Sheet'!$C$22","v":"00:00:00"},2,{"$f":"QNST04!E51","v":0}]
["NST04Q","44",{"$f":"'Cover Sheet'!$C$16","v":0},{"$f":"'Cover Sheet'!$C$22","v":"00:00:00"},2,{"$f":"QNST04!E52","v":0}]
["NST04Q","44a",{"$f":"'Cover Sheet'!$C$16","v":0},{"$f":"'Cover Sheet'!$C$22","v":"00:00:00"},2]
["NST04Q","45",{"$f":"'Cover Sheet'!$C$16","v":0},{"$f":"'Cover Sheet'!$C$22","v":"00:00:00"},2,{"$f":"QNST04!E55","v":0}]
["NST04Q","46",{"$f":"'Cover Sheet'!$C$16","v":0},{"$f":"'Cover Sheet'!$C$22","v":"00:00:00"},2,{"$f":"QNST04!E56","v":0}]
["NST04Q","47",{"$f":"'Cover Sheet'!$C$16","v":0},{"$f":"'Cover Sheet'!$C$22","v":"00:00:00"},2,{"$f":"QNST04!E57","v":0}]
["NST04Q","48",{"$f":"'Cover Sheet'!$C$16","v":0},{"$f":"'Cover Sheet'!$C$22","v":"00:00:00"},2,{"$f":"QNST04!E58","v":0}]
["NST04Q","49",{"$f":"'Cover Sheet'!$C$16","v":0},{"$f":"'Cover Sheet'!$C$22","v":"00:00:00"},2,{"$f":"QNST04!E59","v":0}]
["NST04Q","50",{"$f":"'Cover Sheet'!$C$16","v":0},{"$f":"'Cover Sheet'!$C$22","v":"00:00:00"},2,{"$f":"QNST04!E60","v":0}]
["NST04Q","51",{"$f":"'Cover Sheet'!$C$16","v":0},{"$f":"'Cover Sheet'!$C$22","v":"00:00:00"},2,{"$f":"QNST04!E61","v":0}]
["NST04Q","52",{"$f":"'Cover Sheet'!$C$16","v":0},{"$f":"'Cover Sheet'!$C$22","v":"00:00:00"},2,{"$f":"QNST04!E62","v":0}]
["NST04Q","53",{"$f":"'Cover Sheet'!$C$16","v":0},{"$f":"'Cover Sheet'!$C$22","v":"00:00:00"},2,{"$f":"QNST04!E63","v":0}]
["NST04Q","54",{"$f":"'Cover Sheet'!$C$16","v":0},{"$f":"'Cover Sheet'!$C$22","v":"00:00:00"},2,{"$f":"QNST04!E64","v":0}]
["NST04Q","55",{"$f":"'Cover Sheet'!$C$16","v":0},{"$f":"'Cover Sheet'!$C$22","v":"00:00:00"},2,{"$f":"QNST04!E65","v":0}]
["NST04Q","56",{"$f":"'Cover Sheet'!$C$16","v":0},{"$f":"'Cover Sheet'!$C$22","v":"00:00:00"},2,{"$f":"QNST04!E66","v":0}]
["NST04Q","57",{"$f":"'Cover Sheet'!$C$16","v":0},{"$f":"'Cover Sheet'!$C$22","v":"00:00:00"},2,{"$f":"QNST04!E67","v":0}]
["NST04Q","58",{"$f":"'Cover Sheet'!$C$16","v":0},{"$f":"'Cover Sheet'!$C$22","v":"00:00:00"},2,{"$f":"QNST04!E68","v":0}]
["NST04Q","59",{"$f":"'Cover Sheet'!$C$16","v":0},{"$f":"'Cover Sheet'!$C$22","v":"00:00:00"},2,{"$f":"QNST04!E69","v":0}]
["NST04Q","60",{"$f":"'Cover Sheet'!$C$16","v":0},{"$f":"'Cover Sheet'!$C$22","v":"00:00:00"},2,{"$f":"QNST04!E70","v":0}]
["NST04Q","61",{"$f":"'Cover Sheet'!$C$16","v":0},{"$f":"'Cover Sheet'!$C$22","v":"00:00:00"},2,{"$f":"QNST04!E71","v":0}]
["NST04Q","62",{"$f":"'Cover Sheet'!$C$16","v":0},{"$f":"'Cover Sheet'!$C$22","v":"00:00:00"},2,{"$f":"QNST04!E72","v":0}]
["NST04Q","63",{"$f":"'Cover Sheet'!$C$16","v":0},{"$f":"'Cover Sheet'!$C$22","v":"00:00:00"},2,{"$f":"QNST04!E73","v":0}]
["NST04Q","64",{"$f":"'Cover Sheet'!$C$16","v":0},{"$f":"'Cover Sheet'!$C$22","v":"00:00:00"},2,{"$f":"QNST04!E74","v":0}]
["NST04Q","65",{"$f":"'Cover Sheet'!$C$16","v":0},{"$f":"'Cover Sheet'!$C$22","v":"00:00:00"},2,{"$f":"QNST04!E75","v":0}]
["NST04Q","66",{"$f":"'Cover Sheet'!$C$16","v":0},{"$f":"'Cover Sheet'!$C$22","v":"00:00:00"},2,{"$f":"QNST04!E76","v":0}]
["NST04Q","67",{"$f":"'Cover Sheet'!$C$16","v":0},{"$f":"'Cover Sheet'!$C$22","v":"00:00:00"},2,{"$f":"QNST04!E77","v":0}]
["NST04Q","68",{"$f":"'Cover Sheet'!$C$16","v":0},{"$f":"'Cover Sheet'!$C$22","v":"00:00:00"},2,{"$f":"QNST04!E78","v":0}]
["NST04Q","69",{"$f":"'Cover Sheet'!$C$16","v":0},{"$f":"'Cover Sheet'!$C$22","v":"00:00:00"},2,{"$f":"QNST04!E79","v":0}]
["NST04Q","70",{"$f":"'Cover Sheet'!$C$16","v":0},{"$f":"'Cover Sheet'!$C$22","v":"00:00:00"},2,{"$f":"QNST04!E80","v":0}]
["NST04Q","71",{"$f":"'Cover Sheet'!$C$16","v":0},{"$f":"'Cover Sheet'!$C$22","v":"00:00:00"},2,{"$f":"QNST04!E81","v":0}]
["NST04Q","72",{"$f":"'Cover Sheet'!$C$16","v":0},{"$f":"'Cover Sheet'!$C$22","v":"00:00:00"},2,{"$f":"QNST04!E82","v":0}]
["NST04Q","73",{"$f":"'Cover Sheet'!$C$16","v":0},{"$f":"'Cover Sheet'!$C$22","v":"00:00:00"},2,{"$f":"QNST04!E83","v":0}]
["NST04Q","74",{"$f":"'Cover Sheet'!$C$16","v":0},{"$f":"'Cover Sheet'!$C$22","v":"00:00:00"},2,{"$f":"QNST04!E84","v":0}]
["NST04Q","75",{"$f":"'Cover Sheet'!$C$16","v":0},{"$f":"'Cover Sheet'!$C$22","v":"00:00:00"},2,{"$f":"QNST04!E85","v":0}]
["NST04Q","76",{"$f":"'Cover Sheet'!$C$16","v":0},{"$f":"'Cover Sheet'!$C$22","v":"00:00:00"},2,{"$f":"QNST04!E86","v":0}]
["NST04Q","77",{"$f":"'Cover Sheet'!$C$16","v":0},{"$f":"'Cover Sheet'!$C$22","v":"00:00:00"},2,{"$f":"QNST04!E87","v":0}]
["NST04Q","78",{"$f":"'Cover Sheet'!$C$16","v":0},{"$f":"'Cover Sheet'!$C$22","v":"00:00:00"},2,{"$f":"QNST04!E88","v":0}]
["NST04Q","79",{"$f":"'Cover Sheet'!$C$16","v":0},{"$f":"'Cover Sheet'!$C$22","v":"00:00:00"},2,{"$f":"QNST04!E89","v":0}]
["NST04Q","80",{"$f":"'Cover Sheet'!$C$16","v":0},{"$f":"'Cover Sheet'!$C$22","v":"00:00:00"},2,{"$f":"QNST04!E90","v":0}]
["NST04Q","81",{"$f":"'Cover Sheet'!$C$16","v":0},{"$f":"'Cover Sheet'!$C$22","v":"00:00:00"},2,{"$f":"QNST04!E91","v":0}]
["NST04Q","82",{"$f":"'Cover Sheet'!$C$16","v":0},{"$f":"'Cover Sheet'!$C$22","v":"00:00:00"},2,{"$f":"QNST04!E92","v":0}]
["NST04Q","83",{"$f":"'Cover Sheet'!$C$16","v":0},{"$f":"'Cover Sheet'!$C$22","v":"00:00:00"},2,{"$f":"QNST04!E93","v":0}]
["NST04Q","84",{"$f":"'Cover Sheet'!$C$16","v":0},{"$f":"'Cover Sheet'!$C$22","v":"00:00:00"},2,{"$f":"QNST04!E94","v":0}]
["NST04Q","85",{"$f":"'Cover Sheet'!$C$16","v":0},{"$f":"'Cover Sheet'!$C$22","v":"00:00:00"},2,{"$f":"QNST04!E95","v":0}]
["NST04Q","86",{"$f":"'Cover Sheet'!$C$16","v":0},{"$f":"'Cover Sheet'!$C$22","v":"00:00:00"},2,{"$f":"QNST04!E96","v":0}]
["NST04Q","87",{"$f":"'Cover Sheet'!$C$16","v":0},{"$f":"'Cover Sheet'!$C$22","v":"00:00:00"},2,{"$f":"QNST04!E97","v":0}]
["NST04Q","88",{"$f":"'Cover Sheet'!$C$16","v":0},{"$f":"'Cover Sheet'!$C$22","v":"00:00:00"},2,{"$f":"QNST04!E98","v":0}]
["NST04Q","89",{"$f":"'Cover Sheet'!$C$16","v":0},{"$f":"'Cover Sheet'!$C$22","v":"00:00:00"},2,{"$f":"QNST04!E99","v":0}]
["NST04Q","90",{"$f":"'Cover Sheet'!$C$16","v":0},{"$f":"'Cover Sheet'!$C$22","v":"00:00:00"},2,{"$f":"QNST04!E100","v":0}]
["NST04Q","91",{"$f":"'Cover Sheet'!$C$16","v":0},{"$f":"'Cover Sheet'!$C$22","v":"00:00:00"},2,{"$f":"QNST04!E101","v":0}]
["NST04Q","92",{"$f":"'Cover Sheet'!$C$16","v":0},{"$f":"'Cover Sheet'!$C$22","v":"00:00:00"},2,{"$f":"QNST04!E102","v":0}]
["NST04Q","93",{"$f":"'Cover Sheet'!$C$16","v":0},{"$f":"'Cover Sheet'!$C$22","v":"00:00:00"},2,{"$f":"QNST04!E103","v":0}]
["NST04Q","94",{"$f":"'Cover Sheet'!$C$16","v":0},{"$f":"'Cover Sheet'!$C$22","v":"00:00:00"},2,{"$f":"QNST04!E104","v":0}]
["NST04Q","95",{"$f":"'Cover Sheet'!$C$16","v":0},{"$f":"'Cover Sheet'!$C$22","v":"00:00:00"},2,{"$f":"QNST04!E105","v":0}]
["NST04Q","96",{"$f":"'Cover Sheet'!$C$16","v":0},{"$f":"'Cover Sheet'!$C$22","v":"00:00:00"},2,{"$f":"QNST04!E106","v":0}]
["NST04Q","97",{"$f":"'Cover Sheet'!$C$16","v":0},{"$f":"'Cover Sheet'!$C$22","v":"00:00:00"},2,{"$f":"QNST04!E107","v":0}]
["NST04Q","98",{"$f":"'Cover Sheet'!$C$16","v":0},{"$f":"'Cover Sheet'!$C$22","v":"00:00:00"},2,{"$f":"QNST04!E108","v":0}]
["NST04Q","99",{"$f":"'Cover Sheet'!$C$16","v":0},{"$f":"'Cover Sheet'!$C$22","v":"00:00:00"},2,{"$f":"QNST04!E109","v":0}]
["NST04Q","99a",{"$f":"'Cover Sheet'!$C$16","v":0},{"$f":"'Cover Sheet'!$C$22","v":"00:00:00"},2,{"$f":"QNST04!E110","v":0}]
["NST04Q","99b",{"$f":"'Cover Sheet'!$C$16","v":0},{"$f":"'Cover Sheet'!$C$22","v":"00:00:00"},2,{"$f":"QNST04!E112","v":0}]
["NST04Q","99c",{"$f":"'Cover Sheet'!$C$16","v":0},{"$f":"'Cover Sheet'!$C$22","v":"00:00:00"},2]
["NST04Q","99d",{"$f":"'Cover Sheet'!$C$16","v":0},{"$f":"'Cover Sheet'!$C$22","v":"00:00:00"},2,{"$f":"QNST04!E115","v":0}]
["NST04Q","99e",{"$f":"'Cover Sheet'!$C$16","v":0},{"$f":"'Cover Sheet'!$C$22","v":"00:00:00"},2,{"$f":"QNST04!E116","v":0}]
["NST04Q","99f",{"$f":"'Cover Sheet'!$C$16","v":0},{"$f":"'Cover Sheet'!$C$22","v":"00:00:00"},2,{"$f":"QNST04!E117","v":0}]
["NST04Q","99g",{"$f":"'Cover Sheet'!$C$16","v":0},{"$f":"'Cover Sheet'!$C$22","v":"00:00:00"},2,{"$f":"QNST04!E118","v":0}]
["NST04Q","99h",{"$f":"'Cover Sheet'!$C$16","v":0},{"$f":"'Cover Sheet'!$C$22","v":"00:00:00"},2,{"$f":"QNST04!E119","v":0}]
["NST04Q","99i",{"$f":"'Cover Sheet'!$C$16","v":0},{"$f":"'Cover Sheet'!$C$22","v":"00:00:00"},2,{"$f":"QNST04!E120","v":0}]
["NST04Q","99j",{"$f":"'Cover Sheet'!$C$16","v":0},{"$f":"'Cover Sheet'!$C$22","v":"00:00:00"},2,{"$f":"QNST04!E121","v":0}]
["NST04Q","99k",{"$f":"'Cover Sheet'!$C$16","v":0},{"$f":"'Cover Sheet'!$C$22","v":"00:00:00"},2,{"$f":"QNST04!E122","v":0}]

{"sheet":"QNST04EUR","index":18,"n_rows":94,"n_cols":4,"rows_kept":94,"cut":false,"hidden":true,"merged":[[1,0,1,1],[84,0,84,1]]}
[]
["FRE/D Balance Sheet Input Worksheet"]
[]
["Balance Sheet (Accounting Basis Only)","Amount"]
["Currency","€"]
["Assets",null,null,"0"]
["Goodwill",{"$f":"IF('Cover Sheet'!$C$25=\"\",0,QNST04!E10/'Cover Sheet'!$C$25)","v":0},null,"1"]
["Deferred acquisition costs",{"$f":"IF('Cover Sheet'!$C$25=\"\",0,QNST04!E11/'Cover Sheet'!$C$25)","v":0},null,"2"]
["Intangible assets",{"$f":"IF('Cover Sheet'!$C$25=\"\",0,QNST04!E12/'Cover Sheet'!$C$25)","v":0},null,"3"]
["Deferred tax assets",{"$f":"IF('Cover Sheet'!$C$25=\"\",0,QNST04!E13/'Cover Sheet'!$C$25)","v":0},null,"4"]
["Pension benefit surplus",{"$f":"IF('Cover Sheet'!$C$25=\"\",0,QNST04!E14/'Cover Sheet'!$C$25)","v":0},null,"5"]
["Property, plant & equipement held for own use",{"$f":"IF('Cover Sheet'!$C$25=\"\",0,QNST04!E15/'Cover Sheet'!$C$25)","v":0},null,"6"]
["Investments (other than assets held for index-linked and unit-linked contracts) ",{"$f":"IF('Cover Sheet'!$C$25=\"\",0,QNST04!E16/'Cover Sheet'!$C$25)","v":0},null,"7"]
["Property (other than for own use)",{"$f":"IF('Cover Sheet'!$C$25=\"\",0,QNST04!E17/'Cover Sheet'!$C$25)","v":0},null,"8"]
["Participations and related undertakings",{"$f":"IF('Cover Sheet'!$C$25=\"\",0,QNST04!E18/'Cover Sheet'!$C$25)","v":0},null,"9"]
["Equities",{"$f":"B17+B18","v":0},null,"10"]
["Equities - listed",{"$f":"IF('Cover Sheet'!$C$25=\"\",0,QNST04!E20/'Cover Sheet'!$C$25)","v":0},null,"11"]
["Equities - unlisted",{"$f":"IF('Cover Sheet'!$C$25=\"\",0,QNST04!E21/'Cover Sheet'!$C$25)","v":0},null,"12"]
["Bonds",{"$f":"SUM(B20:B23)","v":0},null,"13"]
["Government Bonds",{"$f":"IF('Cover Sheet'!$C$25=\"\",0,QNST04!E23/'Cover Sheet'!$C$25)","v":0},null,"14"]
["Corporate Bonds",{"$f":"IF('Cover Sheet'!$C$25=\"\",0,QNST04!E24/'Cover Sheet'!$C$25)","v":0},null,"15"]
["Structured notes",{"$f":"IF('Cover Sheet'!$C$25=\"\",0,QNST04!E25/'Cover Sheet'!$C$25)","v":0},null,"16"]
["Collateralised securities",{"$f":"IF('Cover Sheet'!$C$25=\"\",0,QNST04!E26/'Cover Sheet'!$C$25)","v":0},null,"17"]
["Collective Investments Undertakings",{"$f":"IF('Cover Sheet'!$C$25=\"\",0,QNST04!E27/'Cover Sheet'!$C$25)","v":0},null,"18"]
["Derivatives",{"$f":"IF('Cover Sheet'!$C$25=\"\",0,QNST04!E28/'Cover Sheet'!$C$25)","v":0},null,"19"]
["Deposits other than cash equivalents",{"$f":"IF('Cover Sheet'!$C$25=\"\",0,QNST04!E29/'Cover Sheet'!$C$25)","v":0},null,"20"]
["Other investments",{"$f":"IF('Cover Sheet'!$C$25=\"\",0,QNST04!E30/'Cover Sheet'!$C$25)","v":0},null,"21"]
["Assets held for index-linked and unit-linked contracts",{"$f":"IF('Cover Sheet'!$C$25=\"\",0,QNST04!E31/'Cover Sheet'!$C$25)","v":0},null,"22"]
["Loans and mortgages",{"$f":"SUM(B30:B32)","v":0},null,"23"]
["Loans on policies",{"$f":"IF('Cover Sheet'!$C$25=\"\",0,QNST04!E33/'Cover Sheet'!$C$25)","v":0},null,"24"]
["Loans and mortgages to individuals",{"$f":"IF('Cover Sheet'!$C$25=\"\",0,QNST04!E34/'Cover Sheet'!$C$25)","v":0},null,"25"]
["Other loans and mortgages",{"$f":"IF('Cover Sheet'!$C$25=\"\",0,QNST04!E35/'Cover Sheet'!$C$25)","v":0},null,"26"]
["Reinsurance recoverables from:",{"$f":"B34+B37+B40","v":0},null,"27"]
["Non-life and health similar to non-life",{"$f":"B35+B36","v":0},null,"28"]
["Non-life excluding health",{"$f":"IF('Cover Sheet'!$C$25=\"\",0,QNST04!E38/'Cover Sheet'!$C$25)","v":0},null,"29"]
["Health similar to non-life",{"$f":"IF('Cover Sheet'!$C$25=\"\",0,QNST04!E39/'Cover Sheet'!$C$25)","v":0},null,"30"]
["Life and health similar to life, excluding health and index-linked and unit-linked",{"$f":"B38+B39","v":0},null,"31"]
["Health similar to life",{"$f":"IF('Cover Sheet'!$C$25=\"\",0,QNST04!E41/'Cover Sheet'!$C$25)","v":0},null,"32"]
["Life excluding health and index-linked and unit-linked",{"$f":"IF('Cover Sheet'!$C$25=\"\",0,QNST04!E42/'Cover Sheet'!$C$25)","v":0},null,"33"]
["Life index-linked and unit-linked",{"$f":"IF('Cover Sheet'!$C$25=\"\",0,QNST04!E43/'Cover Sheet'!$C$25)","v":0},null,"34"]
["Deposits to cedants",{"$f":"IF('Cover Sheet'!$C$25=\"\",0,QNST04!E44/'Cover Sheet'!$C$25)","v":0},null,"36"]
["Insurance and intermediaries receivables",{"$f":"IF('Cover Sheet'!$C$25=\"\",0,QNST04!E45/'Cover Sheet'!$C$25)","v":0},null,"37"]
["Reinsurance receivables",{"$f":"IF('Cover Sheet'!$C$25=\"\",0,QNST04!E46/'Cover Sheet'!$C$25)","v":0},null,"38"]
["Receivables (trade, not insurance)",{"$f":"IF('Cover Sheet'!$C$25=\"\",0,QNST04!E47/'Cover Sheet'!$C$25)","v":0},null,"39"]
["Own shares",{"$f":"IF('Cover Sheet'!$C$25=\"\",0,QNST04!E48/'Cover Sheet'!$C$25)","v":0},null,"40"]
["Amounts due in respect of own fund items or initial fund called up but not yet paid in",{"$f":"IF('Cover Sheet'!$C$25=\"\",0,QNST04!E49/'Cover Sheet'!$C$25)","v":0},null,"41"]
["Cash and cash equivalents",{"$f":"IF('Cover Sheet'!$C$25=\"\",0,QNST04!E50/'Cover Sheet'!$C$25)","v":0},null,"42"]
["Any other assets, not elsewhere shown",{"$f":"IF('Cover Sheet'!$C$25=\"\",0,QNST04!E51/'Cover Sheet'!$C$25)","v":0},null,"43"]
["Total assets",{"$f":"SUM(B7:B13)+SUM(B28:B29)+B33+SUM(B41:B48)","v":0},null,"44"]
[]
["Liabilities",null,null,"44a"]
["Technical Provisions non-life (Accounting Basis)",{"$f":"SUM(B53:B56)","v":0},null,"45"]
["Provision for unearned Premiums",{"$f":"IF('Cover Sheet'!$C$25=\"\",0,QNST04!E56/'Cover Sheet'!$C$25)","v":0},null,"46"]
["Claims outstanding",{"$f":"IF('Cover Sheet'!$C$25=\"\",0,QNST04!E57/'Cover Sheet'!$C$25)","v":0},null,"47"]
["IBNR",{"$f":"IF('Cover Sheet'!$C$25=\"\",0,QNST04!E58/'Cover Sheet'!$C$25)","v":0},null,"48"]
["IBNER",{"$f":"IF('Cover Sheet'!$C$25=\"\",0,QNST04!E59/'Cover Sheet'!$C$25)","v":0},null,"49"]
["Technical Provisions Life (Accounting Basis)",{"$f":"B58+B63+B66","v":0},null,"50"]
["Insurance contracts",{"$f":"SUM(B59:B62)","v":0},null,"51"]
["Provision for unearned Premiums",{"$f":"IF('Cover Sheet'!$C$25=\"\",0,QNST04!E71/'Cover Sheet'!$C$25)","v":0},null,"52"]
["Long Term Technical Provisions",{"$f":"IF('Cover Sheet'!$C$25=\"\",0,QNST04!E72/'Cover Sheet'!$C$25)","v":0},null,"53"]
["Claims outstanding",{"$f":"IF('Cover Sheet'!$C$25=\"\",0,QNST04!E73/'Cover Sheet'!$C$25)","v":0},null,"54"]
["IBNR",{"$f":"IF('Cover Sheet'!$C$25=\"\",0,QNST04!E74/'Cover Sheet'!$C$25)","v":0},null,"55"]
["Investment Contracts with DPF",{"$f":"B64+B65","v":0},null,"56"]
["Long Term Technical Provisions",{"$f":"IF('Cover Sheet'!$C$25=\"\",0,QNST04!E76/'Cover Sheet'!$C$25)","v":0},null,"57"]
["Claims outstanding",{"$f":"IF('Cover Sheet'!$C$25=\"\",0,QNST04!E77/'Cover Sheet'!$C$25)","v":0},null,"58"]
["Investment Contracts without DPF",{"$f":"B67+B68","v":0},null,"59"]
["Long Term Technical Provisions",{"$f":"IF('Cover Sheet'!$C$25=\"\",0,QNST04!E79/'Cover Sheet'!$C$25)","v":0},null,"60"]
["Claims outstanding",{"$f":"IF('Cover Sheet'!$C$25=\"\",0,QNST04!E80/'Cover Sheet'!$C$25)","v":0},null,"61"]
["Other technical provisions",{"$f":"IF('Cover Sheet'!$C$25=\"\",0,QNST04!E94/'Cover Sheet'!$C$25)","v":0},null,"62"]
["Provisions other than technical provisions",{"$f":"IF('Cover Sheet'!$C$25=\"\",0,QNST04!E96/'Cover Sheet'!$C$25)","v":0},null,"63"]
["Pension benefit obligations",{"$f":"IF('Cover Sheet'!$C$25=\"\",0,QNST04!E97/'Cover Sheet'!$C$25)","v":0},null,"64"]
["Deposits from reinsurers",{"$f":"IF('Cover Sheet'!$C$25=\"\",0,QNST04!E98/'Cover Sheet'!$C$25)","v":0},null,"65"]
["Deferred tax liabilities",{"$f":"IF('Cover Sheet'!$C$25=\"\",0,QNST04!E99/'Cover Sheet'!$C$25)","v":0},null,"66"]
["Derivatives",{"$f":"IF('Cover Sheet'!$C$25=\"\",0,QNST04!E100/'Cover Sheet'!$C$25)","v":0},null,"67"]
["Debts owed to credit institutions",{"$f":"IF('Cover Sheet'!$C$25=\"\",0,QNST04!E101/'Cover Sheet'!$C$25)","v":0},null,"68"]
["Financial liabilities other than debts owed to credit institutions",{"$f":"IF('Cover Sheet'!$C$25=\"\",0,QNST04!E102/'Cover Sheet'!$C$25)","v":0},null,"69"]
["Insurance & intermediaries payables",{"$f":"IF('Cover Sheet'!$C$25=\"\",0,QNST04!E103/'Cover Sheet'!$C$25)","v":0},null,"70"]
["Reinsurance payables",{"$f":"IF('Cover Sheet'!$C$25=\"\",0,QNST04!E104/'Cover Sheet'!$C$25)","v":0},null,"71"]
["Payables (trade, not insurance)",{"$f":"IF('Cover Sheet'!$C$25=\"\",0,QNST04!E105/'Cover Sheet'!$C$25)","v":0},null,"72"]
["Subordinated liabilities",{"$f":"B81+B82","v":0},null,"73"]
["Subordinated liabilities not in BOF",{"$f":"IF('Cover Sheet'!$C$25=\"\",0,QNST04!E107/'Cover Sheet'!$C$25)","v":0},null,"74"]
["Subordinated liabilities in BOF",{"$f":"IF('Cover Sheet'!$C$25=\"\",0,QNST04!E108/'Cover Sheet'!$C$25)","v":0},null,"75"]
["Any other liabilities, not elsewhere shown",{"$f":"IF('Cover Sheet'!$C$25=\"\",0,QNST04!E109/'Cover Sheet'!$C$25)","v":0},null,"76"]
["Total liabilities",{"$f":"B52+B57+SUM(B69:B80)+B83","v":0},null,"77"]
[]
["Equity and Reserves",null,null,"78"]
["Share capital",{"$f":"IF('Cover Sheet'!$C$25=\"\",0,QNST04!E115/'Cover Sheet'!$C$25)","v":0},null,"79"]
["Share premium",{"$f":"IF('Cover Sheet'!$C$25=\"\",0,QNST04!E116/'Cover Sheet'!$C$25)","v":0},null,"80"]
["Capital Contribution",{"$f":"IF('Cover Sheet'!$C$25=\"\",0,QNST04!E117/'Cover Sheet'!$C$25)","v":0},null,"81"]
["Other reserves",{"$f":"IF('Cover Sheet'!$C$25=\"\",0,QNST04!E118/'Cover Sheet'!$C$25)","v":0},null,"82"]
["Retained earnings",{"$f":"IF('Cover Sheet'!$C$25=\"\",0,QNST04!E119/'Cover Sheet'!$C$25)","v":0},null,"83"]
["Profit for the year",{"$f":"IF('Cover Sheet'!$C$25=\"\",0,QNST04!E120/'Cover Sheet'!$C$25)","v":0},null,"84"]
["Dividend paid",{"$f":"IF('Cover Sheet'!$C$25=\"\",0,QNST04!E121/'Cover Sheet'!$C$25)","v":0},null,"85"]
["Total Equity and Reserves",{"$f":"SUM(B87:B93)","v":0},null,"86"]

{"sheet":"NST04QEUR","index":19,"n_rows":88,"n_cols":6,"rows_kept":88,"cut":false,"hidden":true,"merged":[]}
["SheetCode","FieldCode","FICode","Date","ColNum","Value"]
["NST04QEUR","00",{"$f":"'Cover Sheet'!$C$16","v":0},{"$f":"'Cover Sheet'!$C$22","v":"00:00:00"},1]
["NST04QEUR","01",{"$f":"'Cover Sheet'!$C$16","v":0},{"$f":"'Cover Sheet'!$C$22","v":"00:00:00"},1,{"$f":"QNST04EUR!B7","v":0}]
["NST04QEUR","02",{"$f":"'Cover Sheet'!$C$16","v":0},{"$f":"'Cover Sheet'!$C$22","v":"00:00:00"},1,{"$f":"QNST04EUR!B8","v":0}]
["NST04QEUR","03",{"$f":"'Cover Sheet'!$C$16","v":0},{"$f":"'Cover Sheet'!$C$22","v":"00:00:00"},1,{"$f":"QNST04EUR!B9","v":0}]
["NST04QEUR","04",{"$f":"'Cover Sheet'!$C$16","v":0},{"$f":"'Cover Sheet'!$C$22","v":"00:00:00"},1,{"$f":"QNST04EUR!B10","v":0}]
["NST04QEUR","05",{"$f":"'Cover Sheet'!$C$16","v":0},{"$f":"'Cover Sheet'!$C$22","v":"00:00:00"},1,{"$f":"QNST04EUR!B11","v":0}]
["NST04QEUR","06",{"$f":"'Cover Sheet'!$C$16","v":0},{"$f":"'Cover Sheet'!$C$22","v":"00:00:00"},1,{"$f":"QNST04EUR!B12","v":0}]
["NST04QEUR","07",{"$f":"'Cover Sheet'!$C$16","v":0},{"$f":"'Cover Sheet'!$C$22","v":"00:00:00"},1,{"$f":"QNST04EUR!B13","v":0}]
["NST04QEUR","08",{"$f":"'Cover Sheet'!$C$16","v":0},{"$f":"'Cover Sheet'!$C$22","v":"00:00:00"},1,{"$f":"QNST04EUR!B14","v":0}]
["NST04QEUR","09",{"$f":"'Cover Sheet'!$C$16","v":0},{"$f":"'Cover Sheet'!$C$22","v":"00:00:00"},1,{"$f":"QNST04EUR!B15","v":0}]
["NST04QEUR","10",{"$f":"'Cover Sheet'!$C$16","v":0},{"$f":"'Cover Sheet'!$C$22","v":"00:00:00"},1,{"$f":"QNST04EUR!B16","v":0}]
["NST04QEUR","11",{"$f":"'Cover Sheet'!$C$16","v":0},{"$f":"'Cover Sheet'!$C$22","v":"00:00:00"},1,{"$f":"QNST04EUR!B17","v":0}]
["NST04QEUR","12",{"$f":"'Cover Sheet'!$C$16","v":0},{"$f":"'Cover Sheet'!$C$22","v":"00:00:00"},1,{"$f":"QNST04EUR!B18","v":0}]
["NST04QEUR","13",{"$f":"'Cover Sheet'!$C$16","v":0},{"$f":"'Cover Sheet'!$C$22","v":"00:00:00"},1,{"$f":"QNST04EUR!B19","v":0}]
["NST04QEUR","14",{"$f":"'Cover Sheet'!$C$16","v":0},{"$f":"'Cover Sheet'!$C$22","v":"00:00:00"},1,{"$f":"QNST04EUR!B20","v":0}]
["NST04QEUR","15",{"$f":"'Cover Sheet'!$C$16","v":0},{"$f":"'Cover Sheet'!$C$22","v":"00:00:00"},1,{"$f":"QNST04EUR!B21","v":0}]
["NST04QEUR","16",{"$f":"'Cover Sheet'!$C$16","v":0},{"$f":"'Cover Sheet'!$C$22","v":"00:00:00"},1,{"$f":"QNST04EUR!B22","v":0}]
["NST04QEUR","17",{"$f":"'Cover Sheet'!$C$16","v":0},{"$f":"'Cover Sheet'!$C$22","v":"00:00:00"},1,{"$f":"QNST04EUR!B23","v":0}]
["NST04QEUR","18",{"$f":"'Cover Sheet'!$C$16","v":0},{"$f":"'Cover Sheet'!$C$22","v":"00:00:00"},1,{"$f":"QNST04EUR!B24","v":0}]
["NST04QEUR","19",{"$f":"'Cover Sheet'!$C$16","v":0},{"$f":"'Cover Sheet'!$C$22","v":"00:00:00"},1,{"$f":"QNST04EUR!B25","v":0}]
["NST04QEUR","20",{"$f":"'Cover Sheet'!$C$16","v":0},{"$f":"'Cover Sheet'!$C$22","v":"00:00:00"},1,{"$f":"QNST04EUR!B26","v":0}]
["NST04QEUR","21",{"$f":"'Cover Sheet'!$C$16","v":0},{"$f":"'Cover Sheet'!$C$22","v":"00:00:00"},1,{"$f":"QNST04EUR!B27","v":0}]
["NST04QEUR","22",{"$f":"'Cover Sheet'!$C$16","v":0},{"$f":"'Cover Sheet'!$C$22","v":"00:00:00"},1,{"$f":"QNST04EUR!B28","v":0}]
["NST04QEUR","23",{"$f":"'Cover Sheet'!$C$16","v":0},{"$f":"'Cover Sheet'!$C$22","v":"00:00:00"},1,{"$f":"QNST04EUR!B29","v":0}]
["NST04QEUR","24",{"$f":"'Cover Sheet'!$C$16","v":0},{"$f":"'Cover Sheet'!$C$22","v":"00:00:00"},1,{"$f":"QNST04EUR!B30","v":0}]
["NST04QEUR","25",{"$f":"'Cover Sheet'!$C$16","v":0},{"$f":"'Cover Sheet'!$C$22","v":"00:00:00"},1,{"$f":"QNST04EUR!B31","v":0}]
["NST04QEUR","26",{"$f":"'Cover Sheet'!$C$16","v":0},{"$f":"'Cover Sheet'!$C$22","v":"00:00:00"},1,{"$f":"QNST04EUR!B32","v":0}]
["NST04QEUR","27",{"$f":"'Cover Sheet'!$C$16","v":0},{"$f":"'Cover Sheet'!$C$22","v":"00:00:00"},1,{"$f":"QNST04EUR!B33","v":0}]
["NST04QEUR","28",{"$f":"'Cover Sheet'!$C$16","v":0},{"$f":"'Cover Sheet'!$C$22","v":"00:00:00"},1,{"$f":"QNST04EUR!B34","v":0}]
["NST04QEUR","29",{"$f":"'Cover Sheet'!$C$16","v":0},{"$f":"'Cover Sheet'!$C$22","v":"00:00:00"},1,{"$f":"QNST04EUR!B35","v":0}]
["NST04QEUR","30",{"$f":"'Cover Sheet'!$C$16","v":0},{"$f":"'Cover Sheet'!$C$22","v":"00:00:00"},1,{"$f":"QNST04EUR!B36","v":0}]
["NST04QEUR","31",{"$f":"'Cover Sheet'!$C$16","v":0},{"$f":"'Cover Sheet'!$C$22","v":"00:00:00"},1,{"$f":"QNST04EUR!B37","v":0}]
["NST04QEUR","32",{"$f":"'Cover Sheet'!$C$16","v":0},{"$f":"'Cover Sheet'!$C$22","v":"00:00:00"},1,{"$f":"QNST04EUR!B38","v":0}]
["NST04QEUR","33",{"$f":"'Cover Sheet'!$C$16","v":0},{"$f":"'Cover Sheet'!$C$22","v":"00:00:00"},1,{"$f":"QNST04EUR!B39","v":0}]
["NST04QEUR","34",{"$f":"'Cover Sheet'!$C$16","v":0},{"$f":"'Cover Sheet'!$C$22","v":"00:00:00"},1,{"$f":"QNST04EUR!B40","v":0}]
["NST04QEUR","36",{"$f":"'Cover Sheet'!$C$16","v":0},{"$f":"'Cover Sheet'!$C$22","v":"00:00:00"},1,{"$f":"QNST04EUR!B41","v":0}]
["NST04QEUR","37",{"$f":"'Cover Sheet'!$C$16","v":0},{"$f":"'Cover Sheet'!$C$22","v":"00:00:00"},1,{"$f":"QNST04EUR!B42","v":0}]
["NST04QEUR","38",{"$f":"'Cover Sheet'!$C$16","v":0},{"$f":"'Cover Sheet'!$C$22","v":"00:00:00"},1,{"$f":"QNST04EUR!B43","v":0}]
["NST04QEUR","39",{"$f":"'Cover Sheet'!$C$16","v":0},{"$f":"'Cover Sheet'!$C$22","v":"00:00:00"},1,{"$f":"QNST04EUR!B44","v":0}]
["NST04QEUR","40",{"$f":"'Cover Sheet'!$C$16","v":0},{"$f":"'Cover Sheet'!$C$22","v":"00:00:00"},1,{"$f":"QNST04EUR!B45","v":0}]
["NST04QEUR","41",{"$f":"'Cover Sheet'!$C$16","v":0},{"$f":"'Cover Sheet'!$C$22","v":"00:00:00"},1,{"$f":"QNST04EUR!B46","v":0}]
["NST04QEUR","42",{"$f":"'Cover Sheet'!$C$16","v":0},{"$f":"'Cover Sheet'!$C$22","v":"00:00:00"},1,{"$f":"QNST04EUR!B47","v":0}]
["NST04QEUR","43",{"$f":"'Cover Sheet'!$C$16","v":0},{"$f":"'Cover Sheet'!$C$22","v":"00:00:00"},1,{"$f":"QNST04EUR!B48","v":0}]
["NST04QEUR","44",{"$f":"'Cover Sheet'!$C$16","v":0},{"$f":"'Cover Sheet'!$C$22","v":"00:00:00"},1,{"$f":"QNST04EUR!B49","v":0}]
["NST04QEUR","44a",{"$f":"'Cover Sheet'!$C$16","v":0},{"$f":"'Cover Sheet'!$C$22","v":"00:00:00"},1]
["NST04QEUR","45",{"$f":"'Cover Sheet'!$C$16","v":0},{"$f":"'Cover Sheet'!$C$22","v":"00:00:00"},1,{"$f":"QNST04EUR!B52","v":0}]
["NST04QEUR","46",{"$f":"'Cover Sheet'!$C$16","v":0},{"$f":"'Cover Sheet'!$C$22","v":"00:00:00"},1,{"$f":"QNST04EUR!B53","v":0}]
["NST04QEUR","47",{"$f":"'Cover Sheet'!$C$16","v":0},{"$f":"'Cover Sheet'!$C$22","v":"00:00:00"},1,{"$f":"QNST04EUR!B54","v":0}]
["NST04QEUR","48",{"$f":"'Cover Sheet'!$C$16","v":0},{"$f":"'Cover Sheet'!$C$22","v":"00:00:00"},1,{"$f":"QNST04EUR!B55","v":0}]
["NST04QEUR","49",{"$f":"'Cover Sheet'!$C$16","v":0},{"$f":"'Cover Sheet'!$C$22","v":"00:00:00"},1,{"$f":"QNST04EUR!B56","v":0}]
["NST04QEUR","50",{"$f":"'Cover Sheet'!$C$16","v":0},{"$f":"'Cover Sheet'!$C$22","v":"00:00:00"},1,{"$f":"QNST04EUR!B57","v":0}]
["NST04QEUR","51",{"$f":"'Cover Sheet'!$C$16","v":0},{"$f":"'Cover Sheet'!$C$22","v":"00:00:00"},1,{"$f":"QNST04EUR!B58","v":0}]
["NST04QEUR","52",{"$f":"'Cover Sheet'!$C$16","v":0},{"$f":"'Cover Sheet'!$C$22","v":"00:00:00"},1,{"$f":"QNST04EUR!B59","v":0}]
["NST04QEUR","53",{"$f":"'Cover Sheet'!$C$16","v":0},{"$f":"'Cover Sheet'!$C$22","v":"00:00:00"},1,{"$f":"QNST04EUR!B60","v":0}]
["NST04QEUR","54",{"$f":"'Cover Sheet'!$C$16","v":0},{"$f":"'Cover Sheet'!$C$22","v":"00:00:00"},1,{"$f":"QNST04EUR!B61","v":0}]
["NST04QEUR","55",{"$f":"'Cover Sheet'!$C$16","v":0},{"$f":"'Cover Sheet'!$C$22","v":"00:00:00"},1,{"$f":"QNST04EUR!B62","v":0}]
["NST04QEUR","56",{"$f":"'Cover Sheet'!$C$16","v":0},{"$f":"'Cover Sheet'!$C$22","v":"00:00:00"},1,{"$f":"QNST04EUR!B63","v":0}]
["NST04QEUR","57",{"$f":"'Cover Sheet'!$C$16","v":0},{"$f":"'Cover Sheet'!$C$22","v":"00:00:00"},1,{"$f":"QNST04EUR!B64","v":0}]
["NST04QEUR","58",{"$f":"'Cover Sheet'!$C$16","v":0},{"$f":"'Cover Sheet'!$C$22","v":"00:00:00"},1,{"$f":"QNST04EUR!B65","v":0}]
["NST04QEUR","59",{"$f":"'Cover Sheet'!$C$16","v":0},{"$f":"'Cover Sheet'!$C$22","v":"00:00:00"},1,{"$f":"QNST04EUR!B66","v":0}]
["NST04QEUR","60",{"$f":"'Cover Sheet'!$C$16","v":0},{"$f":"'Cover Sheet'!$C$22","v":"00:00:00"},1,{"$f":"QNST04EUR!B67","v":0}]
["NST04QEUR","61",{"$f":"'Cover Sheet'!$C$16","v":0},{"$f":"'Cover Sheet'!$C$22","v":"00:00:00"},1,{"$f":"QNST04EUR!B68","v":0}]
["NST04QEUR","62",{"$f":"'Cover Sheet'!$C$16","v":0},{"$f":"'Cover Sheet'!$C$22","v":"00:00:00"},1,{"$f":"QNST04EUR!B69","v":0}]
["NST04QEUR","63",{"$f":"'Cover Sheet'!$C$16","v":0},{"$f":"'Cover Sheet'!$C$22","v":"00:00:00"},1,{"$f":"QNST04EUR!B70","v":0}]
["NST04QEUR","64",{"$f":"'Cover Sheet'!$C$16","v":0},{"$f":"'Cover Sheet'!$C$22","v":"00:00:00"},1,{"$f":"QNST04EUR!B71","v":0}]
["NST04QEUR","65",{"$f":"'Cover Sheet'!$C$16","v":0},{"$f":"'Cover Sheet'!$C$22","v":"00:00:00"},1,{"$f":"QNST04EUR!B72","v":0}]
["NST04QEUR","66",{"$f":"'Cover Sheet'!$C$16","v":0},{"$f":"'Cover Sheet'!$C$22","v":"00:00:00"},1,{"$f":"QNST04EUR!B73","v":0}]
["NST04QEUR","67",{"$f":"'Cover Sheet'!$C$16","v":0},{"$f":"'Cover Sheet'!$C$22","v":"00:00:00"},1,{"$f":"QNST04EUR!B74","v":0}]
["NST04QEUR","68",{"$f":"'Cover Sheet'!$C$16","v":0},{"$f":"'Cover Sheet'!$C$22","v":"00:00:00"},1,{"$f":"QNST04EUR!B75","v":0}]
["NST04QEUR","69",{"$f":"'Cover Sheet'!$C$16","v":0},{"$f":"'Cover Sheet'!$C$22","v":"00:00:00"},1,{"$f":"QNST04EUR!B76","v":0}]
["NST04QEUR","70",{"$f":"'Cover Sheet'!$C$16","v":0},{"$f":"'Cover Sheet'!$C$22","v":"00:00:00"},1,{"$f":"QNST04EUR!B77","v":0}]
["NST04QEUR","71",{"$f":"'Cover Sheet'!$C$16","v":0},{"$f":"'Cover Sheet'!$C$22","v":"00:00:00"},1,{"$f":"QNST04EUR!B78","v":0}]
["NST04QEUR","72",{"$f":"'Cover Sheet'!$C$16","v":0},{"$f":"'Cover Sheet'!$C$22","v":"00:00:00"},1,{"$f":"QNST04EUR!B79","v":0}]
["NST04QEUR","73",{"$f":"'Cover Sheet'!$C$16","v":0},{"$f":"'Cover Sheet'!$C$22","v":"00:00:00"},1,{"$f":"QNST04EUR!B80","v":0}]
["NST04QEUR","74",{"$f":"'Cover Sheet'!$C$16","v":0},{"$f":"'Cover Sheet'!$C$22","v":"00:00:00"},1,{"$f":"QNST04EUR!B81","v":0}]
["NST04QEUR","75",{"$f":"'Cover Sheet'!$C$16","v":0},{"$f":"'Cover Sheet'!$C$22","v":"00:00:00"},1,{"$f":"QNST04EUR!B82","v":0}]
["NST04QEUR","76",{"$f":"'Cover Sheet'!$C$16","v":0},{"$f":"'Cover Sheet'!$C$22","v":"00:00:00"},1,{"$f":"QNST04EUR!B83","v":0}]
["NST04QEUR","77",{"$f":"'Cover Sheet'!$C$16","v":0},{"$f":"'Cover Sheet'!$C$22","v":"00:00:00"},1,{"$f":"QNST04EUR!B84","v":0}]
["NST04QEUR","78",{"$f":"'Cover Sheet'!$C$16","v":0},{"$f":"'Cover Sheet'!$C$22","v":"00:00:00"},1]
["NST04QEUR","79",{"$f":"'Cover Sheet'!$C$16","v":0},{"$f":"'Cover Sheet'!$C$22","v":"00:00:00"},1,{"$f":"QNST04EUR!B87","v":0}]
["NST04QEUR","80",{"$f":"'Cover Sheet'!$C$16","v":0},{"$f":"'Cover Sheet'!$C$22","v":"00:00:00"},1,{"$f":"QNST04EUR!B88","v":0}]
["NST04QEUR","81",{"$f":"'Cover Sheet'!$C$16","v":0},{"$f":"'Cover Sheet'!$C$22","v":"00:00:00"},1,{"$f":"QNST04EUR!B89","v":0}]
["NST04QEUR","83",{"$f":"'Cover Sheet'!$C$16","v":0},{"$f":"'Cover Sheet'!$C$22","v":"00:00:00"},1,{"$f":"QNST04EUR!B90","v":0}]
["NST04QEUR","83",{"$f":"'Cover Sheet'!$C$16","v":0},{"$f":"'Cover Sheet'!$C$22","v":"00:00:00"},1,{"$f":"QNST04EUR!B91","v":0}]
["NST04QEUR","84",{"$f":"'Cover Sheet'!$C$16","v":0},{"$f":"'Cover Sheet'!$C$22","v":"00:00:00"},1,{"$f":"QNST04EUR!B92","v":0}]
["NST04QEUR","85",{"$f":"'Cover Sheet'!$C$16","v":0},{"$f":"'Cover Sheet'!$C$22","v":"00:00:00"},1,{"$f":"QNST04EUR!B93","v":0}]
["NST04QEUR","86",{"$f":"'Cover Sheet'!$C$16","v":0},{"$f":"'Cover Sheet'!$C$22","v":"00:00:00"},1,{"$f":"QNST04EUR!B94","v":0}]

{"sheet":"NST04QS2EUR","index":20,"n_rows":112,"n_cols":6,"rows_kept":112,"cut":false,"hidden":true,"merged":[]}
["SheetCode","FieldCode","FICode","Date","ColNum","Value"]
["NST04QS2EUR","00",{"$f":"'Cover Sheet'!$C$16","v":0},{"$f":"'Cover Sheet'!$C$22","v":"00:00:00"},1]
["NST04QS2EUR","01",{"$f":"'Cover Sheet'!$C$16","v":0},{"$f":"'Cover Sheet'!$C$22","v":"00:00:00"},1,{"$f":"IF('Cover Sheet'!$C$25=0,QNST04!D10,QNST04!D10/'Cover Sheet'!$C$25)","v":0}]
["NST04QS2EUR","02",{"$f":"'Cover Sheet'!$C$16","v":0},{"$f":"'Cover Sheet'!$C$22","v":"00:00:00"},1,{"$f":"IF('Cover Sheet'!$C$25=0,QNST04!D11,QNST04!D11/'Cover Sheet'!$C$25)","v":0}]
["NST04QS2EUR","03",{"$f":"'Cover Sheet'!$C$16","v":0},{"$f":"'Cover Sheet'!$C$22","v":"00:00:00"},1,{"$f":"IF('Cover Sheet'!$C$25=0,QNST04!D12,QNST04!D12/'Cover Sheet'!$C$25)","v":0}]
["NST04QS2EUR","04",{"$f":"'Cover Sheet'!$C$16","v":0},{"$f":"'Cover Sheet'!$C$22","v":"00:00:00"},1,{"$f":"IF('Cover Sheet'!$C$25=0,QNST04!D13,QNST04!D13/'Cover Sheet'!$C$25)","v":0}]
["NST04QS2EUR","05",{"$f":"'Cover Sheet'!$C$16","v":0},{"$f":"'Cover Sheet'!$C$22","v":"00:00:00"},1,{"$f":"IF('Cover Sheet'!$C$25=0,QNST04!D14,QNST04!D14/'Cover Sheet'!$C$25)","v":0}]
["NST04QS2EUR","06",{"$f":"'Cover Sheet'!$C$16","v":0},{"$f":"'Cover Sheet'!$C$22","v":"00:00:00"},1,{"$f":"IF('Cover Sheet'!$C$25=0,QNST04!D15,QNST04!D15/'Cover Sheet'!$C$25)","v":0}]
["NST04QS2EUR","07",{"$f":"'Cover Sheet'!$C$16","v":0},{"$f":"'Cover Sheet'!$C$22","v":"00:00:00"},1,{"$f":"IF('Cover Sheet'!$C$25=0,QNST04!D16,QNST04!D16/'Cover Sheet'!$C$25)","v":0}]
["NST04QS2EUR","08",{"$f":"'Cover Sheet'!$C$16","v":0},{"$f":"'Cover Sheet'!$C$22","v":"00:00:00"},1,{"$f":"IF('Cover Sheet'!$C$25=0,QNST04!D17,QNST04!D17/'Cover Sheet'!$C$25)","v":0}]
["NST04QS2EUR","09",{"$f":"'Cover Sheet'!$C$16","v":0},{"$f":"'Cover Sheet'!$C$22","v":"00:00:00"},1,{"$f":"IF('Cover Sheet'!$C$25=0,QNST04!D18,QNST04!D18/'Cover Sheet'!$C$25)","v":0}]
["NST04QS2EUR","10",{"$f":"'Cover Sheet'!$C$16","v":0},{"$f":"'Cover Sheet'!$C$22","v":"00:00:00"},1,{"$f":"IF('Cover Sheet'!$C$25=0,QNST04!D19,QNST04!D19/'Cover Sheet'!$C$25)","v":0}]
["NST04QS2EUR","11",{"$f":"'Cover Sheet'!$C$16","v":0},{"$f":"'Cover Sheet'!$C$22","v":"00:00:00"},1,{"$f":"IF('Cover Sheet'!$C$25=0,QNST04!D20,QNST04!D20/'Cover Sheet'!$C$25)","v":0}]
["NST04QS2EUR","12",{"$f":"'Cover Sheet'!$C$16","v":0},{"$f":"'Cover Sheet'!$C$22","v":"00:00:00"},1,{"$f":"IF('Cover Sheet'!$C$25=0,QNST04!D21,QNST04!D21/'Cover Sheet'!$C$25)","v":0}]
["NST04QS2EUR","13",{"$f":"'Cover Sheet'!$C$16","v":0},{"$f":"'Cover Sheet'!$C$22","v":"00:00:00"},1,{"$f":"IF('Cover Sheet'!$C$25=0,QNST04!D22,QNST04!D22/'Cover Sheet'!$C$25)","v":0}]
["NST04QS2EUR","14",{"$f":"'Cover Sheet'!$C$16","v":0},{"$f":"'Cover Sheet'!$C$22","v":"00:00:00"},1,{"$f":"IF('Cover Sheet'!$C$25=0,QNST04!D23,QNST04!D23/'Cover Sheet'!$C$25)","v":0}]
["NST04QS2EUR","15",{"$f":"'Cover Sheet'!$C$16","v":0},{"$f":"'Cover Sheet'!$C$22","v":"00:00:00"},1,{"$f":"IF('Cover Sheet'!$C$25=0,QNST04!D24,QNST04!D24/'Cover Sheet'!$C$25)","v":0}]
["NST04QS2EUR","16",{"$f":"'Cover Sheet'!$C$16","v":0},{"$f":"'Cover Sheet'!$C$22","v":"00:00:00"},1,{"$f":"IF('Cover Sheet'!$C$25=0,QNST04!D25,QNST04!D25/'Cover Sheet'!$C$25)","v":0}]
["NST04QS2EUR","17",{"$f":"'Cover Sheet'!$C$16","v":0},{"$f":"'Cover Sheet'!$C$22","v":"00:00:00"},1,{"$f":"IF('Cover Sheet'!$C$25=0,QNST04!D26,QNST04!D26/'Cover Sheet'!$C$25)","v":0}]
["NST04QS2EUR","18",{"$f":"'Cover Sheet'!$C$16","v":0},{"$f":"'Cover Sheet'!$C$22","v":"00:00:00"},1,{"$f":"IF('Cover Sheet'!$C$25=0,QNST04!D27,QNST04!D27/'Cover Sheet'!$C$25)","v":0}]
["NST04QS2EUR","19",{"$f":"'Cover Sheet'!$C$16","v":0},{"$f":"'Cover Sheet'!$C$22","v":"00:00:00"},1,{"$f":"IF('Cover Sheet'!$C$25=0,QNST04!D28,QNST04!D28/'Cover Sheet'!$C$25)","v":0}]
["NST04QS2EUR","20",{"$f":"'Cover Sheet'!$C$16","v":0},{"$f":"'Cover Sheet'!$C$22","v":"00:00:00"},1,{"$f":"IF('Cover Sheet'!$C$25=0,QNST04!D29,QNST04!D29/'Cover Sheet'!$C$25)","v":0}]
["NST04QS2EUR","21",{"$f":"'Cover Sheet'!$C$16","v":0},{"$f":"'Cover Sheet'!$C$22","v":"00:00:00"},1,{"$f":"IF('Cover Sheet'!$C$25=0,QNST04!D30,QNST04!D30/'Cover Sheet'!$C$25)","v":0}]
["NST04QS2EUR","22",{"$f":"'Cover Sheet'!$C$16","v":0},{"$f":"'Cover Sheet'!$C$22","v":"00:00:00"},1,{"$f":"IF('Cover Sheet'!$C$25=0,QNST04!D31,QNST04!D31/'Cover Sheet'!$C$25)","v":0}]
["NST04QS2EUR","23",{"$f":"'Cover Sheet'!$C$16","v":0},{"$f":"'Cover Sheet'!$C$22","v":"00:00:00"},1,{"$f":"IF('Cover Sheet'!$C$25=0,QNST04!D32,QNST04!D32/'Cover Sheet'!$C$25)","v":0}]
["NST04QS2EUR","24",{"$f":"'Cover Sheet'!$C$16","v":0},{"$f":"'Cover Sheet'!$C$22","v":"00:00:00"},1,{"$f":"IF('Cover Sheet'!$C$25=0,QNST04!D33,QNST04!D33/'Cover Sheet'!$C$25)","v":0}]
["NST04QS2EUR","25",{"$f":"'Cover Sheet'!$C$16","v":0},{"$f":"'Cover Sheet'!$C$22","v":"00:00:00"},1,{"$f":"IF('Cover Sheet'!$C$25=0,QNST04!D34,QNST04!D34/'Cover Sheet'!$C$25)","v":0}]
["NST04QS2EUR","26",{"$f":"'Cover Sheet'!$C$16","v":0},{"$f":"'Cover Sheet'!$C$22","v":"00:00:00"},1,{"$f":"IF('Cover Sheet'!$C$25=0,QNST04!D35,QNST04!D35/'Cover Sheet'!$C$25)","v":0}]
["NST04QS2EUR","27",{"$f":"'Cover Sheet'!$C$16","v":0},{"$f":"'Cover Sheet'!$C$22","v":"00:00:00"},1,{"$f":"IF('Cover Sheet'!$C$25=0,QNST04!D36,QNST04!D36/'Cover Sheet'!$C$25)","v":0}]
["NST04QS2EUR","28",{"$f":"'Cover Sheet'!$C$16","v":0},{"$f":"'Cover Sheet'!$C$22","v":"00:00:00"},1,{"$f":"IF('Cover Sheet'!$C$25=0,QNST04!D37,QNST04!D37/'Cover Sheet'!$C$25)","v":0}]
["NST04QS2EUR","29",{"$f":"'Cover Sheet'!$C$16","v":0},{"$f":"'Cover Sheet'!$C$22","v":"00:00:00"},1,{"$f":"IF('Cover Sheet'!$C$25=0,QNST04!D38,QNST04!D38/'Cover Sheet'!$C$25)","v":0}]
["NST04QS2EUR","30",{"$f":"'Cover Sheet'!$C$16","v":0},{"$f":"'Cover Sheet'!$C$22","v":"00:00:00"},1,{"$f":"IF('Cover Sheet'!$C$25=0,QNST04!D39,QNST04!D39/'Cover Sheet'!$C$25)","v":0}]
["NST04QS2EUR","31",{"$f":"'Cover Sheet'!$C$16","v":0},{"$f":"'Cover Sheet'!$C$22","v":"00:00:00"},1,{"$f":"IF('Cover Sheet'!$C$25=0,QNST04!D40,QNST04!D40/'Cover Sheet'!$C$25)","v":0}]
["NST04QS2EUR","32",{"$f":"'Cover Sheet'!$C$16","v":0},{"$f":"'Cover Sheet'!$C$22","v":"00:00:00"},1,{"$f":"IF('Cover Sheet'!$C$25=0,QNST04!D41,QNST04!D41/'Cover Sheet'!$C$25)","v":0}]
["NST04QS2EUR","33",{"$f":"'Cover Sheet'!$C$16","v":0},{"$f":"'Cover Sheet'!$C$22","v":"00:00:00"},1,{"$f":"IF('Cover Sheet'!$C$25=0,QNST04!D42,QNST04!D42/'Cover Sheet'!$C$25)","v":0}]
["NST04QS2EUR","34",{"$f":"'Cover Sheet'!$C$16","v":0},{"$f":"'Cover Sheet'!$C$22","v":"00:00:00"},1,{"$f":"IF('Cover Sheet'!$C$25=0,QNST04!D43,QNST04!D43/'Cover Sheet'!$C$25)","v":0}]
["NST04QS2EUR","36",{"$f":"'Cover Sheet'!$C$16","v":0},{"$f":"'Cover Sheet'!$C$22","v":"00:00:00"},1,{"$f":"IF('Cover Sheet'!$C$25=0,QNST04!D44,QNST04!D44/'Cover Sheet'!$C$25)","v":0}]
["NST04QS2EUR","37",{"$f":"'Cover Sheet'!$C$16","v":0},{"$f":"'Cover Sheet'!$C$22","v":"00:00:00"},1,{"$f":"IF('Cover Sheet'!$C$25=0,QNST04!D45,QNST04!D45/'Cover Sheet'!$C$25)","v":0}]
["NST04QS2EUR","38",{"$f":"'Cover Sheet'!$C$16","v":0},{"$f":"'Cover Sheet'!$C$22","v":"00:00:00"},1,{"$f":"IF('Cover Sheet'!$C$25=0,QNST04!D46,QNST04!D46/'Cover Sheet'!$C$25)","v":0}]
["NST04QS2EUR","39",{"$f":"'Cover Sheet'!$C$16","v":0},{"$f":"'Cover Sheet'!$C$22","v":"00:00:00"},1,{"$f":"IF('Cover Sheet'!$C$25=0,QNST04!D47,QNST04!D47/'Cover Sheet'!$C$25)","v":0}]
["NST04QS2EUR","40",{"$f":"'Cover Sheet'!$C$16","v":0},{"$f":"'Cover Sheet'!$C$22","v":"00:00:00"},1,{"$f":"IF('Cover Sheet'!$C$25=0,QNST04!D48,QNST04!D48/'Cover Sheet'!$C$25)","v":0}]
["NST04QS2EUR","41",{"$f":"'Cover Sheet'!$C$16","v":0},{"$f":"'Cover Sheet'!$C$22","v":"00:00:00"},1,{"$f":"IF('Cover Sheet'!$C$25=0,QNST04!D49,QNST04!D49/'Cover Sheet'!$C$25)","v":0}]
["NST04QS2EUR","42",{"$f":"'Cover Sheet'!$C$16","v":0},{"$f":"'Cover Sheet'!$C$22","v":"00:00:00"},1,{"$f":"IF('Cover Sheet'!$C$25=0,QNST04!D50,QNST04!D50/'Cover Sheet'!$C$25)","v":0}]
["NST04QS2EUR","43",{"$f":"'Cover Sheet'!$C$16","v":0},{"$f":"'Cover Sheet'!$C$22","v":"00:00:00"},1,{"$f":"IF('Cover Sheet'!$C$25=0,QNST04!D51,QNST04!D51/'Cover Sheet'!$C$25)","v":0}]
["NST04QS2EUR","44",{"$f":"'Cover Sheet'!$C$16","v":0},{"$f":"'Cover Sheet'!$C$22","v":"00:00:00"},1,{"$f":"IF('Cover Sheet'!$C$25=0,QNST04!D52,QNST04!D52/'Cover Sheet'!$C$25)","v":0}]
["NST04QS2EUR","44a",{"$f":"'Cover Sheet'!$C$16","v":0},{"$f":"'Cover Sheet'!$C$22","v":"00:00:00"},1]
["NST04QS2EUR","45",{"$f":"'Cover Sheet'!$C$16","v":0},{"$f":"'Cover Sheet'!$C$22","v":"00:00:00"},1,{"$f":"IF('Cover Sheet'!$C$25=0,QNST04!D55,QNST04!D55/'Cover Sheet'!$C$25)","v":0}]
["NST04QS2EUR","46",{"$f":"'Cover Sheet'!$C$16","v":0},{"$f":"'Cover Sheet'!$C$22","v":"00:00:00"},1,{"$f":"IF('Cover Sheet'!$C$25=0,QNST04!D56,QNST04!D56/'Cover Sheet'!$C$25)","v":0}]
["NST04QS2EUR","47",{"$f":"'Cover Sheet'!$C$16","v":0},{"$f":"'Cover Sheet'!$C$22","v":"00:00:00"},1,{"$f":"IF('Cover Sheet'!$C$25=0,QNST04!D57,QNST04!D57/'Cover Sheet'!$C$25)","v":0}]
["NST04QS2EUR","48",{"$f":"'Cover Sheet'!$C$16","v":0},{"$f":"'Cover Sheet'!$C$22","v":"00:00:00"},1,{"$f":"IF('Cover Sheet'!$C$25=0,QNST04!D58,QNST04!D58/'Cover Sheet'!$C$25)","v":0}]
["NST04QS2EUR","49",{"$f":"'Cover Sheet'!$C$16","v":0},{"$f":"'Cover Sheet'!$C$22","v":"00:00:00"},1,{"$f":"IF('Cover Sheet'!$C$25=0,QNST04!D59,QNST04!D59/'Cover Sheet'!$C$25)","v":0}]
["NST04QS2EUR","50",{"$f":"'Cover Sheet'!$C$16","v":0},{"$f":"'Cover Sheet'!$C$22","v":"00:00:00"},1,{"$f":"IF('Cover Sheet'!$C$25=0,QNST04!D60,QNST04!D60/'Cover Sheet'!$C$25)","v":0}]
["NST04QS2EUR","51",{"$f":"'Cover Sheet'!$C$16","v":0},{"$f":"'Cover Sheet'!$C$22","v":"00:00:00"},1,{"$f":"IF('Cover Sheet'!$C$25=0,QNST04!D61,QNST04!D61/'Cover Sheet'!$C$25)","v":0}]
["NST04QS2EUR","52",{"$f":"'Cover Sheet'!$C$16","v":0},{"$f":"'Cover Sheet'!$C$22","v":"00:00:00"},1,{"$f":"IF('Cover Sheet'!$C$25=0,QNST04!D62,QNST04!D62/'Cover Sheet'!$C$25)","v":0}]
["NST04QS2EUR","53",{"$f":"'Cover Sheet'!$C$16","v":0},{"$f":"'Cover Sheet'!$C$22","v":"00:00:00"},1,{"$f":"IF('Cover Sheet'!$C$25=0,QNST04!D63,QNST04!D63/'Cover Sheet'!$C$25)","v":0}]
["NST04QS2EUR","54",{"$f":"'Cover Sheet'!$C$16","v":0},{"$f":"'Cover Sheet'!$C$22","v":"00:00:00"},1,{"$f":"IF('Cover Sheet'!$C$25=0,QNST04!D64,QNST04!D64/'Cover Sheet'!$C$25)","v":0}]
["NST04QS2EUR","55",{"$f":"'Cover Sheet'!$C$16","v":0},{"$f":"'Cover Sheet'!$C$22","v":"00:00:00"},1,{"$f":"IF('Cover Sheet'!$C$25=0,QNST04!D65,QNST04!D65/'Cover Sheet'!$C$25)","v":0}]
["NST04QS2EUR","56",{"$f":"'Cover Sheet'!$C$16","v":0},{"$f":"'Cover Sheet'!$C$22","v":"00:00:00"},1,{"$f":"IF('Cover Sheet'!$C$25=0,QNST04!D66,QNST04!D66/'Cover Sheet'!$C$25)","v":0}]
["NST04QS2EUR","57",{"$f":"'Cover Sheet'!$C$16","v":0},{"$f":"'Cover Sheet'!$C$22","v":"00:00:00"},1,{"$f":"IF('Cover Sheet'!$C$25=0,QNST04!D67,QNST04!D67/'Cover Sheet'!$C$25)","v":0}]
["NST04QS2EUR","58",{"$f":"'Cover Sheet'!$C$16","v":0},{"$f":"'Cover Sheet'!$C$22","v":"00:00:00"},1,{"$f":"IF('Cover Sheet'!$C$25=0,QNST04!D68,QNST04!D68/'Cover Sheet'!$C$25)","v":0}]
["NST04QS2EUR","59",{"$f":"'Cover Sheet'!$C$16","v":0},{"$f":"'Cover Sheet'!$C$22","v":"00:00:00"},1,{"$f":"IF('Cover Sheet'!$C$25=0,QNST04!D69,QNST04!D69/'Cover Sheet'!$C$25)","v":0}]
["NST04QS2EUR","60",{"$f":"'Cover Sheet'!$C$16","v":0},{"$f":"'Cover Sheet'!$C$22","v":"00:00:00"},1,{"$f":"IF('Cover Sheet'!$C$25=0,QNST04!D70,QNST04!D70/'Cover Sheet'!$C$25)","v":0}]
["NST04QS2EUR","61",{"$f":"'Cover Sheet'!$C$16","v":0},{"$f":"'Cover Sheet'!$C$22","v":"00:00:00"},1,{"$f":"IF('Cover Sheet'!$C$25=0,QNST04!D71,QNST04!D71/'Cover Sheet'!$C$25)","v":0}]
["NST04QS2EUR","62",{"$f":"'Cover Sheet'!$C$16","v":0},{"$f":"'Cover Sheet'!$C$22","v":"00:00:00"},1,{"$f":"IF('Cover Sheet'!$C$25=0,QNST04!D72,QNST04!D72/'Cover Sheet'!$C$25)","v":0}]
["NST04QS2EUR","63",{"$f":"'Cover Sheet'!$C$16","v":0},{"$f":"'Cover Sheet'!$C$22","v":"00:00:00"},1,{"$f":"IF('Cover Sheet'!$C$25=0,QNST04!D73,QNST04!D73/'Cover Sheet'!$C$25)","v":0}]
["NST04QS2EUR","64",{"$f":"'Cover Sheet'!$C$16","v":0},{"$f":"'Cover Sheet'!$C$22","v":"00:00:00"},1,{"$f":"IF('Cover Sheet'!$C$25=0,QNST04!D74,QNST04!D74/'Cover Sheet'!$C$25)","v":0}]
["NST04QS2EUR","65",{"$f":"'Cover Sheet'!$C$16","v":0},{"$f":"'Cover Sheet'!$C$22","v":"00:00:00"},1,{"$f":"IF('Cover Sheet'!$C$25=0,QNST04!D75,QNST04!D75/'Cover Sheet'!$C$25)","v":0}]
["NST04QS2EUR","66",{"$f":"'Cover Sheet'!$C$16","v":0},{"$f":"'Cover Sheet'!$C$22","v":"00:00:00"},1,{"$f":"IF('Cover Sheet'!$C$25=0,QNST04!D76,QNST04!D76/'Cover Sheet'!$C$25)","v":0}]
["NST04QS2EUR","67",{"$f":"'Cover Sheet'!$C$16","v":0},{"$f":"'Cover Sheet'!$C$22","v":"00:00:00"},1,{"$f":"IF('Cover Sheet'!$C$25=0,QNST04!D77,QNST04!D77/'Cover Sheet'!$C$25)","v":0}]
["NST04QS2EUR","68",{"$f":"'Cover Sheet'!$C$16","v":0},{"$f":"'Cover Sheet'!$C$22","v":"00:00:00"},1,{"$f":"IF('Cover Sheet'!$C$25=0,QNST04!D78,QNST04!D78/'Cover Sheet'!$C$25)","v":0}]
["NST04QS2EUR","69",{"$f":"'Cover Sheet'!$C$16","v":0},{"$f":"'Cover Sheet'!$C$22","v":"00:00:00"},1,{"$f":"IF('Cover Sheet'!$C$25=0,QNST04!D79,QNST04!D79/'Cover Sheet'!$C$25)","v":0}]
["NST04QS2EUR","70",{"$f":"'Cover Sheet'!$C$16","v":0},{"$f":"'Cover Sheet'!$C$22","v":"00:00:00"},1,{"$f":"IF('Cover Sheet'!$C$25=0,QNST04!D80,QNST04!D80/'Cover Sheet'!$C$25)","v":0}]
["NST04QS2EUR","71",{"$f":"'Cover Sheet'!$C$16","v":0},{"$f":"'Cover Sheet'!$C$22","v":"00:00:00"},1,{"$f":"IF('Cover Sheet'!$C$25=0,QNST04!D81,QNST04!D81/'Cover Sheet'!$C$25)","v":0}]
["NST04QS2EUR","72",{"$f":"'Cover Sheet'!$C$16","v":0},{"$f":"'Cover Sheet'!$C$22","v":"00:00:00"},1,{"$f":"IF('Cover Sheet'!$C$25=0,QNST04!D82,QNST04!D82/'Cover Sheet'!$C$25)","v":0}]
["NST04QS2EUR","73",{"$f":"'Cover Sheet'!$C$16","v":0},{"$f":"'Cover Sheet'!$C$22","v":"00:00:00"},1,{"$f":"IF('Cover Sheet'!$C$25=0,QNST04!D83,QNST04!D83/'Cover Sheet'!$C$25)","v":0}]
["NST04QS2EUR","74",{"$f":"'Cover Sheet'!$C$16","v":0},{"$f":"'Cover Sheet'!$C$22","v":"00:00:00"},1,{"$f":"IF('Cover Sheet'!$C$25=0,QNST04!D84,QNST04!D84/'Cover Sheet'!$C$25)","v":0}]
["NST04QS2EUR","75",{"$f":"'Cover Sheet'!$C$16","v":0},{"$f":"'Cover Sheet'!$C$22","v":"00:00:00"},1,{"$f":"IF('Cover Sheet'!$C$25=0,QNST04!D85,QNST04!D85/'Cover Sheet'!$C$25)","v":0}]
["NST04QS2EUR","76",{"$f":"'Cover Sheet'!$C$16","v":0},{"$f":"'Cover Sheet'!$C$22","v":"00:00:00"},1,{"$f":"IF('Cover Sheet'!$C$25=0,QNST04!D86,QNST04!D86/'Cover Sheet'!$C$25)","v":0}]
["NST04QS2EUR","77",{"$f":"'Cover Sheet'!$C$16","v":0},{"$f":"'Cover Sheet'!$C$22","v":"00:00:00"},1,{"$f":"IF('Cover Sheet'!$C$25=0,QNST04!D87,QNST04!D87/'Cover Sheet'!$C$25)","v":0}]
["NST04QS2EUR","78",{"$f":"'Cover Sheet'!$C$16","v":0},{"$f":"'Cover Sheet'!$C$22","v":"00:00:00"},1,{"$f":"IF('Cover Sheet'!$C$25=0,QNST04!D88,QNST04!D88/'Cover Sheet'!$C$25)","v":0}]
["NST04QS2EUR","79",{"$f":"'Cover Sheet'!$C$16","v":0},{"$f":"'Cover Sheet'!$C$22","v":"00:00:00"},1,{"$f":"IF('Cover Sheet'!$C$25=0,QNST04!D89,QNST04!D89/'Cover Sheet'!$C$25)","v":0}]
["NST04QS2EUR","80",{"$f":"'Cover Sheet'!$C$16","v":0},{"$f":"'Cover Sheet'!$C$22","v":"00:00:00"},1,{"$f":"IF('Cover Sheet'!$C$25=0,QNST04!D90,QNST04!D90/'Cover Sheet'!$C$25)","v":0}]
["NST04QS2EUR","81",{"$f":"'Cover Sheet'!$C$16","v":0},{"$f":"'Cover Sheet'!$C$22","v":"00:00:00"},1,{"$f":"IF('Cover Sheet'!$C$25=0,QNST04!D91,QNST04!D91/'Cover Sheet'!$C$25)","v":0}]
["NST04QS2EUR","82",{"$f":"'Cover Sheet'!$C$16","v":0},{"$f":"'Cover Sheet'!$C$22","v":"00:00:00"},1,{"$f":"IF('Cover Sheet'!$C$25=0,QNST04!D92,QNST04!D92/'Cover Sheet'!$C$25)","v":0}]
["NST04QS2EUR","83",{"$f":"'Cover Sheet'!$C$16","v":0},{"$f":"'Cover Sheet'!$C$22","v":"00:00:00"},1,{"$f":"IF('Cover Sheet'!$C$25=0,QNST04!D93,QNST04!D93/'Cover Sheet'!$C$25)","v":0}]
["NST04QS2EUR","84",{"$f":"'Cover Sheet'!$C$16","v":0},{"$f":"'Cover Sheet'!$C$22","v":"00:00:00"},1,{"$f":"IF('Cover Sheet'!$C$25=0,QNST04!D94,QNST04!D94/'Cover Sheet'!$C$25)","v":0}]
["NST04QS2EUR","85",{"$f":"'Cover Sheet'!$C$16","v":0},{"$f":"'Cover Sheet'!$C$22","v":"00:00:00"},1,{"$f":"IF('Cover Sheet'!$C$25=0,QNST04!D95,QNST04!D95/'Cover Sheet'!$C$25)","v":0}]
["NST04QS2EUR","86",{"$f":"'Cover Sheet'!$C$16","v":0},{"$f":"'Cover Sheet'!$C$22","v":"00:00:00"},1,{"$f":"IF('Cover Sheet'!$C$25=0,QNST04!D96,QNST04!D96/'Cover Sheet'!$C$25)","v":0}]
["NST04QS2EUR","87",{"$f":"'Cover Sheet'!$C$16","v":0},{"$f":"'Cover Sheet'!$C$22","v":"00:00:00"},1,{"$f":"IF('Cover Sheet'!$C$25=0,QNST04!D97,QNST04!D97/'Cover Sheet'!$C$25)","v":0}]
["NST04QS2EUR","88",{"$f":"'Cover Sheet'!$C$16","v":0},{"$f":"'Cover Sheet'!$C$22","v":"00:00:00"},1,{"$f":"IF('Cover Sheet'!$C$25=0,QNST04!D98,QNST04!D98/'Cover Sheet'!$C$25)","v":0}]
["NST04QS2EUR","89",{"$f":"'Cover Sheet'!$C$16","v":0},{"$f":"'Cover Sheet'!$C$22","v":"00:00:00"},1,{"$f":"IF('Cover Sheet'!$C$25=0,QNST04!D99,QNST04!D99/'Cover Sheet'!$C$25)","v":0}]
["NST04QS2EUR","90",{"$f":"'Cover Sheet'!$C$16","v":0},{"$f":"'Cover Sheet'!$C$22","v":"00:00:00"},1,{"$f":"IF('Cover Sheet'!$C$25=0,QNST04!D100,QNST04!D100/'Cover Sheet'!$C$25)","v":0}]
["NST04QS2EUR","91",{"$f":"'Cover Sheet'!$C$16","v":0},{"$f":"'Cover Sheet'!$C$22","v":"00:00:00"},1,{"$f":"IF('Cover Sheet'!$C$25=0,QNST04!D101,QNST04!D101/'Cover Sheet'!$C$25)","v":0}]
["NST04QS2EUR","92",{"$f":"'Cover Sheet'!$C$16","v":0},{"$f":"'Cover Sheet'!$C$22","v":"00:00:00"},1,{"$f":"IF('Cover Sheet'!$C$25=0,QNST04!D102,QNST04!D102/'Cover Sheet'!$C$25)","v":0}]
["NST04QS2EUR","93",{"$f":"'Cover Sheet'!$C$16","v":0},{"$f":"'Cover Sheet'!$C$22","v":"00:00:00"},1,{"$f":"IF('Cover Sheet'!$C$25=0,QNST04!D103,QNST04!D103/'Cover Sheet'!$C$25)","v":0}]
["NST04QS2EUR","94",{"$f":"'Cover Sheet'!$C$16","v":0},{"$f":"'Cover Sheet'!$C$22","v":"00:00:00"},1,{"$f":"IF('Cover Sheet'!$C$25=0,QNST04!D104,QNST04!D104/'Cover Sheet'!$C$25)","v":0}]
["NST04QS2EUR","95",{"$f":"'Cover Sheet'!$C$16","v":0},{"$f":"'Cover Sheet'!$C$22","v":"00:00:00"},1,{"$f":"IF('Cover Sheet'!$C$25=0,QNST04!D105,QNST04!D105/'Cover Sheet'!$C$25)","v":0}]
["NST04QS2EUR","96",{"$f":"'Cover Sheet'!$C$16","v":0},{"$f":"'Cover Sheet'!$C$22","v":"00:00:00"},1,{"$f":"IF('Cover Sheet'!$C$25=0,QNST04!D106,QNST04!D106/'Cover Sheet'!$C$25)","v":0}]
["NST04QS2EUR","97",{"$f":"'Cover Sheet'!$C$16","v":0},{"$f":"'Cover Sheet'!$C$22","v":"00:00:00"},1,{"$f":"IF('Cover Sheet'!$C$25=0,QNST04!D107,QNST04!D107/'Cover Sheet'!$C$25)","v":0}]
["NST04QS2EUR","98",{"$f":"'Cover Sheet'!$C$16","v":0},{"$f":"'Cover Sheet'!$C$22","v":"00:00:00"},1,{"$f":"IF('Cover Sheet'!$C$25=0,QNST04!D108,QNST04!D108/'Cover Sheet'!$C$25)","v":0}]
["NST04QS2EUR","99",{"$f":"'Cover Sheet'!$C$16","v":0},{"$f":"'Cover Sheet'!$C$22","v":"00:00:00"},1,{"$f":"IF('Cover Sheet'!$C$25=0,QNST04!D109,QNST04!D109/'Cover Sheet'!$C$25)","v":0}]
["NST04QS2EUR","99a",{"$f":"'Cover Sheet'!$C$16","v":0},{"$f":"'Cover Sheet'!$C$22","v":"00:00:00"},1,{"$f":"IF('Cover Sheet'!$C$25=0,QNST04!D110,QNST04!D110/'Cover Sheet'!$C$25)","v":0}]
["NST04QS2EUR","99b",{"$f":"'Cover Sheet'!$C$16","v":0},{"$f":"'Cover Sheet'!$C$22","v":"00:00:00"},1,{"$f":"IF('Cover Sheet'!$C$25=0,QNST04!D112,QNST04!D112/'Cover Sheet'!$C$25)","v":0}]
["NST04QS2EUR","99c",{"$f":"'Cover Sheet'!$C$16","v":0},{"$f":"'Cover Sheet'!$C$22","v":"00:00:00"},1]
["NST04QS2EUR","99d",{"$f":"'Cover Sheet'!$C$16","v":0},{"$f":"'Cover Sheet'!$C$22","v":"00:00:00"},1,{"$f":"IF('Cover Sheet'!$C$25=0,QNST04!D115,QNST04!D115/'Cover Sheet'!$C$25)","v":0}]
["NST04QS2EUR","99e",{"$f":"'Cover Sheet'!$C$16","v":0},{"$f":"'Cover Sheet'!$C$22","v":"00:00:00"},1,{"$f":"IF('Cover Sheet'!$C$25=0,QNST04!D116,QNST04!D116/'Cover Sheet'!$C$25)","v":0}]
["NST04QS2EUR","99f",{"$f":"'Cover Sheet'!$C$16","v":0},{"$f":"'Cover Sheet'!$C$22","v":"00:00:00"},1,{"$f":"IF('Cover Sheet'!$C$25=0,QNST04!D117,QNST04!D117/'Cover Sheet'!$C$25)","v":0}]
["NST04QS2EUR","99g",{"$f":"'Cover Sheet'!$C$16","v":0},{"$f":"'Cover Sheet'!$C$22","v":"00:00:00"},1,{"$f":"IF('Cover Sheet'!$C$25=0,QNST04!D118,QNST04!D118/'Cover Sheet'!$C$25)","v":0}]
["NST04QS2EUR","99h",{"$f":"'Cover Sheet'!$C$16","v":0},{"$f":"'Cover Sheet'!$C$22","v":"00:00:00"},1,{"$f":"IF('Cover Sheet'!$C$25=0,QNST04!D119,QNST04!D119/'Cover Sheet'!$C$25)","v":0}]
["NST04QS2EUR","99i",{"$f":"'Cover Sheet'!$C$16","v":0},{"$f":"'Cover Sheet'!$C$22","v":"00:00:00"},1,{"$f":"IF('Cover Sheet'!$C$25=0,QNST04!D120,QNST04!D120/'Cover Sheet'!$C$25)","v":0}]
["NST04QS2EUR","99j",{"$f":"'Cover Sheet'!$C$16","v":0},{"$f":"'Cover Sheet'!$C$22","v":"00:00:00"},1,{"$f":"IF('Cover Sheet'!$C$25=0,QNST04!D121,QNST04!D121/'Cover Sheet'!$C$25)","v":0}]
["NST04QS2EUR","99k",{"$f":"'Cover Sheet'!$C$16","v":0},{"$f":"'Cover Sheet'!$C$22","v":"00:00:00"},1,{"$f":"IF('Cover Sheet'!$C$25=0,QNST04!D122,QNST04!D122/'Cover Sheet'!$C$25)","v":0}]